{"text_format":"1","workbook":"xlsx","n_sheets":9,"sheets":["Home","Settings","Students","Track","Field","Relays","Lists","Summary","Export"],"not_rendered":{"charts":0,"images":1,"macros":1,"external_links":0,"defined_names":21,"comments":0,"pivot_tables":0},"unopened":[],"bounds":{"document_bytes":16777216,"sheet_cells":100000,"rows_first":2000,"rows_last":500,"rows_between":2000,"halvings":0,"cell_chars":16384,"cell_head_chars":4096},"cells_cut":0,"cells_raw":0,"read":"whole","date_system":"1900"}

{"sheet":"Home","index":0,"n_rows":11,"n_cols":2,"rows_kept":11,"cut":false,"hidden":false,"merged":[[10,1,10,9],[8,1,8,9]]}
[]
[]
[]
[]
[]
[]
[]
[]
[null,"** Select your Athletics Meet here **"]
[]
[null,"** Select your School Name here **"]

{"sheet":"Settings","index":1,"n_rows":1000,"n_cols":15,"rows_kept":1000,"cut":false,"hidden":false,"merged":[]}
["Current Date",null,"** Select your Athletics Meet here **",null,"** Select your School Name here **",null,"Settings Student ID","Settings\nFirst Name","Settings\nLast Name","Settings\nFull Name","Settings\nGender","Settings\nYear Level","Settings\nDate of Birth",{"$f":"\"Settings Age as of 1 October \"& YEAR(Settings!$A$2)","v":"Settings Age as of 1 October 2025"},"Settings\nSchool Code"]
["2025-10-01",null,{"$f":"YEAR(Settings!$A$2)&\" North Zone Athletics Meet\"","v":"2025 North Zone Athletics Meet"},null,"Abbotsford School (AFD)",null,{"$f":"ROW()-1","v":1},{"$f":"IF(Students!C3=\"\",\"\",Students!C3)","v":""},{"$f":"IF(Students!D3=\"\",\"\",Students!D3)","v":""},{"$f":"IF(Students!C3=\"\",\"\",H2&\" \"&I2&\" \"&O2)","v":""},{"$f":"IF(Students!E3=\"\",\"\",Students!E3)","v":""},{"$f":"IF(Students!F3=\"\",\"\",Students!F3)","v":""},{"$f":"IF(Students!G3=\"\",\"\",Students!G3)","v":""},{"$f":"IF(Students!G3=\"\",\"\",DATEDIF(Students!G3,Settings!$A$2,\"y\"))","v":""},{"$f":"IF(Students!C3=\"\",\"\",RIGHT(Home!$B$11,5))","v":""}]
[null,null,{"$f":"YEAR(Settings!$A$2)&\" South Zone Athletics Meet\"","v":"2025 South Zone Athletics Meet"},null,"Alexandra Primary School (ALX)",null,{"$f":"ROW()-1","v":2},{"$f":"IF(Students!C4=\"\",\"\",Students!C4)","v":""},{"$f":"IF(Students!D4=\"\",\"\",Students!D4)","v":""},{"$f":"IF(Students!C4=\"\",\"\",H3&\" \"&I3&\" \"&O3)","v":""},{"$f":"IF(Students!E4=\"\",\"\",Students!E4)","v":""},{"$f":"IF(Students!F4=\"\",\"\",Students!F4)","v":""},{"$f":"IF(Students!G4=\"\",\"\",Students!G4)","v":""},{"$f":"IF(Students!G4=\"\",\"\",DATEDIF(Students!G4,Settings!$A$2,\"y\"))","v":""},{"$f":"IF(Students!C4=\"\",\"\",RIGHT(Home!$B$11,5))","v":""}]
[null,null,{"$f":"YEAR(Settings!$A$2)&\" Otago Championship Athletics Meet\"","v":"2025 Otago Championship Athletics Meet"},null,"Amana Christian School (ACS)",null,3,{"$f":"IF(Students!C5=\"\",\"\",Students!C5)","v":""},{"$f":"IF(Students!D5=\"\",\"\",Students!D5)","v":""},{"$f":"IF(Students!C5=\"\",\"\",H4&\" \"&I4&\" \"&O4)","v":""},{"$f":"IF(Students!E5=\"\",\"\",Students!E5)","v":""},{"$f":"IF(Students!F5=\"\",\"\",Students!F5)","v":""},{"$f":"IF(Students!G5=\"\",\"\",Students!G5)","v":""},{"$f":"IF(Students!G5=\"\",\"\",DATEDIF(Students!G5,Settings!$A$2,\"y\"))","v":""},{"$f":"IF(Students!C5=\"\",\"\",RIGHT(Home!$B$11,5))","v":""}]
[null,null,null,null,"Andersons Bay School (ABY)",null,4,{"$f":"IF(Students!C6=\"\",\"\",Students!C6)","v":""},{"$f":"IF(Students!D6=\"\",\"\",Students!D6)","v":""},{"$f":"IF(Students!C6=\"\",\"\",H5&\" \"&I5&\" \"&O5)","v":""},{"$f":"IF(Students!E6=\"\",\"\",Students!E6)","v":""},{"$f":"IF(Students!F6=\"\",\"\",Students!F6)","v":""},{"$f":"IF(Students!G6=\"\",\"\",Students!G6)","v":""},{"$f":"IF(Students!G6=\"\",\"\",DATEDIF(Students!G6,Settings!$A$2,\"y\"))","v":""},{"$f":"IF(Students!C6=\"\",\"\",RIGHT(Home!$B$11,5))","v":""}]
[null,null,null,null,"Ardgowan School (AGN)",null,5,{"$f":"IF(Students!C7=\"\",\"\",Students!C7)","v":""},{"$f":"IF(Students!D7=\"\",\"\",Students!D7)","v":""},{"$f":"IF(Students!C7=\"\",\"\",H6&\" \"&I6&\" \"&O6)","v":""},{"$f":"IF(Students!E7=\"\",\"\",Students!E7)","v":""},{"$f":"IF(Students!F7=\"\",\"\",Students!F7)","v":""},{"$f":"IF(Students!G7=\"\",\"\",Students!G7)","v":""},{"$f":"IF(Students!G7=\"\",\"\",DATEDIF(Students!G7,Settings!$A$2,\"y\"))","v":""},{"$f":"IF(Students!C7=\"\",\"\",RIGHT(Home!$B$11,5))","v":""}]
[null,null,null,null,"Arrowtown School (ATN)",null,6,{"$f":"IF(Students!C8=\"\",\"\",Students!C8)","v":""},{"$f":"IF(Students!D8=\"\",\"\",Students!D8)","v":""},{"$f":"IF(Students!C8=\"\",\"\",H7&\" \"&I7&\" \"&O7)","v":""},{"$f":"IF(Students!E8=\"\",\"\",Students!E8)","v":""},{"$f":"IF(Students!F8=\"\",\"\",Students!F8)","v":""},{"$f":"IF(Students!G8=\"\",\"\",Students!G8)","v":""},{"$f":"IF(Students!G8=\"\",\"\",DATEDIF(Students!G8,Settings!$A$2,\"y\"))","v":""},{"$f":"IF(Students!C8=\"\",\"\",RIGHT(Home!$B$11,5))","v":""}]
[null,null,null,null,"Arthur Street School (AST)",null,7,{"$f":"IF(Students!C9=\"\",\"\",Students!C9)","v":""},{"$f":"IF(Students!D9=\"\",\"\",Students!D9)","v":""},{"$f":"IF(Students!C9=\"\",\"\",H8&\" \"&I8&\" \"&O8)","v":""},{"$f":"IF(Students!E9=\"\",\"\",Students!E9)","v":""},{"$f":"IF(Students!F9=\"\",\"\",Students!F9)","v":""},{"$f":"IF(Students!G9=\"\",\"\",Students!G9)","v":""},{"$f":"IF(Students!G9=\"\",\"\",DATEDIF(Students!G9,Settings!$A$2,\"y\"))","v":""},{"$f":"IF(Students!C9=\"\",\"\",RIGHT(Home!$B$11,5))","v":""}]
[null,null,null,null,"Balaclava School (BVA)",null,8,{"$f":"IF(Students!C10=\"\",\"\",Students!C10)","v":""},{"$f":"IF(Students!D10=\"\",\"\",Students!D10)","v":""},{"$f":"IF(Students!C10=\"\",\"\",H9&\" \"&I9&\" \"&O9)","v":""},{"$f":"IF(Students!E10=\"\",\"\",Students!E10)","v":""},{"$f":"IF(Students!F10=\"\",\"\",Students!F10)","v":""},{"$f":"IF(Students!G10=\"\",\"\",Students!G10)","v":""},{"$f":"IF(Students!G10=\"\",\"\",DATEDIF(Students!G10,Settings!$A$2,\"y\"))","v":""},{"$f":"IF(Students!C10=\"\",\"\",RIGHT(Home!$B$11,5))","v":""}]
[null,null,null,null,"Balclutha Primary School (BAL)",null,9,{"$f":"IF(Students!C11=\"\",\"\",Students!C11)","v":""},{"$f":"IF(Students!D11=\"\",\"\",Students!D11)","v":""},{"$f":"IF(Students!C11=\"\",\"\",H10&\" \"&I10&\" \"&O10)","v":""},{"$f":"IF(Students!E11=\"\",\"\",Students!E11)","v":""},{"$f":"IF(Students!F11=\"\",\"\",Students!F11)","v":""},{"$f":"IF(Students!G11=\"\",\"\",Students!G11)","v":""},{"$f":"IF(Students!G11=\"\",\"\",DATEDIF(Students!G11,Settings!$A$2,\"y\"))","v":""},{"$f":"IF(Students!C11=\"\",\"\",RIGHT(Home!$B$11,5))","v":""}]
[null,null,null,null,"Balmacewen Intermediate School (BLM)",null,10,{"$f":"IF(Students!C12=\"\",\"\",Students!C12)","v":""},{"$f":"IF(Students!D12=\"\",\"\",Students!D12)","v":""},{"$f":"IF(Students!C12=\"\",\"\",H11&\" \"&I11&\" \"&O11)","v":""},{"$f":"IF(Students!E12=\"\",\"\",Students!E12)","v":""},{"$f":"IF(Students!F12=\"\",\"\",Students!F12)","v":""},{"$f":"IF(Students!G12=\"\",\"\",Students!G12)","v":""},{"$f":"IF(Students!G12=\"\",\"\",DATEDIF(Students!G12,Settings!$A$2,\"y\"))","v":""},{"$f":"IF(Students!C12=\"\",\"\",RIGHT(Home!$B$11,5))","v":""}]
[null,null,null,null,"Bathgate Park School (BPS)",null,11,{"$f":"IF(Students!C13=\"\",\"\",Students!C13)","v":""},{"$f":"IF(Students!D13=\"\",\"\",Students!D13)","v":""},{"$f":"IF(Students!C13=\"\",\"\",H12&\" \"&I12&\" \"&O12)","v":""},{"$f":"IF(Students!E13=\"\",\"\",Students!E13)","v":""},{"$f":"IF(Students!F13=\"\",\"\",Students!F13)","v":""},{"$f":"IF(Students!G13=\"\",\"\",Students!G13)","v":""},{"$f":"IF(Students!G13=\"\",\"\",DATEDIF(Students!G13,Settings!$A$2,\"y\"))","v":""},{"$f":"IF(Students!C13=\"\",\"\",RIGHT(Home!$B$11,5))","v":""}]
[null,null,null,null,"Big Rock Primary School (BRK)",null,12,{"$f":"IF(Students!C14=\"\",\"\",Students!C14)","v":""},{"$f":"IF(Students!D14=\"\",\"\",Students!D14)","v":""},{"$f":"IF(Students!C14=\"\",\"\",H13&\" \"&I13&\" \"&O13)","v":""},{"$f":"IF(Students!E14=\"\",\"\",Students!E14)","v":""},{"$f":"IF(Students!F14=\"\",\"\",Students!F14)","v":""},{"$f":"IF(Students!G14=\"\",\"\",Students!G14)","v":""},{"$f":"IF(Students!G14=\"\",\"\",DATEDIF(Students!G14,Settings!$A$2,\"y\"))","v":""},{"$f":"IF(Students!C14=\"\",\"\",RIGHT(Home!$B$11,5))","v":""}]
[null,null,null,null,"Blue Mountain College (BMC)",null,13,{"$f":"IF(Students!C15=\"\",\"\",Students!C15)","v":""},{"$f":"IF(Students!D15=\"\",\"\",Students!D15)","v":""},{"$f":"IF(Students!C15=\"\",\"\",H14&\" \"&I14&\" \"&O14)","v":""},{"$f":"IF(Students!E15=\"\",\"\",Students!E15)","v":""},{"$f":"IF(Students!F15=\"\",\"\",Students!F15)","v":""},{"$f":"IF(Students!G15=\"\",\"\",Students!G15)","v":""},{"$f":"IF(Students!G15=\"\",\"\",DATEDIF(Students!G15,Settings!$A$2,\"y\"))","v":""},{"$f":"IF(Students!C15=\"\",\"\",RIGHT(Home!$B$11,5))","v":""}]
[null,null,null,null,"Bradford School (BFD)",null,14,{"$f":"IF(Students!C16=\"\",\"\",Students!C16)","v":""},{"$f":"IF(Students!D16=\"\",\"\",Students!D16)","v":""},{"$f":"IF(Students!C16=\"\",\"\",H15&\" \"&I15&\" \"&O15)","v":""},{"$f":"IF(Students!E16=\"\",\"\",Students!E16)","v":""},{"$f":"IF(Students!F16=\"\",\"\",Students!F16)","v":""},{"$f":"IF(Students!G16=\"\",\"\",Students!G16)","v":""},{"$f":"IF(Students!G16=\"\",\"\",DATEDIF(Students!G16,Settings!$A$2,\"y\"))","v":""},{"$f":"IF(Students!C16=\"\",\"\",RIGHT(Home!$B$11,5))","v":""}]
[null,null,null,null,"Broad Bay School (BBY)",null,15,{"$f":"IF(Students!C17=\"\",\"\",Students!C17)","v":""},{"$f":"IF(Students!D17=\"\",\"\",Students!D17)","v":""},{"$f":"IF(Students!C17=\"\",\"\",H16&\" \"&I16&\" \"&O16)","v":""},{"$f":"IF(Students!E17=\"\",\"\",Students!E17)","v":""},{"$f":"IF(Students!F17=\"\",\"\",Students!F17)","v":""},{"$f":"IF(Students!G17=\"\",\"\",Students!G17)","v":""},{"$f":"IF(Students!G17=\"\",\"\",DATEDIF(Students!G17,Settings!$A$2,\"y\"))","v":""},{"$f":"IF(Students!C17=\"\",\"\",RIGHT(Home!$B$11,5))","v":""}]
[null,null,null,null,"Brockville Full Primary School (BRO)",null,16,{"$f":"IF(Students!C18=\"\",\"\",Students!C18)","v":""},{"$f":"IF(Students!D18=\"\",\"\",Students!D18)","v":""},{"$f":"IF(Students!C18=\"\",\"\",H17&\" \"&I17&\" \"&O17)","v":""},{"$f":"IF(Students!E18=\"\",\"\",Students!E18)","v":""},{"$f":"IF(Students!F18=\"\",\"\",Students!F18)","v":""},{"$f":"IF(Students!G18=\"\",\"\",Students!G18)","v":""},{"$f":"IF(Students!G18=\"\",\"\",DATEDIF(Students!G18,Settings!$A$2,\"y\"))","v":""},{"$f":"IF(Students!C18=\"\",\"\",RIGHT(Home!$B$11,5))","v":""}]
[null,null,null,null,"Carisbrook School (CBS)",null,17,{"$f":"IF(Students!C19=\"\",\"\",Students!C19)","v":""},{"$f":"IF(Students!D19=\"\",\"\",Students!D19)","v":""},{"$f":"IF(Students!C19=\"\",\"\",H18&\" \"&I18&\" \"&O18)","v":""},{"$f":"IF(Students!E19=\"\",\"\",Students!E19)","v":""},{"$f":"IF(Students!F19=\"\",\"\",Students!F19)","v":""},{"$f":"IF(Students!G19=\"\",\"\",Students!G19)","v":""},{"$f":"IF(Students!G19=\"\",\"\",DATEDIF(Students!G19,Settings!$A$2,\"y\"))","v":""},{"$f":"IF(Students!C19=\"\",\"\",RIGHT(Home!$B$11,5))","v":""}]
[null,null,null,null,"Clinton Primary School (CLN)",null,18,{"$f":"IF(Students!C20=\"\",\"\",Students!C20)","v":""},{"$f":"IF(Students!D20=\"\",\"\",Students!D20)","v":""},{"$f":"IF(Students!C20=\"\",\"\",H19&\" \"&I19&\" \"&O19)","v":""},{"$f":"IF(Students!E20=\"\",\"\",Students!E20)","v":""},{"$f":"IF(Students!F20=\"\",\"\",Students!F20)","v":""},{"$f":"IF(Students!G20=\"\",\"\",Students!G20)","v":""},{"$f":"IF(Students!G20=\"\",\"\",DATEDIF(Students!G20,Settings!$A$2,\"y\"))","v":""},{"$f":"IF(Students!C20=\"\",\"\",RIGHT(Home!$B$11,5))","v":""}]
[null,null,null,null,"Clutha Valley Primary School (CVA)",null,19,{"$f":"IF(Students!C21=\"\",\"\",Students!C21)","v":""},{"$f":"IF(Students!D21=\"\",\"\",Students!D21)","v":""},{"$f":"IF(Students!C21=\"\",\"\",H20&\" \"&I20&\" \"&O20)","v":""},{"$f":"IF(Students!E21=\"\",\"\",Students!E21)","v":""},{"$f":"IF(Students!F21=\"\",\"\",Students!F21)","v":""},{"$f":"IF(Students!G21=\"\",\"\",Students!G21)","v":""},{"$f":"IF(Students!G21=\"\",\"\",DATEDIF(Students!G21,Settings!$A$2,\"y\"))","v":""},{"$f":"IF(Students!C21=\"\",\"\",RIGHT(Home!$B$11,5))","v":""}]
[null,null,null,null,"Clyde Primary School (CLS)",null,20,{"$f":"IF(Students!C22=\"\",\"\",Students!C22)","v":""},{"$f":"IF(Students!D22=\"\",\"\",Students!D22)","v":""},{"$f":"IF(Students!C22=\"\",\"\",H21&\" \"&I21&\" \"&O21)","v":""},{"$f":"IF(Students!E22=\"\",\"\",Students!E22)","v":""},{"$f":"IF(Students!F22=\"\",\"\",Students!F22)","v":""},{"$f":"IF(Students!G22=\"\",\"\",Students!G22)","v":""},{"$f":"IF(Students!G22=\"\",\"\",DATEDIF(Students!G22,Settings!$A$2,\"y\"))","v":""},{"$f":"IF(Students!C22=\"\",\"\",RIGHT(Home!$B$11,5))","v":""}]
[null,null,null,null,"Columba College (COC)",null,21,{"$f":"IF(Students!C23=\"\",\"\",Students!C23)","v":""},{"$f":"IF(Students!D23=\"\",\"\",Students!D23)","v":""},{"$f":"IF(Students!C23=\"\",\"\",H22&\" \"&I22&\" \"&O22)","v":""},{"$f":"IF(Students!E23=\"\",\"\",Students!E23)","v":""},{"$f":"IF(Students!F23=\"\",\"\",Students!F23)","v":""},{"$f":"IF(Students!G23=\"\",\"\",Students!G23)","v":""},{"$f":"IF(Students!G23=\"\",\"\",DATEDIF(Students!G23,Settings!$A$2,\"y\"))","v":""},{"$f":"IF(Students!C23=\"\",\"\",RIGHT(Home!$B$11,5))","v":""}]
[null,null,null,null,"Concord School (CON)",null,22,{"$f":"IF(Students!C24=\"\",\"\",Students!C24)","v":""},{"$f":"IF(Students!D24=\"\",\"\",Students!D24)","v":""},{"$f":"IF(Students!C24=\"\",\"\",H23&\" \"&I23&\" \"&O23)","v":""},{"$f":"IF(Students!E24=\"\",\"\",Students!E24)","v":""},{"$f":"IF(Students!F24=\"\",\"\",Students!F24)","v":""},{"$f":"IF(Students!G24=\"\",\"\",Students!G24)","v":""},{"$f":"IF(Students!G24=\"\",\"\",DATEDIF(Students!G24,Settings!$A$2,\"y\"))","v":""},{"$f":"IF(Students!C24=\"\",\"\",RIGHT(Home!$B$11,5))","v":""}]
[null,null,null,null,"Cromwell College (CRC)",null,23,{"$f":"IF(Students!C25=\"\",\"\",Students!C25)","v":""},{"$f":"IF(Students!D25=\"\",\"\",Students!D25)","v":""},{"$f":"IF(Students!C25=\"\",\"\",H24&\" \"&I24&\" \"&O24)","v":""},{"$f":"IF(Students!E25=\"\",\"\",Students!E25)","v":""},{"$f":"IF(Students!F25=\"\",\"\",Students!F25)","v":""},{"$f":"IF(Students!G25=\"\",\"\",Students!G25)","v":""},{"$f":"IF(Students!G25=\"\",\"\",DATEDIF(Students!G25,Settings!$A$2,\"y\"))","v":""},{"$f":"IF(Students!C25=\"\",\"\",RIGHT(Home!$B$11,5))","v":""}]
[null,null,null,null,"Cromwell Primary School (CPR)",null,24,{"$f":"IF(Students!C26=\"\",\"\",Students!C26)","v":""},{"$f":"IF(Students!D26=\"\",\"\",Students!D26)","v":""},{"$f":"IF(Students!C26=\"\",\"\",H25&\" \"&I25&\" \"&O25)","v":""},{"$f":"IF(Students!E26=\"\",\"\",Students!E26)","v":""},{"$f":"IF(Students!F26=\"\",\"\",Students!F26)","v":""},{"$f":"IF(Students!G26=\"\",\"\",Students!G26)","v":""},{"$f":"IF(Students!G26=\"\",\"\",DATEDIF(Students!G26,Settings!$A$2,\"y\"))","v":""},{"$f":"IF(Students!C26=\"\",\"\",RIGHT(Home!$B$11,5))","v":""}]
[null,null,null,null,"Dunedin North Intermediate School (DNI)",null,25,{"$f":"IF(Students!C27=\"\",\"\",Students!C27)","v":""},{"$f":"IF(Students!D27=\"\",\"\",Students!D27)","v":""},{"$f":"IF(Students!C27=\"\",\"\",H26&\" \"&I26&\" \"&O26)","v":""},{"$f":"IF(Students!E27=\"\",\"\",Students!E27)","v":""},{"$f":"IF(Students!F27=\"\",\"\",Students!F27)","v":""},{"$f":"IF(Students!G27=\"\",\"\",Students!G27)","v":""},{"$f":"IF(Students!G27=\"\",\"\",DATEDIF(Students!G27,Settings!$A$2,\"y\"))","v":""},{"$f":"IF(Students!C27=\"\",\"\",RIGHT(Home!$B$11,5))","v":""}]
[null,null,null,null,"Dunedin Rudolf Steiner School (DRS)",null,26,{"$f":"IF(Students!C28=\"\",\"\",Students!C28)","v":""},{"$f":"IF(Students!D28=\"\",\"\",Students!D28)","v":""},{"$f":"IF(Students!C28=\"\",\"\",H27&\" \"&I27&\" \"&O27)","v":""},{"$f":"IF(Students!E28=\"\",\"\",Students!E28)","v":""},{"$f":"IF(Students!F28=\"\",\"\",Students!F28)","v":""},{"$f":"IF(Students!G28=\"\",\"\",Students!G28)","v":""},{"$f":"IF(Students!G28=\"\",\"\",DATEDIF(Students!G28,Settings!$A$2,\"y\"))","v":""},{"$f":"IF(Students!C28=\"\",\"\",RIGHT(Home!$B$11,5))","v":""}]
[null,null,null,null,"Duntroon School (DUN)",null,27,{"$f":"IF(Students!C29=\"\",\"\",Students!C29)","v":""},{"$f":"IF(Students!D29=\"\",\"\",Students!D29)","v":""},{"$f":"IF(Students!C29=\"\",\"\",H28&\" \"&I28&\" \"&O28)","v":""},{"$f":"IF(Students!E29=\"\",\"\",Students!E29)","v":""},{"$f":"IF(Students!F29=\"\",\"\",Students!F29)","v":""},{"$f":"IF(Students!G29=\"\",\"\",Students!G29)","v":""},{"$f":"IF(Students!G29=\"\",\"\",DATEDIF(Students!G29,Settings!$A$2,\"y\"))","v":""},{"$f":"IF(Students!C29=\"\",\"\",RIGHT(Home!$B$11,5))","v":""}]
[null,null,null,null,"East Otago High School (EOH)",null,28,{"$f":"IF(Students!C30=\"\",\"\",Students!C30)","v":""},{"$f":"IF(Students!D30=\"\",\"\",Students!D30)","v":""},{"$f":"IF(Students!C30=\"\",\"\",H29&\" \"&I29&\" \"&O29)","v":""},{"$f":"IF(Students!E30=\"\",\"\",Students!E30)","v":""},{"$f":"IF(Students!F30=\"\",\"\",Students!F30)","v":""},{"$f":"IF(Students!G30=\"\",\"\",Students!G30)","v":""},{"$f":"IF(Students!G30=\"\",\"\",DATEDIF(Students!G30,Settings!$A$2,\"y\"))","v":""},{"$f":"IF(Students!C30=\"\",\"\",RIGHT(Home!$B$11,5))","v":""}]
[null,null,null,null,"East Taieri School (ETI)",null,29,{"$f":"IF(Students!C31=\"\",\"\",Students!C31)","v":""},{"$f":"IF(Students!D31=\"\",\"\",Students!D31)","v":""},{"$f":"IF(Students!C31=\"\",\"\",H30&\" \"&I30&\" \"&O30)","v":""},{"$f":"IF(Students!E31=\"\",\"\",Students!E31)","v":""},{"$f":"IF(Students!F31=\"\",\"\",Students!F31)","v":""},{"$f":"IF(Students!G31=\"\",\"\",Students!G31)","v":""},{"$f":"IF(Students!G31=\"\",\"\",DATEDIF(Students!G31,Settings!$A$2,\"y\"))","v":""},{"$f":"IF(Students!C31=\"\",\"\",RIGHT(Home!$B$11,5))","v":""}]
[null,null,null,null,"Elmgrove School (ELG)",null,30,{"$f":"IF(Students!C32=\"\",\"\",Students!C32)","v":""},{"$f":"IF(Students!D32=\"\",\"\",Students!D32)","v":""},{"$f":"IF(Students!C32=\"\",\"\",H31&\" \"&I31&\" \"&O31)","v":""},{"$f":"IF(Students!E32=\"\",\"\",Students!E32)","v":""},{"$f":"IF(Students!F32=\"\",\"\",Students!F32)","v":""},{"$f":"IF(Students!G32=\"\",\"\",Students!G32)","v":""},{"$f":"IF(Students!G32=\"\",\"\",DATEDIF(Students!G32,Settings!$A$2,\"y\"))","v":""},{"$f":"IF(Students!C32=\"\",\"\",RIGHT(Home!$B$11,5))","v":""}]
[null,null,null,null,"Fairfield School (FFD)",null,31,{"$f":"IF(Students!C33=\"\",\"\",Students!C33)","v":""},{"$f":"IF(Students!D33=\"\",\"\",Students!D33)","v":""},{"$f":"IF(Students!C33=\"\",\"\",H32&\" \"&I32&\" \"&O32)","v":""},{"$f":"IF(Students!E33=\"\",\"\",Students!E33)","v":""},{"$f":"IF(Students!F33=\"\",\"\",Students!F33)","v":""},{"$f":"IF(Students!G33=\"\",\"\",Students!G33)","v":""},{"$f":"IF(Students!G33=\"\",\"\",DATEDIF(Students!G33,Settings!$A$2,\"y\"))","v":""},{"$f":"IF(Students!C33=\"\",\"\",RIGHT(Home!$B$11,5))","v":""}]
[null,null,null,null,"Fenwick School (FNK)",null,32,{"$f":"IF(Students!C34=\"\",\"\",Students!C34)","v":""},{"$f":"IF(Students!D34=\"\",\"\",Students!D34)","v":""},{"$f":"IF(Students!C34=\"\",\"\",H33&\" \"&I33&\" \"&O33)","v":""},{"$f":"IF(Students!E34=\"\",\"\",Students!E34)","v":""},{"$f":"IF(Students!F34=\"\",\"\",Students!F34)","v":""},{"$f":"IF(Students!G34=\"\",\"\",Students!G34)","v":""},{"$f":"IF(Students!G34=\"\",\"\",DATEDIF(Students!G34,Settings!$A$2,\"y\"))","v":""},{"$f":"IF(Students!C34=\"\",\"\",RIGHT(Home!$B$11,5))","v":""}]
[null,null,null,null,"Five Forks School (FFS)",null,33,{"$f":"IF(Students!C35=\"\",\"\",Students!C35)","v":""},{"$f":"IF(Students!D35=\"\",\"\",Students!D35)","v":""},{"$f":"IF(Students!C35=\"\",\"\",H34&\" \"&I34&\" \"&O34)","v":""},{"$f":"IF(Students!E35=\"\",\"\",Students!E35)","v":""},{"$f":"IF(Students!F35=\"\",\"\",Students!F35)","v":""},{"$f":"IF(Students!G35=\"\",\"\",Students!G35)","v":""},{"$f":"IF(Students!G35=\"\",\"\",DATEDIF(Students!G35,Settings!$A$2,\"y\"))","v":""},{"$f":"IF(Students!C35=\"\",\"\",RIGHT(Home!$B$11,5))","v":""}]
[null,null,null,null,"George Street Normal School (GSN)",null,34,{"$f":"IF(Students!C36=\"\",\"\",Students!C36)","v":""},{"$f":"IF(Students!D36=\"\",\"\",Students!D36)","v":""},{"$f":"IF(Students!C36=\"\",\"\",H35&\" \"&I35&\" \"&O35)","v":""},{"$f":"IF(Students!E36=\"\",\"\",Students!E36)","v":""},{"$f":"IF(Students!F36=\"\",\"\",Students!F36)","v":""},{"$f":"IF(Students!G36=\"\",\"\",Students!G36)","v":""},{"$f":"IF(Students!G36=\"\",\"\",DATEDIF(Students!G36,Settings!$A$2,\"y\"))","v":""},{"$f":"IF(Students!C36=\"\",\"\",RIGHT(Home!$B$11,5))","v":""}]
[null,null,null,null,"Glenavy School (GLN)",null,35,{"$f":"IF(Students!C37=\"\",\"\",Students!C37)","v":""},{"$f":"IF(Students!D37=\"\",\"\",Students!D37)","v":""},{"$f":"IF(Students!C37=\"\",\"\",H36&\" \"&I36&\" \"&O36)","v":""},{"$f":"IF(Students!E37=\"\",\"\",Students!E37)","v":""},{"$f":"IF(Students!F37=\"\",\"\",Students!F37)","v":""},{"$f":"IF(Students!G37=\"\",\"\",Students!G37)","v":""},{"$f":"IF(Students!G37=\"\",\"\",DATEDIF(Students!G37,Settings!$A$2,\"y\"))","v":""},{"$f":"IF(Students!C37=\"\",\"\",RIGHT(Home!$B$11,5))","v":""}]
[null,null,null,null,"Glenorchy School (GLO)",null,36,{"$f":"IF(Students!C38=\"\",\"\",Students!C38)","v":""},{"$f":"IF(Students!D38=\"\",\"\",Students!D38)","v":""},{"$f":"IF(Students!C38=\"\",\"\",H37&\" \"&I37&\" \"&O37)","v":""},{"$f":"IF(Students!E38=\"\",\"\",Students!E38)","v":""},{"$f":"IF(Students!F38=\"\",\"\",Students!F38)","v":""},{"$f":"IF(Students!G38=\"\",\"\",Students!G38)","v":""},{"$f":"IF(Students!G38=\"\",\"\",DATEDIF(Students!G38,Settings!$A$2,\"y\"))","v":""},{"$f":"IF(Students!C38=\"\",\"\",RIGHT(Home!$B$11,5))","v":""}]
[null,null,null,null,"Goldfields School (GOF)",null,37,{"$f":"IF(Students!C39=\"\",\"\",Students!C39)","v":""},{"$f":"IF(Students!D39=\"\",\"\",Students!D39)","v":""},{"$f":"IF(Students!C39=\"\",\"\",H38&\" \"&I38&\" \"&O38)","v":""},{"$f":"IF(Students!E39=\"\",\"\",Students!E39)","v":""},{"$f":"IF(Students!F39=\"\",\"\",Students!F39)","v":""},{"$f":"IF(Students!G39=\"\",\"\",Students!G39)","v":""},{"$f":"IF(Students!G39=\"\",\"\",DATEDIF(Students!G39,Settings!$A$2,\"y\"))","v":""},{"$f":"IF(Students!C39=\"\",\"\",RIGHT(Home!$B$11,5))","v":""}]
[null,null,null,null,"Grants Braes School (GBR)",null,38,{"$f":"IF(Students!C40=\"\",\"\",Students!C40)","v":""},{"$f":"IF(Students!D40=\"\",\"\",Students!D40)","v":""},{"$f":"IF(Students!C40=\"\",\"\",H39&\" \"&I39&\" \"&O39)","v":""},{"$f":"IF(Students!E40=\"\",\"\",Students!E40)","v":""},{"$f":"IF(Students!F40=\"\",\"\",Students!F40)","v":""},{"$f":"IF(Students!G40=\"\",\"\",Students!G40)","v":""},{"$f":"IF(Students!G40=\"\",\"\",DATEDIF(Students!G40,Settings!$A$2,\"y\"))","v":""},{"$f":"IF(Students!C40=\"\",\"\",RIGHT(Home!$B$11,5))","v":""}]
[null,null,null,null,"Green Island School (GRI)",null,39,{"$f":"IF(Students!C41=\"\",\"\",Students!C41)","v":""},{"$f":"IF(Students!D41=\"\",\"\",Students!D41)","v":""},{"$f":"IF(Students!C41=\"\",\"\",H40&\" \"&I40&\" \"&O40)","v":""},{"$f":"IF(Students!E41=\"\",\"\",Students!E41)","v":""},{"$f":"IF(Students!F41=\"\",\"\",Students!F41)","v":""},{"$f":"IF(Students!G41=\"\",\"\",Students!G41)","v":""},{"$f":"IF(Students!G41=\"\",\"\",DATEDIF(Students!G41,Settings!$A$2,\"y\"))","v":""},{"$f":"IF(Students!C41=\"\",\"\",RIGHT(Home!$B$11,5))","v":""}]
[null,null,null,null,"Halfway Bush School (HYB)",null,40,{"$f":"IF(Students!C42=\"\",\"\",Students!C42)","v":""},{"$f":"IF(Students!D42=\"\",\"\",Students!D42)","v":""},{"$f":"IF(Students!C42=\"\",\"\",H41&\" \"&I41&\" \"&O41)","v":""},{"$f":"IF(Students!E42=\"\",\"\",Students!E42)","v":""},{"$f":"IF(Students!F42=\"\",\"\",Students!F42)","v":""},{"$f":"IF(Students!G42=\"\",\"\",Students!G42)","v":""},{"$f":"IF(Students!G42=\"\",\"\",DATEDIF(Students!G42,Settings!$A$2,\"y\"))","v":""},{"$f":"IF(Students!C42=\"\",\"\",RIGHT(Home!$B$11,5))","v":""}]
[null,null,null,null,"Hampden School (HAM)",null,41,{"$f":"IF(Students!C43=\"\",\"\",Students!C43)","v":""},{"$f":"IF(Students!D43=\"\",\"\",Students!D43)","v":""},{"$f":"IF(Students!C43=\"\",\"\",H42&\" \"&I42&\" \"&O42)","v":""},{"$f":"IF(Students!E43=\"\",\"\",Students!E43)","v":""},{"$f":"IF(Students!F43=\"\",\"\",Students!F43)","v":""},{"$f":"IF(Students!G43=\"\",\"\",Students!G43)","v":""},{"$f":"IF(Students!G43=\"\",\"\",DATEDIF(Students!G43,Settings!$A$2,\"y\"))","v":""},{"$f":"IF(Students!C43=\"\",\"\",RIGHT(Home!$B$11,5))","v":""}]
[null,null,null,null,"Hawea Flat School (HFT)",null,42,{"$f":"IF(Students!C44=\"\",\"\",Students!C44)","v":""},{"$f":"IF(Students!D44=\"\",\"\",Students!D44)","v":""},{"$f":"IF(Students!C44=\"\",\"\",H43&\" \"&I43&\" \"&O43)","v":""},{"$f":"IF(Students!E44=\"\",\"\",Students!E44)","v":""},{"$f":"IF(Students!F44=\"\",\"\",Students!F44)","v":""},{"$f":"IF(Students!G44=\"\",\"\",Students!G44)","v":""},{"$f":"IF(Students!G44=\"\",\"\",DATEDIF(Students!G44,Settings!$A$2,\"y\"))","v":""},{"$f":"IF(Students!C44=\"\",\"\",RIGHT(Home!$B$11,5))","v":""}]
[null,null,null,null,"Heriot School (HER)",null,43,{"$f":"IF(Students!C45=\"\",\"\",Students!C45)","v":""},{"$f":"IF(Students!D45=\"\",\"\",Students!D45)","v":""},{"$f":"IF(Students!C45=\"\",\"\",H44&\" \"&I44&\" \"&O44)","v":""},{"$f":"IF(Students!E45=\"\",\"\",Students!E45)","v":""},{"$f":"IF(Students!F45=\"\",\"\",Students!F45)","v":""},{"$f":"IF(Students!G45=\"\",\"\",Students!G45)","v":""},{"$f":"IF(Students!G45=\"\",\"\",DATEDIF(Students!G45,Settings!$A$2,\"y\"))","v":""},{"$f":"IF(Students!C45=\"\",\"\",RIGHT(Home!$B$11,5))","v":""}]
[null,null,null,null,"Holy Family Catholic School Wanaka (HFS)",null,44,{"$f":"IF(Students!C46=\"\",\"\",Students!C46)","v":""},{"$f":"IF(Students!D46=\"\",\"\",Students!D46)","v":""},{"$f":"IF(Students!C46=\"\",\"\",H45&\" \"&I45&\" \"&O45)","v":""},{"$f":"IF(Students!E46=\"\",\"\",Students!E46)","v":""},{"$f":"IF(Students!F46=\"\",\"\",Students!F46)","v":""},{"$f":"IF(Students!G46=\"\",\"\",Students!G46)","v":""},{"$f":"IF(Students!G46=\"\",\"\",DATEDIF(Students!G46,Settings!$A$2,\"y\"))","v":""},{"$f":"IF(Students!C46=\"\",\"\",RIGHT(Home!$B$11,5))","v":""}]
[null,null,null,null,"John McGlashan College (JMC)",null,45,{"$f":"IF(Students!C47=\"\",\"\",Students!C47)","v":""},{"$f":"IF(Students!D47=\"\",\"\",Students!D47)","v":""},{"$f":"IF(Students!C47=\"\",\"\",H46&\" \"&I46&\" \"&O46)","v":""},{"$f":"IF(Students!E47=\"\",\"\",Students!E47)","v":""},{"$f":"IF(Students!F47=\"\",\"\",Students!F47)","v":""},{"$f":"IF(Students!G47=\"\",\"\",Students!G47)","v":""},{"$f":"IF(Students!G47=\"\",\"\",DATEDIF(Students!G47,Settings!$A$2,\"y\"))","v":""},{"$f":"IF(Students!C47=\"\",\"\",RIGHT(Home!$B$11,5))","v":""}]
[null,null,null,null,"Kaikorai Primary School (KAI)",null,46,{"$f":"IF(Students!C48=\"\",\"\",Students!C48)","v":""},{"$f":"IF(Students!D48=\"\",\"\",Students!D48)","v":""},{"$f":"IF(Students!C48=\"\",\"\",H47&\" \"&I47&\" \"&O47)","v":""},{"$f":"IF(Students!E48=\"\",\"\",Students!E48)","v":""},{"$f":"IF(Students!F48=\"\",\"\",Students!F48)","v":""},{"$f":"IF(Students!G48=\"\",\"\",Students!G48)","v":""},{"$f":"IF(Students!G48=\"\",\"\",DATEDIF(Students!G48,Settings!$A$2,\"y\"))","v":""},{"$f":"IF(Students!C48=\"\",\"\",RIGHT(Home!$B$11,5))","v":""}]
[null,null,null,null,"Kaikorai Valley College (KVC)",null,47,{"$f":"IF(Students!C49=\"\",\"\",Students!C49)","v":""},{"$f":"IF(Students!D49=\"\",\"\",Students!D49)","v":""},{"$f":"IF(Students!C49=\"\",\"\",H48&\" \"&I48&\" \"&O48)","v":""},{"$f":"IF(Students!E49=\"\",\"\",Students!E49)","v":""},{"$f":"IF(Students!F49=\"\",\"\",Students!F49)","v":""},{"$f":"IF(Students!G49=\"\",\"\",Students!G49)","v":""},{"$f":"IF(Students!G49=\"\",\"\",DATEDIF(Students!G49,Settings!$A$2,\"y\"))","v":""},{"$f":"IF(Students!C49=\"\",\"\",RIGHT(Home!$B$11,5))","v":""}]
[null,null,null,null,"Kaitangata School (KTA)",null,48,{"$f":"IF(Students!C50=\"\",\"\",Students!C50)","v":""},{"$f":"IF(Students!D50=\"\",\"\",Students!D50)","v":""},{"$f":"IF(Students!C50=\"\",\"\",H49&\" \"&I49&\" \"&O49)","v":""},{"$f":"IF(Students!E50=\"\",\"\",Students!E50)","v":""},{"$f":"IF(Students!F50=\"\",\"\",Students!F50)","v":""},{"$f":"IF(Students!G50=\"\",\"\",Students!G50)","v":""},{"$f":"IF(Students!G50=\"\",\"\",DATEDIF(Students!G50,Settings!$A$2,\"y\"))","v":""},{"$f":"IF(Students!C50=\"\",\"\",RIGHT(Home!$B$11,5))","v":""}]
[null,null,null,null,"Kakanui School (KAK)",null,49,{"$f":"IF(Students!C51=\"\",\"\",Students!C51)","v":""},{"$f":"IF(Students!D51=\"\",\"\",Students!D51)","v":""},{"$f":"IF(Students!C51=\"\",\"\",H50&\" \"&I50&\" \"&O50)","v":""},{"$f":"IF(Students!E51=\"\",\"\",Students!E51)","v":""},{"$f":"IF(Students!F51=\"\",\"\",Students!F51)","v":""},{"$f":"IF(Students!G51=\"\",\"\",Students!G51)","v":""},{"$f":"IF(Students!G51=\"\",\"\",DATEDIF(Students!G51,Settings!$A$2,\"y\"))","v":""},{"$f":"IF(Students!C51=\"\",\"\",RIGHT(Home!$B$11,5))","v":""}]
[null,null,null,null,"Karitane School (KAR)",null,50,{"$f":"IF(Students!C52=\"\",\"\",Students!C52)","v":""},{"$f":"IF(Students!D52=\"\",\"\",Students!D52)","v":""},{"$f":"IF(Students!C52=\"\",\"\",H51&\" \"&I51&\" \"&O51)","v":""},{"$f":"IF(Students!E52=\"\",\"\",Students!E52)","v":""},{"$f":"IF(Students!F52=\"\",\"\",Students!F52)","v":""},{"$f":"IF(Students!G52=\"\",\"\",Students!G52)","v":""},{"$f":"IF(Students!G52=\"\",\"\",DATEDIF(Students!G52,Settings!$A$2,\"y\"))","v":""},{"$f":"IF(Students!C52=\"\",\"\",RIGHT(Home!$B$11,5))","v":""}]
[null,null,null,null,"Kingsview School (KSV)",null,51,{"$f":"IF(Students!C53=\"\",\"\",Students!C53)","v":""},{"$f":"IF(Students!D53=\"\",\"\",Students!D53)","v":""},{"$f":"IF(Students!C53=\"\",\"\",H52&\" \"&I52&\" \"&O52)","v":""},{"$f":"IF(Students!E53=\"\",\"\",Students!E53)","v":""},{"$f":"IF(Students!F53=\"\",\"\",Students!F53)","v":""},{"$f":"IF(Students!G53=\"\",\"\",Students!G53)","v":""},{"$f":"IF(Students!G53=\"\",\"\",DATEDIF(Students!G53,Settings!$A$2,\"y\"))","v":""},{"$f":"IF(Students!C53=\"\",\"\",RIGHT(Home!$B$11,5))","v":""}]
[null,null,null,null,"Lawrence Area School (LAS)",null,52,{"$f":"IF(Students!C54=\"\",\"\",Students!C54)","v":""},{"$f":"IF(Students!D54=\"\",\"\",Students!D54)","v":""},{"$f":"IF(Students!C54=\"\",\"\",H53&\" \"&I53&\" \"&O53)","v":""},{"$f":"IF(Students!E54=\"\",\"\",Students!E54)","v":""},{"$f":"IF(Students!F54=\"\",\"\",Students!F54)","v":""},{"$f":"IF(Students!G54=\"\",\"\",Students!G54)","v":""},{"$f":"IF(Students!G54=\"\",\"\",DATEDIF(Students!G54,Settings!$A$2,\"y\"))","v":""},{"$f":"IF(Students!C54=\"\",\"\",RIGHT(Home!$B$11,5))","v":""}]
[null,null,null,null,"Lee Stream School (LSM)",null,53,{"$f":"IF(Students!C55=\"\",\"\",Students!C55)","v":""},{"$f":"IF(Students!D55=\"\",\"\",Students!D55)","v":""},{"$f":"IF(Students!C55=\"\",\"\",H54&\" \"&I54&\" \"&O54)","v":""},{"$f":"IF(Students!E55=\"\",\"\",Students!E55)","v":""},{"$f":"IF(Students!F55=\"\",\"\",Students!F55)","v":""},{"$f":"IF(Students!G55=\"\",\"\",Students!G55)","v":""},{"$f":"IF(Students!G55=\"\",\"\",DATEDIF(Students!G55,Settings!$A$2,\"y\"))","v":""},{"$f":"IF(Students!C55=\"\",\"\",RIGHT(Home!$B$11,5))","v":""}]
[null,null,null,null,"Liberton Christian School (LCS)",null,54,{"$f":"IF(Students!C56=\"\",\"\",Students!C56)","v":""},{"$f":"IF(Students!D56=\"\",\"\",Students!D56)","v":""},{"$f":"IF(Students!C56=\"\",\"\",H55&\" \"&I55&\" \"&O55)","v":""},{"$f":"IF(Students!E56=\"\",\"\",Students!E56)","v":""},{"$f":"IF(Students!F56=\"\",\"\",Students!F56)","v":""},{"$f":"IF(Students!G56=\"\",\"\",Students!G56)","v":""},{"$f":"IF(Students!G56=\"\",\"\",DATEDIF(Students!G56,Settings!$A$2,\"y\"))","v":""},{"$f":"IF(Students!C56=\"\",\"\",RIGHT(Home!$B$11,5))","v":""}]
[null,null,null,null,"Macandrew Bay School (MBY)",null,55,{"$f":"IF(Students!C57=\"\",\"\",Students!C57)","v":""},{"$f":"IF(Students!D57=\"\",\"\",Students!D57)","v":""},{"$f":"IF(Students!C57=\"\",\"\",H56&\" \"&I56&\" \"&O56)","v":""},{"$f":"IF(Students!E57=\"\",\"\",Students!E57)","v":""},{"$f":"IF(Students!F57=\"\",\"\",Students!F57)","v":""},{"$f":"IF(Students!G57=\"\",\"\",Students!G57)","v":""},{"$f":"IF(Students!G57=\"\",\"\",DATEDIF(Students!G57,Settings!$A$2,\"y\"))","v":""},{"$f":"IF(Students!C57=\"\",\"\",RIGHT(Home!$B$11,5))","v":""}]
[null,null,null,null,"Macraes Moonlight School (MCM)",null,56,{"$f":"IF(Students!C58=\"\",\"\",Students!C58)","v":""},{"$f":"IF(Students!D58=\"\",\"\",Students!D58)","v":""},{"$f":"IF(Students!C58=\"\",\"\",H57&\" \"&I57&\" \"&O57)","v":""},{"$f":"IF(Students!E58=\"\",\"\",Students!E58)","v":""},{"$f":"IF(Students!F58=\"\",\"\",Students!F58)","v":""},{"$f":"IF(Students!G58=\"\",\"\",Students!G58)","v":""},{"$f":"IF(Students!G58=\"\",\"\",DATEDIF(Students!G58,Settings!$A$2,\"y\"))","v":""},{"$f":"IF(Students!C58=\"\",\"\",RIGHT(Home!$B$11,5))","v":""}]
[null,null,null,null,"Maheno School (MAH)",null,57,{"$f":"IF(Students!C59=\"\",\"\",Students!C59)","v":""},{"$f":"IF(Students!D59=\"\",\"\",Students!D59)","v":""},{"$f":"IF(Students!C59=\"\",\"\",H58&\" \"&I58&\" \"&O58)","v":""},{"$f":"IF(Students!E59=\"\",\"\",Students!E59)","v":""},{"$f":"IF(Students!F59=\"\",\"\",Students!F59)","v":""},{"$f":"IF(Students!G59=\"\",\"\",Students!G59)","v":""},{"$f":"IF(Students!G59=\"\",\"\",DATEDIF(Students!G59,Settings!$A$2,\"y\"))","v":""},{"$f":"IF(Students!C59=\"\",\"\",RIGHT(Home!$B$11,5))","v":""}]
[null,null,null,null,"Makarora Primary School (MAK)",null,58,{"$f":"IF(Students!C60=\"\",\"\",Students!C60)","v":""},{"$f":"IF(Students!D60=\"\",\"\",Students!D60)","v":""},{"$f":"IF(Students!C60=\"\",\"\",H59&\" \"&I59&\" \"&O59)","v":""},{"$f":"IF(Students!E60=\"\",\"\",Students!E60)","v":""},{"$f":"IF(Students!F60=\"\",\"\",Students!F60)","v":""},{"$f":"IF(Students!G60=\"\",\"\",Students!G60)","v":""},{"$f":"IF(Students!G60=\"\",\"\",DATEDIF(Students!G60,Settings!$A$2,\"y\"))","v":""},{"$f":"IF(Students!C60=\"\",\"\",RIGHT(Home!$B$11,5))","v":""}]
[null,null,null,null,"Maniototo Area School (MAS)",null,59,{"$f":"IF(Students!C61=\"\",\"\",Students!C61)","v":""},{"$f":"IF(Students!D61=\"\",\"\",Students!D61)","v":""},{"$f":"IF(Students!C61=\"\",\"\",H60&\" \"&I60&\" \"&O60)","v":""},{"$f":"IF(Students!E61=\"\",\"\",Students!E61)","v":""},{"$f":"IF(Students!F61=\"\",\"\",Students!F61)","v":""},{"$f":"IF(Students!G61=\"\",\"\",Students!G61)","v":""},{"$f":"IF(Students!G61=\"\",\"\",DATEDIF(Students!G61,Settings!$A$2,\"y\"))","v":""},{"$f":"IF(Students!C61=\"\",\"\",RIGHT(Home!$B$11,5))","v":""}]
[null,null,null,null,"Maori Hill School (MHL)",null,60,{"$f":"IF(Students!C62=\"\",\"\",Students!C62)","v":""},{"$f":"IF(Students!D62=\"\",\"\",Students!D62)","v":""},{"$f":"IF(Students!C62=\"\",\"\",H61&\" \"&I61&\" \"&O61)","v":""},{"$f":"IF(Students!E62=\"\",\"\",Students!E62)","v":""},{"$f":"IF(Students!F62=\"\",\"\",Students!F62)","v":""},{"$f":"IF(Students!G62=\"\",\"\",Students!G62)","v":""},{"$f":"IF(Students!G62=\"\",\"\",DATEDIF(Students!G62,Settings!$A$2,\"y\"))","v":""},{"$f":"IF(Students!C62=\"\",\"\",RIGHT(Home!$B$11,5))","v":""}]
[null,null,null,null,"Millers Flat School (MFL)",null,61,{"$f":"IF(Students!C63=\"\",\"\",Students!C63)","v":""},{"$f":"IF(Students!D63=\"\",\"\",Students!D63)","v":""},{"$f":"IF(Students!C63=\"\",\"\",H62&\" \"&I62&\" \"&O62)","v":""},{"$f":"IF(Students!E63=\"\",\"\",Students!E63)","v":""},{"$f":"IF(Students!F63=\"\",\"\",Students!F63)","v":""},{"$f":"IF(Students!G63=\"\",\"\",Students!G63)","v":""},{"$f":"IF(Students!G63=\"\",\"\",DATEDIF(Students!G63,Settings!$A$2,\"y\"))","v":""},{"$f":"IF(Students!C63=\"\",\"\",RIGHT(Home!$B$11,5))","v":""}]
[null,null,null,null,"Milton Primary School (MTN)",null,62,{"$f":"IF(Students!C64=\"\",\"\",Students!C64)","v":""},{"$f":"IF(Students!D64=\"\",\"\",Students!D64)","v":""},{"$f":"IF(Students!C64=\"\",\"\",H63&\" \"&I63&\" \"&O63)","v":""},{"$f":"IF(Students!E64=\"\",\"\",Students!E64)","v":""},{"$f":"IF(Students!F64=\"\",\"\",Students!F64)","v":""},{"$f":"IF(Students!G64=\"\",\"\",Students!G64)","v":""},{"$f":"IF(Students!G64=\"\",\"\",DATEDIF(Students!G64,Settings!$A$2,\"y\"))","v":""},{"$f":"IF(Students!C64=\"\",\"\",RIGHT(Home!$B$11,5))","v":""}]
[null,null,null,null,"Mornington School (MOR)",null,63,{"$f":"IF(Students!C65=\"\",\"\",Students!C65)","v":""},{"$f":"IF(Students!D65=\"\",\"\",Students!D65)","v":""},{"$f":"IF(Students!C65=\"\",\"\",H64&\" \"&I64&\" \"&O64)","v":""},{"$f":"IF(Students!E65=\"\",\"\",Students!E65)","v":""},{"$f":"IF(Students!F65=\"\",\"\",Students!F65)","v":""},{"$f":"IF(Students!G65=\"\",\"\",Students!G65)","v":""},{"$f":"IF(Students!G65=\"\",\"\",DATEDIF(Students!G65,Settings!$A$2,\"y\"))","v":""},{"$f":"IF(Students!C65=\"\",\"\",RIGHT(Home!$B$11,5))","v":""}]
[null,null,null,null,"Mount Aspiring College (MAC)",null,64,{"$f":"IF(Students!C66=\"\",\"\",Students!C66)","v":""},{"$f":"IF(Students!D66=\"\",\"\",Students!D66)","v":""},{"$f":"IF(Students!C66=\"\",\"\",H65&\" \"&I65&\" \"&O65)","v":""},{"$f":"IF(Students!E66=\"\",\"\",Students!E66)","v":""},{"$f":"IF(Students!F66=\"\",\"\",Students!F66)","v":""},{"$f":"IF(Students!G66=\"\",\"\",Students!G66)","v":""},{"$f":"IF(Students!G66=\"\",\"\",DATEDIF(Students!G66,Settings!$A$2,\"y\"))","v":""},{"$f":"IF(Students!C66=\"\",\"\",RIGHT(Home!$B$11,5))","v":""}]
[null,null,null,null,"Musselburgh School (MUS)",null,65,{"$f":"IF(Students!C67=\"\",\"\",Students!C67)","v":""},{"$f":"IF(Students!D67=\"\",\"\",Students!D67)","v":""},{"$f":"IF(Students!C67=\"\",\"\",H66&\" \"&I66&\" \"&O66)","v":""},{"$f":"IF(Students!E67=\"\",\"\",Students!E67)","v":""},{"$f":"IF(Students!F67=\"\",\"\",Students!F67)","v":""},{"$f":"IF(Students!G67=\"\",\"\",Students!G67)","v":""},{"$f":"IF(Students!G67=\"\",\"\",DATEDIF(Students!G67,Settings!$A$2,\"y\"))","v":""},{"$f":"IF(Students!C67=\"\",\"\",RIGHT(Home!$B$11,5))","v":""}]
[null,null,null,null,"North East Valley Normal School (NEV)",null,{"$f":"ROW()-1","v":66},{"$f":"IF(Students!C68=\"\",\"\",Students!C68)","v":""},{"$f":"IF(Students!D68=\"\",\"\",Students!D68)","v":""},{"$f":"IF(Students!C68=\"\",\"\",H67&\" \"&I67&\" \"&O67)","v":""},{"$f":"IF(Students!E68=\"\",\"\",Students!E68)","v":""},{"$f":"IF(Students!F68=\"\",\"\",Students!F68)","v":""},{"$f":"IF(Students!G68=\"\",\"\",Students!G68)","v":""},{"$f":"IF(Students!G68=\"\",\"\",DATEDIF(Students!G68,Settings!$A$2,\"y\"))","v":""},{"$f":"IF(Students!C68=\"\",\"\",RIGHT(Home!$B$11,5))","v":""}]
[null,null,null,null,"Oamaru Intermediate School (OAI)",null,67,{"$f":"IF(Students!C69=\"\",\"\",Students!C69)","v":""},{"$f":"IF(Students!D69=\"\",\"\",Students!D69)","v":""},{"$f":"IF(Students!C69=\"\",\"\",H68&\" \"&I68&\" \"&O68)","v":""},{"$f":"IF(Students!E69=\"\",\"\",Students!E69)","v":""},{"$f":"IF(Students!F69=\"\",\"\",Students!F69)","v":""},{"$f":"IF(Students!G69=\"\",\"\",Students!G69)","v":""},{"$f":"IF(Students!G69=\"\",\"\",DATEDIF(Students!G69,Settings!$A$2,\"y\"))","v":""},{"$f":"IF(Students!C69=\"\",\"\",RIGHT(Home!$B$11,5))","v":""}]
[null,null,null,null,"Omakau School (OMK)",null,68,{"$f":"IF(Students!C70=\"\",\"\",Students!C70)","v":""},{"$f":"IF(Students!D70=\"\",\"\",Students!D70)","v":""},{"$f":"IF(Students!C70=\"\",\"\",H69&\" \"&I69&\" \"&O69)","v":""},{"$f":"IF(Students!E70=\"\",\"\",Students!E70)","v":""},{"$f":"IF(Students!F70=\"\",\"\",Students!F70)","v":""},{"$f":"IF(Students!G70=\"\",\"\",Students!G70)","v":""},{"$f":"IF(Students!G70=\"\",\"\",DATEDIF(Students!G70,Settings!$A$2,\"y\"))","v":""},{"$f":"IF(Students!C70=\"\",\"\",RIGHT(Home!$B$11,5))","v":""}]
[null,null,null,null,"Omarama School (OMA)",null,69,{"$f":"IF(Students!C71=\"\",\"\",Students!C71)","v":""},{"$f":"IF(Students!D71=\"\",\"\",Students!D71)","v":""},{"$f":"IF(Students!C71=\"\",\"\",H70&\" \"&I70&\" \"&O70)","v":""},{"$f":"IF(Students!E71=\"\",\"\",Students!E71)","v":""},{"$f":"IF(Students!F71=\"\",\"\",Students!F71)","v":""},{"$f":"IF(Students!G71=\"\",\"\",Students!G71)","v":""},{"$f":"IF(Students!G71=\"\",\"\",DATEDIF(Students!G71,Settings!$A$2,\"y\"))","v":""},{"$f":"IF(Students!C71=\"\",\"\",RIGHT(Home!$B$11,5))","v":""}]
[null,null,null,null,"Opoho School (OPH)",null,70,{"$f":"IF(Students!C72=\"\",\"\",Students!C72)","v":""},{"$f":"IF(Students!D72=\"\",\"\",Students!D72)","v":""},{"$f":"IF(Students!C72=\"\",\"\",H71&\" \"&I71&\" \"&O71)","v":""},{"$f":"IF(Students!E72=\"\",\"\",Students!E72)","v":""},{"$f":"IF(Students!F72=\"\",\"\",Students!F72)","v":""},{"$f":"IF(Students!G72=\"\",\"\",Students!G72)","v":""},{"$f":"IF(Students!G72=\"\",\"\",DATEDIF(Students!G72,Settings!$A$2,\"y\"))","v":""},{"$f":"IF(Students!C72=\"\",\"\",RIGHT(Home!$B$11,5))","v":""}]
[null,null,null,null,"Outram School (OUT)",null,71,{"$f":"IF(Students!C73=\"\",\"\",Students!C73)","v":""},{"$f":"IF(Students!D73=\"\",\"\",Students!D73)","v":""},{"$f":"IF(Students!C73=\"\",\"\",H72&\" \"&I72&\" \"&O72)","v":""},{"$f":"IF(Students!E73=\"\",\"\",Students!E73)","v":""},{"$f":"IF(Students!F73=\"\",\"\",Students!F73)","v":""},{"$f":"IF(Students!G73=\"\",\"\",Students!G73)","v":""},{"$f":"IF(Students!G73=\"\",\"\",DATEDIF(Students!G73,Settings!$A$2,\"y\"))","v":""},{"$f":"IF(Students!C73=\"\",\"\",RIGHT(Home!$B$11,5))","v":""}]
[null,null,null,null,"Palmerston Primary School (PAL)",null,72,{"$f":"IF(Students!C74=\"\",\"\",Students!C74)","v":""},{"$f":"IF(Students!D74=\"\",\"\",Students!D74)","v":""},{"$f":"IF(Students!C74=\"\",\"\",H73&\" \"&I73&\" \"&O73)","v":""},{"$f":"IF(Students!E74=\"\",\"\",Students!E74)","v":""},{"$f":"IF(Students!F74=\"\",\"\",Students!F74)","v":""},{"$f":"IF(Students!G74=\"\",\"\",Students!G74)","v":""},{"$f":"IF(Students!G74=\"\",\"\",DATEDIF(Students!G74,Settings!$A$2,\"y\"))","v":""},{"$f":"IF(Students!C74=\"\",\"\",RIGHT(Home!$B$11,5))","v":""}]
[null,null,null,null,"Papakaio School (PAP)",null,73,{"$f":"IF(Students!C75=\"\",\"\",Students!C75)","v":""},{"$f":"IF(Students!D75=\"\",\"\",Students!D75)","v":""},{"$f":"IF(Students!C75=\"\",\"\",H74&\" \"&I74&\" \"&O74)","v":""},{"$f":"IF(Students!E75=\"\",\"\",Students!E75)","v":""},{"$f":"IF(Students!F75=\"\",\"\",Students!F75)","v":""},{"$f":"IF(Students!G75=\"\",\"\",Students!G75)","v":""},{"$f":"IF(Students!G75=\"\",\"\",DATEDIF(Students!G75,Settings!$A$2,\"y\"))","v":""},{"$f":"IF(Students!C75=\"\",\"\",RIGHT(Home!$B$11,5))","v":""}]
[null,null,null,null,"Pembroke School (PEM)",null,74,{"$f":"IF(Students!C76=\"\",\"\",Students!C76)","v":""},{"$f":"IF(Students!D76=\"\",\"\",Students!D76)","v":""},{"$f":"IF(Students!C76=\"\",\"\",H75&\" \"&I75&\" \"&O75)","v":""},{"$f":"IF(Students!E76=\"\",\"\",Students!E76)","v":""},{"$f":"IF(Students!F76=\"\",\"\",Students!F76)","v":""},{"$f":"IF(Students!G76=\"\",\"\",Students!G76)","v":""},{"$f":"IF(Students!G76=\"\",\"\",DATEDIF(Students!G76,Settings!$A$2,\"y\"))","v":""},{"$f":"IF(Students!C76=\"\",\"\",RIGHT(Home!$B$11,5))","v":""}]
[null,null,null,null,"Pine Hill School (PHL)",null,75,{"$f":"IF(Students!C77=\"\",\"\",Students!C77)","v":""},{"$f":"IF(Students!D77=\"\",\"\",Students!D77)","v":""},{"$f":"IF(Students!C77=\"\",\"\",H76&\" \"&I76&\" \"&O76)","v":""},{"$f":"IF(Students!E77=\"\",\"\",Students!E77)","v":""},{"$f":"IF(Students!F77=\"\",\"\",Students!F77)","v":""},{"$f":"IF(Students!G77=\"\",\"\",Students!G77)","v":""},{"$f":"IF(Students!G77=\"\",\"\",DATEDIF(Students!G77,Settings!$A$2,\"y\"))","v":""},{"$f":"IF(Students!C77=\"\",\"\",RIGHT(Home!$B$11,5))","v":""}]
[null,null,null,null,"Poolburn School (PBN)",null,76,{"$f":"IF(Students!C78=\"\",\"\",Students!C78)","v":""},{"$f":"IF(Students!D78=\"\",\"\",Students!D78)","v":""},{"$f":"IF(Students!C78=\"\",\"\",H77&\" \"&I77&\" \"&O77)","v":""},{"$f":"IF(Students!E78=\"\",\"\",Students!E78)","v":""},{"$f":"IF(Students!F78=\"\",\"\",Students!F78)","v":""},{"$f":"IF(Students!G78=\"\",\"\",Students!G78)","v":""},{"$f":"IF(Students!G78=\"\",\"\",DATEDIF(Students!G78,Settings!$A$2,\"y\"))","v":""},{"$f":"IF(Students!C78=\"\",\"\",RIGHT(Home!$B$11,5))","v":""}]
[null,null,null,null,"Port Chalmers School (PTC)",null,77,{"$f":"IF(Students!C79=\"\",\"\",Students!C79)","v":""},{"$f":"IF(Students!D79=\"\",\"\",Students!D79)","v":""},{"$f":"IF(Students!C79=\"\",\"\",H78&\" \"&I78&\" \"&O78)","v":""},{"$f":"IF(Students!E79=\"\",\"\",Students!E79)","v":""},{"$f":"IF(Students!F79=\"\",\"\",Students!F79)","v":""},{"$f":"IF(Students!G79=\"\",\"\",Students!G79)","v":""},{"$f":"IF(Students!G79=\"\",\"\",DATEDIF(Students!G79,Settings!$A$2,\"y\"))","v":""},{"$f":"IF(Students!C79=\"\",\"\",RIGHT(Home!$B$11,5))","v":""}]
[null,null,null,null,"Portobello School (PBO)",null,78,{"$f":"IF(Students!C80=\"\",\"\",Students!C80)","v":""},{"$f":"IF(Students!D80=\"\",\"\",Students!D80)","v":""},{"$f":"IF(Students!C80=\"\",\"\",H79&\" \"&I79&\" \"&O79)","v":""},{"$f":"IF(Students!E80=\"\",\"\",Students!E80)","v":""},{"$f":"IF(Students!F80=\"\",\"\",Students!F80)","v":""},{"$f":"IF(Students!G80=\"\",\"\",Students!G80)","v":""},{"$f":"IF(Students!G80=\"\",\"\",DATEDIF(Students!G80,Settings!$A$2,\"y\"))","v":""},{"$f":"IF(Students!C80=\"\",\"\",RIGHT(Home!$B$11,5))","v":""}]
[null,null,null,null,"Pūrākaunui School (PUR)",null,79,{"$f":"IF(Students!C81=\"\",\"\",Students!C81)","v":""},{"$f":"IF(Students!D81=\"\",\"\",Students!D81)","v":""},{"$f":"IF(Students!C81=\"\",\"\",H80&\" \"&I80&\" \"&O80)","v":""},{"$f":"IF(Students!E81=\"\",\"\",Students!E81)","v":""},{"$f":"IF(Students!F81=\"\",\"\",Students!F81)","v":""},{"$f":"IF(Students!G81=\"\",\"\",Students!G81)","v":""},{"$f":"IF(Students!G81=\"\",\"\",DATEDIF(Students!G81,Settings!$A$2,\"y\"))","v":""},{"$f":"IF(Students!C81=\"\",\"\",RIGHT(Home!$B$11,5))","v":""}]
[null,null,null,null,"Queenstown Primary School (QTN)",null,80,{"$f":"IF(Students!C82=\"\",\"\",Students!C82)","v":""},{"$f":"IF(Students!D82=\"\",\"\",Students!D82)","v":""},{"$f":"IF(Students!C82=\"\",\"\",H81&\" \"&I81&\" \"&O81)","v":""},{"$f":"IF(Students!E82=\"\",\"\",Students!E82)","v":""},{"$f":"IF(Students!F82=\"\",\"\",Students!F82)","v":""},{"$f":"IF(Students!G82=\"\",\"\",Students!G82)","v":""},{"$f":"IF(Students!G82=\"\",\"\",DATEDIF(Students!G82,Settings!$A$2,\"y\"))","v":""},{"$f":"IF(Students!C82=\"\",\"\",RIGHT(Home!$B$11,5))","v":""}]
[null,null,null,null,"Ravensbourne School (RAV)",null,81,{"$f":"IF(Students!C83=\"\",\"\",Students!C83)","v":""},{"$f":"IF(Students!D83=\"\",\"\",Students!D83)","v":""},{"$f":"IF(Students!C83=\"\",\"\",H82&\" \"&I82&\" \"&O82)","v":""},{"$f":"IF(Students!E83=\"\",\"\",Students!E83)","v":""},{"$f":"IF(Students!F83=\"\",\"\",Students!F83)","v":""},{"$f":"IF(Students!G83=\"\",\"\",Students!G83)","v":""},{"$f":"IF(Students!G83=\"\",\"\",DATEDIF(Students!G83,Settings!$A$2,\"y\"))","v":""},{"$f":"IF(Students!C83=\"\",\"\",RIGHT(Home!$B$11,5))","v":""}]
[null,null,null,null,"Remarkables Primary School (RPS)",null,82,{"$f":"IF(Students!C84=\"\",\"\",Students!C84)","v":""},{"$f":"IF(Students!D84=\"\",\"\",Students!D84)","v":""},{"$f":"IF(Students!C84=\"\",\"\",H83&\" \"&I83&\" \"&O83)","v":""},{"$f":"IF(Students!E84=\"\",\"\",Students!E84)","v":""},{"$f":"IF(Students!F84=\"\",\"\",Students!F84)","v":""},{"$f":"IF(Students!G84=\"\",\"\",Students!G84)","v":""},{"$f":"IF(Students!G84=\"\",\"\",DATEDIF(Students!G84,Settings!$A$2,\"y\"))","v":""},{"$f":"IF(Students!C84=\"\",\"\",RIGHT(Home!$B$11,5))","v":""}]
[null,null,null,null,"Romahapa School (ROM)",null,83,{"$f":"IF(Students!C85=\"\",\"\",Students!C85)","v":""},{"$f":"IF(Students!D85=\"\",\"\",Students!D85)","v":""},{"$f":"IF(Students!C85=\"\",\"\",H84&\" \"&I84&\" \"&O84)","v":""},{"$f":"IF(Students!E85=\"\",\"\",Students!E85)","v":""},{"$f":"IF(Students!F85=\"\",\"\",Students!F85)","v":""},{"$f":"IF(Students!G85=\"\",\"\",Students!G85)","v":""},{"$f":"IF(Students!G85=\"\",\"\",DATEDIF(Students!G85,Settings!$A$2,\"y\"))","v":""},{"$f":"IF(Students!C85=\"\",\"\",RIGHT(Home!$B$11,5))","v":""}]
[null,null,null,null,"Rosebank School (ROS)",null,84,{"$f":"IF(Students!C86=\"\",\"\",Students!C86)","v":""},{"$f":"IF(Students!D86=\"\",\"\",Students!D86)","v":""},{"$f":"IF(Students!C86=\"\",\"\",H85&\" \"&I85&\" \"&O85)","v":""},{"$f":"IF(Students!E86=\"\",\"\",Students!E86)","v":""},{"$f":"IF(Students!F86=\"\",\"\",Students!F86)","v":""},{"$f":"IF(Students!G86=\"\",\"\",Students!G86)","v":""},{"$f":"IF(Students!G86=\"\",\"\",DATEDIF(Students!G86,Settings!$A$2,\"y\"))","v":""},{"$f":"IF(Students!C86=\"\",\"\",RIGHT(Home!$B$11,5))","v":""}]
[null,null,null,null,"Roxburgh Area School (RAS)",null,85,{"$f":"IF(Students!C87=\"\",\"\",Students!C87)","v":""},{"$f":"IF(Students!D87=\"\",\"\",Students!D87)","v":""},{"$f":"IF(Students!C87=\"\",\"\",H86&\" \"&I86&\" \"&O86)","v":""},{"$f":"IF(Students!E87=\"\",\"\",Students!E87)","v":""},{"$f":"IF(Students!F87=\"\",\"\",Students!F87)","v":""},{"$f":"IF(Students!G87=\"\",\"\",Students!G87)","v":""},{"$f":"IF(Students!G87=\"\",\"\",DATEDIF(Students!G87,Settings!$A$2,\"y\"))","v":""},{"$f":"IF(Students!C87=\"\",\"\",RIGHT(Home!$B$11,5))","v":""}]
[null,null,null,null,"Sacred Heart School (SHT)",null,86,{"$f":"IF(Students!C88=\"\",\"\",Students!C88)","v":""},{"$f":"IF(Students!D88=\"\",\"\",Students!D88)","v":""},{"$f":"IF(Students!C88=\"\",\"\",H87&\" \"&I87&\" \"&O87)","v":""},{"$f":"IF(Students!E88=\"\",\"\",Students!E88)","v":""},{"$f":"IF(Students!F88=\"\",\"\",Students!F88)","v":""},{"$f":"IF(Students!G88=\"\",\"\",Students!G88)","v":""},{"$f":"IF(Students!G88=\"\",\"\",DATEDIF(Students!G88,Settings!$A$2,\"y\"))","v":""},{"$f":"IF(Students!C88=\"\",\"\",RIGHT(Home!$B$11,5))","v":""}]
[null,null,null,null,"Sara Cohen School (SCN)",null,87,{"$f":"IF(Students!C89=\"\",\"\",Students!C89)","v":""},{"$f":"IF(Students!D89=\"\",\"\",Students!D89)","v":""},{"$f":"IF(Students!C89=\"\",\"\",H88&\" \"&I88&\" \"&O88)","v":""},{"$f":"IF(Students!E89=\"\",\"\",Students!E89)","v":""},{"$f":"IF(Students!F89=\"\",\"\",Students!F89)","v":""},{"$f":"IF(Students!G89=\"\",\"\",Students!G89)","v":""},{"$f":"IF(Students!G89=\"\",\"\",DATEDIF(Students!G89,Settings!$A$2,\"y\"))","v":""},{"$f":"IF(Students!C89=\"\",\"\",RIGHT(Home!$B$11,5))","v":""}]
[null,null,null,null,"Sawyers Bay School (SYB)",null,88,{"$f":"IF(Students!C90=\"\",\"\",Students!C90)","v":""},{"$f":"IF(Students!D90=\"\",\"\",Students!D90)","v":""},{"$f":"IF(Students!C90=\"\",\"\",H89&\" \"&I89&\" \"&O89)","v":""},{"$f":"IF(Students!E90=\"\",\"\",Students!E90)","v":""},{"$f":"IF(Students!F90=\"\",\"\",Students!F90)","v":""},{"$f":"IF(Students!G90=\"\",\"\",Students!G90)","v":""},{"$f":"IF(Students!G90=\"\",\"\",DATEDIF(Students!G90,Settings!$A$2,\"y\"))","v":""},{"$f":"IF(Students!C90=\"\",\"\",RIGHT(Home!$B$11,5))","v":""}]
[null,null,null,null,"Shotover Primary School (SPS)",null,89,{"$f":"IF(Students!C91=\"\",\"\",Students!C91)","v":""},{"$f":"IF(Students!D91=\"\",\"\",Students!D91)","v":""},{"$f":"IF(Students!C91=\"\",\"\",H90&\" \"&I90&\" \"&O90)","v":""},{"$f":"IF(Students!E91=\"\",\"\",Students!E91)","v":""},{"$f":"IF(Students!F91=\"\",\"\",Students!F91)","v":""},{"$f":"IF(Students!G91=\"\",\"\",Students!G91)","v":""},{"$f":"IF(Students!G91=\"\",\"\",DATEDIF(Students!G91,Settings!$A$2,\"y\"))","v":""},{"$f":"IF(Students!C91=\"\",\"\",RIGHT(Home!$B$11,5))","v":""}]
[null,null,null,null,"Silverstream South Primary School (SSS)",null,90,{"$f":"IF(Students!C92=\"\",\"\",Students!C92)","v":""},{"$f":"IF(Students!D92=\"\",\"\",Students!D92)","v":""},{"$f":"IF(Students!C92=\"\",\"\",H91&\" \"&I91&\" \"&O91)","v":""},{"$f":"IF(Students!E92=\"\",\"\",Students!E92)","v":""},{"$f":"IF(Students!F92=\"\",\"\",Students!F92)","v":""},{"$f":"IF(Students!G92=\"\",\"\",Students!G92)","v":""},{"$f":"IF(Students!G92=\"\",\"\",DATEDIF(Students!G92,Settings!$A$2,\"y\"))","v":""},{"$f":"IF(Students!C92=\"\",\"\",RIGHT(Home!$B$11,5))","v":""}]
[null,null,null,null,"St Bernadette's School (SBE)",null,91,{"$f":"IF(Students!C93=\"\",\"\",Students!C93)","v":""},{"$f":"IF(Students!D93=\"\",\"\",Students!D93)","v":""},{"$f":"IF(Students!C93=\"\",\"\",H92&\" \"&I92&\" \"&O92)","v":""},{"$f":"IF(Students!E93=\"\",\"\",Students!E93)","v":""},{"$f":"IF(Students!F93=\"\",\"\",Students!F93)","v":""},{"$f":"IF(Students!G93=\"\",\"\",Students!G93)","v":""},{"$f":"IF(Students!G93=\"\",\"\",DATEDIF(Students!G93,Settings!$A$2,\"y\"))","v":""},{"$f":"IF(Students!C93=\"\",\"\",RIGHT(Home!$B$11,5))","v":""}]
[null,null,null,null,"St Brigid's School (SBR)",null,92,{"$f":"IF(Students!C94=\"\",\"\",Students!C94)","v":""},{"$f":"IF(Students!D94=\"\",\"\",Students!D94)","v":""},{"$f":"IF(Students!C94=\"\",\"\",H93&\" \"&I93&\" \"&O93)","v":""},{"$f":"IF(Students!E94=\"\",\"\",Students!E94)","v":""},{"$f":"IF(Students!F94=\"\",\"\",Students!F94)","v":""},{"$f":"IF(Students!G94=\"\",\"\",Students!G94)","v":""},{"$f":"IF(Students!G94=\"\",\"\",DATEDIF(Students!G94,Settings!$A$2,\"y\"))","v":""},{"$f":"IF(Students!C94=\"\",\"\",RIGHT(Home!$B$11,5))","v":""}]
[null,null,null,null,"St Clair School (SCL)",null,93,{"$f":"IF(Students!C95=\"\",\"\",Students!C95)","v":""},{"$f":"IF(Students!D95=\"\",\"\",Students!D95)","v":""},{"$f":"IF(Students!C95=\"\",\"\",H94&\" \"&I94&\" \"&O94)","v":""},{"$f":"IF(Students!E95=\"\",\"\",Students!E95)","v":""},{"$f":"IF(Students!F95=\"\",\"\",Students!F95)","v":""},{"$f":"IF(Students!G95=\"\",\"\",Students!G95)","v":""},{"$f":"IF(Students!G95=\"\",\"\",DATEDIF(Students!G95,Settings!$A$2,\"y\"))","v":""},{"$f":"IF(Students!C95=\"\",\"\",RIGHT(Home!$B$11,5))","v":""}]
[null,null,null,null,"St Francis Xavier School (SFX)",null,94,{"$f":"IF(Students!C96=\"\",\"\",Students!C96)","v":""},{"$f":"IF(Students!D96=\"\",\"\",Students!D96)","v":""},{"$f":"IF(Students!C96=\"\",\"\",H95&\" \"&I95&\" \"&O95)","v":""},{"$f":"IF(Students!E96=\"\",\"\",Students!E96)","v":""},{"$f":"IF(Students!F96=\"\",\"\",Students!F96)","v":""},{"$f":"IF(Students!G96=\"\",\"\",Students!G96)","v":""},{"$f":"IF(Students!G96=\"\",\"\",DATEDIF(Students!G96,Settings!$A$2,\"y\"))","v":""},{"$f":"IF(Students!C96=\"\",\"\",RIGHT(Home!$B$11,5))","v":""}]
[null,null,null,null,"St Gerard's School (STG)",null,95,{"$f":"IF(Students!C97=\"\",\"\",Students!C97)","v":""},{"$f":"IF(Students!D97=\"\",\"\",Students!D97)","v":""},{"$f":"IF(Students!C97=\"\",\"\",H96&\" \"&I96&\" \"&O96)","v":""},{"$f":"IF(Students!E97=\"\",\"\",Students!E97)","v":""},{"$f":"IF(Students!F97=\"\",\"\",Students!F97)","v":""},{"$f":"IF(Students!G97=\"\",\"\",Students!G97)","v":""},{"$f":"IF(Students!G97=\"\",\"\",DATEDIF(Students!G97,Settings!$A$2,\"y\"))","v":""},{"$f":"IF(Students!C97=\"\",\"\",RIGHT(Home!$B$11,5))","v":""}]
[null,null,null,null,"St Hilda's Collegiate School (STH)",null,96,{"$f":"IF(Students!C98=\"\",\"\",Students!C98)","v":""},{"$f":"IF(Students!D98=\"\",\"\",Students!D98)","v":""},{"$f":"IF(Students!C98=\"\",\"\",H97&\" \"&I97&\" \"&O97)","v":""},{"$f":"IF(Students!E98=\"\",\"\",Students!E98)","v":""},{"$f":"IF(Students!F98=\"\",\"\",Students!F98)","v":""},{"$f":"IF(Students!G98=\"\",\"\",Students!G98)","v":""},{"$f":"IF(Students!G98=\"\",\"\",DATEDIF(Students!G98,Settings!$A$2,\"y\"))","v":""},{"$f":"IF(Students!C98=\"\",\"\",RIGHT(Home!$B$11,5))","v":""}]
[null,null,null,null,"St John's School Ranfurly (SJR)",null,97,{"$f":"IF(Students!C99=\"\",\"\",Students!C99)","v":""},{"$f":"IF(Students!D99=\"\",\"\",Students!D99)","v":""},{"$f":"IF(Students!C99=\"\",\"\",H98&\" \"&I98&\" \"&O98)","v":""},{"$f":"IF(Students!E99=\"\",\"\",Students!E99)","v":""},{"$f":"IF(Students!F99=\"\",\"\",Students!F99)","v":""},{"$f":"IF(Students!G99=\"\",\"\",Students!G99)","v":""},{"$f":"IF(Students!G99=\"\",\"\",DATEDIF(Students!G99,Settings!$A$2,\"y\"))","v":""},{"$f":"IF(Students!C99=\"\",\"\",RIGHT(Home!$B$11,5))","v":""}]
[null,null,null,null,"St Joseph's Cathedral School (SJC)",null,98,{"$f":"IF(Students!C100=\"\",\"\",Students!C100)","v":""},{"$f":"IF(Students!D100=\"\",\"\",Students!D100)","v":""},{"$f":"IF(Students!C100=\"\",\"\",H99&\" \"&I99&\" \"&O99)","v":""},{"$f":"IF(Students!E100=\"\",\"\",Students!E100)","v":""},{"$f":"IF(Students!F100=\"\",\"\",Students!F100)","v":""},{"$f":"IF(Students!G100=\"\",\"\",Students!G100)","v":""},{"$f":"IF(Students!G100=\"\",\"\",DATEDIF(Students!G100,Settings!$A$2,\"y\"))","v":""},{"$f":"IF(Students!C100=\"\",\"\",RIGHT(Home!$B$11,5))","v":""}]
[null,null,null,null,"St Joseph's School Balclutha (SJB)",null,99,{"$f":"IF(Students!C101=\"\",\"\",Students!C101)","v":""},{"$f":"IF(Students!D101=\"\",\"\",Students!D101)","v":""},{"$f":"IF(Students!C101=\"\",\"\",H100&\" \"&I100&\" \"&O100)","v":""},{"$f":"IF(Students!E101=\"\",\"\",Students!E101)","v":""},{"$f":"IF(Students!F101=\"\",\"\",Students!F101)","v":""},{"$f":"IF(Students!G101=\"\",\"\",Students!G101)","v":""},{"$f":"IF(Students!G101=\"\",\"\",DATEDIF(Students!G101,Settings!$A$2,\"y\"))","v":""},{"$f":"IF(Students!C101=\"\",\"\",RIGHT(Home!$B$11,5))","v":""}]
[null,null,null,null,"St Joseph's School Oamaru (SJO)",null,100,{"$f":"IF(Students!C102=\"\",\"\",Students!C102)","v":""},{"$f":"IF(Students!D102=\"\",\"\",Students!D102)","v":""},{"$f":"IF(Students!C102=\"\",\"\",H101&\" \"&I101&\" \"&O101)","v":""},{"$f":"IF(Students!E102=\"\",\"\",Students!E102)","v":""},{"$f":"IF(Students!F102=\"\",\"\",Students!F102)","v":""},{"$f":"IF(Students!G102=\"\",\"\",Students!G102)","v":""},{"$f":"IF(Students!G102=\"\",\"\",DATEDIF(Students!G102,Settings!$A$2,\"y\"))","v":""},{"$f":"IF(Students!C102=\"\",\"\",RIGHT(Home!$B$11,5))","v":""}]
[null,null,null,null,"St Joseph's School Queenstown (SJQ)",null,101,{"$f":"IF(Students!C103=\"\",\"\",Students!C103)","v":""},{"$f":"IF(Students!D103=\"\",\"\",Students!D103)","v":""},{"$f":"IF(Students!C103=\"\",\"\",H102&\" \"&I102&\" \"&O102)","v":""},{"$f":"IF(Students!E103=\"\",\"\",Students!E103)","v":""},{"$f":"IF(Students!F103=\"\",\"\",Students!F103)","v":""},{"$f":"IF(Students!G103=\"\",\"\",Students!G103)","v":""},{"$f":"IF(Students!G103=\"\",\"\",DATEDIF(Students!G103,Settings!$A$2,\"y\"))","v":""},{"$f":"IF(Students!C103=\"\",\"\",RIGHT(Home!$B$11,5))","v":""}]
[null,null,null,null,"St Leonards School (STL)",null,102,{"$f":"IF(Students!C104=\"\",\"\",Students!C104)","v":""},{"$f":"IF(Students!D104=\"\",\"\",Students!D104)","v":""},{"$f":"IF(Students!C104=\"\",\"\",H103&\" \"&I103&\" \"&O103)","v":""},{"$f":"IF(Students!E104=\"\",\"\",Students!E104)","v":""},{"$f":"IF(Students!F104=\"\",\"\",Students!F104)","v":""},{"$f":"IF(Students!G104=\"\",\"\",Students!G104)","v":""},{"$f":"IF(Students!G104=\"\",\"\",DATEDIF(Students!G104,Settings!$A$2,\"y\"))","v":""},{"$f":"IF(Students!C104=\"\",\"\",RIGHT(Home!$B$11,5))","v":""}]
[null,null,null,null,"St Mary's School Kaikorai (SMK)",null,103,{"$f":"IF(Students!C105=\"\",\"\",Students!C105)","v":""},{"$f":"IF(Students!D105=\"\",\"\",Students!D105)","v":""},{"$f":"IF(Students!C105=\"\",\"\",H104&\" \"&I104&\" \"&O104)","v":""},{"$f":"IF(Students!E105=\"\",\"\",Students!E105)","v":""},{"$f":"IF(Students!F105=\"\",\"\",Students!F105)","v":""},{"$f":"IF(Students!G105=\"\",\"\",Students!G105)","v":""},{"$f":"IF(Students!G105=\"\",\"\",DATEDIF(Students!G105,Settings!$A$2,\"y\"))","v":""},{"$f":"IF(Students!C105=\"\",\"\",RIGHT(Home!$B$11,5))","v":""}]
[null,null,null,null,"St Mary's School Milton (STM)",null,104,{"$f":"IF(Students!C106=\"\",\"\",Students!C106)","v":""},{"$f":"IF(Students!D106=\"\",\"\",Students!D106)","v":""},{"$f":"IF(Students!C106=\"\",\"\",H105&\" \"&I105&\" \"&O105)","v":""},{"$f":"IF(Students!E106=\"\",\"\",Students!E106)","v":""},{"$f":"IF(Students!F106=\"\",\"\",Students!F106)","v":""},{"$f":"IF(Students!G106=\"\",\"\",Students!G106)","v":""},{"$f":"IF(Students!G106=\"\",\"\",DATEDIF(Students!G106,Settings!$A$2,\"y\"))","v":""},{"$f":"IF(Students!C106=\"\",\"\",RIGHT(Home!$B$11,5))","v":""}]
[null,null,null,null,"St Mary's School Mosgiel (SMM)",null,105,{"$f":"IF(Students!C107=\"\",\"\",Students!C107)","v":""},{"$f":"IF(Students!D107=\"\",\"\",Students!D107)","v":""},{"$f":"IF(Students!C107=\"\",\"\",H106&\" \"&I106&\" \"&O106)","v":""},{"$f":"IF(Students!E107=\"\",\"\",Students!E107)","v":""},{"$f":"IF(Students!F107=\"\",\"\",Students!F107)","v":""},{"$f":"IF(Students!G107=\"\",\"\",Students!G107)","v":""},{"$f":"IF(Students!G107=\"\",\"\",DATEDIF(Students!G107,Settings!$A$2,\"y\"))","v":""},{"$f":"IF(Students!C107=\"\",\"\",RIGHT(Home!$B$11,5))","v":""}]
[null,null,null,null,"St Peter Chanel School (SPC)",null,106,{"$f":"IF(Students!C108=\"\",\"\",Students!C108)","v":""},{"$f":"IF(Students!D108=\"\",\"\",Students!D108)","v":""},{"$f":"IF(Students!C108=\"\",\"\",H107&\" \"&I107&\" \"&O107)","v":""},{"$f":"IF(Students!E108=\"\",\"\",Students!E108)","v":""},{"$f":"IF(Students!F108=\"\",\"\",Students!F108)","v":""},{"$f":"IF(Students!G108=\"\",\"\",Students!G108)","v":""},{"$f":"IF(Students!G108=\"\",\"\",DATEDIF(Students!G108,Settings!$A$2,\"y\"))","v":""},{"$f":"IF(Students!C108=\"\",\"\",RIGHT(Home!$B$11,5))","v":""}]
[null,null,null,null,"Stirling School (SLG)",null,107,{"$f":"IF(Students!C109=\"\",\"\",Students!C109)","v":""},{"$f":"IF(Students!D109=\"\",\"\",Students!D109)","v":""},{"$f":"IF(Students!C109=\"\",\"\",H108&\" \"&I108&\" \"&O108)","v":""},{"$f":"IF(Students!E109=\"\",\"\",Students!E109)","v":""},{"$f":"IF(Students!F109=\"\",\"\",Students!F109)","v":""},{"$f":"IF(Students!G109=\"\",\"\",Students!G109)","v":""},{"$f":"IF(Students!G109=\"\",\"\",DATEDIF(Students!G109,Settings!$A$2,\"y\"))","v":""},{"$f":"IF(Students!C109=\"\",\"\",RIGHT(Home!$B$11,5))","v":""}]
[null,null,null,null,"Strath Taieri School (STI)",null,108,{"$f":"IF(Students!C110=\"\",\"\",Students!C110)","v":""},{"$f":"IF(Students!D110=\"\",\"\",Students!D110)","v":""},{"$f":"IF(Students!C110=\"\",\"\",H109&\" \"&I109&\" \"&O109)","v":""},{"$f":"IF(Students!E110=\"\",\"\",Students!E110)","v":""},{"$f":"IF(Students!F110=\"\",\"\",Students!F110)","v":""},{"$f":"IF(Students!G110=\"\",\"\",Students!G110)","v":""},{"$f":"IF(Students!G110=\"\",\"\",DATEDIF(Students!G110,Settings!$A$2,\"y\"))","v":""},{"$f":"IF(Students!C110=\"\",\"\",RIGHT(Home!$B$11,5))","v":""}]
[null,null,null,null,"Tahakopa School (TKA)",null,109,{"$f":"IF(Students!C111=\"\",\"\",Students!C111)","v":""},{"$f":"IF(Students!D111=\"\",\"\",Students!D111)","v":""},{"$f":"IF(Students!C111=\"\",\"\",H110&\" \"&I110&\" \"&O110)","v":""},{"$f":"IF(Students!E111=\"\",\"\",Students!E111)","v":""},{"$f":"IF(Students!F111=\"\",\"\",Students!F111)","v":""},{"$f":"IF(Students!G111=\"\",\"\",Students!G111)","v":""},{"$f":"IF(Students!G111=\"\",\"\",DATEDIF(Students!G111,Settings!$A$2,\"y\"))","v":""},{"$f":"IF(Students!C111=\"\",\"\",RIGHT(Home!$B$11,5))","v":""}]
[null,null,null,null,"Tahuna Normal Intermediate School (TNI)",null,110,{"$f":"IF(Students!C112=\"\",\"\",Students!C112)","v":""},{"$f":"IF(Students!D112=\"\",\"\",Students!D112)","v":""},{"$f":"IF(Students!C112=\"\",\"\",H111&\" \"&I111&\" \"&O111)","v":""},{"$f":"IF(Students!E112=\"\",\"\",Students!E112)","v":""},{"$f":"IF(Students!F112=\"\",\"\",Students!F112)","v":""},{"$f":"IF(Students!G112=\"\",\"\",Students!G112)","v":""},{"$f":"IF(Students!G112=\"\",\"\",DATEDIF(Students!G112,Settings!$A$2,\"y\"))","v":""},{"$f":"IF(Students!C112=\"\",\"\",RIGHT(Home!$B$11,5))","v":""}]
[null,null,null,null,"Taieri Beach School (TIB)",null,111,{"$f":"IF(Students!C113=\"\",\"\",Students!C113)","v":""},{"$f":"IF(Students!D113=\"\",\"\",Students!D113)","v":""},{"$f":"IF(Students!C113=\"\",\"\",H112&\" \"&I112&\" \"&O112)","v":""},{"$f":"IF(Students!E113=\"\",\"\",Students!E113)","v":""},{"$f":"IF(Students!F113=\"\",\"\",Students!F113)","v":""},{"$f":"IF(Students!G113=\"\",\"\",Students!G113)","v":""},{"$f":"IF(Students!G113=\"\",\"\",DATEDIF(Students!G113,Settings!$A$2,\"y\"))","v":""},{"$f":"IF(Students!C113=\"\",\"\",RIGHT(Home!$B$11,5))","v":""}]
[null,null,null,null,"Taieri College (TAC)",null,112,{"$f":"IF(Students!C114=\"\",\"\",Students!C114)","v":""},{"$f":"IF(Students!D114=\"\",\"\",Students!D114)","v":""},{"$f":"IF(Students!C114=\"\",\"\",H113&\" \"&I113&\" \"&O113)","v":""},{"$f":"IF(Students!E114=\"\",\"\",Students!E114)","v":""},{"$f":"IF(Students!F114=\"\",\"\",Students!F114)","v":""},{"$f":"IF(Students!G114=\"\",\"\",Students!G114)","v":""},{"$f":"IF(Students!G114=\"\",\"\",DATEDIF(Students!G114,Settings!$A$2,\"y\"))","v":""},{"$f":"IF(Students!C114=\"\",\"\",RIGHT(Home!$B$11,5))","v":""}]
[null,null,null,null,"Tainui School (TAI)",null,113,{"$f":"IF(Students!C115=\"\",\"\",Students!C115)","v":""},{"$f":"IF(Students!D115=\"\",\"\",Students!D115)","v":""},{"$f":"IF(Students!C115=\"\",\"\",H114&\" \"&I114&\" \"&O114)","v":""},{"$f":"IF(Students!E115=\"\",\"\",Students!E115)","v":""},{"$f":"IF(Students!F115=\"\",\"\",Students!F115)","v":""},{"$f":"IF(Students!G115=\"\",\"\",Students!G115)","v":""},{"$f":"IF(Students!G115=\"\",\"\",DATEDIF(Students!G115,Settings!$A$2,\"y\"))","v":""},{"$f":"IF(Students!C115=\"\",\"\",RIGHT(Home!$B$11,5))","v":""}]
[null,null,null,null,"Tapanui School (TAP)",null,114,{"$f":"IF(Students!C116=\"\",\"\",Students!C116)","v":""},{"$f":"IF(Students!D116=\"\",\"\",Students!D116)","v":""},{"$f":"IF(Students!C116=\"\",\"\",H115&\" \"&I115&\" \"&O115)","v":""},{"$f":"IF(Students!E116=\"\",\"\",Students!E116)","v":""},{"$f":"IF(Students!F116=\"\",\"\",Students!F116)","v":""},{"$f":"IF(Students!G116=\"\",\"\",Students!G116)","v":""},{"$f":"IF(Students!G116=\"\",\"\",DATEDIF(Students!G116,Settings!$A$2,\"y\"))","v":""},{"$f":"IF(Students!C116=\"\",\"\",RIGHT(Home!$B$11,5))","v":""}]
[null,null,null,null,"Tarras School (TAR)",null,115,{"$f":"IF(Students!C117=\"\",\"\",Students!C117)","v":""},{"$f":"IF(Students!D117=\"\",\"\",Students!D117)","v":""},{"$f":"IF(Students!C117=\"\",\"\",H116&\" \"&I116&\" \"&O116)","v":""},{"$f":"IF(Students!E117=\"\",\"\",Students!E117)","v":""},{"$f":"IF(Students!F117=\"\",\"\",Students!F117)","v":""},{"$f":"IF(Students!G117=\"\",\"\",Students!G117)","v":""},{"$f":"IF(Students!G117=\"\",\"\",DATEDIF(Students!G117,Settings!$A$2,\"y\"))","v":""},{"$f":"IF(Students!C117=\"\",\"\",RIGHT(Home!$B$11,5))","v":""}]
[null,null,null,null,"Te Kura Kaupapa Māori o Ōtepoti (TKO)",null,116,{"$f":"IF(Students!C118=\"\",\"\",Students!C118)","v":""},{"$f":"IF(Students!D118=\"\",\"\",Students!D118)","v":""},{"$f":"IF(Students!C118=\"\",\"\",H117&\" \"&I117&\" \"&O117)","v":""},{"$f":"IF(Students!E118=\"\",\"\",Students!E118)","v":""},{"$f":"IF(Students!F118=\"\",\"\",Students!F118)","v":""},{"$f":"IF(Students!G118=\"\",\"\",Students!G118)","v":""},{"$f":"IF(Students!G118=\"\",\"\",DATEDIF(Students!G118,Settings!$A$2,\"y\"))","v":""},{"$f":"IF(Students!C118=\"\",\"\",RIGHT(Home!$B$11,5))","v":""}]
[null,null,null,null,"Te Kura O Take Kārara Wanaka (TKK)",null,117,{"$f":"IF(Students!C119=\"\",\"\",Students!C119)","v":""},{"$f":"IF(Students!D119=\"\",\"\",Students!D119)","v":""},{"$f":"IF(Students!C119=\"\",\"\",H118&\" \"&I118&\" \"&O118)","v":""},{"$f":"IF(Students!E119=\"\",\"\",Students!E119)","v":""},{"$f":"IF(Students!F119=\"\",\"\",Students!F119)","v":""},{"$f":"IF(Students!G119=\"\",\"\",Students!G119)","v":""},{"$f":"IF(Students!G119=\"\",\"\",DATEDIF(Students!G119,Settings!$A$2,\"y\"))","v":""},{"$f":"IF(Students!C119=\"\",\"\",RIGHT(Home!$B$11,5))","v":""}]
[null,null,null,null,"Te Kura Whakatipu o Kawarau Queenstown (TKW)",null,118,{"$f":"IF(Students!C120=\"\",\"\",Students!C120)","v":""},{"$f":"IF(Students!D120=\"\",\"\",Students!D120)","v":""},{"$f":"IF(Students!C120=\"\",\"\",H119&\" \"&I119&\" \"&O119)","v":""},{"$f":"IF(Students!E120=\"\",\"\",Students!E120)","v":""},{"$f":"IF(Students!F120=\"\",\"\",Students!F120)","v":""},{"$f":"IF(Students!G120=\"\",\"\",Students!G120)","v":""},{"$f":"IF(Students!G120=\"\",\"\",DATEDIF(Students!G120,Settings!$A$2,\"y\"))","v":""},{"$f":"IF(Students!C120=\"\",\"\",RIGHT(Home!$B$11,5))","v":""}]
[null,null,null,null,"Te Pākihi o Maru Oamaru (TPM)",null,119,{"$f":"IF(Students!C121=\"\",\"\",Students!C121)","v":""},{"$f":"IF(Students!D121=\"\",\"\",Students!D121)","v":""},{"$f":"IF(Students!C121=\"\",\"\",H120&\" \"&I120&\" \"&O120)","v":""},{"$f":"IF(Students!E121=\"\",\"\",Students!E121)","v":""},{"$f":"IF(Students!F121=\"\",\"\",Students!F121)","v":""},{"$f":"IF(Students!G121=\"\",\"\",Students!G121)","v":""},{"$f":"IF(Students!G121=\"\",\"\",DATEDIF(Students!G121,Settings!$A$2,\"y\"))","v":""},{"$f":"IF(Students!C121=\"\",\"\",RIGHT(Home!$B$11,5))","v":""}]
[null,null,null,null,"The Catlins Area School (CAS)",null,120,{"$f":"IF(Students!C122=\"\",\"\",Students!C122)","v":""},{"$f":"IF(Students!D122=\"\",\"\",Students!D122)","v":""},{"$f":"IF(Students!C122=\"\",\"\",H121&\" \"&I121&\" \"&O121)","v":""},{"$f":"IF(Students!E122=\"\",\"\",Students!E122)","v":""},{"$f":"IF(Students!F122=\"\",\"\",Students!F122)","v":""},{"$f":"IF(Students!G122=\"\",\"\",Students!G122)","v":""},{"$f":"IF(Students!G122=\"\",\"\",DATEDIF(Students!G122,Settings!$A$2,\"y\"))","v":""},{"$f":"IF(Students!C122=\"\",\"\",RIGHT(Home!$B$11,5))","v":""}]
[null,null,null,null,"The Terrace School (TCE)",null,121,{"$f":"IF(Students!C123=\"\",\"\",Students!C123)","v":""},{"$f":"IF(Students!D123=\"\",\"\",Students!D123)","v":""},{"$f":"IF(Students!C123=\"\",\"\",H122&\" \"&I122&\" \"&O122)","v":""},{"$f":"IF(Students!E123=\"\",\"\",Students!E123)","v":""},{"$f":"IF(Students!F123=\"\",\"\",Students!F123)","v":""},{"$f":"IF(Students!G123=\"\",\"\",Students!G123)","v":""},{"$f":"IF(Students!G123=\"\",\"\",DATEDIF(Students!G123,Settings!$A$2,\"y\"))","v":""},{"$f":"IF(Students!C123=\"\",\"\",RIGHT(Home!$B$11,5))","v":""}]
[null,null,null,null,"Tokoiti School (TOI)",null,122,{"$f":"IF(Students!C124=\"\",\"\",Students!C124)","v":""},{"$f":"IF(Students!D124=\"\",\"\",Students!D124)","v":""},{"$f":"IF(Students!C124=\"\",\"\",H123&\" \"&I123&\" \"&O123)","v":""},{"$f":"IF(Students!E124=\"\",\"\",Students!E124)","v":""},{"$f":"IF(Students!F124=\"\",\"\",Students!F124)","v":""},{"$f":"IF(Students!G124=\"\",\"\",Students!G124)","v":""},{"$f":"IF(Students!G124=\"\",\"\",DATEDIF(Students!G124,Settings!$A$2,\"y\"))","v":""},{"$f":"IF(Students!C124=\"\",\"\",RIGHT(Home!$B$11,5))","v":""}]
[null,null,null,null,"Tokomairiro High School (THS)",null,123,{"$f":"IF(Students!C125=\"\",\"\",Students!C125)","v":""},{"$f":"IF(Students!D125=\"\",\"\",Students!D125)","v":""},{"$f":"IF(Students!C125=\"\",\"\",H124&\" \"&I124&\" \"&O124)","v":""},{"$f":"IF(Students!E125=\"\",\"\",Students!E125)","v":""},{"$f":"IF(Students!F125=\"\",\"\",Students!F125)","v":""},{"$f":"IF(Students!G125=\"\",\"\",Students!G125)","v":""},{"$f":"IF(Students!G125=\"\",\"\",DATEDIF(Students!G125,Settings!$A$2,\"y\"))","v":""},{"$f":"IF(Students!C125=\"\",\"\",RIGHT(Home!$B$11,5))","v":""}]
[null,null,null,null,"Totara School (TOT)",null,124,{"$f":"IF(Students!C126=\"\",\"\",Students!C126)","v":""},{"$f":"IF(Students!D126=\"\",\"\",Students!D126)","v":""},{"$f":"IF(Students!C126=\"\",\"\",H125&\" \"&I125&\" \"&O125)","v":""},{"$f":"IF(Students!E126=\"\",\"\",Students!E126)","v":""},{"$f":"IF(Students!F126=\"\",\"\",Students!F126)","v":""},{"$f":"IF(Students!G126=\"\",\"\",Students!G126)","v":""},{"$f":"IF(Students!G126=\"\",\"\",DATEDIF(Students!G126,Settings!$A$2,\"y\"))","v":""},{"$f":"IF(Students!C126=\"\",\"\",RIGHT(Home!$B$11,5))","v":""}]
[null,null,null,null,"Trinity Catholic College (TCC)",null,125,{"$f":"IF(Students!C127=\"\",\"\",Students!C127)","v":""},{"$f":"IF(Students!D127=\"\",\"\",Students!D127)","v":""},{"$f":"IF(Students!C127=\"\",\"\",H126&\" \"&I126&\" \"&O126)","v":""},{"$f":"IF(Students!E127=\"\",\"\",Students!E127)","v":""},{"$f":"IF(Students!F127=\"\",\"\",Students!F127)","v":""},{"$f":"IF(Students!G127=\"\",\"\",Students!G127)","v":""},{"$f":"IF(Students!G127=\"\",\"\",DATEDIF(Students!G127,Settings!$A$2,\"y\"))","v":""},{"$f":"IF(Students!C127=\"\",\"\",RIGHT(Home!$B$11,5))","v":""}]
[null,null,null,null,"Twizel Area School (TAS)",null,126,{"$f":"IF(Students!C128=\"\",\"\",Students!C128)","v":""},{"$f":"IF(Students!D128=\"\",\"\",Students!D128)","v":""},{"$f":"IF(Students!C128=\"\",\"\",H127&\" \"&I127&\" \"&O127)","v":""},{"$f":"IF(Students!E128=\"\",\"\",Students!E128)","v":""},{"$f":"IF(Students!F128=\"\",\"\",Students!F128)","v":""},{"$f":"IF(Students!G128=\"\",\"\",Students!G128)","v":""},{"$f":"IF(Students!G128=\"\",\"\",DATEDIF(Students!G128,Settings!$A$2,\"y\"))","v":""},{"$f":"IF(Students!C128=\"\",\"\",RIGHT(Home!$B$11,5))","v":""}]
[null,null,null,null,"Waihola District School (WDS)",null,127,{"$f":"IF(Students!C129=\"\",\"\",Students!C129)","v":""},{"$f":"IF(Students!D129=\"\",\"\",Students!D129)","v":""},{"$f":"IF(Students!C129=\"\",\"\",H128&\" \"&I128&\" \"&O128)","v":""},{"$f":"IF(Students!E129=\"\",\"\",Students!E129)","v":""},{"$f":"IF(Students!F129=\"\",\"\",Students!F129)","v":""},{"$f":"IF(Students!G129=\"\",\"\",Students!G129)","v":""},{"$f":"IF(Students!G129=\"\",\"\",DATEDIF(Students!G129,Settings!$A$2,\"y\"))","v":""},{"$f":"IF(Students!C129=\"\",\"\",RIGHT(Home!$B$11,5))","v":""}]
[null,null,null,null,"Waikouaiti School (WWI)",null,128,{"$f":"IF(Students!C130=\"\",\"\",Students!C130)","v":""},{"$f":"IF(Students!D130=\"\",\"\",Students!D130)","v":""},{"$f":"IF(Students!C130=\"\",\"\",H129&\" \"&I129&\" \"&O129)","v":""},{"$f":"IF(Students!E130=\"\",\"\",Students!E130)","v":""},{"$f":"IF(Students!F130=\"\",\"\",Students!F130)","v":""},{"$f":"IF(Students!G130=\"\",\"\",Students!G130)","v":""},{"$f":"IF(Students!G130=\"\",\"\",DATEDIF(Students!G130,Settings!$A$2,\"y\"))","v":""},{"$f":"IF(Students!C130=\"\",\"\",RIGHT(Home!$B$11,5))","v":""}]
[null,null,null,null,"Waitahuna School (WTA)",null,129,{"$f":"IF(Students!C131=\"\",\"\",Students!C131)","v":""},{"$f":"IF(Students!D131=\"\",\"\",Students!D131)","v":""},{"$f":"IF(Students!C131=\"\",\"\",H130&\" \"&I130&\" \"&O130)","v":""},{"$f":"IF(Students!E131=\"\",\"\",Students!E131)","v":""},{"$f":"IF(Students!F131=\"\",\"\",Students!F131)","v":""},{"$f":"IF(Students!G131=\"\",\"\",Students!G131)","v":""},{"$f":"IF(Students!G131=\"\",\"\",DATEDIF(Students!G131,Settings!$A$2,\"y\"))","v":""},{"$f":"IF(Students!C131=\"\",\"\",RIGHT(Home!$B$11,5))","v":""}]
[null,null,null,null,"Waitaki Valley School (WIV)",null,{"$f":"ROW()-1","v":130},{"$f":"IF(Students!C132=\"\",\"\",Students!C132)","v":""},{"$f":"IF(Students!D132=\"\",\"\",Students!D132)","v":""},{"$f":"IF(Students!C132=\"\",\"\",H131&\" \"&I131&\" \"&O131)","v":""},{"$f":"IF(Students!E132=\"\",\"\",Students!E132)","v":""},{"$f":"IF(Students!F132=\"\",\"\",Students!F132)","v":""},{"$f":"IF(Students!G132=\"\",\"\",Students!G132)","v":""},{"$f":"IF(Students!G132=\"\",\"\",DATEDIF(Students!G132,Settings!$A$2,\"y\"))","v":""},{"$f":"IF(Students!C132=\"\",\"\",RIGHT(Home!$B$11,5))","v":""}]
[null,null,null,null,"Waitati School (WAI)",null,131,{"$f":"IF(Students!C133=\"\",\"\",Students!C133)","v":""},{"$f":"IF(Students!D133=\"\",\"\",Students!D133)","v":""},{"$f":"IF(Students!C133=\"\",\"\",H132&\" \"&I132&\" \"&O132)","v":""},{"$f":"IF(Students!E133=\"\",\"\",Students!E133)","v":""},{"$f":"IF(Students!F133=\"\",\"\",Students!F133)","v":""},{"$f":"IF(Students!G133=\"\",\"\",Students!G133)","v":""},{"$f":"IF(Students!G133=\"\",\"\",DATEDIF(Students!G133,Settings!$A$2,\"y\"))","v":""},{"$f":"IF(Students!C133=\"\",\"\",RIGHT(Home!$B$11,5))","v":""}]
[null,null,null,null,"Waiwera South School (WWS)",null,132,{"$f":"IF(Students!C134=\"\",\"\",Students!C134)","v":""},{"$f":"IF(Students!D134=\"\",\"\",Students!D134)","v":""},{"$f":"IF(Students!C134=\"\",\"\",H133&\" \"&I133&\" \"&O133)","v":""},{"$f":"IF(Students!E134=\"\",\"\",Students!E134)","v":""},{"$f":"IF(Students!F134=\"\",\"\",Students!F134)","v":""},{"$f":"IF(Students!G134=\"\",\"\",Students!G134)","v":""},{"$f":"IF(Students!G134=\"\",\"\",DATEDIF(Students!G134,Settings!$A$2,\"y\"))","v":""},{"$f":"IF(Students!C134=\"\",\"\",RIGHT(Home!$B$11,5))","v":""}]
[null,null,null,null,"Wakari School (WAK)",null,133,{"$f":"IF(Students!C135=\"\",\"\",Students!C135)","v":""},{"$f":"IF(Students!D135=\"\",\"\",Students!D135)","v":""},{"$f":"IF(Students!C135=\"\",\"\",H134&\" \"&I134&\" \"&O134)","v":""},{"$f":"IF(Students!E135=\"\",\"\",Students!E135)","v":""},{"$f":"IF(Students!F135=\"\",\"\",Students!F135)","v":""},{"$f":"IF(Students!G135=\"\",\"\",Students!G135)","v":""},{"$f":"IF(Students!G135=\"\",\"\",DATEDIF(Students!G135,Settings!$A$2,\"y\"))","v":""},{"$f":"IF(Students!C135=\"\",\"\",RIGHT(Home!$B$11,5))","v":""}]
[null,null,null,null,"Wanaka Primary School (WKA)",null,134,{"$f":"IF(Students!C136=\"\",\"\",Students!C136)","v":""},{"$f":"IF(Students!D136=\"\",\"\",Students!D136)","v":""},{"$f":"IF(Students!C136=\"\",\"\",H135&\" \"&I135&\" \"&O135)","v":""},{"$f":"IF(Students!E136=\"\",\"\",Students!E136)","v":""},{"$f":"IF(Students!F136=\"\",\"\",Students!F136)","v":""},{"$f":"IF(Students!G136=\"\",\"\",Students!G136)","v":""},{"$f":"IF(Students!G136=\"\",\"\",DATEDIF(Students!G136,Settings!$A$2,\"y\"))","v":""},{"$f":"IF(Students!C136=\"\",\"\",RIGHT(Home!$B$11,5))","v":""}]
[null,null,null,null,"Warepa School (WPA)",null,135,{"$f":"IF(Students!C137=\"\",\"\",Students!C137)","v":""},{"$f":"IF(Students!D137=\"\",\"\",Students!D137)","v":""},{"$f":"IF(Students!C137=\"\",\"\",H136&\" \"&I136&\" \"&O136)","v":""},{"$f":"IF(Students!E137=\"\",\"\",Students!E137)","v":""},{"$f":"IF(Students!F137=\"\",\"\",Students!F137)","v":""},{"$f":"IF(Students!G137=\"\",\"\",Students!G137)","v":""},{"$f":"IF(Students!G137=\"\",\"\",DATEDIF(Students!G137,Settings!$A$2,\"y\"))","v":""},{"$f":"IF(Students!C137=\"\",\"\",RIGHT(Home!$B$11,5))","v":""}]
[null,null,null,null,"Warrington School (WTN)",null,136,{"$f":"IF(Students!C138=\"\",\"\",Students!C138)","v":""},{"$f":"IF(Students!D138=\"\",\"\",Students!D138)","v":""},{"$f":"IF(Students!C138=\"\",\"\",H137&\" \"&I137&\" \"&O137)","v":""},{"$f":"IF(Students!E138=\"\",\"\",Students!E138)","v":""},{"$f":"IF(Students!F138=\"\",\"\",Students!F138)","v":""},{"$f":"IF(Students!G138=\"\",\"\",Students!G138)","v":""},{"$f":"IF(Students!G138=\"\",\"\",DATEDIF(Students!G138,Settings!$A$2,\"y\"))","v":""},{"$f":"IF(Students!C138=\"\",\"\",RIGHT(Home!$B$11,5))","v":""}]
[null,null,null,null,"Weston School (WES)",null,137,{"$f":"IF(Students!C139=\"\",\"\",Students!C139)","v":""},{"$f":"IF(Students!D139=\"\",\"\",Students!D139)","v":""},{"$f":"IF(Students!C139=\"\",\"\",H138&\" \"&I138&\" \"&O138)","v":""},{"$f":"IF(Students!E139=\"\",\"\",Students!E139)","v":""},{"$f":"IF(Students!F139=\"\",\"\",Students!F139)","v":""},{"$f":"IF(Students!G139=\"\",\"\",Students!G139)","v":""},{"$f":"IF(Students!G139=\"\",\"\",DATEDIF(Students!G139,Settings!$A$2,\"y\"))","v":""},{"$f":"IF(Students!C139=\"\",\"\",RIGHT(Home!$B$11,5))","v":""}]
[null,null,null,null,null,null,138,{"$f":"IF(Students!C140=\"\",\"\",Students!C140)","v":""},{"$f":"IF(Students!D140=\"\",\"\",Students!D140)","v":""},{"$f":"IF(Students!C140=\"\",\"\",H139&\" \"&I139&\" \"&O139)","v":""},{"$f":"IF(Students!E140=\"\",\"\",Students!E140)","v":""},{"$f":"IF(Students!F140=\"\",\"\",Students!F140)","v":""},{"$f":"IF(Students!G140=\"\",\"\",Students!G140)","v":""},{"$f":"IF(Students!G140=\"\",\"\",DATEDIF(Students!G140,Settings!$A$2,\"y\"))","v":""},{"$f":"IF(Students!C140=\"\",\"\",RIGHT(Home!$B$11,5))","v":""}]
[null,null,null,null,null,null,139,{"$f":"IF(Students!C141=\"\",\"\",Students!C141)","v":""},{"$f":"IF(Students!D141=\"\",\"\",Students!D141)","v":""},{"$f":"IF(Students!C141=\"\",\"\",H140&\" \"&I140&\" \"&O140)","v":""},{"$f":"IF(Students!E141=\"\",\"\",Students!E141)","v":""},{"$f":"IF(Students!F141=\"\",\"\",Students!F141)","v":""},{"$f":"IF(Students!G141=\"\",\"\",Students!G141)","v":""},{"$f":"IF(Students!G141=\"\",\"\",DATEDIF(Students!G141,Settings!$A$2,\"y\"))","v":""},{"$f":"IF(Students!C141=\"\",\"\",RIGHT(Home!$B$11,5))","v":""}]
[null,null,null,null,null,null,140,{"$f":"IF(Students!C142=\"\",\"\",Students!C142)","v":""},{"$f":"IF(Students!D142=\"\",\"\",Students!D142)","v":""},{"$f":"IF(Students!C142=\"\",\"\",H141&\" \"&I141&\" \"&O141)","v":""},{"$f":"IF(Students!E142=\"\",\"\",Students!E142)","v":""},{"$f":"IF(Students!F142=\"\",\"\",Students!F142)","v":""},{"$f":"IF(Students!G142=\"\",\"\",Students!G142)","v":""},{"$f":"IF(Students!G142=\"\",\"\",DATEDIF(Students!G142,Settings!$A$2,\"y\"))","v":""},{"$f":"IF(Students!C142=\"\",\"\",RIGHT(Home!$B$11,5))","v":""}]
[null,null,null,null,null,null,141,{"$f":"IF(Students!C143=\"\",\"\",Students!C143)","v":""},{"$f":"IF(Students!D143=\"\",\"\",Students!D143)","v":""},{"$f":"IF(Students!C143=\"\",\"\",H142&\" \"&I142&\" \"&O142)","v":""},{"$f":"IF(Students!E143=\"\",\"\",Students!E143)","v":""},{"$f":"IF(Students!F143=\"\",\"\",Students!F143)","v":""},{"$f":"IF(Students!G143=\"\",\"\",Students!G143)","v":""},{"$f":"IF(Students!G143=\"\",\"\",DATEDIF(Students!G143,Settings!$A$2,\"y\"))","v":""},{"$f":"IF(Students!C143=\"\",\"\",RIGHT(Home!$B$11,5))","v":""}]
[null,null,null,null,null,null,142,{"$f":"IF(Students!C144=\"\",\"\",Students!C144)","v":""},{"$f":"IF(Students!D144=\"\",\"\",Students!D144)","v":""},{"$f":"IF(Students!C144=\"\",\"\",H143&\" \"&I143&\" \"&O143)","v":""},{"$f":"IF(Students!E144=\"\",\"\",Students!E144)","v":""},{"$f":"IF(Students!F144=\"\",\"\",Students!F144)","v":""},{"$f":"IF(Students!G144=\"\",\"\",Students!G144)","v":""},{"$f":"IF(Students!G144=\"\",\"\",DATEDIF(Students!G144,Settings!$A$2,\"y\"))","v":""},{"$f":"IF(Students!C144=\"\",\"\",RIGHT(Home!$B$11,5))","v":""}]
[null,null,null,null,null,null,143,{"$f":"IF(Students!C145=\"\",\"\",Students!C145)","v":""},{"$f":"IF(Students!D145=\"\",\"\",Students!D145)","v":""},{"$f":"IF(Students!C145=\"\",\"\",H144&\" \"&I144&\" \"&O144)","v":""},{"$f":"IF(Students!E145=\"\",\"\",Students!E145)","v":""},{"$f":"IF(Students!F145=\"\",\"\",Students!F145)","v":""},{"$f":"IF(Students!G145=\"\",\"\",Students!G145)","v":""},{"$f":"IF(Students!G145=\"\",\"\",DATEDIF(Students!G145,Settings!$A$2,\"y\"))","v":""},{"$f":"IF(Students!C145=\"\",\"\",RIGHT(Home!$B$11,5))","v":""}]
[null,null,null,null,null,null,144,{"$f":"IF(Students!C146=\"\",\"\",Students!C146)","v":""},{"$f":"IF(Students!D146=\"\",\"\",Students!D146)","v":""},{"$f":"IF(Students!C146=\"\",\"\",H145&\" \"&I145&\" \"&O145)","v":""},{"$f":"IF(Students!E146=\"\",\"\",Students!E146)","v":""},{"$f":"IF(Students!F146=\"\",\"\",Students!F146)","v":""},{"$f":"IF(Students!G146=\"\",\"\",Students!G146)","v":""},{"$f":"IF(Students!G146=\"\",\"\",DATEDIF(Students!G146,Settings!$A$2,\"y\"))","v":""},{"$f":"IF(Students!C146=\"\",\"\",RIGHT(Home!$B$11,5))","v":""}]
[null,null,null,null,null,null,145,{"$f":"IF(Students!C147=\"\",\"\",Students!C147)","v":""},{"$f":"IF(Students!D147=\"\",\"\",Students!D147)","v":""},{"$f":"IF(Students!C147=\"\",\"\",H146&\" \"&I146&\" \"&O146)","v":""},{"$f":"IF(Students!E147=\"\",\"\",Students!E147)","v":""},{"$f":"IF(Students!F147=\"\",\"\",Students!F147)","v":""},{"$f":"IF(Students!G147=\"\",\"\",Students!G147)","v":""},{"$f":"IF(Students!G147=\"\",\"\",DATEDIF(Students!G147,Settings!$A$2,\"y\"))","v":""},{"$f":"IF(Students!C147=\"\",\"\",RIGHT(Home!$B$11,5))","v":""}]
[null,null,null,null,null,null,146,{"$f":"IF(Students!C148=\"\",\"\",Students!C148)","v":""},{"$f":"IF(Students!D148=\"\",\"\",Students!D148)","v":""},{"$f":"IF(Students!C148=\"\",\"\",H147&\" \"&I147&\" \"&O147)","v":""},{"$f":"IF(Students!E148=\"\",\"\",Students!E148)","v":""},{"$f":"IF(Students!F148=\"\",\"\",Students!F148)","v":""},{"$f":"IF(Students!G148=\"\",\"\",Students!G148)","v":""},{"$f":"IF(Students!G148=\"\",\"\",DATEDIF(Students!G148,Settings!$A$2,\"y\"))","v":""},{"$f":"IF(Students!C148=\"\",\"\",RIGHT(Home!$B$11,5))","v":""}]
[null,null,null,null,null,null,147,{"$f":"IF(Students!C149=\"\",\"\",Students!C149)","v":""},{"$f":"IF(Students!D149=\"\",\"\",Students!D149)","v":""},{"$f":"IF(Students!C149=\"\",\"\",H148&\" \"&I148&\" \"&O148)","v":""},{"$f":"IF(Students!E149=\"\",\"\",Students!E149)","v":""},{"$f":"IF(Students!F149=\"\",\"\",Students!F149)","v":""},{"$f":"IF(Students!G149=\"\",\"\",Students!G149)","v":""},{"$f":"IF(Students!G149=\"\",\"\",DATEDIF(Students!G149,Settings!$A$2,\"y\"))","v":""},{"$f":"IF(Students!C149=\"\",\"\",RIGHT(Home!$B$11,5))","v":""}]
[null,null,null,null,null,null,148,{"$f":"IF(Students!C150=\"\",\"\",Students!C150)","v":""},{"$f":"IF(Students!D150=\"\",\"\",Students!D150)","v":""},{"$f":"IF(Students!C150=\"\",\"\",H149&\" \"&I149&\" \"&O149)","v":""},{"$f":"IF(Students!E150=\"\",\"\",Students!E150)","v":""},{"$f":"IF(Students!F150=\"\",\"\",Students!F150)","v":""},{"$f":"IF(Students!G150=\"\",\"\",Students!G150)","v":""},{"$f":"IF(Students!G150=\"\",\"\",DATEDIF(Students!G150,Settings!$A$2,\"y\"))","v":""},{"$f":"IF(Students!C150=\"\",\"\",RIGHT(Home!$B$11,5))","v":""}]
[null,null,null,null,null,null,149,{"$f":"IF(Students!C151=\"\",\"\",Students!C151)","v":""},{"$f":"IF(Students!D151=\"\",\"\",Students!D151)","v":""},{"$f":"IF(Students!C151=\"\",\"\",H150&\" \"&I150&\" \"&O150)","v":""},{"$f":"IF(Students!E151=\"\",\"\",Students!E151)","v":""},{"$f":"IF(Students!F151=\"\",\"\",Students!F151)","v":""},{"$f":"IF(Students!G151=\"\",\"\",Students!G151)","v":""},{"$f":"IF(Students!G151=\"\",\"\",DATEDIF(Students!G151,Settings!$A$2,\"y\"))","v":""},{"$f":"IF(Students!C151=\"\",\"\",RIGHT(Home!$B$11,5))","v":""}]
[null,null,null,null,null,null,150,{"$f":"IF(Students!C152=\"\",\"\",Students!C152)","v":""},{"$f":"IF(Students!D152=\"\",\"\",Students!D152)","v":""},{"$f":"IF(Students!C152=\"\",\"\",H151&\" \"&I151&\" \"&O151)","v":""},{"$f":"IF(Students!E152=\"\",\"\",Students!E152)","v":""},{"$f":"IF(Students!F152=\"\",\"\",Students!F152)","v":""},{"$f":"IF(Students!G152=\"\",\"\",Students!G152)","v":""},{"$f":"IF(Students!G152=\"\",\"\",DATEDIF(Students!G152,Settings!$A$2,\"y\"))","v":""},{"$f":"IF(Students!C152=\"\",\"\",RIGHT(Home!$B$11,5))","v":""}]
[null,null,null,null,null,null,151,{"$f":"IF(Students!C153=\"\",\"\",Students!C153)","v":""},{"$f":"IF(Students!D153=\"\",\"\",Students!D153)","v":""},{"$f":"IF(Students!C153=\"\",\"\",H152&\" \"&I152&\" \"&O152)","v":""},{"$f":"IF(Students!E153=\"\",\"\",Students!E153)","v":""},{"$f":"IF(Students!F153=\"\",\"\",Students!F153)","v":""},{"$f":"IF(Students!G153=\"\",\"\",Students!G153)","v":""},{"$f":"IF(Students!G153=\"\",\"\",DATEDIF(Students!G153,Settings!$A$2,\"y\"))","v":""},{"$f":"IF(Students!C153=\"\",\"\",RIGHT(Home!$B$11,5))","v":""}]
[null,null,null,null,null,null,152,{"$f":"IF(Students!C154=\"\",\"\",Students!C154)","v":""},{"$f":"IF(Students!D154=\"\",\"\",Students!D154)","v":""},{"$f":"IF(Students!C154=\"\",\"\",H153&\" \"&I153&\" \"&O153)","v":""},{"$f":"IF(Students!E154=\"\",\"\",Students!E154)","v":""},{"$f":"IF(Students!F154=\"\",\"\",Students!F154)","v":""},{"$f":"IF(Students!G154=\"\",\"\",Students!G154)","v":""},{"$f":"IF(Students!G154=\"\",\"\",DATEDIF(Students!G154,Settings!$A$2,\"y\"))","v":""},{"$f":"IF(Students!C154=\"\",\"\",RIGHT(Home!$B$11,5))","v":""}]
[null,null,null,null,null,null,153,{"$f":"IF(Students!C155=\"\",\"\",Students!C155)","v":""},{"$f":"IF(Students!D155=\"\",\"\",Students!D155)","v":""},{"$f":"IF(Students!C155=\"\",\"\",H154&\" \"&I154&\" \"&O154)","v":""},{"$f":"IF(Students!E155=\"\",\"\",Students!E155)","v":""},{"$f":"IF(Students!F155=\"\",\"\",Students!F155)","v":""},{"$f":"IF(Students!G155=\"\",\"\",Students!G155)","v":""},{"$f":"IF(Students!G155=\"\",\"\",DATEDIF(Students!G155,Settings!$A$2,\"y\"))","v":""},{"$f":"IF(Students!C155=\"\",\"\",RIGHT(Home!$B$11,5))","v":""}]
[null,null,null,null,null,null,154,{"$f":"IF(Students!C156=\"\",\"\",Students!C156)","v":""},{"$f":"IF(Students!D156=\"\",\"\",Students!D156)","v":""},{"$f":"IF(Students!C156=\"\",\"\",H155&\" \"&I155&\" \"&O155)","v":""},{"$f":"IF(Students!E156=\"\",\"\",Students!E156)","v":""},{"$f":"IF(Students!F156=\"\",\"\",Students!F156)","v":""},{"$f":"IF(Students!G156=\"\",\"\",Students!G156)","v":""},{"$f":"IF(Students!G156=\"\",\"\",DATEDIF(Students!G156,Settings!$A$2,\"y\"))","v":""},{"$f":"IF(Students!C156=\"\",\"\",RIGHT(Home!$B$11,5))","v":""}]
[null,null,null,null,null,null,155,{"$f":"IF(Students!C157=\"\",\"\",Students!C157)","v":""},{"$f":"IF(Students!D157=\"\",\"\",Students!D157)","v":""},{"$f":"IF(Students!C157=\"\",\"\",H156&\" \"&I156&\" \"&O156)","v":""},{"$f":"IF(Students!E157=\"\",\"\",Students!E157)","v":""},{"$f":"IF(Students!F157=\"\",\"\",Students!F157)","v":""},{"$f":"IF(Students!G157=\"\",\"\",Students!G157)","v":""},{"$f":"IF(Students!G157=\"\",\"\",DATEDIF(Students!G157,Settings!$A$2,\"y\"))","v":""},{"$f":"IF(Students!C157=\"\",\"\",RIGHT(Home!$B$11,5))","v":""}]
[null,null,null,null,null,null,156,{"$f":"IF(Students!C158=\"\",\"\",Students!C158)","v":""},{"$f":"IF(Students!D158=\"\",\"\",Students!D158)","v":""},{"$f":"IF(Students!C158=\"\",\"\",H157&\" \"&I157&\" \"&O157)","v":""},{"$f":"IF(Students!E158=\"\",\"\",Students!E158)","v":""},{"$f":"IF(Students!F158=\"\",\"\",Students!F158)","v":""},{"$f":"IF(Students!G158=\"\",\"\",Students!G158)","v":""},{"$f":"IF(Students!G158=\"\",\"\",DATEDIF(Students!G158,Settings!$A$2,\"y\"))","v":""},{"$f":"IF(Students!C158=\"\",\"\",RIGHT(Home!$B$11,5))","v":""}]
[null,null,null,null,null,null,157,{"$f":"IF(Students!C159=\"\",\"\",Students!C159)","v":""},{"$f":"IF(Students!D159=\"\",\"\",Students!D159)","v":""},{"$f":"IF(Students!C159=\"\",\"\",H158&\" \"&I158&\" \"&O158)","v":""},{"$f":"IF(Students!E159=\"\",\"\",Students!E159)","v":""},{"$f":"IF(Students!F159=\"\",\"\",Students!F159)","v":""},{"$f":"IF(Students!G159=\"\",\"\",Students!G159)","v":""},{"$f":"IF(Students!G159=\"\",\"\",DATEDIF(Students!G159,Settings!$A$2,\"y\"))","v":""},{"$f":"IF(Students!C159=\"\",\"\",RIGHT(Home!$B$11,5))","v":""}]
[null,null,null,null,null,null,158,{"$f":"IF(Students!C160=\"\",\"\",Students!C160)","v":""},{"$f":"IF(Students!D160=\"\",\"\",Students!D160)","v":""},{"$f":"IF(Students!C160=\"\",\"\",H159&\" \"&I159&\" \"&O159)","v":""},{"$f":"IF(Students!E160=\"\",\"\",Students!E160)","v":""},{"$f":"IF(Students!F160=\"\",\"\",Students!F160)","v":""},{"$f":"IF(Students!G160=\"\",\"\",Students!G160)","v":""},{"$f":"IF(Students!G160=\"\",\"\",DATEDIF(Students!G160,Settings!$A$2,\"y\"))","v":""},{"$f":"IF(Students!C160=\"\",\"\",RIGHT(Home!$B$11,5))","v":""}]
[null,null,null,null,null,null,159,{"$f":"IF(Students!C161=\"\",\"\",Students!C161)","v":""},{"$f":"IF(Students!D161=\"\",\"\",Students!D161)","v":""},{"$f":"IF(Students!C161=\"\",\"\",H160&\" \"&I160&\" \"&O160)","v":""},{"$f":"IF(Students!E161=\"\",\"\",Students!E161)","v":""},{"$f":"IF(Students!F161=\"\",\"\",Students!F161)","v":""},{"$f":"IF(Students!G161=\"\",\"\",Students!G161)","v":""},{"$f":"IF(Students!G161=\"\",\"\",DATEDIF(Students!G161,Settings!$A$2,\"y\"))","v":""},{"$f":"IF(Students!C161=\"\",\"\",RIGHT(Home!$B$11,5))","v":""}]
[null,null,null,null,null,null,160,{"$f":"IF(Students!C162=\"\",\"\",Students!C162)","v":""},{"$f":"IF(Students!D162=\"\",\"\",Students!D162)","v":""},{"$f":"IF(Students!C162=\"\",\"\",H161&\" \"&I161&\" \"&O161)","v":""},{"$f":"IF(Students!E162=\"\",\"\",Students!E162)","v":""},{"$f":"IF(Students!F162=\"\",\"\",Students!F162)","v":""},{"$f":"IF(Students!G162=\"\",\"\",Students!G162)","v":""},{"$f":"IF(Students!G162=\"\",\"\",DATEDIF(Students!G162,Settings!$A$2,\"y\"))","v":""},{"$f":"IF(Students!C162=\"\",\"\",RIGHT(Home!$B$11,5))","v":""}]
[null,null,null,null,null,null,161,{"$f":"IF(Students!C163=\"\",\"\",Students!C163)","v":""},{"$f":"IF(Students!D163=\"\",\"\",Students!D163)","v":""},{"$f":"IF(Students!C163=\"\",\"\",H162&\" \"&I162&\" \"&O162)","v":""},{"$f":"IF(Students!E163=\"\",\"\",Students!E163)","v":""},{"$f":"IF(Students!F163=\"\",\"\",Students!F163)","v":""},{"$f":"IF(Students!G163=\"\",\"\",Students!G163)","v":""},{"$f":"IF(Students!G163=\"\",\"\",DATEDIF(Students!G163,Settings!$A$2,\"y\"))","v":""},{"$f":"IF(Students!C163=\"\",\"\",RIGHT(Home!$B$11,5))","v":""}]
[null,null,null,null,null,null,162,{"$f":"IF(Students!C164=\"\",\"\",Students!C164)","v":""},{"$f":"IF(Students!D164=\"\",\"\",Students!D164)","v":""},{"$f":"IF(Students!C164=\"\",\"\",H163&\" \"&I163&\" \"&O163)","v":""},{"$f":"IF(Students!E164=\"\",\"\",Students!E164)","v":""},{"$f":"IF(Students!F164=\"\",\"\",Students!F164)","v":""},{"$f":"IF(Students!G164=\"\",\"\",Students!G164)","v":""},{"$f":"IF(Students!G164=\"\",\"\",DATEDIF(Students!G164,Settings!$A$2,\"y\"))","v":""},{"$f":"IF(Students!C164=\"\",\"\",RIGHT(Home!$B$11,5))","v":""}]
[null,null,null,null,null,null,163,{"$f":"IF(Students!C165=\"\",\"\",Students!C165)","v":""},{"$f":"IF(Students!D165=\"\",\"\",Students!D165)","v":""},{"$f":"IF(Students!C165=\"\",\"\",H164&\" \"&I164&\" \"&O164)","v":""},{"$f":"IF(Students!E165=\"\",\"\",Students!E165)","v":""},{"$f":"IF(Students!F165=\"\",\"\",Students!F165)","v":""},{"$f":"IF(Students!G165=\"\",\"\",Students!G165)","v":""},{"$f":"IF(Students!G165=\"\",\"\",DATEDIF(Students!G165,Settings!$A$2,\"y\"))","v":""},{"$f":"IF(Students!C165=\"\",\"\",RIGHT(Home!$B$11,5))","v":""}]
[null,null,null,null,null,null,164,{"$f":"IF(Students!C166=\"\",\"\",Students!C166)","v":""},{"$f":"IF(Students!D166=\"\",\"\",Students!D166)","v":""},{"$f":"IF(Students!C166=\"\",\"\",H165&\" \"&I165&\" \"&O165)","v":""},{"$f":"IF(Students!E166=\"\",\"\",Students!E166)","v":""},{"$f":"IF(Students!F166=\"\",\"\",Students!F166)","v":""},{"$f":"IF(Students!G166=\"\",\"\",Students!G166)","v":""},{"$f":"IF(Students!G166=\"\",\"\",DATEDIF(Students!G166,Settings!$A$2,\"y\"))","v":""},{"$f":"IF(Students!C166=\"\",\"\",RIGHT(Home!$B$11,5))","v":""}]
[null,null,null,null,null,null,165,{"$f":"IF(Students!C167=\"\",\"\",Students!C167)","v":""},{"$f":"IF(Students!D167=\"\",\"\",Students!D167)","v":""},{"$f":"IF(Students!C167=\"\",\"\",H166&\" \"&I166&\" \"&O166)","v":""},{"$f":"IF(Students!E167=\"\",\"\",Students!E167)","v":""},{"$f":"IF(Students!F167=\"\",\"\",Students!F167)","v":""},{"$f":"IF(Students!G167=\"\",\"\",Students!G167)","v":""},{"$f":"IF(Students!G167=\"\",\"\",DATEDIF(Students!G167,Settings!$A$2,\"y\"))","v":""},{"$f":"IF(Students!C167=\"\",\"\",RIGHT(Home!$B$11,5))","v":""}]
[null,null,null,null,null,null,166,{"$f":"IF(Students!C168=\"\",\"\",Students!C168)","v":""},{"$f":"IF(Students!D168=\"\",\"\",Students!D168)","v":""},{"$f":"IF(Students!C168=\"\",\"\",H167&\" \"&I167&\" \"&O167)","v":""},{"$f":"IF(Students!E168=\"\",\"\",Students!E168)","v":""},{"$f":"IF(Students!F168=\"\",\"\",Students!F168)","v":""},{"$f":"IF(Students!G168=\"\",\"\",Students!G168)","v":""},{"$f":"IF(Students!G168=\"\",\"\",DATEDIF(Students!G168,Settings!$A$2,\"y\"))","v":""},{"$f":"IF(Students!C168=\"\",\"\",RIGHT(Home!$B$11,5))","v":""}]
[null,null,null,null,null,null,167,{"$f":"IF(Students!C169=\"\",\"\",Students!C169)","v":""},{"$f":"IF(Students!D169=\"\",\"\",Students!D169)","v":""},{"$f":"IF(Students!C169=\"\",\"\",H168&\" \"&I168&\" \"&O168)","v":""},{"$f":"IF(Students!E169=\"\",\"\",Students!E169)","v":""},{"$f":"IF(Students!F169=\"\",\"\",Students!F169)","v":""},{"$f":"IF(Students!G169=\"\",\"\",Students!G169)","v":""},{"$f":"IF(Students!G169=\"\",\"\",DATEDIF(Students!G169,Settings!$A$2,\"y\"))","v":""},{"$f":"IF(Students!C169=\"\",\"\",RIGHT(Home!$B$11,5))","v":""}]
[null,null,null,null,null,null,168,{"$f":"IF(Students!C170=\"\",\"\",Students!C170)","v":""},{"$f":"IF(Students!D170=\"\",\"\",Students!D170)","v":""},{"$f":"IF(Students!C170=\"\",\"\",H169&\" \"&I169&\" \"&O169)","v":""},{"$f":"IF(Students!E170=\"\",\"\",Students!E170)","v":""},{"$f":"IF(Students!F170=\"\",\"\",Students!F170)","v":""},{"$f":"IF(Students!G170=\"\",\"\",Students!G170)","v":""},{"$f":"IF(Students!G170=\"\",\"\",DATEDIF(Students!G170,Settings!$A$2,\"y\"))","v":""},{"$f":"IF(Students!C170=\"\",\"\",RIGHT(Home!$B$11,5))","v":""}]
[null,null,null,null,null,null,169,{"$f":"IF(Students!C171=\"\",\"\",Students!C171)","v":""},{"$f":"IF(Students!D171=\"\",\"\",Students!D171)","v":""},{"$f":"IF(Students!C171=\"\",\"\",H170&\" \"&I170&\" \"&O170)","v":""},{"$f":"IF(Students!E171=\"\",\"\",Students!E171)","v":""},{"$f":"IF(Students!F171=\"\",\"\",Students!F171)","v":""},{"$f":"IF(Students!G171=\"\",\"\",Students!G171)","v":""},{"$f":"IF(Students!G171=\"\",\"\",DATEDIF(Students!G171,Settings!$A$2,\"y\"))","v":""},{"$f":"IF(Students!C171=\"\",\"\",RIGHT(Home!$B$11,5))","v":""}]
[null,null,null,null,null,null,170,{"$f":"IF(Students!C172=\"\",\"\",Students!C172)","v":""},{"$f":"IF(Students!D172=\"\",\"\",Students!D172)","v":""},{"$f":"IF(Students!C172=\"\",\"\",H171&\" \"&I171&\" \"&O171)","v":""},{"$f":"IF(Students!E172=\"\",\"\",Students!E172)","v":""},{"$f":"IF(Students!F172=\"\",\"\",Students!F172)","v":""},{"$f":"IF(Students!G172=\"\",\"\",Students!G172)","v":""},{"$f":"IF(Students!G172=\"\",\"\",DATEDIF(Students!G172,Settings!$A$2,\"y\"))","v":""},{"$f":"IF(Students!C172=\"\",\"\",RIGHT(Home!$B$11,5))","v":""}]
[null,null,null,null,null,null,171,{"$f":"IF(Students!C173=\"\",\"\",Students!C173)","v":""},{"$f":"IF(Students!D173=\"\",\"\",Students!D173)","v":""},{"$f":"IF(Students!C173=\"\",\"\",H172&\" \"&I172&\" \"&O172)","v":""},{"$f":"IF(Students!E173=\"\",\"\",Students!E173)","v":""},{"$f":"IF(Students!F173=\"\",\"\",Students!F173)","v":""},{"$f":"IF(Students!G173=\"\",\"\",Students!G173)","v":""},{"$f":"IF(Students!G173=\"\",\"\",DATEDIF(Students!G173,Settings!$A$2,\"y\"))","v":""},{"$f":"IF(Students!C173=\"\",\"\",RIGHT(Home!$B$11,5))","v":""}]
[null,null,null,null,null,null,172,{"$f":"IF(Students!C174=\"\",\"\",Students!C174)","v":""},{"$f":"IF(Students!D174=\"\",\"\",Students!D174)","v":""},{"$f":"IF(Students!C174=\"\",\"\",H173&\" \"&I173&\" \"&O173)","v":""},{"$f":"IF(Students!E174=\"\",\"\",Students!E174)","v":""},{"$f":"IF(Students!F174=\"\",\"\",Students!F174)","v":""},{"$f":"IF(Students!G174=\"\",\"\",Students!G174)","v":""},{"$f":"IF(Students!G174=\"\",\"\",DATEDIF(Students!G174,Settings!$A$2,\"y\"))","v":""},{"$f":"IF(Students!C174=\"\",\"\",RIGHT(Home!$B$11,5))","v":""}]
[null,null,null,null,null,null,173,{"$f":"IF(Students!C175=\"\",\"\",Students!C175)","v":""},{"$f":"IF(Students!D175=\"\",\"\",Students!D175)","v":""},{"$f":"IF(Students!C175=\"\",\"\",H174&\" \"&I174&\" \"&O174)","v":""},{"$f":"IF(Students!E175=\"\",\"\",Students!E175)","v":""},{"$f":"IF(Students!F175=\"\",\"\",Students!F175)","v":""},{"$f":"IF(Students!G175=\"\",\"\",Students!G175)","v":""},{"$f":"IF(Students!G175=\"\",\"\",DATEDIF(Students!G175,Settings!$A$2,\"y\"))","v":""},{"$f":"IF(Students!C175=\"\",\"\",RIGHT(Home!$B$11,5))","v":""}]
[null,null,null,null,null,null,174,{"$f":"IF(Students!C176=\"\",\"\",Students!C176)","v":""},{"$f":"IF(Students!D176=\"\",\"\",Students!D176)","v":""},{"$f":"IF(Students!C176=\"\",\"\",H175&\" \"&I175&\" \"&O175)","v":""},{"$f":"IF(Students!E176=\"\",\"\",Students!E176)","v":""},{"$f":"IF(Students!F176=\"\",\"\",Students!F176)","v":""},{"$f":"IF(Students!G176=\"\",\"\",Students!G176)","v":""},{"$f":"IF(Students!G176=\"\",\"\",DATEDIF(Students!G176,Settings!$A$2,\"y\"))","v":""},{"$f":"IF(Students!C176=\"\",\"\",RIGHT(Home!$B$11,5))","v":""}]
[null,null,null,null,null,null,175,{"$f":"IF(Students!C177=\"\",\"\",Students!C177)","v":""},{"$f":"IF(Students!D177=\"\",\"\",Students!D177)","v":""},{"$f":"IF(Students!C177=\"\",\"\",H176&\" \"&I176&\" \"&O176)","v":""},{"$f":"IF(Students!E177=\"\",\"\",Students!E177)","v":""},{"$f":"IF(Students!F177=\"\",\"\",Students!F177)","v":""},{"$f":"IF(Students!G177=\"\",\"\",Students!G177)","v":""},{"$f":"IF(Students!G177=\"\",\"\",DATEDIF(Students!G177,Settings!$A$2,\"y\"))","v":""},{"$f":"IF(Students!C177=\"\",\"\",RIGHT(Home!$B$11,5))","v":""}]
[null,null,null,null,null,null,176,{"$f":"IF(Students!C178=\"\",\"\",Students!C178)","v":""},{"$f":"IF(Students!D178=\"\",\"\",Students!D178)","v":""},{"$f":"IF(Students!C178=\"\",\"\",H177&\" \"&I177&\" \"&O177)","v":""},{"$f":"IF(Students!E178=\"\",\"\",Students!E178)","v":""},{"$f":"IF(Students!F178=\"\",\"\",Students!F178)","v":""},{"$f":"IF(Students!G178=\"\",\"\",Students!G178)","v":""},{"$f":"IF(Students!G178=\"\",\"\",DATEDIF(Students!G178,Settings!$A$2,\"y\"))","v":""},{"$f":"IF(Students!C178=\"\",\"\",RIGHT(Home!$B$11,5))","v":""}]
[null,null,null,null,null,null,177,{"$f":"IF(Students!C179=\"\",\"\",Students!C179)","v":""},{"$f":"IF(Students!D179=\"\",\"\",Students!D179)","v":""},{"$f":"IF(Students!C179=\"\",\"\",H178&\" \"&I178&\" \"&O178)","v":""},{"$f":"IF(Students!E179=\"\",\"\",Students!E179)","v":""},{"$f":"IF(Students!F179=\"\",\"\",Students!F179)","v":""},{"$f":"IF(Students!G179=\"\",\"\",Students!G179)","v":""},{"$f":"IF(Students!G179=\"\",\"\",DATEDIF(Students!G179,Settings!$A$2,\"y\"))","v":""},{"$f":"IF(Students!C179=\"\",\"\",RIGHT(Home!$B$11,5))","v":""}]
[null,null,null,null,null,null,178,{"$f":"IF(Students!C180=\"\",\"\",Students!C180)","v":""},{"$f":"IF(Students!D180=\"\",\"\",Students!D180)","v":""},{"$f":"IF(Students!C180=\"\",\"\",H179&\" \"&I179&\" \"&O179)","v":""},{"$f":"IF(Students!E180=\"\",\"\",Students!E180)","v":""},{"$f":"IF(Students!F180=\"\",\"\",Students!F180)","v":""},{"$f":"IF(Students!G180=\"\",\"\",Students!G180)","v":""},{"$f":"IF(Students!G180=\"\",\"\",DATEDIF(Students!G180,Settings!$A$2,\"y\"))","v":""},{"$f":"IF(Students!C180=\"\",\"\",RIGHT(Home!$B$11,5))","v":""}]
[null,null,null,null,null,null,179,{"$f":"IF(Students!C181=\"\",\"\",Students!C181)","v":""},{"$f":"IF(Students!D181=\"\",\"\",Students!D181)","v":""},{"$f":"IF(Students!C181=\"\",\"\",H180&\" \"&I180&\" \"&O180)","v":""},{"$f":"IF(Students!E181=\"\",\"\",Students!E181)","v":""},{"$f":"IF(Students!F181=\"\",\"\",Students!F181)","v":""},{"$f":"IF(Students!G181=\"\",\"\",Students!G181)","v":""},{"$f":"IF(Students!G181=\"\",\"\",DATEDIF(Students!G181,Settings!$A$2,\"y\"))","v":""},{"$f":"IF(Students!C181=\"\",\"\",RIGHT(Home!$B$11,5))","v":""}]
[null,null,null,null,null,null,180,{"$f":"IF(Students!C182=\"\",\"\",Students!C182)","v":""},{"$f":"IF(Students!D182=\"\",\"\",Students!D182)","v":""},{"$f":"IF(Students!C182=\"\",\"\",H181&\" \"&I181&\" \"&O181)","v":""},{"$f":"IF(Students!E182=\"\",\"\",Students!E182)","v":""},{"$f":"IF(Students!F182=\"\",\"\",Students!F182)","v":""},{"$f":"IF(Students!G182=\"\",\"\",Students!G182)","v":""},{"$f":"IF(Students!G182=\"\",\"\",DATEDIF(Students!G182,Settings!$A$2,\"y\"))","v":""},{"$f":"IF(Students!C182=\"\",\"\",RIGHT(Home!$B$11,5))","v":""}]
[null,null,null,null,null,null,181,{"$f":"IF(Students!C183=\"\",\"\",Students!C183)","v":""},{"$f":"IF(Students!D183=\"\",\"\",Students!D183)","v":""},{"$f":"IF(Students!C183=\"\",\"\",H182&\" \"&I182&\" \"&O182)","v":""},{"$f":"IF(Students!E183=\"\",\"\",Students!E183)","v":""},{"$f":"IF(Students!F183=\"\",\"\",Students!F183)","v":""},{"$f":"IF(Students!G183=\"\",\"\",Students!G183)","v":""},{"$f":"IF(Students!G183=\"\",\"\",DATEDIF(Students!G183,Settings!$A$2,\"y\"))","v":""},{"$f":"IF(Students!C183=\"\",\"\",RIGHT(Home!$B$11,5))","v":""}]
[null,null,null,null,null,null,182,{"$f":"IF(Students!C184=\"\",\"\",Students!C184)","v":""},{"$f":"IF(Students!D184=\"\",\"\",Students!D184)","v":""},{"$f":"IF(Students!C184=\"\",\"\",H183&\" \"&I183&\" \"&O183)","v":""},{"$f":"IF(Students!E184=\"\",\"\",Students!E184)","v":""},{"$f":"IF(Students!F184=\"\",\"\",Students!F184)","v":""},{"$f":"IF(Students!G184=\"\",\"\",Students!G184)","v":""},{"$f":"IF(Students!G184=\"\",\"\",DATEDIF(Students!G184,Settings!$A$2,\"y\"))","v":""},{"$f":"IF(Students!C184=\"\",\"\",RIGHT(Home!$B$11,5))","v":""}]
[null,null,null,null,null,null,183,{"$f":"IF(Students!C185=\"\",\"\",Students!C185)","v":""},{"$f":"IF(Students!D185=\"\",\"\",Students!D185)","v":""},{"$f":"IF(Students!C185=\"\",\"\",H184&\" \"&I184&\" \"&O184)","v":""},{"$f":"IF(Students!E185=\"\",\"\",Students!E185)","v":""},{"$f":"IF(Students!F185=\"\",\"\",Students!F185)","v":""},{"$f":"IF(Students!G185=\"\",\"\",Students!G185)","v":""},{"$f":"IF(Students!G185=\"\",\"\",DATEDIF(Students!G185,Settings!$A$2,\"y\"))","v":""},{"$f":"IF(Students!C185=\"\",\"\",RIGHT(Home!$B$11,5))","v":""}]
[null,null,null,null,null,null,184,{"$f":"IF(Students!C186=\"\",\"\",Students!C186)","v":""},{"$f":"IF(Students!D186=\"\",\"\",Students!D186)","v":""},{"$f":"IF(Students!C186=\"\",\"\",H185&\" \"&I185&\" \"&O185)","v":""},{"$f":"IF(Students!E186=\"\",\"\",Students!E186)","v":""},{"$f":"IF(Students!F186=\"\",\"\",Students!F186)","v":""},{"$f":"IF(Students!G186=\"\",\"\",Students!G186)","v":""},{"$f":"IF(Students!G186=\"\",\"\",DATEDIF(Students!G186,Settings!$A$2,\"y\"))","v":""},{"$f":"IF(Students!C186=\"\",\"\",RIGHT(Home!$B$11,5))","v":""}]
[null,null,null,null,null,null,185,{"$f":"IF(Students!C187=\"\",\"\",Students!C187)","v":""},{"$f":"IF(Students!D187=\"\",\"\",Students!D187)","v":""},{"$f":"IF(Students!C187=\"\",\"\",H186&\" \"&I186&\" \"&O186)","v":""},{"$f":"IF(Students!E187=\"\",\"\",Students!E187)","v":""},{"$f":"IF(Students!F187=\"\",\"\",Students!F187)","v":""},{"$f":"IF(Students!G187=\"\",\"\",Students!G187)","v":""},{"$f":"IF(Students!G187=\"\",\"\",DATEDIF(Students!G187,Settings!$A$2,\"y\"))","v":""},{"$f":"IF(Students!C187=\"\",\"\",RIGHT(Home!$B$11,5))","v":""}]
[null,null,null,null,null,null,186,{"$f":"IF(Students!C188=\"\",\"\",Students!C188)","v":""},{"$f":"IF(Students!D188=\"\",\"\",Students!D188)","v":""},{"$f":"IF(Students!C188=\"\",\"\",H187&\" \"&I187&\" \"&O187)","v":""},{"$f":"IF(Students!E188=\"\",\"\",Students!E188)","v":""},{"$f":"IF(Students!F188=\"\",\"\",Students!F188)","v":""},{"$f":"IF(Students!G188=\"\",\"\",Students!G188)","v":""},{"$f":"IF(Students!G188=\"\",\"\",DATEDIF(Students!G188,Settings!$A$2,\"y\"))","v":""},{"$f":"IF(Students!C188=\"\",\"\",RIGHT(Home!$B$11,5))","v":""}]
[null,null,null,null,null,null,187,{"$f":"IF(Students!C189=\"\",\"\",Students!C189)","v":""},{"$f":"IF(Students!D189=\"\",\"\",Students!D189)","v":""},{"$f":"IF(Students!C189=\"\",\"\",H188&\" \"&I188&\" \"&O188)","v":""},{"$f":"IF(Students!E189=\"\",\"\",Students!E189)","v":""},{"$f":"IF(Students!F189=\"\",\"\",Students!F189)","v":""},{"$f":"IF(Students!G189=\"\",\"\",Students!G189)","v":""},{"$f":"IF(Students!G189=\"\",\"\",DATEDIF(Students!G189,Settings!$A$2,\"y\"))","v":""},{"$f":"IF(Students!C189=\"\",\"\",RIGHT(Home!$B$11,5))","v":""}]
[null,null,null,null,null,null,188,{"$f":"IF(Students!C190=\"\",\"\",Students!C190)","v":""},{"$f":"IF(Students!D190=\"\",\"\",Students!D190)","v":""},{"$f":"IF(Students!C190=\"\",\"\",H189&\" \"&I189&\" \"&O189)","v":""},{"$f":"IF(Students!E190=\"\",\"\",Students!E190)","v":""},{"$f":"IF(Students!F190=\"\",\"\",Students!F190)","v":""},{"$f":"IF(Students!G190=\"\",\"\",Students!G190)","v":""},{"$f":"IF(Students!G190=\"\",\"\",DATEDIF(Students!G190,Settings!$A$2,\"y\"))","v":""},{"$f":"IF(Students!C190=\"\",\"\",RIGHT(Home!$B$11,5))","v":""}]
[null,null,null,null,null,null,189,{"$f":"IF(Students!C191=\"\",\"\",Students!C191)","v":""},{"$f":"IF(Students!D191=\"\",\"\",Students!D191)","v":""},{"$f":"IF(Students!C191=\"\",\"\",H190&\" \"&I190&\" \"&O190)","v":""},{"$f":"IF(Students!E191=\"\",\"\",Students!E191)","v":""},{"$f":"IF(Students!F191=\"\",\"\",Students!F191)","v":""},{"$f":"IF(Students!G191=\"\",\"\",Students!G191)","v":""},{"$f":"IF(Students!G191=\"\",\"\",DATEDIF(Students!G191,Settings!$A$2,\"y\"))","v":""},{"$f":"IF(Students!C191=\"\",\"\",RIGHT(Home!$B$11,5))","v":""}]
[null,null,null,null,null,null,190,{"$f":"IF(Students!C192=\"\",\"\",Students!C192)","v":""},{"$f":"IF(Students!D192=\"\",\"\",Students!D192)","v":""},{"$f":"IF(Students!C192=\"\",\"\",H191&\" \"&I191&\" \"&O191)","v":""},{"$f":"IF(Students!E192=\"\",\"\",Students!E192)","v":""},{"$f":"IF(Students!F192=\"\",\"\",Students!F192)","v":""},{"$f":"IF(Students!G192=\"\",\"\",Students!G192)","v":""},{"$f":"IF(Students!G192=\"\",\"\",DATEDIF(Students!G192,Settings!$A$2,\"y\"))","v":""},{"$f":"IF(Students!C192=\"\",\"\",RIGHT(Home!$B$11,5))","v":""}]
[null,null,null,null,null,null,191,{"$f":"IF(Students!C193=\"\",\"\",Students!C193)","v":""},{"$f":"IF(Students!D193=\"\",\"\",Students!D193)","v":""},{"$f":"IF(Students!C193=\"\",\"\",H192&\" \"&I192&\" \"&O192)","v":""},{"$f":"IF(Students!E193=\"\",\"\",Students!E193)","v":""},{"$f":"IF(Students!F193=\"\",\"\",Students!F193)","v":""},{"$f":"IF(Students!G193=\"\",\"\",Students!G193)","v":""},{"$f":"IF(Students!G193=\"\",\"\",DATEDIF(Students!G193,Settings!$A$2,\"y\"))","v":""},{"$f":"IF(Students!C193=\"\",\"\",RIGHT(Home!$B$11,5))","v":""}]
[null,null,null,null,null,null,192,{"$f":"IF(Students!C194=\"\",\"\",Students!C194)","v":""},{"$f":"IF(Students!D194=\"\",\"\",Students!D194)","v":""},{"$f":"IF(Students!C194=\"\",\"\",H193&\" \"&I193&\" \"&O193)","v":""},{"$f":"IF(Students!E194=\"\",\"\",Students!E194)","v":""},{"$f":"IF(Students!F194=\"\",\"\",Students!F194)","v":""},{"$f":"IF(Students!G194=\"\",\"\",Students!G194)","v":""},{"$f":"IF(Students!G194=\"\",\"\",DATEDIF(Students!G194,Settings!$A$2,\"y\"))","v":""},{"$f":"IF(Students!C194=\"\",\"\",RIGHT(Home!$B$11,5))","v":""}]
[null,null,null,null,null,null,193,{"$f":"IF(Students!C195=\"\",\"\",Students!C195)","v":""},{"$f":"IF(Students!D195=\"\",\"\",Students!D195)","v":""},{"$f":"IF(Students!C195=\"\",\"\",H194&\" \"&I194&\" \"&O194)","v":""},{"$f":"IF(Students!E195=\"\",\"\",Students!E195)","v":""},{"$f":"IF(Students!F195=\"\",\"\",Students!F195)","v":""},{"$f":"IF(Students!G195=\"\",\"\",Students!G195)","v":""},{"$f":"IF(Students!G195=\"\",\"\",DATEDIF(Students!G195,Settings!$A$2,\"y\"))","v":""},{"$f":"IF(Students!C195=\"\",\"\",RIGHT(Home!$B$11,5))","v":""}]
[null,null,null,null,null,null,{"$f":"ROW()-1","v":194},{"$f":"IF(Students!C196=\"\",\"\",Students!C196)","v":""},{"$f":"IF(Students!D196=\"\",\"\",Students!D196)","v":""},{"$f":"IF(Students!C196=\"\",\"\",H195&\" \"&I195&\" \"&O195)","v":""},{"$f":"IF(Students!E196=\"\",\"\",Students!E196)","v":""},{"$f":"IF(Students!F196=\"\",\"\",Students!F196)","v":""},{"$f":"IF(Students!G196=\"\",\"\",Students!G196)","v":""},{"$f":"IF(Students!G196=\"\",\"\",DATEDIF(Students!G196,Settings!$A$2,\"y\"))","v":""},{"$f":"IF(Students!C196=\"\",\"\",RIGHT(Home!$B$11,5))","v":""}]
[null,null,null,null,null,null,195,{"$f":"IF(Students!C197=\"\",\"\",Students!C197)","v":""},{"$f":"IF(Students!D197=\"\",\"\",Students!D197)","v":""},{"$f":"IF(Students!C197=\"\",\"\",H196&\" \"&I196&\" \"&O196)","v":""},{"$f":"IF(Students!E197=\"\",\"\",Students!E197)","v":""},{"$f":"IF(Students!F197=\"\",\"\",Students!F197)","v":""},{"$f":"IF(Students!G197=\"\",\"\",Students!G197)","v":""},{"$f":"IF(Students!G197=\"\",\"\",DATEDIF(Students!G197,Settings!$A$2,\"y\"))","v":""},{"$f":"IF(Students!C197=\"\",\"\",RIGHT(Home!$B$11,5))","v":""}]
[null,null,null,null,null,null,196,{"$f":"IF(Students!C198=\"\",\"\",Students!C198)","v":""},{"$f":"IF(Students!D198=\"\",\"\",Students!D198)","v":""},{"$f":"IF(Students!C198=\"\",\"\",H197&\" \"&I197&\" \"&O197)","v":""},{"$f":"IF(Students!E198=\"\",\"\",Students!E198)","v":""},{"$f":"IF(Students!F198=\"\",\"\",Students!F198)","v":""},{"$f":"IF(Students!G198=\"\",\"\",Students!G198)","v":""},{"$f":"IF(Students!G198=\"\",\"\",DATEDIF(Students!G198,Settings!$A$2,\"y\"))","v":""},{"$f":"IF(Students!C198=\"\",\"\",RIGHT(Home!$B$11,5))","v":""}]
[null,null,null,null,null,null,197,{"$f":"IF(Students!C199=\"\",\"\",Students!C199)","v":""},{"$f":"IF(Students!D199=\"\",\"\",Students!D199)","v":""},{"$f":"IF(Students!C199=\"\",\"\",H198&\" \"&I198&\" \"&O198)","v":""},{"$f":"IF(Students!E199=\"\",\"\",Students!E199)","v":""},{"$f":"IF(Students!F199=\"\",\"\",Students!F199)","v":""},{"$f":"IF(Students!G199=\"\",\"\",Students!G199)","v":""},{"$f":"IF(Students!G199=\"\",\"\",DATEDIF(Students!G199,Settings!$A$2,\"y\"))","v":""},{"$f":"IF(Students!C199=\"\",\"\",RIGHT(Home!$B$11,5))","v":""}]
[null,null,null,null,null,null,198,{"$f":"IF(Students!C200=\"\",\"\",Students!C200)","v":""},{"$f":"IF(Students!D200=\"\",\"\",Students!D200)","v":""},{"$f":"IF(Students!C200=\"\",\"\",H199&\" \"&I199&\" \"&O199)","v":""},{"$f":"IF(Students!E200=\"\",\"\",Students!E200)","v":""},{"$f":"IF(Students!F200=\"\",\"\",Students!F200)","v":""},{"$f":"IF(Students!G200=\"\",\"\",Students!G200)","v":""},{"$f":"IF(Students!G200=\"\",\"\",DATEDIF(Students!G200,Settings!$A$2,\"y\"))","v":""},{"$f":"IF(Students!C200=\"\",\"\",RIGHT(Home!$B$11,5))","v":""}]
[null,null,null,null,null,null,199,{"$f":"IF(Students!C201=\"\",\"\",Students!C201)","v":""},{"$f":"IF(Students!D201=\"\",\"\",Students!D201)","v":""},{"$f":"IF(Students!C201=\"\",\"\",H200&\" \"&I200&\" \"&O200)","v":""},{"$f":"IF(Students!E201=\"\",\"\",Students!E201)","v":""},{"$f":"IF(Students!F201=\"\",\"\",Students!F201)","v":""},{"$f":"IF(Students!G201=\"\",\"\",Students!G201)","v":""},{"$f":"IF(Students!G201=\"\",\"\",DATEDIF(Students!G201,Settings!$A$2,\"y\"))","v":""},{"$f":"IF(Students!C201=\"\",\"\",RIGHT(Home!$B$11,5))","v":""}]
[null,null,null,null,null,null,200,{"$f":"IF(Students!C202=\"\",\"\",Students!C202)","v":""},{"$f":"IF(Students!D202=\"\",\"\",Students!D202)","v":""},{"$f":"IF(Students!C202=\"\",\"\",H201&\" \"&I201&\" \"&O201)","v":""},{"$f":"IF(Students!E202=\"\",\"\",Students!E202)","v":""},{"$f":"IF(Students!F202=\"\",\"\",Students!F202)","v":""},{"$f":"IF(Students!G202=\"\",\"\",Students!G202)","v":""},{"$f":"IF(Students!G202=\"\",\"\",DATEDIF(Students!G202,Settings!$A$2,\"y\"))","v":""},{"$f":"IF(Students!C202=\"\",\"\",RIGHT(Home!$B$11,5))","v":""}]
[null,null,null,null,null,null,201,{"$f":"IF(Students!C203=\"\",\"\",Students!C203)","v":""},{"$f":"IF(Students!D203=\"\",\"\",Students!D203)","v":""},{"$f":"IF(Students!C203=\"\",\"\",H202&\" \"&I202&\" \"&O202)","v":""},{"$f":"IF(Students!E203=\"\",\"\",Students!E203)","v":""},{"$f":"IF(Students!F203=\"\",\"\",Students!F203)","v":""},{"$f":"IF(Students!G203=\"\",\"\",Students!G203)","v":""},{"$f":"IF(Students!G203=\"\",\"\",DATEDIF(Students!G203,Settings!$A$2,\"y\"))","v":""},{"$f":"IF(Students!C203=\"\",\"\",RIGHT(Home!$B$11,5))","v":""}]
[null,null,null,null,null,null,202,{"$f":"IF(Students!C204=\"\",\"\",Students!C204)","v":""},{"$f":"IF(Students!D204=\"\",\"\",Students!D204)","v":""},{"$f":"IF(Students!C204=\"\",\"\",H203&\" \"&I203&\" \"&O203)","v":""},{"$f":"IF(Students!E204=\"\",\"\",Students!E204)","v":""},{"$f":"IF(Students!F204=\"\",\"\",Students!F204)","v":""},{"$f":"IF(Students!G204=\"\",\"\",Students!G204)","v":""},{"$f":"IF(Students!G204=\"\",\"\",DATEDIF(Students!G204,Settings!$A$2,\"y\"))","v":""},{"$f":"IF(Students!C204=\"\",\"\",RIGHT(Home!$B$11,5))","v":""}]
[null,null,null,null,null,null,203,{"$f":"IF(Students!C205=\"\",\"\",Students!C205)","v":""},{"$f":"IF(Students!D205=\"\",\"\",Students!D205)","v":""},{"$f":"IF(Students!C205=\"\",\"\",H204&\" \"&I204&\" \"&O204)","v":""},{"$f":"IF(Students!E205=\"\",\"\",Students!E205)","v":""},{"$f":"IF(Students!F205=\"\",\"\",Students!F205)","v":""},{"$f":"IF(Students!G205=\"\",\"\",Students!G205)","v":""},{"$f":"IF(Students!G205=\"\",\"\",DATEDIF(Students!G205,Settings!$A$2,\"y\"))","v":""},{"$f":"IF(Students!C205=\"\",\"\",RIGHT(Home!$B$11,5))","v":""}]
[null,null,null,null,null,null,204,{"$f":"IF(Students!C206=\"\",\"\",Students!C206)","v":""},{"$f":"IF(Students!D206=\"\",\"\",Students!D206)","v":""},{"$f":"IF(Students!C206=\"\",\"\",H205&\" \"&I205&\" \"&O205)","v":""},{"$f":"IF(Students!E206=\"\",\"\",Students!E206)","v":""},{"$f":"IF(Students!F206=\"\",\"\",Students!F206)","v":""},{"$f":"IF(Students!G206=\"\",\"\",Students!G206)","v":""},{"$f":"IF(Students!G206=\"\",\"\",DATEDIF(Students!G206,Settings!$A$2,\"y\"))","v":""},{"$f":"IF(Students!C206=\"\",\"\",RIGHT(Home!$B$11,5))","v":""}]
[null,null,null,null,null,null,205,{"$f":"IF(Students!C207=\"\",\"\",Students!C207)","v":""},{"$f":"IF(Students!D207=\"\",\"\",Students!D207)","v":""},{"$f":"IF(Students!C207=\"\",\"\",H206&\" \"&I206&\" \"&O206)","v":""},{"$f":"IF(Students!E207=\"\",\"\",Students!E207)","v":""},{"$f":"IF(Students!F207=\"\",\"\",Students!F207)","v":""},{"$f":"IF(Students!G207=\"\",\"\",Students!G207)","v":""},{"$f":"IF(Students!G207=\"\",\"\",DATEDIF(Students!G207,Settings!$A$2,\"y\"))","v":""},{"$f":"IF(Students!C207=\"\",\"\",RIGHT(Home!$B$11,5))","v":""}]
[null,null,null,null,null,null,206,{"$f":"IF(Students!C208=\"\",\"\",Students!C208)","v":""},{"$f":"IF(Students!D208=\"\",\"\",Students!D208)","v":""},{"$f":"IF(Students!C208=\"\",\"\",H207&\" \"&I207&\" \"&O207)","v":""},{"$f":"IF(Students!E208=\"\",\"\",Students!E208)","v":""},{"$f":"IF(Students!F208=\"\",\"\",Students!F208)","v":""},{"$f":"IF(Students!G208=\"\",\"\",Students!G208)","v":""},{"$f":"IF(Students!G208=\"\",\"\",DATEDIF(Students!G208,Settings!$A$2,\"y\"))","v":""},{"$f":"IF(Students!C208=\"\",\"\",RIGHT(Home!$B$11,5))","v":""}]
[null,null,null,null,null,null,207,{"$f":"IF(Students!C209=\"\",\"\",Students!C209)","v":""},{"$f":"IF(Students!D209=\"\",\"\",Students!D209)","v":""},{"$f":"IF(Students!C209=\"\",\"\",H208&\" \"&I208&\" \"&O208)","v":""},{"$f":"IF(Students!E209=\"\",\"\",Students!E209)","v":""},{"$f":"IF(Students!F209=\"\",\"\",Students!F209)","v":""},{"$f":"IF(Students!G209=\"\",\"\",Students!G209)","v":""},{"$f":"IF(Students!G209=\"\",\"\",DATEDIF(Students!G209,Settings!$A$2,\"y\"))","v":""},{"$f":"IF(Students!C209=\"\",\"\",RIGHT(Home!$B$11,5))","v":""}]
[null,null,null,null,null,null,208,{"$f":"IF(Students!C210=\"\",\"\",Students!C210)","v":""},{"$f":"IF(Students!D210=\"\",\"\",Students!D210)","v":""},{"$f":"IF(Students!C210=\"\",\"\",H209&\" \"&I209&\" \"&O209)","v":""},{"$f":"IF(Students!E210=\"\",\"\",Students!E210)","v":""},{"$f":"IF(Students!F210=\"\",\"\",Students!F210)","v":""},{"$f":"IF(Students!G210=\"\",\"\",Students!G210)","v":""},{"$f":"IF(Students!G210=\"\",\"\",DATEDIF(Students!G210,Settings!$A$2,\"y\"))","v":""},{"$f":"IF(Students!C210=\"\",\"\",RIGHT(Home!$B$11,5))","v":""}]
[null,null,null,null,null,null,209,{"$f":"IF(Students!C211=\"\",\"\",Students!C211)","v":""},{"$f":"IF(Students!D211=\"\",\"\",Students!D211)","v":""},{"$f":"IF(Students!C211=\"\",\"\",H210&\" \"&I210&\" \"&O210)","v":""},{"$f":"IF(Students!E211=\"\",\"\",Students!E211)","v":""},{"$f":"IF(Students!F211=\"\",\"\",Students!F211)","v":""},{"$f":"IF(Students!G211=\"\",\"\",Students!G211)","v":""},{"$f":"IF(Students!G211=\"\",\"\",DATEDIF(Students!G211,Settings!$A$2,\"y\"))","v":""},{"$f":"IF(Students!C211=\"\",\"\",RIGHT(Home!$B$11,5))","v":""}]
[null,null,null,null,null,null,210,{"$f":"IF(Students!C212=\"\",\"\",Students!C212)","v":""},{"$f":"IF(Students!D212=\"\",\"\",Students!D212)","v":""},{"$f":"IF(Students!C212=\"\",\"\",H211&\" \"&I211&\" \"&O211)","v":""},{"$f":"IF(Students!E212=\"\",\"\",Students!E212)","v":""},{"$f":"IF(Students!F212=\"\",\"\",Students!F212)","v":""},{"$f":"IF(Students!G212=\"\",\"\",Students!G212)","v":""},{"$f":"IF(Students!G212=\"\",\"\",DATEDIF(Students!G212,Settings!$A$2,\"y\"))","v":""},{"$f":"IF(Students!C212=\"\",\"\",RIGHT(Home!$B$11,5))","v":""}]
[null,null,null,null,null,null,211,{"$f":"IF(Students!C213=\"\",\"\",Students!C213)","v":""},{"$f":"IF(Students!D213=\"\",\"\",Students!D213)","v":""},{"$f":"IF(Students!C213=\"\",\"\",H212&\" \"&I212&\" \"&O212)","v":""},{"$f":"IF(Students!E213=\"\",\"\",Students!E213)","v":""},{"$f":"IF(Students!F213=\"\",\"\",Students!F213)","v":""},{"$f":"IF(Students!G213=\"\",\"\",Students!G213)","v":""},{"$f":"IF(Students!G213=\"\",\"\",DATEDIF(Students!G213,Settings!$A$2,\"y\"))","v":""},{"$f":"IF(Students!C213=\"\",\"\",RIGHT(Home!$B$11,5))","v":""}]
[null,null,null,null,null,null,212,{"$f":"IF(Students!C214=\"\",\"\",Students!C214)","v":""},{"$f":"IF(Students!D214=\"\",\"\",Students!D214)","v":""},{"$f":"IF(Students!C214=\"\",\"\",H213&\" \"&I213&\" \"&O213)","v":""},{"$f":"IF(Students!E214=\"\",\"\",Students!E214)","v":""},{"$f":"IF(Students!F214=\"\",\"\",Students!F214)","v":""},{"$f":"IF(Students!G214=\"\",\"\",Students!G214)","v":""},{"$f":"IF(Students!G214=\"\",\"\",DATEDIF(Students!G214,Settings!$A$2,\"y\"))","v":""},{"$f":"IF(Students!C214=\"\",\"\",RIGHT(Home!$B$11,5))","v":""}]
[null,null,null,null,null,null,213,{"$f":"IF(Students!C215=\"\",\"\",Students!C215)","v":""},{"$f":"IF(Students!D215=\"\",\"\",Students!D215)","v":""},{"$f":"IF(Students!C215=\"\",\"\",H214&\" \"&I214&\" \"&O214)","v":""},{"$f":"IF(Students!E215=\"\",\"\",Students!E215)","v":""},{"$f":"IF(Students!F215=\"\",\"\",Students!F215)","v":""},{"$f":"IF(Students!G215=\"\",\"\",Students!G215)","v":""},{"$f":"IF(Students!G215=\"\",\"\",DATEDIF(Students!G215,Settings!$A$2,\"y\"))","v":""},{"$f":"IF(Students!C215=\"\",\"\",RIGHT(Home!$B$11,5))","v":""}]
[null,null,null,null,null,null,214,{"$f":"IF(Students!C216=\"\",\"\",Students!C216)","v":""},{"$f":"IF(Students!D216=\"\",\"\",Students!D216)","v":""},{"$f":"IF(Students!C216=\"\",\"\",H215&\" \"&I215&\" \"&O215)","v":""},{"$f":"IF(Students!E216=\"\",\"\",Students!E216)","v":""},{"$f":"IF(Students!F216=\"\",\"\",Students!F216)","v":""},{"$f":"IF(Students!G216=\"\",\"\",Students!G216)","v":""},{"$f":"IF(Students!G216=\"\",\"\",DATEDIF(Students!G216,Settings!$A$2,\"y\"))","v":""},{"$f":"IF(Students!C216=\"\",\"\",RIGHT(Home!$B$11,5))","v":""}]
[null,null,null,null,null,null,215,{"$f":"IF(Students!C217=\"\",\"\",Students!C217)","v":""},{"$f":"IF(Students!D217=\"\",\"\",Students!D217)","v":""},{"$f":"IF(Students!C217=\"\",\"\",H216&\" \"&I216&\" \"&O216)","v":""},{"$f":"IF(Students!E217=\"\",\"\",Students!E217)","v":""},{"$f":"IF(Students!F217=\"\",\"\",Students!F217)","v":""},{"$f":"IF(Students!G217=\"\",\"\",Students!G217)","v":""},{"$f":"IF(Students!G217=\"\",\"\",DATEDIF(Students!G217,Settings!$A$2,\"y\"))","v":""},{"$f":"IF(Students!C217=\"\",\"\",RIGHT(Home!$B$11,5))","v":""}]
[null,null,null,null,null,null,216,{"$f":"IF(Students!C218=\"\",\"\",Students!C218)","v":""},{"$f":"IF(Students!D218=\"\",\"\",Students!D218)","v":""},{"$f":"IF(Students!C218=\"\",\"\",H217&\" \"&I217&\" \"&O217)","v":""},{"$f":"IF(Students!E218=\"\",\"\",Students!E218)","v":""},{"$f":"IF(Students!F218=\"\",\"\",Students!F218)","v":""},{"$f":"IF(Students!G218=\"\",\"\",Students!G218)","v":""},{"$f":"IF(Students!G218=\"\",\"\",DATEDIF(Students!G218,Settings!$A$2,\"y\"))","v":""},{"$f":"IF(Students!C218=\"\",\"\",RIGHT(Home!$B$11,5))","v":""}]
[null,null,null,null,null,null,217,{"$f":"IF(Students!C219=\"\",\"\",Students!C219)","v":""},{"$f":"IF(Students!D219=\"\",\"\",Students!D219)","v":""},{"$f":"IF(Students!C219=\"\",\"\",H218&\" \"&I218&\" \"&O218)","v":""},{"$f":"IF(Students!E219=\"\",\"\",Students!E219)","v":""},{"$f":"IF(Students!F219=\"\",\"\",Students!F219)","v":""},{"$f":"IF(Students!G219=\"\",\"\",Students!G219)","v":""},{"$f":"IF(Students!G219=\"\",\"\",DATEDIF(Students!G219,Settings!$A$2,\"y\"))","v":""},{"$f":"IF(Students!C219=\"\",\"\",RIGHT(Home!$B$11,5))","v":""}]
[null,null,null,null,null,null,218,{"$f":"IF(Students!C220=\"\",\"\",Students!C220)","v":""},{"$f":"IF(Students!D220=\"\",\"\",Students!D220)","v":""},{"$f":"IF(Students!C220=\"\",\"\",H219&\" \"&I219&\" \"&O219)","v":""},{"$f":"IF(Students!E220=\"\",\"\",Students!E220)","v":""},{"$f":"IF(Students!F220=\"\",\"\",Students!F220)","v":""},{"$f":"IF(Students!G220=\"\",\"\",Students!G220)","v":""},{"$f":"IF(Students!G220=\"\",\"\",DATEDIF(Students!G220,Settings!$A$2,\"y\"))","v":""},{"$f":"IF(Students!C220=\"\",\"\",RIGHT(Home!$B$11,5))","v":""}]
[null,null,null,null,null,null,219,{"$f":"IF(Students!C221=\"\",\"\",Students!C221)","v":""},{"$f":"IF(Students!D221=\"\",\"\",Students!D221)","v":""},{"$f":"IF(Students!C221=\"\",\"\",H220&\" \"&I220&\" \"&O220)","v":""},{"$f":"IF(Students!E221=\"\",\"\",Students!E221)","v":""},{"$f":"IF(Students!F221=\"\",\"\",Students!F221)","v":""},{"$f":"IF(Students!G221=\"\",\"\",Students!G221)","v":""},{"$f":"IF(Students!G221=\"\",\"\",DATEDIF(Students!G221,Settings!$A$2,\"y\"))","v":""},{"$f":"IF(Students!C221=\"\",\"\",RIGHT(Home!$B$11,5))","v":""}]
[null,null,null,null,null,null,220,{"$f":"IF(Students!C222=\"\",\"\",Students!C222)","v":""},{"$f":"IF(Students!D222=\"\",\"\",Students!D222)","v":""},{"$f":"IF(Students!C222=\"\",\"\",H221&\" \"&I221&\" \"&O221)","v":""},{"$f":"IF(Students!E222=\"\",\"\",Students!E222)","v":""},{"$f":"IF(Students!F222=\"\",\"\",Students!F222)","v":""},{"$f":"IF(Students!G222=\"\",\"\",Students!G222)","v":""},{"$f":"IF(Students!G222=\"\",\"\",DATEDIF(Students!G222,Settings!$A$2,\"y\"))","v":""},{"$f":"IF(Students!C222=\"\",\"\",RIGHT(Home!$B$11,5))","v":""}]
[null,null,null,null,null,null,221,{"$f":"IF(Students!C223=\"\",\"\",Students!C223)","v":""},{"$f":"IF(Students!D223=\"\",\"\",Students!D223)","v":""},{"$f":"IF(Students!C223=\"\",\"\",H222&\" \"&I222&\" \"&O222)","v":""},{"$f":"IF(Students!E223=\"\",\"\",Students!E223)","v":""},{"$f":"IF(Students!F223=\"\",\"\",Students!F223)","v":""},{"$f":"IF(Students!G223=\"\",\"\",Students!G223)","v":""},{"$f":"IF(Students!G223=\"\",\"\",DATEDIF(Students!G223,Settings!$A$2,\"y\"))","v":""},{"$f":"IF(Students!C223=\"\",\"\",RIGHT(Home!$B$11,5))","v":""}]
[null,null,null,null,null,null,222,{"$f":"IF(Students!C224=\"\",\"\",Students!C224)","v":""},{"$f":"IF(Students!D224=\"\",\"\",Students!D224)","v":""},{"$f":"IF(Students!C224=\"\",\"\",H223&\" \"&I223&\" \"&O223)","v":""},{"$f":"IF(Students!E224=\"\",\"\",Students!E224)","v":""},{"$f":"IF(Students!F224=\"\",\"\",Students!F224)","v":""},{"$f":"IF(Students!G224=\"\",\"\",Students!G224)","v":""},{"$f":"IF(Students!G224=\"\",\"\",DATEDIF(Students!G224,Settings!$A$2,\"y\"))","v":""},{"$f":"IF(Students!C224=\"\",\"\",RIGHT(Home!$B$11,5))","v":""}]
[null,null,null,null,null,null,223,{"$f":"IF(Students!C225=\"\",\"\",Students!C225)","v":""},{"$f":"IF(Students!D225=\"\",\"\",Students!D225)","v":""},{"$f":"IF(Students!C225=\"\",\"\",H224&\" \"&I224&\" \"&O224)","v":""},{"$f":"IF(Students!E225=\"\",\"\",Students!E225)","v":""},{"$f":"IF(Students!F225=\"\",\"\",Students!F225)","v":""},{"$f":"IF(Students!G225=\"\",\"\",Students!G225)","v":""},{"$f":"IF(Students!G225=\"\",\"\",DATEDIF(Students!G225,Settings!$A$2,\"y\"))","v":""},{"$f":"IF(Students!C225=\"\",\"\",RIGHT(Home!$B$11,5))","v":""}]
[null,null,null,null,null,null,224,{"$f":"IF(Students!C226=\"\",\"\",Students!C226)","v":""},{"$f":"IF(Students!D226=\"\",\"\",Students!D226)","v":""},{"$f":"IF(Students!C226=\"\",\"\",H225&\" \"&I225&\" \"&O225)","v":""},{"$f":"IF(Students!E226=\"\",\"\",Students!E226)","v":""},{"$f":"IF(Students!F226=\"\",\"\",Students!F226)","v":""},{"$f":"IF(Students!G226=\"\",\"\",Students!G226)","v":""},{"$f":"IF(Students!G226=\"\",\"\",DATEDIF(Students!G226,Settings!$A$2,\"y\"))","v":""},{"$f":"IF(Students!C226=\"\",\"\",RIGHT(Home!$B$11,5))","v":""}]
[null,null,null,null,null,null,225,{"$f":"IF(Students!C227=\"\",\"\",Students!C227)","v":""},{"$f":"IF(Students!D227=\"\",\"\",Students!D227)","v":""},{"$f":"IF(Students!C227=\"\",\"\",H226&\" \"&I226&\" \"&O226)","v":""},{"$f":"IF(Students!E227=\"\",\"\",Students!E227)","v":""},{"$f":"IF(Students!F227=\"\",\"\",Students!F227)","v":""},{"$f":"IF(Students!G227=\"\",\"\",Students!G227)","v":""},{"$f":"IF(Students!G227=\"\",\"\",DATEDIF(Students!G227,Settings!$A$2,\"y\"))","v":""},{"$f":"IF(Students!C227=\"\",\"\",RIGHT(Home!$B$11,5))","v":""}]
[null,null,null,null,null,null,226,{"$f":"IF(Students!C228=\"\",\"\",Students!C228)","v":""},{"$f":"IF(Students!D228=\"\",\"\",Students!D228)","v":""},{"$f":"IF(Students!C228=\"\",\"\",H227&\" \"&I227&\" \"&O227)","v":""},{"$f":"IF(Students!E228=\"\",\"\",Students!E228)","v":""},{"$f":"IF(Students!F228=\"\",\"\",Students!F228)","v":""},{"$f":"IF(Students!G228=\"\",\"\",Students!G228)","v":""},{"$f":"IF(Students!G228=\"\",\"\",DATEDIF(Students!G228,Settings!$A$2,\"y\"))","v":""},{"$f":"IF(Students!C228=\"\",\"\",RIGHT(Home!$B$11,5))","v":""}]
[null,null,null,null,null,null,227,{"$f":"IF(Students!C229=\"\",\"\",Students!C229)","v":""},{"$f":"IF(Students!D229=\"\",\"\",Students!D229)","v":""},{"$f":"IF(Students!C229=\"\",\"\",H228&\" \"&I228&\" \"&O228)","v":""},{"$f":"IF(Students!E229=\"\",\"\",Students!E229)","v":""},{"$f":"IF(Students!F229=\"\",\"\",Students!F229)","v":""},{"$f":"IF(Students!G229=\"\",\"\",Students!G229)","v":""},{"$f":"IF(Students!G229=\"\",\"\",DATEDIF(Students!G229,Settings!$A$2,\"y\"))","v":""},{"$f":"IF(Students!C229=\"\",\"\",RIGHT(Home!$B$11,5))","v":""}]
[null,null,null,null,null,null,228,{"$f":"IF(Students!C230=\"\",\"\",Students!C230)","v":""},{"$f":"IF(Students!D230=\"\",\"\",Students!D230)","v":""},{"$f":"IF(Students!C230=\"\",\"\",H229&\" \"&I229&\" \"&O229)","v":""},{"$f":"IF(Students!E230=\"\",\"\",Students!E230)","v":""},{"$f":"IF(Students!F230=\"\",\"\",Students!F230)","v":""},{"$f":"IF(Students!G230=\"\",\"\",Students!G230)","v":""},{"$f":"IF(Students!G230=\"\",\"\",DATEDIF(Students!G230,Settings!$A$2,\"y\"))","v":""},{"$f":"IF(Students!C230=\"\",\"\",RIGHT(Home!$B$11,5))","v":""}]
[null,null,null,null,null,null,229,{"$f":"IF(Students!C231=\"\",\"\",Students!C231)","v":""},{"$f":"IF(Students!D231=\"\",\"\",Students!D231)","v":""},{"$f":"IF(Students!C231=\"\",\"\",H230&\" \"&I230&\" \"&O230)","v":""},{"$f":"IF(Students!E231=\"\",\"\",Students!E231)","v":""},{"$f":"IF(Students!F231=\"\",\"\",Students!F231)","v":""},{"$f":"IF(Students!G231=\"\",\"\",Students!G231)","v":""},{"$f":"IF(Students!G231=\"\",\"\",DATEDIF(Students!G231,Settings!$A$2,\"y\"))","v":""},{"$f":"IF(Students!C231=\"\",\"\",RIGHT(Home!$B$11,5))","v":""}]
[null,null,null,null,null,null,230,{"$f":"IF(Students!C232=\"\",\"\",Students!C232)","v":""},{"$f":"IF(Students!D232=\"\",\"\",Students!D232)","v":""},{"$f":"IF(Students!C232=\"\",\"\",H231&\" \"&I231&\" \"&O231)","v":""},{"$f":"IF(Students!E232=\"\",\"\",Students!E232)","v":""},{"$f":"IF(Students!F232=\"\",\"\",Students!F232)","v":""},{"$f":"IF(Students!G232=\"\",\"\",Students!G232)","v":""},{"$f":"IF(Students!G232=\"\",\"\",DATEDIF(Students!G232,Settings!$A$2,\"y\"))","v":""},{"$f":"IF(Students!C232=\"\",\"\",RIGHT(Home!$B$11,5))","v":""}]
[null,null,null,null,null,null,231,{"$f":"IF(Students!C233=\"\",\"\",Students!C233)","v":""},{"$f":"IF(Students!D233=\"\",\"\",Students!D233)","v":""},{"$f":"IF(Students!C233=\"\",\"\",H232&\" \"&I232&\" \"&O232)","v":""},{"$f":"IF(Students!E233=\"\",\"\",Students!E233)","v":""},{"$f":"IF(Students!F233=\"\",\"\",Students!F233)","v":""},{"$f":"IF(Students!G233=\"\",\"\",Students!G233)","v":""},{"$f":"IF(Students!G233=\"\",\"\",DATEDIF(Students!G233,Settings!$A$2,\"y\"))","v":""},{"$f":"IF(Students!C233=\"\",\"\",RIGHT(Home!$B$11,5))","v":""}]
[null,null,null,null,null,null,232,{"$f":"IF(Students!C234=\"\",\"\",Students!C234)","v":""},{"$f":"IF(Students!D234=\"\",\"\",Students!D234)","v":""},{"$f":"IF(Students!C234=\"\",\"\",H233&\" \"&I233&\" \"&O233)","v":""},{"$f":"IF(Students!E234=\"\",\"\",Students!E234)","v":""},{"$f":"IF(Students!F234=\"\",\"\",Students!F234)","v":""},{"$f":"IF(Students!G234=\"\",\"\",Students!G234)","v":""},{"$f":"IF(Students!G234=\"\",\"\",DATEDIF(Students!G234,Settings!$A$2,\"y\"))","v":""},{"$f":"IF(Students!C234=\"\",\"\",RIGHT(Home!$B$11,5))","v":""}]
[null,null,null,null,null,null,233,{"$f":"IF(Students!C235=\"\",\"\",Students!C235)","v":""},{"$f":"IF(Students!D235=\"\",\"\",Students!D235)","v":""},{"$f":"IF(Students!C235=\"\",\"\",H234&\" \"&I234&\" \"&O234)","v":""},{"$f":"IF(Students!E235=\"\",\"\",Students!E235)","v":""},{"$f":"IF(Students!F235=\"\",\"\",Students!F235)","v":""},{"$f":"IF(Students!G235=\"\",\"\",Students!G235)","v":""},{"$f":"IF(Students!G235=\"\",\"\",DATEDIF(Students!G235,Settings!$A$2,\"y\"))","v":""},{"$f":"IF(Students!C235=\"\",\"\",RIGHT(Home!$B$11,5))","v":""}]
[null,null,null,null,null,null,234,{"$f":"IF(Students!C236=\"\",\"\",Students!C236)","v":""},{"$f":"IF(Students!D236=\"\",\"\",Students!D236)","v":""},{"$f":"IF(Students!C236=\"\",\"\",H235&\" \"&I235&\" \"&O235)","v":""},{"$f":"IF(Students!E236=\"\",\"\",Students!E236)","v":""},{"$f":"IF(Students!F236=\"\",\"\",Students!F236)","v":""},{"$f":"IF(Students!G236=\"\",\"\",Students!G236)","v":""},{"$f":"IF(Students!G236=\"\",\"\",DATEDIF(Students!G236,Settings!$A$2,\"y\"))","v":""},{"$f":"IF(Students!C236=\"\",\"\",RIGHT(Home!$B$11,5))","v":""}]
[null,null,null,null,null,null,235,{"$f":"IF(Students!C237=\"\",\"\",Students!C237)","v":""},{"$f":"IF(Students!D237=\"\",\"\",Students!D237)","v":""},{"$f":"IF(Students!C237=\"\",\"\",H236&\" \"&I236&\" \"&O236)","v":""},{"$f":"IF(Students!E237=\"\",\"\",Students!E237)","v":""},{"$f":"IF(Students!F237=\"\",\"\",Students!F237)","v":""},{"$f":"IF(Students!G237=\"\",\"\",Students!G237)","v":""},{"$f":"IF(Students!G237=\"\",\"\",DATEDIF(Students!G237,Settings!$A$2,\"y\"))","v":""},{"$f":"IF(Students!C237=\"\",\"\",RIGHT(Home!$B$11,5))","v":""}]
[null,null,null,null,null,null,236,{"$f":"IF(Students!C238=\"\",\"\",Students!C238)","v":""},{"$f":"IF(Students!D238=\"\",\"\",Students!D238)","v":""},{"$f":"IF(Students!C238=\"\",\"\",H237&\" \"&I237&\" \"&O237)","v":""},{"$f":"IF(Students!E238=\"\",\"\",Students!E238)","v":""},{"$f":"IF(Students!F238=\"\",\"\",Students!F238)","v":""},{"$f":"IF(Students!G238=\"\",\"\",Students!G238)","v":""},{"$f":"IF(Students!G238=\"\",\"\",DATEDIF(Students!G238,Settings!$A$2,\"y\"))","v":""},{"$f":"IF(Students!C238=\"\",\"\",RIGHT(Home!$B$11,5))","v":""}]
[null,null,null,null,null,null,237,{"$f":"IF(Students!C239=\"\",\"\",Students!C239)","v":""},{"$f":"IF(Students!D239=\"\",\"\",Students!D239)","v":""},{"$f":"IF(Students!C239=\"\",\"\",H238&\" \"&I238&\" \"&O238)","v":""},{"$f":"IF(Students!E239=\"\",\"\",Students!E239)","v":""},{"$f":"IF(Students!F239=\"\",\"\",Students!F239)","v":""},{"$f":"IF(Students!G239=\"\",\"\",Students!G239)","v":""},{"$f":"IF(Students!G239=\"\",\"\",DATEDIF(Students!G239,Settings!$A$2,\"y\"))","v":""},{"$f":"IF(Students!C239=\"\",\"\",RIGHT(Home!$B$11,5))","v":""}]
[null,null,null,null,null,null,238,{"$f":"IF(Students!C240=\"\",\"\",Students!C240)","v":""},{"$f":"IF(Students!D240=\"\",\"\",Students!D240)","v":""},{"$f":"IF(Students!C240=\"\",\"\",H239&\" \"&I239&\" \"&O239)","v":""},{"$f":"IF(Students!E240=\"\",\"\",Students!E240)","v":""},{"$f":"IF(Students!F240=\"\",\"\",Students!F240)","v":""},{"$f":"IF(Students!G240=\"\",\"\",Students!G240)","v":""},{"$f":"IF(Students!G240=\"\",\"\",DATEDIF(Students!G240,Settings!$A$2,\"y\"))","v":""},{"$f":"IF(Students!C240=\"\",\"\",RIGHT(Home!$B$11,5))","v":""}]
[null,null,null,null,null,null,239,{"$f":"IF(Students!C241=\"\",\"\",Students!C241)","v":""},{"$f":"IF(Students!D241=\"\",\"\",Students!D241)","v":""},{"$f":"IF(Students!C241=\"\",\"\",H240&\" \"&I240&\" \"&O240)","v":""},{"$f":"IF(Students!E241=\"\",\"\",Students!E241)","v":""},{"$f":"IF(Students!F241=\"\",\"\",Students!F241)","v":""},{"$f":"IF(Students!G241=\"\",\"\",Students!G241)","v":""},{"$f":"IF(Students!G241=\"\",\"\",DATEDIF(Students!G241,Settings!$A$2,\"y\"))","v":""},{"$f":"IF(Students!C241=\"\",\"\",RIGHT(Home!$B$11,5))","v":""}]
[null,null,null,null,null,null,240,{"$f":"IF(Students!C242=\"\",\"\",Students!C242)","v":""},{"$f":"IF(Students!D242=\"\",\"\",Students!D242)","v":""},{"$f":"IF(Students!C242=\"\",\"\",H241&\" \"&I241&\" \"&O241)","v":""},{"$f":"IF(Students!E242=\"\",\"\",Students!E242)","v":""},{"$f":"IF(Students!F242=\"\",\"\",Students!F242)","v":""},{"$f":"IF(Students!G242=\"\",\"\",Students!G242)","v":""},{"$f":"IF(Students!G242=\"\",\"\",DATEDIF(Students!G242,Settings!$A$2,\"y\"))","v":""},{"$f":"IF(Students!C242=\"\",\"\",RIGHT(Home!$B$11,5))","v":""}]
[null,null,null,null,null,null,241,{"$f":"IF(Students!C243=\"\",\"\",Students!C243)","v":""},{"$f":"IF(Students!D243=\"\",\"\",Students!D243)","v":""},{"$f":"IF(Students!C243=\"\",\"\",H242&\" \"&I242&\" \"&O242)","v":""},{"$f":"IF(Students!E243=\"\",\"\",Students!E243)","v":""},{"$f":"IF(Students!F243=\"\",\"\",Students!F243)","v":""},{"$f":"IF(Students!G243=\"\",\"\",Students!G243)","v":""},{"$f":"IF(Students!G243=\"\",\"\",DATEDIF(Students!G243,Settings!$A$2,\"y\"))","v":""},{"$f":"IF(Students!C243=\"\",\"\",RIGHT(Home!$B$11,5))","v":""}]
[null,null,null,null,null,null,242,{"$f":"IF(Students!C244=\"\",\"\",Students!C244)","v":""},{"$f":"IF(Students!D244=\"\",\"\",Students!D244)","v":""},{"$f":"IF(Students!C244=\"\",\"\",H243&\" \"&I243&\" \"&O243)","v":""},{"$f":"IF(Students!E244=\"\",\"\",Students!E244)","v":""},{"$f":"IF(Students!F244=\"\",\"\",Students!F244)","v":""},{"$f":"IF(Students!G244=\"\",\"\",Students!G244)","v":""},{"$f":"IF(Students!G244=\"\",\"\",DATEDIF(Students!G244,Settings!$A$2,\"y\"))","v":""},{"$f":"IF(Students!C244=\"\",\"\",RIGHT(Home!$B$11,5))","v":""}]
[null,null,null,null,null,null,243,{"$f":"IF(Students!C245=\"\",\"\",Students!C245)","v":""},{"$f":"IF(Students!D245=\"\",\"\",Students!D245)","v":""},{"$f":"IF(Students!C245=\"\",\"\",H244&\" \"&I244&\" \"&O244)","v":""},{"$f":"IF(Students!E245=\"\",\"\",Students!E245)","v":""},{"$f":"IF(Students!F245=\"\",\"\",Students!F245)","v":""},{"$f":"IF(Students!G245=\"\",\"\",Students!G245)","v":""},{"$f":"IF(Students!G245=\"\",\"\",DATEDIF(Students!G245,Settings!$A$2,\"y\"))","v":""},{"$f":"IF(Students!C245=\"\",\"\",RIGHT(Home!$B$11,5))","v":""}]
[null,null,null,null,null,null,244,{"$f":"IF(Students!C246=\"\",\"\",Students!C246)","v":""},{"$f":"IF(Students!D246=\"\",\"\",Students!D246)","v":""},{"$f":"IF(Students!C246=\"\",\"\",H245&\" \"&I245&\" \"&O245)","v":""},{"$f":"IF(Students!E246=\"\",\"\",Students!E246)","v":""},{"$f":"IF(Students!F246=\"\",\"\",Students!F246)","v":""},{"$f":"IF(Students!G246=\"\",\"\",Students!G246)","v":""},{"$f":"IF(Students!G246=\"\",\"\",DATEDIF(Students!G246,Settings!$A$2,\"y\"))","v":""},{"$f":"IF(Students!C246=\"\",\"\",RIGHT(Home!$B$11,5))","v":""}]
[null,null,null,null,null,null,245,{"$f":"IF(Students!C247=\"\",\"\",Students!C247)","v":""},{"$f":"IF(Students!D247=\"\",\"\",Students!D247)","v":""},{"$f":"IF(Students!C247=\"\",\"\",H246&\" \"&I246&\" \"&O246)","v":""},{"$f":"IF(Students!E247=\"\",\"\",Students!E247)","v":""},{"$f":"IF(Students!F247=\"\",\"\",Students!F247)","v":""},{"$f":"IF(Students!G247=\"\",\"\",Students!G247)","v":""},{"$f":"IF(Students!G247=\"\",\"\",DATEDIF(Students!G247,Settings!$A$2,\"y\"))","v":""},{"$f":"IF(Students!C247=\"\",\"\",RIGHT(Home!$B$11,5))","v":""}]
[null,null,null,null,null,null,246,{"$f":"IF(Students!C248=\"\",\"\",Students!C248)","v":""},{"$f":"IF(Students!D248=\"\",\"\",Students!D248)","v":""},{"$f":"IF(Students!C248=\"\",\"\",H247&\" \"&I247&\" \"&O247)","v":""},{"$f":"IF(Students!E248=\"\",\"\",Students!E248)","v":""},{"$f":"IF(Students!F248=\"\",\"\",Students!F248)","v":""},{"$f":"IF(Students!G248=\"\",\"\",Students!G248)","v":""},{"$f":"IF(Students!G248=\"\",\"\",DATEDIF(Students!G248,Settings!$A$2,\"y\"))","v":""},{"$f":"IF(Students!C248=\"\",\"\",RIGHT(Home!$B$11,5))","v":""}]
[null,null,null,null,null,null,247,{"$f":"IF(Students!C249=\"\",\"\",Students!C249)","v":""},{"$f":"IF(Students!D249=\"\",\"\",Students!D249)","v":""},{"$f":"IF(Students!C249=\"\",\"\",H248&\" \"&I248&\" \"&O248)","v":""},{"$f":"IF(Students!E249=\"\",\"\",Students!E249)","v":""},{"$f":"IF(Students!F249=\"\",\"\",Students!F249)","v":""},{"$f":"IF(Students!G249=\"\",\"\",Students!G249)","v":""},{"$f":"IF(Students!G249=\"\",\"\",DATEDIF(Students!G249,Settings!$A$2,\"y\"))","v":""},{"$f":"IF(Students!C249=\"\",\"\",RIGHT(Home!$B$11,5))","v":""}]
[null,null,null,null,null,null,248,{"$f":"IF(Students!C250=\"\",\"\",Students!C250)","v":""},{"$f":"IF(Students!D250=\"\",\"\",Students!D250)","v":""},{"$f":"IF(Students!C250=\"\",\"\",H249&\" \"&I249&\" \"&O249)","v":""},{"$f":"IF(Students!E250=\"\",\"\",Students!E250)","v":""},{"$f":"IF(Students!F250=\"\",\"\",Students!F250)","v":""},{"$f":"IF(Students!G250=\"\",\"\",Students!G250)","v":""},{"$f":"IF(Students!G250=\"\",\"\",DATEDIF(Students!G250,Settings!$A$2,\"y\"))","v":""},{"$f":"IF(Students!C250=\"\",\"\",RIGHT(Home!$B$11,5))","v":""}]
[null,null,null,null,null,null,249,{"$f":"IF(Students!C251=\"\",\"\",Students!C251)","v":""},{"$f":"IF(Students!D251=\"\",\"\",Students!D251)","v":""},{"$f":"IF(Students!C251=\"\",\"\",H250&\" \"&I250&\" \"&O250)","v":""},{"$f":"IF(Students!E251=\"\",\"\",Students!E251)","v":""},{"$f":"IF(Students!F251=\"\",\"\",Students!F251)","v":""},{"$f":"IF(Students!G251=\"\",\"\",Students!G251)","v":""},{"$f":"IF(Students!G251=\"\",\"\",DATEDIF(Students!G251,Settings!$A$2,\"y\"))","v":""},{"$f":"IF(Students!C251=\"\",\"\",RIGHT(Home!$B$11,5))","v":""}]
[null,null,null,null,null,null,250,{"$f":"IF(Students!C252=\"\",\"\",Students!C252)","v":""},{"$f":"IF(Students!D252=\"\",\"\",Students!D252)","v":""},{"$f":"IF(Students!C252=\"\",\"\",H251&\" \"&I251&\" \"&O251)","v":""},{"$f":"IF(Students!E252=\"\",\"\",Students!E252)","v":""},{"$f":"IF(Students!F252=\"\",\"\",Students!F252)","v":""},{"$f":"IF(Students!G252=\"\",\"\",Students!G252)","v":""},{"$f":"IF(Students!G252=\"\",\"\",DATEDIF(Students!G252,Settings!$A$2,\"y\"))","v":""},{"$f":"IF(Students!C252=\"\",\"\",RIGHT(Home!$B$11,5))","v":""}]
[null,null,null,null,null,null,251,{"$f":"IF(Students!C253=\"\",\"\",Students!C253)","v":""},{"$f":"IF(Students!D253=\"\",\"\",Students!D253)","v":""},{"$f":"IF(Students!C253=\"\",\"\",H252&\" \"&I252&\" \"&O252)","v":""},{"$f":"IF(Students!E253=\"\",\"\",Students!E253)","v":""},{"$f":"IF(Students!F253=\"\",\"\",Students!F253)","v":""},{"$f":"IF(Students!G253=\"\",\"\",Students!G253)","v":""},{"$f":"IF(Students!G253=\"\",\"\",DATEDIF(Students!G253,Settings!$A$2,\"y\"))","v":""},{"$f":"IF(Students!C253=\"\",\"\",RIGHT(Home!$B$11,5))","v":""}]
[null,null,null,null,null,null,252,{"$f":"IF(Students!C254=\"\",\"\",Students!C254)","v":""},{"$f":"IF(Students!D254=\"\",\"\",Students!D254)","v":""},{"$f":"IF(Students!C254=\"\",\"\",H253&\" \"&I253&\" \"&O253)","v":""},{"$f":"IF(Students!E254=\"\",\"\",Students!E254)","v":""},{"$f":"IF(Students!F254=\"\",\"\",Students!F254)","v":""},{"$f":"IF(Students!G254=\"\",\"\",Students!G254)","v":""},{"$f":"IF(Students!G254=\"\",\"\",DATEDIF(Students!G254,Settings!$A$2,\"y\"))","v":""},{"$f":"IF(Students!C254=\"\",\"\",RIGHT(Home!$B$11,5))","v":""}]
[null,null,null,null,null,null,253,{"$f":"IF(Students!C255=\"\",\"\",Students!C255)","v":""},{"$f":"IF(Students!D255=\"\",\"\",Students!D255)","v":""},{"$f":"IF(Students!C255=\"\",\"\",H254&\" \"&I254&\" \"&O254)","v":""},{"$f":"IF(Students!E255=\"\",\"\",Students!E255)","v":""},{"$f":"IF(Students!F255=\"\",\"\",Students!F255)","v":""},{"$f":"IF(Students!G255=\"\",\"\",Students!G255)","v":""},{"$f":"IF(Students!G255=\"\",\"\",DATEDIF(Students!G255,Settings!$A$2,\"y\"))","v":""},{"$f":"IF(Students!C255=\"\",\"\",RIGHT(Home!$B$11,5))","v":""}]
[null,null,null,null,null,null,254,{"$f":"IF(Students!C256=\"\",\"\",Students!C256)","v":""},{"$f":"IF(Students!D256=\"\",\"\",Students!D256)","v":""},{"$f":"IF(Students!C256=\"\",\"\",H255&\" \"&I255&\" \"&O255)","v":""},{"$f":"IF(Students!E256=\"\",\"\",Students!E256)","v":""},{"$f":"IF(Students!F256=\"\",\"\",Students!F256)","v":""},{"$f":"IF(Students!G256=\"\",\"\",Students!G256)","v":""},{"$f":"IF(Students!G256=\"\",\"\",DATEDIF(Students!G256,Settings!$A$2,\"y\"))","v":""},{"$f":"IF(Students!C256=\"\",\"\",RIGHT(Home!$B$11,5))","v":""}]
[null,null,null,null,null,null,255,{"$f":"IF(Students!C257=\"\",\"\",Students!C257)","v":""},{"$f":"IF(Students!D257=\"\",\"\",Students!D257)","v":""},{"$f":"IF(Students!C257=\"\",\"\",H256&\" \"&I256&\" \"&O256)","v":""},{"$f":"IF(Students!E257=\"\",\"\",Students!E257)","v":""},{"$f":"IF(Students!F257=\"\",\"\",Students!F257)","v":""},{"$f":"IF(Students!G257=\"\",\"\",Students!G257)","v":""},{"$f":"IF(Students!G257=\"\",\"\",DATEDIF(Students!G257,Settings!$A$2,\"y\"))","v":""},{"$f":"IF(Students!C257=\"\",\"\",RIGHT(Home!$B$11,5))","v":""}]
[null,null,null,null,null,null,256,{"$f":"IF(Students!C258=\"\",\"\",Students!C258)","v":""},{"$f":"IF(Students!D258=\"\",\"\",Students!D258)","v":""},{"$f":"IF(Students!C258=\"\",\"\",H257&\" \"&I257&\" \"&O257)","v":""},{"$f":"IF(Students!E258=\"\",\"\",Students!E258)","v":""},{"$f":"IF(Students!F258=\"\",\"\",Students!F258)","v":""},{"$f":"IF(Students!G258=\"\",\"\",Students!G258)","v":""},{"$f":"IF(Students!G258=\"\",\"\",DATEDIF(Students!G258,Settings!$A$2,\"y\"))","v":""},{"$f":"IF(Students!C258=\"\",\"\",RIGHT(Home!$B$11,5))","v":""}]
[null,null,null,null,null,null,257,{"$f":"IF(Students!C259=\"\",\"\",Students!C259)","v":""},{"$f":"IF(Students!D259=\"\",\"\",Students!D259)","v":""},{"$f":"IF(Students!C259=\"\",\"\",H258&\" \"&I258&\" \"&O258)","v":""},{"$f":"IF(Students!E259=\"\",\"\",Students!E259)","v":""},{"$f":"IF(Students!F259=\"\",\"\",Students!F259)","v":""},{"$f":"IF(Students!G259=\"\",\"\",Students!G259)","v":""},{"$f":"IF(Students!G259=\"\",\"\",DATEDIF(Students!G259,Settings!$A$2,\"y\"))","v":""},{"$f":"IF(Students!C259=\"\",\"\",RIGHT(Home!$B$11,5))","v":""}]
[null,null,null,null,null,null,{"$f":"ROW()-1","v":258},{"$f":"IF(Students!C260=\"\",\"\",Students!C260)","v":""},{"$f":"IF(Students!D260=\"\",\"\",Students!D260)","v":""},{"$f":"IF(Students!C260=\"\",\"\",H259&\" \"&I259&\" \"&O259)","v":""},{"$f":"IF(Students!E260=\"\",\"\",Students!E260)","v":""},{"$f":"IF(Students!F260=\"\",\"\",Students!F260)","v":""},{"$f":"IF(Students!G260=\"\",\"\",Students!G260)","v":""},{"$f":"IF(Students!G260=\"\",\"\",DATEDIF(Students!G260,Settings!$A$2,\"y\"))","v":""},{"$f":"IF(Students!C260=\"\",\"\",RIGHT(Home!$B$11,5))","v":""}]
[null,null,null,null,null,null,259,{"$f":"IF(Students!C261=\"\",\"\",Students!C261)","v":""},{"$f":"IF(Students!D261=\"\",\"\",Students!D261)","v":""},{"$f":"IF(Students!C261=\"\",\"\",H260&\" \"&I260&\" \"&O260)","v":""},{"$f":"IF(Students!E261=\"\",\"\",Students!E261)","v":""},{"$f":"IF(Students!F261=\"\",\"\",Students!F261)","v":""},{"$f":"IF(Students!G261=\"\",\"\",Students!G261)","v":""},{"$f":"IF(Students!G261=\"\",\"\",DATEDIF(Students!G261,Settings!$A$2,\"y\"))","v":""},{"$f":"IF(Students!C261=\"\",\"\",RIGHT(Home!$B$11,5))","v":""}]
[null,null,null,null,null,null,260,{"$f":"IF(Students!C262=\"\",\"\",Students!C262)","v":""},{"$f":"IF(Students!D262=\"\",\"\",Students!D262)","v":""},{"$f":"IF(Students!C262=\"\",\"\",H261&\" \"&I261&\" \"&O261)","v":""},{"$f":"IF(Students!E262=\"\",\"\",Students!E262)","v":""},{"$f":"IF(Students!F262=\"\",\"\",Students!F262)","v":""},{"$f":"IF(Students!G262=\"\",\"\",Students!G262)","v":""},{"$f":"IF(Students!G262=\"\",\"\",DATEDIF(Students!G262,Settings!$A$2,\"y\"))","v":""},{"$f":"IF(Students!C262=\"\",\"\",RIGHT(Home!$B$11,5))","v":""}]
[null,null,null,null,null,null,261,{"$f":"IF(Students!C263=\"\",\"\",Students!C263)","v":""},{"$f":"IF(Students!D263=\"\",\"\",Students!D263)","v":""},{"$f":"IF(Students!C263=\"\",\"\",H262&\" \"&I262&\" \"&O262)","v":""},{"$f":"IF(Students!E263=\"\",\"\",Students!E263)","v":""},{"$f":"IF(Students!F263=\"\",\"\",Students!F263)","v":""},{"$f":"IF(Students!G263=\"\",\"\",Students!G263)","v":""},{"$f":"IF(Students!G263=\"\",\"\",DATEDIF(Students!G263,Settings!$A$2,\"y\"))","v":""},{"$f":"IF(Students!C263=\"\",\"\",RIGHT(Home!$B$11,5))","v":""}]
[null,null,null,null,null,null,262,{"$f":"IF(Students!C264=\"\",\"\",Students!C264)","v":""},{"$f":"IF(Students!D264=\"\",\"\",Students!D264)","v":""},{"$f":"IF(Students!C264=\"\",\"\",H263&\" \"&I263&\" \"&O263)","v":""},{"$f":"IF(Students!E264=\"\",\"\",Students!E264)","v":""},{"$f":"IF(Students!F264=\"\",\"\",Students!F264)","v":""},{"$f":"IF(Students!G264=\"\",\"\",Students!G264)","v":""},{"$f":"IF(Students!G264=\"\",\"\",DATEDIF(Students!G264,Settings!$A$2,\"y\"))","v":""},{"$f":"IF(Students!C264=\"\",\"\",RIGHT(Home!$B$11,5))","v":""}]
[null,null,null,null,null,null,263,{"$f":"IF(Students!C265=\"\",\"\",Students!C265)","v":""},{"$f":"IF(Students!D265=\"\",\"\",Students!D265)","v":""},{"$f":"IF(Students!C265=\"\",\"\",H264&\" \"&I264&\" \"&O264)","v":""},{"$f":"IF(Students!E265=\"\",\"\",Students!E265)","v":""},{"$f":"IF(Students!F265=\"\",\"\",Students!F265)","v":""},{"$f":"IF(Students!G265=\"\",\"\",Students!G265)","v":""},{"$f":"IF(Students!G265=\"\",\"\",DATEDIF(Students!G265,Settings!$A$2,\"y\"))","v":""},{"$f":"IF(Students!C265=\"\",\"\",RIGHT(Home!$B$11,5))","v":""}]
[null,null,null,null,null,null,264,{"$f":"IF(Students!C266=\"\",\"\",Students!C266)","v":""},{"$f":"IF(Students!D266=\"\",\"\",Students!D266)","v":""},{"$f":"IF(Students!C266=\"\",\"\",H265&\" \"&I265&\" \"&O265)","v":""},{"$f":"IF(Students!E266=\"\",\"\",Students!E266)","v":""},{"$f":"IF(Students!F266=\"\",\"\",Students!F266)","v":""},{"$f":"IF(Students!G266=\"\",\"\",Students!G266)","v":""},{"$f":"IF(Students!G266=\"\",\"\",DATEDIF(Students!G266,Settings!$A$2,\"y\"))","v":""},{"$f":"IF(Students!C266=\"\",\"\",RIGHT(Home!$B$11,5))","v":""}]
[null,null,null,null,null,null,265,{"$f":"IF(Students!C267=\"\",\"\",Students!C267)","v":""},{"$f":"IF(Students!D267=\"\",\"\",Students!D267)","v":""},{"$f":"IF(Students!C267=\"\",\"\",H266&\" \"&I266&\" \"&O266)","v":""},{"$f":"IF(Students!E267=\"\",\"\",Students!E267)","v":""},{"$f":"IF(Students!F267=\"\",\"\",Students!F267)","v":""},{"$f":"IF(Students!G267=\"\",\"\",Students!G267)","v":""},{"$f":"IF(Students!G267=\"\",\"\",DATEDIF(Students!G267,Settings!$A$2,\"y\"))","v":""},{"$f":"IF(Students!C267=\"\",\"\",RIGHT(Home!$B$11,5))","v":""}]
[null,null,null,null,null,null,266,{"$f":"IF(Students!C268=\"\",\"\",Students!C268)","v":""},{"$f":"IF(Students!D268=\"\",\"\",Students!D268)","v":""},{"$f":"IF(Students!C268=\"\",\"\",H267&\" \"&I267&\" \"&O267)","v":""},{"$f":"IF(Students!E268=\"\",\"\",Students!E268)","v":""},{"$f":"IF(Students!F268=\"\",\"\",Students!F268)","v":""},{"$f":"IF(Students!G268=\"\",\"\",Students!G268)","v":""},{"$f":"IF(Students!G268=\"\",\"\",DATEDIF(Students!G268,Settings!$A$2,\"y\"))","v":""},{"$f":"IF(Students!C268=\"\",\"\",RIGHT(Home!$B$11,5))","v":""}]
[null,null,null,null,null,null,267,{"$f":"IF(Students!C269=\"\",\"\",Students!C269)","v":""},{"$f":"IF(Students!D269=\"\",\"\",Students!D269)","v":""},{"$f":"IF(Students!C269=\"\",\"\",H268&\" \"&I268&\" \"&O268)","v":""},{"$f":"IF(Students!E269=\"\",\"\",Students!E269)","v":""},{"$f":"IF(Students!F269=\"\",\"\",Students!F269)","v":""},{"$f":"IF(Students!G269=\"\",\"\",Students!G269)","v":""},{"$f":"IF(Students!G269=\"\",\"\",DATEDIF(Students!G269,Settings!$A$2,\"y\"))","v":""},{"$f":"IF(Students!C269=\"\",\"\",RIGHT(Home!$B$11,5))","v":""}]
[null,null,null,null,null,null,268,{"$f":"IF(Students!C270=\"\",\"\",Students!C270)","v":""},{"$f":"IF(Students!D270=\"\",\"\",Students!D270)","v":""},{"$f":"IF(Students!C270=\"\",\"\",H269&\" \"&I269&\" \"&O269)","v":""},{"$f":"IF(Students!E270=\"\",\"\",Students!E270)","v":""},{"$f":"IF(Students!F270=\"\",\"\",Students!F270)","v":""},{"$f":"IF(Students!G270=\"\",\"\",Students!G270)","v":""},{"$f":"IF(Students!G270=\"\",\"\",DATEDIF(Students!G270,Settings!$A$2,\"y\"))","v":""},{"$f":"IF(Students!C270=\"\",\"\",RIGHT(Home!$B$11,5))","v":""}]
[null,null,null,null,null,null,269,{"$f":"IF(Students!C271=\"\",\"\",Students!C271)","v":""},{"$f":"IF(Students!D271=\"\",\"\",Students!D271)","v":""},{"$f":"IF(Students!C271=\"\",\"\",H270&\" \"&I270&\" \"&O270)","v":""},{"$f":"IF(Students!E271=\"\",\"\",Students!E271)","v":""},{"$f":"IF(Students!F271=\"\",\"\",Students!F271)","v":""},{"$f":"IF(Students!G271=\"\",\"\",Students!G271)","v":""},{"$f":"IF(Students!G271=\"\",\"\",DATEDIF(Students!G271,Settings!$A$2,\"y\"))","v":""},{"$f":"IF(Students!C271=\"\",\"\",RIGHT(Home!$B$11,5))","v":""}]
[null,null,null,null,null,null,270,{"$f":"IF(Students!C272=\"\",\"\",Students!C272)","v":""},{"$f":"IF(Students!D272=\"\",\"\",Students!D272)","v":""},{"$f":"IF(Students!C272=\"\",\"\",H271&\" \"&I271&\" \"&O271)","v":""},{"$f":"IF(Students!E272=\"\",\"\",Students!E272)","v":""},{"$f":"IF(Students!F272=\"\",\"\",Students!F272)","v":""},{"$f":"IF(Students!G272=\"\",\"\",Students!G272)","v":""},{"$f":"IF(Students!G272=\"\",\"\",DATEDIF(Students!G272,Settings!$A$2,\"y\"))","v":""},{"$f":"IF(Students!C272=\"\",\"\",RIGHT(Home!$B$11,5))","v":""}]
[null,null,null,null,null,null,271,{"$f":"IF(Students!C273=\"\",\"\",Students!C273)","v":""},{"$f":"IF(Students!D273=\"\",\"\",Students!D273)","v":""},{"$f":"IF(Students!C273=\"\",\"\",H272&\" \"&I272&\" \"&O272)","v":""},{"$f":"IF(Students!E273=\"\",\"\",Students!E273)","v":""},{"$f":"IF(Students!F273=\"\",\"\",Students!F273)","v":""},{"$f":"IF(Students!G273=\"\",\"\",Students!G273)","v":""},{"$f":"IF(Students!G273=\"\",\"\",DATEDIF(Students!G273,Settings!$A$2,\"y\"))","v":""},{"$f":"IF(Students!C273=\"\",\"\",RIGHT(Home!$B$11,5))","v":""}]
[null,null,null,null,null,null,272,{"$f":"IF(Students!C274=\"\",\"\",Students!C274)","v":""},{"$f":"IF(Students!D274=\"\",\"\",Students!D274)","v":""},{"$f":"IF(Students!C274=\"\",\"\",H273&\" \"&I273&\" \"&O273)","v":""},{"$f":"IF(Students!E274=\"\",\"\",Students!E274)","v":""},{"$f":"IF(Students!F274=\"\",\"\",Students!F274)","v":""},{"$f":"IF(Students!G274=\"\",\"\",Students!G274)","v":""},{"$f":"IF(Students!G274=\"\",\"\",DATEDIF(Students!G274,Settings!$A$2,\"y\"))","v":""},{"$f":"IF(Students!C274=\"\",\"\",RIGHT(Home!$B$11,5))","v":""}]
[null,null,null,null,null,null,273,{"$f":"IF(Students!C275=\"\",\"\",Students!C275)","v":""},{"$f":"IF(Students!D275=\"\",\"\",Students!D275)","v":""},{"$f":"IF(Students!C275=\"\",\"\",H274&\" \"&I274&\" \"&O274)","v":""},{"$f":"IF(Students!E275=\"\",\"\",Students!E275)","v":""},{"$f":"IF(Students!F275=\"\",\"\",Students!F275)","v":""},{"$f":"IF(Students!G275=\"\",\"\",Students!G275)","v":""},{"$f":"IF(Students!G275=\"\",\"\",DATEDIF(Students!G275,Settings!$A$2,\"y\"))","v":""},{"$f":"IF(Students!C275=\"\",\"\",RIGHT(Home!$B$11,5))","v":""}]
[null,null,null,null,null,null,274,{"$f":"IF(Students!C276=\"\",\"\",Students!C276)","v":""},{"$f":"IF(Students!D276=\"\",\"\",Students!D276)","v":""},{"$f":"IF(Students!C276=\"\",\"\",H275&\" \"&I275&\" \"&O275)","v":""},{"$f":"IF(Students!E276=\"\",\"\",Students!E276)","v":""},{"$f":"IF(Students!F276=\"\",\"\",Students!F276)","v":""},{"$f":"IF(Students!G276=\"\",\"\",Students!G276)","v":""},{"$f":"IF(Students!G276=\"\",\"\",DATEDIF(Students!G276,Settings!$A$2,\"y\"))","v":""},{"$f":"IF(Students!C276=\"\",\"\",RIGHT(Home!$B$11,5))","v":""}]
[null,null,null,null,null,null,275,{"$f":"IF(Students!C277=\"\",\"\",Students!C277)","v":""},{"$f":"IF(Students!D277=\"\",\"\",Students!D277)","v":""},{"$f":"IF(Students!C277=\"\",\"\",H276&\" \"&I276&\" \"&O276)","v":""},{"$f":"IF(Students!E277=\"\",\"\",Students!E277)","v":""},{"$f":"IF(Students!F277=\"\",\"\",Students!F277)","v":""},{"$f":"IF(Students!G277=\"\",\"\",Students!G277)","v":""},{"$f":"IF(Students!G277=\"\",\"\",DATEDIF(Students!G277,Settings!$A$2,\"y\"))","v":""},{"$f":"IF(Students!C277=\"\",\"\",RIGHT(Home!$B$11,5))","v":""}]
[null,null,null,null,null,null,276,{"$f":"IF(Students!C278=\"\",\"\",Students!C278)","v":""},{"$f":"IF(Students!D278=\"\",\"\",Students!D278)","v":""},{"$f":"IF(Students!C278=\"\",\"\",H277&\" \"&I277&\" \"&O277)","v":""},{"$f":"IF(Students!E278=\"\",\"\",Students!E278)","v":""},{"$f":"IF(Students!F278=\"\",\"\",Students!F278)","v":""},{"$f":"IF(Students!G278=\"\",\"\",Students!G278)","v":""},{"$f":"IF(Students!G278=\"\",\"\",DATEDIF(Students!G278,Settings!$A$2,\"y\"))","v":""},{"$f":"IF(Students!C278=\"\",\"\",RIGHT(Home!$B$11,5))","v":""}]
[null,null,null,null,null,null,277,{"$f":"IF(Students!C279=\"\",\"\",Students!C279)","v":""},{"$f":"IF(Students!D279=\"\",\"\",Students!D279)","v":""},{"$f":"IF(Students!C279=\"\",\"\",H278&\" \"&I278&\" \"&O278)","v":""},{"$f":"IF(Students!E279=\"\",\"\",Students!E279)","v":""},{"$f":"IF(Students!F279=\"\",\"\",Students!F279)","v":""},{"$f":"IF(Students!G279=\"\",\"\",Students!G279)","v":""},{"$f":"IF(Students!G279=\"\",\"\",DATEDIF(Students!G279,Settings!$A$2,\"y\"))","v":""},{"$f":"IF(Students!C279=\"\",\"\",RIGHT(Home!$B$11,5))","v":""}]
[null,null,null,null,null,null,278,{"$f":"IF(Students!C280=\"\",\"\",Students!C280)","v":""},{"$f":"IF(Students!D280=\"\",\"\",Students!D280)","v":""},{"$f":"IF(Students!C280=\"\",\"\",H279&\" \"&I279&\" \"&O279)","v":""},{"$f":"IF(Students!E280=\"\",\"\",Students!E280)","v":""},{"$f":"IF(Students!F280=\"\",\"\",Students!F280)","v":""},{"$f":"IF(Students!G280=\"\",\"\",Students!G280)","v":""},{"$f":"IF(Students!G280=\"\",\"\",DATEDIF(Students!G280,Settings!$A$2,\"y\"))","v":""},{"$f":"IF(Students!C280=\"\",\"\",RIGHT(Home!$B$11,5))","v":""}]
[null,null,null,null,null,null,279,{"$f":"IF(Students!C281=\"\",\"\",Students!C281)","v":""},{"$f":"IF(Students!D281=\"\",\"\",Students!D281)","v":""},{"$f":"IF(Students!C281=\"\",\"\",H280&\" \"&I280&\" \"&O280)","v":""},{"$f":"IF(Students!E281=\"\",\"\",Students!E281)","v":""},{"$f":"IF(Students!F281=\"\",\"\",Students!F281)","v":""},{"$f":"IF(Students!G281=\"\",\"\",Students!G281)","v":""},{"$f":"IF(Students!G281=\"\",\"\",DATEDIF(Students!G281,Settings!$A$2,\"y\"))","v":""},{"$f":"IF(Students!C281=\"\",\"\",RIGHT(Home!$B$11,5))","v":""}]
[null,null,null,null,null,null,280,{"$f":"IF(Students!C282=\"\",\"\",Students!C282)","v":""},{"$f":"IF(Students!D282=\"\",\"\",Students!D282)","v":""},{"$f":"IF(Students!C282=\"\",\"\",H281&\" \"&I281&\" \"&O281)","v":""},{"$f":"IF(Students!E282=\"\",\"\",Students!E282)","v":""},{"$f":"IF(Students!F282=\"\",\"\",Students!F282)","v":""},{"$f":"IF(Students!G282=\"\",\"\",Students!G282)","v":""},{"$f":"IF(Students!G282=\"\",\"\",DATEDIF(Students!G282,Settings!$A$2,\"y\"))","v":""},{"$f":"IF(Students!C282=\"\",\"\",RIGHT(Home!$B$11,5))","v":""}]
[null,null,null,null,null,null,281,{"$f":"IF(Students!C283=\"\",\"\",Students!C283)","v":""},{"$f":"IF(Students!D283=\"\",\"\",Students!D283)","v":""},{"$f":"IF(Students!C283=\"\",\"\",H282&\" \"&I282&\" \"&O282)","v":""},{"$f":"IF(Students!E283=\"\",\"\",Students!E283)","v":""},{"$f":"IF(Students!F283=\"\",\"\",Students!F283)","v":""},{"$f":"IF(Students!G283=\"\",\"\",Students!G283)","v":""},{"$f":"IF(Students!G283=\"\",\"\",DATEDIF(Students!G283,Settings!$A$2,\"y\"))","v":""},{"$f":"IF(Students!C283=\"\",\"\",RIGHT(Home!$B$11,5))","v":""}]
[null,null,null,null,null,null,282,{"$f":"IF(Students!C284=\"\",\"\",Students!C284)","v":""},{"$f":"IF(Students!D284=\"\",\"\",Students!D284)","v":""},{"$f":"IF(Students!C284=\"\",\"\",H283&\" \"&I283&\" \"&O283)","v":""},{"$f":"IF(Students!E284=\"\",\"\",Students!E284)","v":""},{"$f":"IF(Students!F284=\"\",\"\",Students!F284)","v":""},{"$f":"IF(Students!G284=\"\",\"\",Students!G284)","v":""},{"$f":"IF(Students!G284=\"\",\"\",DATEDIF(Students!G284,Settings!$A$2,\"y\"))","v":""},{"$f":"IF(Students!C284=\"\",\"\",RIGHT(Home!$B$11,5))","v":""}]
[null,null,null,null,null,null,283,{"$f":"IF(Students!C285=\"\",\"\",Students!C285)","v":""},{"$f":"IF(Students!D285=\"\",\"\",Students!D285)","v":""},{"$f":"IF(Students!C285=\"\",\"\",H284&\" \"&I284&\" \"&O284)","v":""},{"$f":"IF(Students!E285=\"\",\"\",Students!E285)","v":""},{"$f":"IF(Students!F285=\"\",\"\",Students!F285)","v":""},{"$f":"IF(Students!G285=\"\",\"\",Students!G285)","v":""},{"$f":"IF(Students!G285=\"\",\"\",DATEDIF(Students!G285,Settings!$A$2,\"y\"))","v":""},{"$f":"IF(Students!C285=\"\",\"\",RIGHT(Home!$B$11,5))","v":""}]
[null,null,null,null,null,null,284,{"$f":"IF(Students!C286=\"\",\"\",Students!C286)","v":""},{"$f":"IF(Students!D286=\"\",\"\",Students!D286)","v":""},{"$f":"IF(Students!C286=\"\",\"\",H285&\" \"&I285&\" \"&O285)","v":""},{"$f":"IF(Students!E286=\"\",\"\",Students!E286)","v":""},{"$f":"IF(Students!F286=\"\",\"\",Students!F286)","v":""},{"$f":"IF(Students!G286=\"\",\"\",Students!G286)","v":""},{"$f":"IF(Students!G286=\"\",\"\",DATEDIF(Students!G286,Settings!$A$2,\"y\"))","v":""},{"$f":"IF(Students!C286=\"\",\"\",RIGHT(Home!$B$11,5))","v":""}]
[null,null,null,null,null,null,285,{"$f":"IF(Students!C287=\"\",\"\",Students!C287)","v":""},{"$f":"IF(Students!D287=\"\",\"\",Students!D287)","v":""},{"$f":"IF(Students!C287=\"\",\"\",H286&\" \"&I286&\" \"&O286)","v":""},{"$f":"IF(Students!E287=\"\",\"\",Students!E287)","v":""},{"$f":"IF(Students!F287=\"\",\"\",Students!F287)","v":""},{"$f":"IF(Students!G287=\"\",\"\",Students!G287)","v":""},{"$f":"IF(Students!G287=\"\",\"\",DATEDIF(Students!G287,Settings!$A$2,\"y\"))","v":""},{"$f":"IF(Students!C287=\"\",\"\",RIGHT(Home!$B$11,5))","v":""}]
[null,null,null,null,null,null,286,{"$f":"IF(Students!C288=\"\",\"\",Students!C288)","v":""},{"$f":"IF(Students!D288=\"\",\"\",Students!D288)","v":""},{"$f":"IF(Students!C288=\"\",\"\",H287&\" \"&I287&\" \"&O287)","v":""},{"$f":"IF(Students!E288=\"\",\"\",Students!E288)","v":""},{"$f":"IF(Students!F288=\"\",\"\",Students!F288)","v":""},{"$f":"IF(Students!G288=\"\",\"\",Students!G288)","v":""},{"$f":"IF(Students!G288=\"\",\"\",DATEDIF(Students!G288,Settings!$A$2,\"y\"))","v":""},{"$f":"IF(Students!C288=\"\",\"\",RIGHT(Home!$B$11,5))","v":""}]
[null,null,null,null,null,null,287,{"$f":"IF(Students!C289=\"\",\"\",Students!C289)","v":""},{"$f":"IF(Students!D289=\"\",\"\",Students!D289)","v":""},{"$f":"IF(Students!C289=\"\",\"\",H288&\" \"&I288&\" \"&O288)","v":""},{"$f":"IF(Students!E289=\"\",\"\",Students!E289)","v":""},{"$f":"IF(Students!F289=\"\",\"\",Students!F289)","v":""},{"$f":"IF(Students!G289=\"\",\"\",Students!G289)","v":""},{"$f":"IF(Students!G289=\"\",\"\",DATEDIF(Students!G289,Settings!$A$2,\"y\"))","v":""},{"$f":"IF(Students!C289=\"\",\"\",RIGHT(Home!$B$11,5))","v":""}]
[null,null,null,null,null,null,288,{"$f":"IF(Students!C290=\"\",\"\",Students!C290)","v":""},{"$f":"IF(Students!D290=\"\",\"\",Students!D290)","v":""},{"$f":"IF(Students!C290=\"\",\"\",H289&\" \"&I289&\" \"&O289)","v":""},{"$f":"IF(Students!E290=\"\",\"\",Students!E290)","v":""},{"$f":"IF(Students!F290=\"\",\"\",Students!F290)","v":""},{"$f":"IF(Students!G290=\"\",\"\",Students!G290)","v":""},{"$f":"IF(Students!G290=\"\",\"\",DATEDIF(Students!G290,Settings!$A$2,\"y\"))","v":""},{"$f":"IF(Students!C290=\"\",\"\",RIGHT(Home!$B$11,5))","v":""}]
[null,null,null,null,null,null,289,{"$f":"IF(Students!C291=\"\",\"\",Students!C291)","v":""},{"$f":"IF(Students!D291=\"\",\"\",Students!D291)","v":""},{"$f":"IF(Students!C291=\"\",\"\",H290&\" \"&I290&\" \"&O290)","v":""},{"$f":"IF(Students!E291=\"\",\"\",Students!E291)","v":""},{"$f":"IF(Students!F291=\"\",\"\",Students!F291)","v":""},{"$f":"IF(Students!G291=\"\",\"\",Students!G291)","v":""},{"$f":"IF(Students!G291=\"\",\"\",DATEDIF(Students!G291,Settings!$A$2,\"y\"))","v":""},{"$f":"IF(Students!C291=\"\",\"\",RIGHT(Home!$B$11,5))","v":""}]
[null,null,null,null,null,null,290,{"$f":"IF(Students!C292=\"\",\"\",Students!C292)","v":""},{"$f":"IF(Students!D292=\"\",\"\",Students!D292)","v":""},{"$f":"IF(Students!C292=\"\",\"\",H291&\" \"&I291&\" \"&O291)","v":""},{"$f":"IF(Students!E292=\"\",\"\",Students!E292)","v":""},{"$f":"IF(Students!F292=\"\",\"\",Students!F292)","v":""},{"$f":"IF(Students!G292=\"\",\"\",Students!G292)","v":""},{"$f":"IF(Students!G292=\"\",\"\",DATEDIF(Students!G292,Settings!$A$2,\"y\"))","v":""},{"$f":"IF(Students!C292=\"\",\"\",RIGHT(Home!$B$11,5))","v":""}]
[null,null,null,null,null,null,291,{"$f":"IF(Students!C293=\"\",\"\",Students!C293)","v":""},{"$f":"IF(Students!D293=\"\",\"\",Students!D293)","v":""},{"$f":"IF(Students!C293=\"\",\"\",H292&\" \"&I292&\" \"&O292)","v":""},{"$f":"IF(Students!E293=\"\",\"\",Students!E293)","v":""},{"$f":"IF(Students!F293=\"\",\"\",Students!F293)","v":""},{"$f":"IF(Students!G293=\"\",\"\",Students!G293)","v":""},{"$f":"IF(Students!G293=\"\",\"\",DATEDIF(Students!G293,Settings!$A$2,\"y\"))","v":""},{"$f":"IF(Students!C293=\"\",\"\",RIGHT(Home!$B$11,5))","v":""}]
[null,null,null,null,null,null,292,{"$f":"IF(Students!C294=\"\",\"\",Students!C294)","v":""},{"$f":"IF(Students!D294=\"\",\"\",Students!D294)","v":""},{"$f":"IF(Students!C294=\"\",\"\",H293&\" \"&I293&\" \"&O293)","v":""},{"$f":"IF(Students!E294=\"\",\"\",Students!E294)","v":""},{"$f":"IF(Students!F294=\"\",\"\",Students!F294)","v":""},{"$f":"IF(Students!G294=\"\",\"\",Students!G294)","v":""},{"$f":"IF(Students!G294=\"\",\"\",DATEDIF(Students!G294,Settings!$A$2,\"y\"))","v":""},{"$f":"IF(Students!C294=\"\",\"\",RIGHT(Home!$B$11,5))","v":""}]
[null,null,null,null,null,null,293,{"$f":"IF(Students!C295=\"\",\"\",Students!C295)","v":""},{"$f":"IF(Students!D295=\"\",\"\",Students!D295)","v":""},{"$f":"IF(Students!C295=\"\",\"\",H294&\" \"&I294&\" \"&O294)","v":""},{"$f":"IF(Students!E295=\"\",\"\",Students!E295)","v":""},{"$f":"IF(Students!F295=\"\",\"\",Students!F295)","v":""},{"$f":"IF(Students!G295=\"\",\"\",Students!G295)","v":""},{"$f":"IF(Students!G295=\"\",\"\",DATEDIF(Students!G295,Settings!$A$2,\"y\"))","v":""},{"$f":"IF(Students!C295=\"\",\"\",RIGHT(Home!$B$11,5))","v":""}]
[null,null,null,null,null,null,294,{"$f":"IF(Students!C296=\"\",\"\",Students!C296)","v":""},{"$f":"IF(Students!D296=\"\",\"\",Students!D296)","v":""},{"$f":"IF(Students!C296=\"\",\"\",H295&\" \"&I295&\" \"&O295)","v":""},{"$f":"IF(Students!E296=\"\",\"\",Students!E296)","v":""},{"$f":"IF(Students!F296=\"\",\"\",Students!F296)","v":""},{"$f":"IF(Students!G296=\"\",\"\",Students!G296)","v":""},{"$f":"IF(Students!G296=\"\",\"\",DATEDIF(Students!G296,Settings!$A$2,\"y\"))","v":""},{"$f":"IF(Students!C296=\"\",\"\",RIGHT(Home!$B$11,5))","v":""}]
[null,null,null,null,null,null,295,{"$f":"IF(Students!C297=\"\",\"\",Students!C297)","v":""},{"$f":"IF(Students!D297=\"\",\"\",Students!D297)","v":""},{"$f":"IF(Students!C297=\"\",\"\",H296&\" \"&I296&\" \"&O296)","v":""},{"$f":"IF(Students!E297=\"\",\"\",Students!E297)","v":""},{"$f":"IF(Students!F297=\"\",\"\",Students!F297)","v":""},{"$f":"IF(Students!G297=\"\",\"\",Students!G297)","v":""},{"$f":"IF(Students!G297=\"\",\"\",DATEDIF(Students!G297,Settings!$A$2,\"y\"))","v":""},{"$f":"IF(Students!C297=\"\",\"\",RIGHT(Home!$B$11,5))","v":""}]
[null,null,null,null,null,null,296,{"$f":"IF(Students!C298=\"\",\"\",Students!C298)","v":""},{"$f":"IF(Students!D298=\"\",\"\",Students!D298)","v":""},{"$f":"IF(Students!C298=\"\",\"\",H297&\" \"&I297&\" \"&O297)","v":""},{"$f":"IF(Students!E298=\"\",\"\",Students!E298)","v":""},{"$f":"IF(Students!F298=\"\",\"\",Students!F298)","v":""},{"$f":"IF(Students!G298=\"\",\"\",Students!G298)","v":""},{"$f":"IF(Students!G298=\"\",\"\",DATEDIF(Students!G298,Settings!$A$2,\"y\"))","v":""},{"$f":"IF(Students!C298=\"\",\"\",RIGHT(Home!$B$11,5))","v":""}]
[null,null,null,null,null,null,297,{"$f":"IF(Students!C299=\"\",\"\",Students!C299)","v":""},{"$f":"IF(Students!D299=\"\",\"\",Students!D299)","v":""},{"$f":"IF(Students!C299=\"\",\"\",H298&\" \"&I298&\" \"&O298)","v":""},{"$f":"IF(Students!E299=\"\",\"\",Students!E299)","v":""},{"$f":"IF(Students!F299=\"\",\"\",Students!F299)","v":""},{"$f":"IF(Students!G299=\"\",\"\",Students!G299)","v":""},{"$f":"IF(Students!G299=\"\",\"\",DATEDIF(Students!G299,Settings!$A$2,\"y\"))","v":""},{"$f":"IF(Students!C299=\"\",\"\",RIGHT(Home!$B$11,5))","v":""}]
[null,null,null,null,null,null,298,{"$f":"IF(Students!C300=\"\",\"\",Students!C300)","v":""},{"$f":"IF(Students!D300=\"\",\"\",Students!D300)","v":""},{"$f":"IF(Students!C300=\"\",\"\",H299&\" \"&I299&\" \"&O299)","v":""},{"$f":"IF(Students!E300=\"\",\"\",Students!E300)","v":""},{"$f":"IF(Students!F300=\"\",\"\",Students!F300)","v":""},{"$f":"IF(Students!G300=\"\",\"\",Students!G300)","v":""},{"$f":"IF(Students!G300=\"\",\"\",DATEDIF(Students!G300,Settings!$A$2,\"y\"))","v":""},{"$f":"IF(Students!C300=\"\",\"\",RIGHT(Home!$B$11,5))","v":""}]
[null,null,null,null,null,null,299,{"$f":"IF(Students!C301=\"\",\"\",Students!C301)","v":""},{"$f":"IF(Students!D301=\"\",\"\",Students!D301)","v":""},{"$f":"IF(Students!C301=\"\",\"\",H300&\" \"&I300&\" \"&O300)","v":""},{"$f":"IF(Students!E301=\"\",\"\",Students!E301)","v":""},{"$f":"IF(Students!F301=\"\",\"\",Students!F301)","v":""},{"$f":"IF(Students!G301=\"\",\"\",Students!G301)","v":""},{"$f":"IF(Students!G301=\"\",\"\",DATEDIF(Students!G301,Settings!$A$2,\"y\"))","v":""},{"$f":"IF(Students!C301=\"\",\"\",RIGHT(Home!$B$11,5))","v":""}]
[null,null,null,null,null,null,300,{"$f":"IF(Students!C302=\"\",\"\",Students!C302)","v":""},{"$f":"IF(Students!D302=\"\",\"\",Students!D302)","v":""},{"$f":"IF(Students!C302=\"\",\"\",H301&\" \"&I301&\" \"&O301)","v":""},{"$f":"IF(Students!E302=\"\",\"\",Students!E302)","v":""},{"$f":"IF(Students!F302=\"\",\"\",Students!F302)","v":""},{"$f":"IF(Students!G302=\"\",\"\",Students!G302)","v":""},{"$f":"IF(Students!G302=\"\",\"\",DATEDIF(Students!G302,Settings!$A$2,\"y\"))","v":""},{"$f":"IF(Students!C302=\"\",\"\",RIGHT(Home!$B$11,5))","v":""}]
[null,null,null,null,null,null,301,{"$f":"IF(Students!C303=\"\",\"\",Students!C303)","v":""},{"$f":"IF(Students!D303=\"\",\"\",Students!D303)","v":""},{"$f":"IF(Students!C303=\"\",\"\",H302&\" \"&I302&\" \"&O302)","v":""},{"$f":"IF(Students!E303=\"\",\"\",Students!E303)","v":""},{"$f":"IF(Students!F303=\"\",\"\",Students!F303)","v":""},{"$f":"IF(Students!G303=\"\",\"\",Students!G303)","v":""},{"$f":"IF(Students!G303=\"\",\"\",DATEDIF(Students!G303,Settings!$A$2,\"y\"))","v":""},{"$f":"IF(Students!C303=\"\",\"\",RIGHT(Home!$B$11,5))","v":""}]
[null,null,null,null,null,null,302,{"$f":"IF(Students!C304=\"\",\"\",Students!C304)","v":""},{"$f":"IF(Students!D304=\"\",\"\",Students!D304)","v":""},{"$f":"IF(Students!C304=\"\",\"\",H303&\" \"&I303&\" \"&O303)","v":""},{"$f":"IF(Students!E304=\"\",\"\",Students!E304)","v":""},{"$f":"IF(Students!F304=\"\",\"\",Students!F304)","v":""},{"$f":"IF(Students!G304=\"\",\"\",Students!G304)","v":""},{"$f":"IF(Students!G304=\"\",\"\",DATEDIF(Students!G304,Settings!$A$2,\"y\"))","v":""},{"$f":"IF(Students!C304=\"\",\"\",RIGHT(Home!$B$11,5))","v":""}]
[null,null,null,null,null,null,303,{"$f":"IF(Students!C305=\"\",\"\",Students!C305)","v":""},{"$f":"IF(Students!D305=\"\",\"\",Students!D305)","v":""},{"$f":"IF(Students!C305=\"\",\"\",H304&\" \"&I304&\" \"&O304)","v":""},{"$f":"IF(Students!E305=\"\",\"\",Students!E305)","v":""},{"$f":"IF(Students!F305=\"\",\"\",Students!F305)","v":""},{"$f":"IF(Students!G305=\"\",\"\",Students!G305)","v":""},{"$f":"IF(Students!G305=\"\",\"\",DATEDIF(Students!G305,Settings!$A$2,\"y\"))","v":""},{"$f":"IF(Students!C305=\"\",\"\",RIGHT(Home!$B$11,5))","v":""}]
[null,null,null,null,null,null,304,{"$f":"IF(Students!C306=\"\",\"\",Students!C306)","v":""},{"$f":"IF(Students!D306=\"\",\"\",Students!D306)","v":""},{"$f":"IF(Students!C306=\"\",\"\",H305&\" \"&I305&\" \"&O305)","v":""},{"$f":"IF(Students!E306=\"\",\"\",Students!E306)","v":""},{"$f":"IF(Students!F306=\"\",\"\",Students!F306)","v":""},{"$f":"IF(Students!G306=\"\",\"\",Students!G306)","v":""},{"$f":"IF(Students!G306=\"\",\"\",DATEDIF(Students!G306,Settings!$A$2,\"y\"))","v":""},{"$f":"IF(Students!C306=\"\",\"\",RIGHT(Home!$B$11,5))","v":""}]
[null,null,null,null,null,null,305,{"$f":"IF(Students!C307=\"\",\"\",Students!C307)","v":""},{"$f":"IF(Students!D307=\"\",\"\",Students!D307)","v":""},{"$f":"IF(Students!C307=\"\",\"\",H306&\" \"&I306&\" \"&O306)","v":""},{"$f":"IF(Students!E307=\"\",\"\",Students!E307)","v":""},{"$f":"IF(Students!F307=\"\",\"\",Students!F307)","v":""},{"$f":"IF(Students!G307=\"\",\"\",Students!G307)","v":""},{"$f":"IF(Students!G307=\"\",\"\",DATEDIF(Students!G307,Settings!$A$2,\"y\"))","v":""},{"$f":"IF(Students!C307=\"\",\"\",RIGHT(Home!$B$11,5))","v":""}]
[null,null,null,null,null,null,306,{"$f":"IF(Students!C308=\"\",\"\",Students!C308)","v":""},{"$f":"IF(Students!D308=\"\",\"\",Students!D308)","v":""},{"$f":"IF(Students!C308=\"\",\"\",H307&\" \"&I307&\" \"&O307)","v":""},{"$f":"IF(Students!E308=\"\",\"\",Students!E308)","v":""},{"$f":"IF(Students!F308=\"\",\"\",Students!F308)","v":""},{"$f":"IF(Students!G308=\"\",\"\",Students!G308)","v":""},{"$f":"IF(Students!G308=\"\",\"\",DATEDIF(Students!G308,Settings!$A$2,\"y\"))","v":""},{"$f":"IF(Students!C308=\"\",\"\",RIGHT(Home!$B$11,5))","v":""}]
[null,null,null,null,null,null,307,{"$f":"IF(Students!C309=\"\",\"\",Students!C309)","v":""},{"$f":"IF(Students!D309=\"\",\"\",Students!D309)","v":""},{"$f":"IF(Students!C309=\"\",\"\",H308&\" \"&I308&\" \"&O308)","v":""},{"$f":"IF(Students!E309=\"\",\"\",Students!E309)","v":""},{"$f":"IF(Students!F309=\"\",\"\",Students!F309)","v":""},{"$f":"IF(Students!G309=\"\",\"\",Students!G309)","v":""},{"$f":"IF(Students!G309=\"\",\"\",DATEDIF(Students!G309,Settings!$A$2,\"y\"))","v":""},{"$f":"IF(Students!C309=\"\",\"\",RIGHT(Home!$B$11,5))","v":""}]
[null,null,null,null,null,null,308,{"$f":"IF(Students!C310=\"\",\"\",Students!C310)","v":""},{"$f":"IF(Students!D310=\"\",\"\",Students!D310)","v":""},{"$f":"IF(Students!C310=\"\",\"\",H309&\" \"&I309&\" \"&O309)","v":""},{"$f":"IF(Students!E310=\"\",\"\",Students!E310)","v":""},{"$f":"IF(Students!F310=\"\",\"\",Students!F310)","v":""},{"$f":"IF(Students!G310=\"\",\"\",Students!G310)","v":""},{"$f":"IF(Students!G310=\"\",\"\",DATEDIF(Students!G310,Settings!$A$2,\"y\"))","v":""},{"$f":"IF(Students!C310=\"\",\"\",RIGHT(Home!$B$11,5))","v":""}]
[null,null,null,null,null,null,309,{"$f":"IF(Students!C311=\"\",\"\",Students!C311)","v":""},{"$f":"IF(Students!D311=\"\",\"\",Students!D311)","v":""},{"$f":"IF(Students!C311=\"\",\"\",H310&\" \"&I310&\" \"&O310)","v":""},{"$f":"IF(Students!E311=\"\",\"\",Students!E311)","v":""},{"$f":"IF(Students!F311=\"\",\"\",Students!F311)","v":""},{"$f":"IF(Students!G311=\"\",\"\",Students!G311)","v":""},{"$f":"IF(Students!G311=\"\",\"\",DATEDIF(Students!G311,Settings!$A$2,\"y\"))","v":""},{"$f":"IF(Students!C311=\"\",\"\",RIGHT(Home!$B$11,5))","v":""}]
[null,null,null,null,null,null,310,{"$f":"IF(Students!C312=\"\",\"\",Students!C312)","v":""},{"$f":"IF(Students!D312=\"\",\"\",Students!D312)","v":""},{"$f":"IF(Students!C312=\"\",\"\",H311&\" \"&I311&\" \"&O311)","v":""},{"$f":"IF(Students!E312=\"\",\"\",Students!E312)","v":""},{"$f":"IF(Students!F312=\"\",\"\",Students!F312)","v":""},{"$f":"IF(Students!G312=\"\",\"\",Students!G312)","v":""},{"$f":"IF(Students!G312=\"\",\"\",DATEDIF(Students!G312,Settings!$A$2,\"y\"))","v":""},{"$f":"IF(Students!C312=\"\",\"\",RIGHT(Home!$B$11,5))","v":""}]
[null,null,null,null,null,null,311,{"$f":"IF(Students!C313=\"\",\"\",Students!C313)","v":""},{"$f":"IF(Students!D313=\"\",\"\",Students!D313)","v":""},{"$f":"IF(Students!C313=\"\",\"\",H312&\" \"&I312&\" \"&O312)","v":""},{"$f":"IF(Students!E313=\"\",\"\",Students!E313)","v":""},{"$f":"IF(Students!F313=\"\",\"\",Students!F313)","v":""},{"$f":"IF(Students!G313=\"\",\"\",Students!G313)","v":""},{"$f":"IF(Students!G313=\"\",\"\",DATEDIF(Students!G313,Settings!$A$2,\"y\"))","v":""},{"$f":"IF(Students!C313=\"\",\"\",RIGHT(Home!$B$11,5))","v":""}]
[null,null,null,null,null,null,312,{"$f":"IF(Students!C314=\"\",\"\",Students!C314)","v":""},{"$f":"IF(Students!D314=\"\",\"\",Students!D314)","v":""},{"$f":"IF(Students!C314=\"\",\"\",H313&\" \"&I313&\" \"&O313)","v":""},{"$f":"IF(Students!E314=\"\",\"\",Students!E314)","v":""},{"$f":"IF(Students!F314=\"\",\"\",Students!F314)","v":""},{"$f":"IF(Students!G314=\"\",\"\",Students!G314)","v":""},{"$f":"IF(Students!G314=\"\",\"\",DATEDIF(Students!G314,Settings!$A$2,\"y\"))","v":""},{"$f":"IF(Students!C314=\"\",\"\",RIGHT(Home!$B$11,5))","v":""}]
[null,null,null,null,null,null,313,{"$f":"IF(Students!C315=\"\",\"\",Students!C315)","v":""},{"$f":"IF(Students!D315=\"\",\"\",Students!D315)","v":""},{"$f":"IF(Students!C315=\"\",\"\",H314&\" \"&I314&\" \"&O314)","v":""},{"$f":"IF(Students!E315=\"\",\"\",Students!E315)","v":""},{"$f":"IF(Students!F315=\"\",\"\",Students!F315)","v":""},{"$f":"IF(Students!G315=\"\",\"\",Students!G315)","v":""},{"$f":"IF(Students!G315=\"\",\"\",DATEDIF(Students!G315,Settings!$A$2,\"y\"))","v":""},{"$f":"IF(Students!C315=\"\",\"\",RIGHT(Home!$B$11,5))","v":""}]
[null,null,null,null,null,null,314,{"$f":"IF(Students!C316=\"\",\"\",Students!C316)","v":""},{"$f":"IF(Students!D316=\"\",\"\",Students!D316)","v":""},{"$f":"IF(Students!C316=\"\",\"\",H315&\" \"&I315&\" \"&O315)","v":""},{"$f":"IF(Students!E316=\"\",\"\",Students!E316)","v":""},{"$f":"IF(Students!F316=\"\",\"\",Students!F316)","v":""},{"$f":"IF(Students!G316=\"\",\"\",Students!G316)","v":""},{"$f":"IF(Students!G316=\"\",\"\",DATEDIF(Students!G316,Settings!$A$2,\"y\"))","v":""},{"$f":"IF(Students!C316=\"\",\"\",RIGHT(Home!$B$11,5))","v":""}]
[null,null,null,null,null,null,315,{"$f":"IF(Students!C317=\"\",\"\",Students!C317)","v":""},{"$f":"IF(Students!D317=\"\",\"\",Students!D317)","v":""},{"$f":"IF(Students!C317=\"\",\"\",H316&\" \"&I316&\" \"&O316)","v":""},{"$f":"IF(Students!E317=\"\",\"\",Students!E317)","v":""},{"$f":"IF(Students!F317=\"\",\"\",Students!F317)","v":""},{"$f":"IF(Students!G317=\"\",\"\",Students!G317)","v":""},{"$f":"IF(Students!G317=\"\",\"\",DATEDIF(Students!G317,Settings!$A$2,\"y\"))","v":""},{"$f":"IF(Students!C317=\"\",\"\",RIGHT(Home!$B$11,5))","v":""}]
[null,null,null,null,null,null,316,{"$f":"IF(Students!C318=\"\",\"\",Students!C318)","v":""},{"$f":"IF(Students!D318=\"\",\"\",Students!D318)","v":""},{"$f":"IF(Students!C318=\"\",\"\",H317&\" \"&I317&\" \"&O317)","v":""},{"$f":"IF(Students!E318=\"\",\"\",Students!E318)","v":""},{"$f":"IF(Students!F318=\"\",\"\",Students!F318)","v":""},{"$f":"IF(Students!G318=\"\",\"\",Students!G318)","v":""},{"$f":"IF(Students!G318=\"\",\"\",DATEDIF(Students!G318,Settings!$A$2,\"y\"))","v":""},{"$f":"IF(Students!C318=\"\",\"\",RIGHT(Home!$B$11,5))","v":""}]
[null,null,null,null,null,null,317,{"$f":"IF(Students!C319=\"\",\"\",Students!C319)","v":""},{"$f":"IF(Students!D319=\"\",\"\",Students!D319)","v":""},{"$f":"IF(Students!C319=\"\",\"\",H318&\" \"&I318&\" \"&O318)","v":""},{"$f":"IF(Students!E319=\"\",\"\",Students!E319)","v":""},{"$f":"IF(Students!F319=\"\",\"\",Students!F319)","v":""},{"$f":"IF(Students!G319=\"\",\"\",Students!G319)","v":""},{"$f":"IF(Students!G319=\"\",\"\",DATEDIF(Students!G319,Settings!$A$2,\"y\"))","v":""},{"$f":"IF(Students!C319=\"\",\"\",RIGHT(Home!$B$11,5))","v":""}]
[null,null,null,null,null,null,318,{"$f":"IF(Students!C320=\"\",\"\",Students!C320)","v":""},{"$f":"IF(Students!D320=\"\",\"\",Students!D320)","v":""},{"$f":"IF(Students!C320=\"\",\"\",H319&\" \"&I319&\" \"&O319)","v":""},{"$f":"IF(Students!E320=\"\",\"\",Students!E320)","v":""},{"$f":"IF(Students!F320=\"\",\"\",Students!F320)","v":""},{"$f":"IF(Students!G320=\"\",\"\",Students!G320)","v":""},{"$f":"IF(Students!G320=\"\",\"\",DATEDIF(Students!G320,Settings!$A$2,\"y\"))","v":""},{"$f":"IF(Students!C320=\"\",\"\",RIGHT(Home!$B$11,5))","v":""}]
[null,null,null,null,null,null,319,{"$f":"IF(Students!C321=\"\",\"\",Students!C321)","v":""},{"$f":"IF(Students!D321=\"\",\"\",Students!D321)","v":""},{"$f":"IF(Students!C321=\"\",\"\",H320&\" \"&I320&\" \"&O320)","v":""},{"$f":"IF(Students!E321=\"\",\"\",Students!E321)","v":""},{"$f":"IF(Students!F321=\"\",\"\",Students!F321)","v":""},{"$f":"IF(Students!G321=\"\",\"\",Students!G321)","v":""},{"$f":"IF(Students!G321=\"\",\"\",DATEDIF(Students!G321,Settings!$A$2,\"y\"))","v":""},{"$f":"IF(Students!C321=\"\",\"\",RIGHT(Home!$B$11,5))","v":""}]
[null,null,null,null,null,null,320,{"$f":"IF(Students!C322=\"\",\"\",Students!C322)","v":""},{"$f":"IF(Students!D322=\"\",\"\",Students!D322)","v":""},{"$f":"IF(Students!C322=\"\",\"\",H321&\" \"&I321&\" \"&O321)","v":""},{"$f":"IF(Students!E322=\"\",\"\",Students!E322)","v":""},{"$f":"IF(Students!F322=\"\",\"\",Students!F322)","v":""},{"$f":"IF(Students!G322=\"\",\"\",Students!G322)","v":""},{"$f":"IF(Students!G322=\"\",\"\",DATEDIF(Students!G322,Settings!$A$2,\"y\"))","v":""},{"$f":"IF(Students!C322=\"\",\"\",RIGHT(Home!$B$11,5))","v":""}]
[null,null,null,null,null,null,321,{"$f":"IF(Students!C323=\"\",\"\",Students!C323)","v":""},{"$f":"IF(Students!D323=\"\",\"\",Students!D323)","v":""},{"$f":"IF(Students!C323=\"\",\"\",H322&\" \"&I322&\" \"&O322)","v":""},{"$f":"IF(Students!E323=\"\",\"\",Students!E323)","v":""},{"$f":"IF(Students!F323=\"\",\"\",Students!F323)","v":""},{"$f":"IF(Students!G323=\"\",\"\",Students!G323)","v":""},{"$f":"IF(Students!G323=\"\",\"\",DATEDIF(Students!G323,Settings!$A$2,\"y\"))","v":""},{"$f":"IF(Students!C323=\"\",\"\",RIGHT(Home!$B$11,5))","v":""}]
[null,null,null,null,null,null,{"$f":"ROW()-1","v":322},{"$f":"IF(Students!C324=\"\",\"\",Students!C324)","v":""},{"$f":"IF(Students!D324=\"\",\"\",Students!D324)","v":""},{"$f":"IF(Students!C324=\"\",\"\",H323&\" \"&I323&\" \"&O323)","v":""},{"$f":"IF(Students!E324=\"\",\"\",Students!E324)","v":""},{"$f":"IF(Students!F324=\"\",\"\",Students!F324)","v":""},{"$f":"IF(Students!G324=\"\",\"\",Students!G324)","v":""},{"$f":"IF(Students!G324=\"\",\"\",DATEDIF(Students!G324,Settings!$A$2,\"y\"))","v":""},{"$f":"IF(Students!C324=\"\",\"\",RIGHT(Home!$B$11,5))","v":""}]
[null,null,null,null,null,null,323,{"$f":"IF(Students!C325=\"\",\"\",Students!C325)","v":""},{"$f":"IF(Students!D325=\"\",\"\",Students!D325)","v":""},{"$f":"IF(Students!C325=\"\",\"\",H324&\" \"&I324&\" \"&O324)","v":""},{"$f":"IF(Students!E325=\"\",\"\",Students!E325)","v":""},{"$f":"IF(Students!F325=\"\",\"\",Students!F325)","v":""},{"$f":"IF(Students!G325=\"\",\"\",Students!G325)","v":""},{"$f":"IF(Students!G325=\"\",\"\",DATEDIF(Students!G325,Settings!$A$2,\"y\"))","v":""},{"$f":"IF(Students!C325=\"\",\"\",RIGHT(Home!$B$11,5))","v":""}]
[null,null,null,null,null,null,324,{"$f":"IF(Students!C326=\"\",\"\",Students!C326)","v":""},{"$f":"IF(Students!D326=\"\",\"\",Students!D326)","v":""},{"$f":"IF(Students!C326=\"\",\"\",H325&\" \"&I325&\" \"&O325)","v":""},{"$f":"IF(Students!E326=\"\",\"\",Students!E326)","v":""},{"$f":"IF(Students!F326=\"\",\"\",Students!F326)","v":""},{"$f":"IF(Students!G326=\"\",\"\",Students!G326)","v":""},{"$f":"IF(Students!G326=\"\",\"\",DATEDIF(Students!G326,Settings!$A$2,\"y\"))","v":""},{"$f":"IF(Students!C326=\"\",\"\",RIGHT(Home!$B$11,5))","v":""}]
[null,null,null,null,null,null,325,{"$f":"IF(Students!C327=\"\",\"\",Students!C327)","v":""},{"$f":"IF(Students!D327=\"\",\"\",Students!D327)","v":""},{"$f":"IF(Students!C327=\"\",\"\",H326&\" \"&I326&\" \"&O326)","v":""},{"$f":"IF(Students!E327=\"\",\"\",Students!E327)","v":""},{"$f":"IF(Students!F327=\"\",\"\",Students!F327)","v":""},{"$f":"IF(Students!G327=\"\",\"\",Students!G327)","v":""},{"$f":"IF(Students!G327=\"\",\"\",DATEDIF(Students!G327,Settings!$A$2,\"y\"))","v":""},{"$f":"IF(Students!C327=\"\",\"\",RIGHT(Home!$B$11,5))","v":""}]
[null,null,null,null,null,null,326,{"$f":"IF(Students!C328=\"\",\"\",Students!C328)","v":""},{"$f":"IF(Students!D328=\"\",\"\",Students!D328)","v":""},{"$f":"IF(Students!C328=\"\",\"\",H327&\" \"&I327&\" \"&O327)","v":""},{"$f":"IF(Students!E328=\"\",\"\",Students!E328)","v":""},{"$f":"IF(Students!F328=\"\",\"\",Students!F328)","v":""},{"$f":"IF(Students!G328=\"\",\"\",Students!G328)","v":""},{"$f":"IF(Students!G328=\"\",\"\",DATEDIF(Students!G328,Settings!$A$2,\"y\"))","v":""},{"$f":"IF(Students!C328=\"\",\"\",RIGHT(Home!$B$11,5))","v":""}]
[null,null,null,null,null,null,327,{"$f":"IF(Students!C329=\"\",\"\",Students!C329)","v":""},{"$f":"IF(Students!D329=\"\",\"\",Students!D329)","v":""},{"$f":"IF(Students!C329=\"\",\"\",H328&\" \"&I328&\" \"&O328)","v":""},{"$f":"IF(Students!E329=\"\",\"\",Students!E329)","v":""},{"$f":"IF(Students!F329=\"\",\"\",Students!F329)","v":""},{"$f":"IF(Students!G329=\"\",\"\",Students!G329)","v":""},{"$f":"IF(Students!G329=\"\",\"\",DATEDIF(Students!G329,Settings!$A$2,\"y\"))","v":""},{"$f":"IF(Students!C329=\"\",\"\",RIGHT(Home!$B$11,5))","v":""}]
[null,null,null,null,null,null,328,{"$f":"IF(Students!C330=\"\",\"\",Students!C330)","v":""},{"$f":"IF(Students!D330=\"\",\"\",Students!D330)","v":""},{"$f":"IF(Students!C330=\"\",\"\",H329&\" \"&I329&\" \"&O329)","v":""},{"$f":"IF(Students!E330=\"\",\"\",Students!E330)","v":""},{"$f":"IF(Students!F330=\"\",\"\",Students!F330)","v":""},{"$f":"IF(Students!G330=\"\",\"\",Students!G330)","v":""},{"$f":"IF(Students!G330=\"\",\"\",DATEDIF(Students!G330,Settings!$A$2,\"y\"))","v":""},{"$f":"IF(Students!C330=\"\",\"\",RIGHT(Home!$B$11,5))","v":""}]
[null,null,null,null,null,null,329,{"$f":"IF(Students!C331=\"\",\"\",Students!C331)","v":""},{"$f":"IF(Students!D331=\"\",\"\",Students!D331)","v":""},{"$f":"IF(Students!C331=\"\",\"\",H330&\" \"&I330&\" \"&O330)","v":""},{"$f":"IF(Students!E331=\"\",\"\",Students!E331)","v":""},{"$f":"IF(Students!F331=\"\",\"\",Students!F331)","v":""},{"$f":"IF(Students!G331=\"\",\"\",Students!G331)","v":""},{"$f":"IF(Students!G331=\"\",\"\",DATEDIF(Students!G331,Settings!$A$2,\"y\"))","v":""},{"$f":"IF(Students!C331=\"\",\"\",RIGHT(Home!$B$11,5))","v":""}]
[null,null,null,null,null,null,330,{"$f":"IF(Students!C332=\"\",\"\",Students!C332)","v":""},{"$f":"IF(Students!D332=\"\",\"\",Students!D332)","v":""},{"$f":"IF(Students!C332=\"\",\"\",H331&\" \"&I331&\" \"&O331)","v":""},{"$f":"IF(Students!E332=\"\",\"\",Students!E332)","v":""},{"$f":"IF(Students!F332=\"\",\"\",Students!F332)","v":""},{"$f":"IF(Students!G332=\"\",\"\",Students!G332)","v":""},{"$f":"IF(Students!G332=\"\",\"\",DATEDIF(Students!G332,Settings!$A$2,\"y\"))","v":""},{"$f":"IF(Students!C332=\"\",\"\",RIGHT(Home!$B$11,5))","v":""}]
[null,null,null,null,null,null,331,{"$f":"IF(Students!C333=\"\",\"\",Students!C333)","v":""},{"$f":"IF(Students!D333=\"\",\"\",Students!D333)","v":""},{"$f":"IF(Students!C333=\"\",\"\",H332&\" \"&I332&\" \"&O332)","v":""},{"$f":"IF(Students!E333=\"\",\"\",Students!E333)","v":""},{"$f":"IF(Students!F333=\"\",\"\",Students!F333)","v":""},{"$f":"IF(Students!G333=\"\",\"\",Students!G333)","v":""},{"$f":"IF(Students!G333=\"\",\"\",DATEDIF(Students!G333,Settings!$A$2,\"y\"))","v":""},{"$f":"IF(Students!C333=\"\",\"\",RIGHT(Home!$B$11,5))","v":""}]
[null,null,null,null,null,null,332,{"$f":"IF(Students!C334=\"\",\"\",Students!C334)","v":""},{"$f":"IF(Students!D334=\"\",\"\",Students!D334)","v":""},{"$f":"IF(Students!C334=\"\",\"\",H333&\" \"&I333&\" \"&O333)","v":""},{"$f":"IF(Students!E334=\"\",\"\",Students!E334)","v":""},{"$f":"IF(Students!F334=\"\",\"\",Students!F334)","v":""},{"$f":"IF(Students!G334=\"\",\"\",Students!G334)","v":""},{"$f":"IF(Students!G334=\"\",\"\",DATEDIF(Students!G334,Settings!$A$2,\"y\"))","v":""},{"$f":"IF(Students!C334=\"\",\"\",RIGHT(Home!$B$11,5))","v":""}]
[null,null,null,null,null,null,333,{"$f":"IF(Students!C335=\"\",\"\",Students!C335)","v":""},{"$f":"IF(Students!D335=\"\",\"\",Students!D335)","v":""},{"$f":"IF(Students!C335=\"\",\"\",H334&\" \"&I334&\" \"&O334)","v":""},{"$f":"IF(Students!E335=\"\",\"\",Students!E335)","v":""},{"$f":"IF(Students!F335=\"\",\"\",Students!F335)","v":""},{"$f":"IF(Students!G335=\"\",\"\",Students!G335)","v":""},{"$f":"IF(Students!G335=\"\",\"\",DATEDIF(Students!G335,Settings!$A$2,\"y\"))","v":""},{"$f":"IF(Students!C335=\"\",\"\",RIGHT(Home!$B$11,5))","v":""}]
[null,null,null,null,null,null,334,{"$f":"IF(Students!C336=\"\",\"\",Students!C336)","v":""},{"$f":"IF(Students!D336=\"\",\"\",Students!D336)","v":""},{"$f":"IF(Students!C336=\"\",\"\",H335&\" \"&I335&\" \"&O335)","v":""},{"$f":"IF(Students!E336=\"\",\"\",Students!E336)","v":""},{"$f":"IF(Students!F336=\"\",\"\",Students!F336)","v":""},{"$f":"IF(Students!G336=\"\",\"\",Students!G336)","v":""},{"$f":"IF(Students!G336=\"\",\"\",DATEDIF(Students!G336,Settings!$A$2,\"y\"))","v":""},{"$f":"IF(Students!C336=\"\",\"\",RIGHT(Home!$B$11,5))","v":""}]
[null,null,null,null,null,null,335,{"$f":"IF(Students!C337=\"\",\"\",Students!C337)","v":""},{"$f":"IF(Students!D337=\"\",\"\",Students!D337)","v":""},{"$f":"IF(Students!C337=\"\",\"\",H336&\" \"&I336&\" \"&O336)","v":""},{"$f":"IF(Students!E337=\"\",\"\",Students!E337)","v":""},{"$f":"IF(Students!F337=\"\",\"\",Students!F337)","v":""},{"$f":"IF(Students!G337=\"\",\"\",Students!G337)","v":""},{"$f":"IF(Students!G337=\"\",\"\",DATEDIF(Students!G337,Settings!$A$2,\"y\"))","v":""},{"$f":"IF(Students!C337=\"\",\"\",RIGHT(Home!$B$11,5))","v":""}]
[null,null,null,null,null,null,336,{"$f":"IF(Students!C338=\"\",\"\",Students!C338)","v":""},{"$f":"IF(Students!D338=\"\",\"\",Students!D338)","v":""},{"$f":"IF(Students!C338=\"\",\"\",H337&\" \"&I337&\" \"&O337)","v":""},{"$f":"IF(Students!E338=\"\",\"\",Students!E338)","v":""},{"$f":"IF(Students!F338=\"\",\"\",Students!F338)","v":""},{"$f":"IF(Students!G338=\"\",\"\",Students!G338)","v":""},{"$f":"IF(Students!G338=\"\",\"\",DATEDIF(Students!G338,Settings!$A$2,\"y\"))","v":""},{"$f":"IF(Students!C338=\"\",\"\",RIGHT(Home!$B$11,5))","v":""}]
[null,null,null,null,null,null,337,{"$f":"IF(Students!C339=\"\",\"\",Students!C339)","v":""},{"$f":"IF(Students!D339=\"\",\"\",Students!D339)","v":""},{"$f":"IF(Students!C339=\"\",\"\",H338&\" \"&I338&\" \"&O338)","v":""},{"$f":"IF(Students!E339=\"\",\"\",Students!E339)","v":""},{"$f":"IF(Students!F339=\"\",\"\",Students!F339)","v":""},{"$f":"IF(Students!G339=\"\",\"\",Students!G339)","v":""},{"$f":"IF(Students!G339=\"\",\"\",DATEDIF(Students!G339,Settings!$A$2,\"y\"))","v":""},{"$f":"IF(Students!C339=\"\",\"\",RIGHT(Home!$B$11,5))","v":""}]
[null,null,null,null,null,null,338,{"$f":"IF(Students!C340=\"\",\"\",Students!C340)","v":""},{"$f":"IF(Students!D340=\"\",\"\",Students!D340)","v":""},{"$f":"IF(Students!C340=\"\",\"\",H339&\" \"&I339&\" \"&O339)","v":""},{"$f":"IF(Students!E340=\"\",\"\",Students!E340)","v":""},{"$f":"IF(Students!F340=\"\",\"\",Students!F340)","v":""},{"$f":"IF(Students!G340=\"\",\"\",Students!G340)","v":""},{"$f":"IF(Students!G340=\"\",\"\",DATEDIF(Students!G340,Settings!$A$2,\"y\"))","v":""},{"$f":"IF(Students!C340=\"\",\"\",RIGHT(Home!$B$11,5))","v":""}]
[null,null,null,null,null,null,339,{"$f":"IF(Students!C341=\"\",\"\",Students!C341)","v":""},{"$f":"IF(Students!D341=\"\",\"\",Students!D341)","v":""},{"$f":"IF(Students!C341=\"\",\"\",H340&\" \"&I340&\" \"&O340)","v":""},{"$f":"IF(Students!E341=\"\",\"\",Students!E341)","v":""},{"$f":"IF(Students!F341=\"\",\"\",Students!F341)","v":""},{"$f":"IF(Students!G341=\"\",\"\",Students!G341)","v":""},{"$f":"IF(Students!G341=\"\",\"\",DATEDIF(Students!G341,Settings!$A$2,\"y\"))","v":""},{"$f":"IF(Students!C341=\"\",\"\",RIGHT(Home!$B$11,5))","v":""}]
[null,null,null,null,null,null,340,{"$f":"IF(Students!C342=\"\",\"\",Students!C342)","v":""},{"$f":"IF(Students!D342=\"\",\"\",Students!D342)","v":""},{"$f":"IF(Students!C342=\"\",\"\",H341&\" \"&I341&\" \"&O341)","v":""},{"$f":"IF(Students!E342=\"\",\"\",Students!E342)","v":""},{"$f":"IF(Students!F342=\"\",\"\",Students!F342)","v":""},{"$f":"IF(Students!G342=\"\",\"\",Students!G342)","v":""},{"$f":"IF(Students!G342=\"\",\"\",DATEDIF(Students!G342,Settings!$A$2,\"y\"))","v":""},{"$f":"IF(Students!C342=\"\",\"\",RIGHT(Home!$B$11,5))","v":""}]
[null,null,null,null,null,null,341,{"$f":"IF(Students!C343=\"\",\"\",Students!C343)","v":""},{"$f":"IF(Students!D343=\"\",\"\",Students!D343)","v":""},{"$f":"IF(Students!C343=\"\",\"\",H342&\" \"&I342&\" \"&O342)","v":""},{"$f":"IF(Students!E343=\"\",\"\",Students!E343)","v":""},{"$f":"IF(Students!F343=\"\",\"\",Students!F343)","v":""},{"$f":"IF(Students!G343=\"\",\"\",Students!G343)","v":""},{"$f":"IF(Students!G343=\"\",\"\",DATEDIF(Students!G343,Settings!$A$2,\"y\"))","v":""},{"$f":"IF(Students!C343=\"\",\"\",RIGHT(Home!$B$11,5))","v":""}]
[null,null,null,null,null,null,342,{"$f":"IF(Students!C344=\"\",\"\",Students!C344)","v":""},{"$f":"IF(Students!D344=\"\",\"\",Students!D344)","v":""},{"$f":"IF(Students!C344=\"\",\"\",H343&\" \"&I343&\" \"&O343)","v":""},{"$f":"IF(Students!E344=\"\",\"\",Students!E344)","v":""},{"$f":"IF(Students!F344=\"\",\"\",Students!F344)","v":""},{"$f":"IF(Students!G344=\"\",\"\",Students!G344)","v":""},{"$f":"IF(Students!G344=\"\",\"\",DATEDIF(Students!G344,Settings!$A$2,\"y\"))","v":""},{"$f":"IF(Students!C344=\"\",\"\",RIGHT(Home!$B$11,5))","v":""}]
[null,null,null,null,null,null,343,{"$f":"IF(Students!C345=\"\",\"\",Students!C345)","v":""},{"$f":"IF(Students!D345=\"\",\"\",Students!D345)","v":""},{"$f":"IF(Students!C345=\"\",\"\",H344&\" \"&I344&\" \"&O344)","v":""},{"$f":"IF(Students!E345=\"\",\"\",Students!E345)","v":""},{"$f":"IF(Students!F345=\"\",\"\",Students!F345)","v":""},{"$f":"IF(Students!G345=\"\",\"\",Students!G345)","v":""},{"$f":"IF(Students!G345=\"\",\"\",DATEDIF(Students!G345,Settings!$A$2,\"y\"))","v":""},{"$f":"IF(Students!C345=\"\",\"\",RIGHT(Home!$B$11,5))","v":""}]
[null,null,null,null,null,null,344,{"$f":"IF(Students!C346=\"\",\"\",Students!C346)","v":""},{"$f":"IF(Students!D346=\"\",\"\",Students!D346)","v":""},{"$f":"IF(Students!C346=\"\",\"\",H345&\" \"&I345&\" \"&O345)","v":""},{"$f":"IF(Students!E346=\"\",\"\",Students!E346)","v":""},{"$f":"IF(Students!F346=\"\",\"\",Students!F346)","v":""},{"$f":"IF(Students!G346=\"\",\"\",Students!G346)","v":""},{"$f":"IF(Students!G346=\"\",\"\",DATEDIF(Students!G346,Settings!$A$2,\"y\"))","v":""},{"$f":"IF(Students!C346=\"\",\"\",RIGHT(Home!$B$11,5))","v":""}]
[null,null,null,null,null,null,345,{"$f":"IF(Students!C347=\"\",\"\",Students!C347)","v":""},{"$f":"IF(Students!D347=\"\",\"\",Students!D347)","v":""},{"$f":"IF(Students!C347=\"\",\"\",H346&\" \"&I346&\" \"&O346)","v":""},{"$f":"IF(Students!E347=\"\",\"\",Students!E347)","v":""},{"$f":"IF(Students!F347=\"\",\"\",Students!F347)","v":""},{"$f":"IF(Students!G347=\"\",\"\",Students!G347)","v":""},{"$f":"IF(Students!G347=\"\",\"\",DATEDIF(Students!G347,Settings!$A$2,\"y\"))","v":""},{"$f":"IF(Students!C347=\"\",\"\",RIGHT(Home!$B$11,5))","v":""}]
[null,null,null,null,null,null,346,{"$f":"IF(Students!C348=\"\",\"\",Students!C348)","v":""},{"$f":"IF(Students!D348=\"\",\"\",Students!D348)","v":""},{"$f":"IF(Students!C348=\"\",\"\",H347&\" \"&I347&\" \"&O347)","v":""},{"$f":"IF(Students!E348=\"\",\"\",Students!E348)","v":""},{"$f":"IF(Students!F348=\"\",\"\",Students!F348)","v":""},{"$f":"IF(Students!G348=\"\",\"\",Students!G348)","v":""},{"$f":"IF(Students!G348=\"\",\"\",DATEDIF(Students!G348,Settings!$A$2,\"y\"))","v":""},{"$f":"IF(Students!C348=\"\",\"\",RIGHT(Home!$B$11,5))","v":""}]
[null,null,null,null,null,null,347,{"$f":"IF(Students!C349=\"\",\"\",Students!C349)","v":""},{"$f":"IF(Students!D349=\"\",\"\",Students!D349)","v":""},{"$f":"IF(Students!C349=\"\",\"\",H348&\" \"&I348&\" \"&O348)","v":""},{"$f":"IF(Students!E349=\"\",\"\",Students!E349)","v":""},{"$f":"IF(Students!F349=\"\",\"\",Students!F349)","v":""},{"$f":"IF(Students!G349=\"\",\"\",Students!G349)","v":""},{"$f":"IF(Students!G349=\"\",\"\",DATEDIF(Students!G349,Settings!$A$2,\"y\"))","v":""},{"$f":"IF(Students!C349=\"\",\"\",RIGHT(Home!$B$11,5))","v":""}]
[null,null,null,null,null,null,348,{"$f":"IF(Students!C350=\"\",\"\",Students!C350)","v":""},{"$f":"IF(Students!D350=\"\",\"\",Students!D350)","v":""},{"$f":"IF(Students!C350=\"\",\"\",H349&\" \"&I349&\" \"&O349)","v":""},{"$f":"IF(Students!E350=\"\",\"\",Students!E350)","v":""},{"$f":"IF(Students!F350=\"\",\"\",Students!F350)","v":""},{"$f":"IF(Students!G350=\"\",\"\",Students!G350)","v":""},{"$f":"IF(Students!G350=\"\",\"\",DATEDIF(Students!G350,Settings!$A$2,\"y\"))","v":""},{"$f":"IF(Students!C350=\"\",\"\",RIGHT(Home!$B$11,5))","v":""}]
[null,null,null,null,null,null,349,{"$f":"IF(Students!C351=\"\",\"\",Students!C351)","v":""},{"$f":"IF(Students!D351=\"\",\"\",Students!D351)","v":""},{"$f":"IF(Students!C351=\"\",\"\",H350&\" \"&I350&\" \"&O350)","v":""},{"$f":"IF(Students!E351=\"\",\"\",Students!E351)","v":""},{"$f":"IF(Students!F351=\"\",\"\",Students!F351)","v":""},{"$f":"IF(Students!G351=\"\",\"\",Students!G351)","v":""},{"$f":"IF(Students!G351=\"\",\"\",DATEDIF(Students!G351,Settings!$A$2,\"y\"))","v":""},{"$f":"IF(Students!C351=\"\",\"\",RIGHT(Home!$B$11,5))","v":""}]
[null,null,null,null,null,null,350,{"$f":"IF(Students!C352=\"\",\"\",Students!C352)","v":""},{"$f":"IF(Students!D352=\"\",\"\",Students!D352)","v":""},{"$f":"IF(Students!C352=\"\",\"\",H351&\" \"&I351&\" \"&O351)","v":""},{"$f":"IF(Students!E352=\"\",\"\",Students!E352)","v":""},{"$f":"IF(Students!F352=\"\",\"\",Students!F352)","v":""},{"$f":"IF(Students!G352=\"\",\"\",Students!G352)","v":""},{"$f":"IF(Students!G352=\"\",\"\",DATEDIF(Students!G352,Settings!$A$2,\"y\"))","v":""},{"$f":"IF(Students!C352=\"\",\"\",RIGHT(Home!$B$11,5))","v":""}]
[null,null,null,null,null,null,351,{"$f":"IF(Students!C353=\"\",\"\",Students!C353)","v":""},{"$f":"IF(Students!D353=\"\",\"\",Students!D353)","v":""},{"$f":"IF(Students!C353=\"\",\"\",H352&\" \"&I352&\" \"&O352)","v":""},{"$f":"IF(Students!E353=\"\",\"\",Students!E353)","v":""},{"$f":"IF(Students!F353=\"\",\"\",Students!F353)","v":""},{"$f":"IF(Students!G353=\"\",\"\",Students!G353)","v":""},{"$f":"IF(Students!G353=\"\",\"\",DATEDIF(Students!G353,Settings!$A$2,\"y\"))","v":""},{"$f":"IF(Students!C353=\"\",\"\",RIGHT(Home!$B$11,5))","v":""}]
[null,null,null,null,null,null,352,{"$f":"IF(Students!C354=\"\",\"\",Students!C354)","v":""},{"$f":"IF(Students!D354=\"\",\"\",Students!D354)","v":""},{"$f":"IF(Students!C354=\"\",\"\",H353&\" \"&I353&\" \"&O353)","v":""},{"$f":"IF(Students!E354=\"\",\"\",Students!E354)","v":""},{"$f":"IF(Students!F354=\"\",\"\",Students!F354)","v":""},{"$f":"IF(Students!G354=\"\",\"\",Students!G354)","v":""},{"$f":"IF(Students!G354=\"\",\"\",DATEDIF(Students!G354,Settings!$A$2,\"y\"))","v":""},{"$f":"IF(Students!C354=\"\",\"\",RIGHT(Home!$B$11,5))","v":""}]
[null,null,null,null,null,null,353,{"$f":"IF(Students!C355=\"\",\"\",Students!C355)","v":""},{"$f":"IF(Students!D355=\"\",\"\",Students!D355)","v":""},{"$f":"IF(Students!C355=\"\",\"\",H354&\" \"&I354&\" \"&O354)","v":""},{"$f":"IF(Students!E355=\"\",\"\",Students!E355)","v":""},{"$f":"IF(Students!F355=\"\",\"\",Students!F355)","v":""},{"$f":"IF(Students!G355=\"\",\"\",Students!G355)","v":""},{"$f":"IF(Students!G355=\"\",\"\",DATEDIF(Students!G355,Settings!$A$2,\"y\"))","v":""},{"$f":"IF(Students!C355=\"\",\"\",RIGHT(Home!$B$11,5))","v":""}]
[null,null,null,null,null,null,354,{"$f":"IF(Students!C356=\"\",\"\",Students!C356)","v":""},{"$f":"IF(Students!D356=\"\",\"\",Students!D356)","v":""},{"$f":"IF(Students!C356=\"\",\"\",H355&\" \"&I355&\" \"&O355)","v":""},{"$f":"IF(Students!E356=\"\",\"\",Students!E356)","v":""},{"$f":"IF(Students!F356=\"\",\"\",Students!F356)","v":""},{"$f":"IF(Students!G356=\"\",\"\",Students!G356)","v":""},{"$f":"IF(Students!G356=\"\",\"\",DATEDIF(Students!G356,Settings!$A$2,\"y\"))","v":""},{"$f":"IF(Students!C356=\"\",\"\",RIGHT(Home!$B$11,5))","v":""}]
[null,null,null,null,null,null,355,{"$f":"IF(Students!C357=\"\",\"\",Students!C357)","v":""},{"$f":"IF(Students!D357=\"\",\"\",Students!D357)","v":""},{"$f":"IF(Students!C357=\"\",\"\",H356&\" \"&I356&\" \"&O356)","v":""},{"$f":"IF(Students!E357=\"\",\"\",Students!E357)","v":""},{"$f":"IF(Students!F357=\"\",\"\",Students!F357)","v":""},{"$f":"IF(Students!G357=\"\",\"\",Students!G357)","v":""},{"$f":"IF(Students!G357=\"\",\"\",DATEDIF(Students!G357,Settings!$A$2,\"y\"))","v":""},{"$f":"IF(Students!C357=\"\",\"\",RIGHT(Home!$B$11,5))","v":""}]
[null,null,null,null,null,null,356,{"$f":"IF(Students!C358=\"\",\"\",Students!C358)","v":""},{"$f":"IF(Students!D358=\"\",\"\",Students!D358)","v":""},{"$f":"IF(Students!C358=\"\",\"\",H357&\" \"&I357&\" \"&O357)","v":""},{"$f":"IF(Students!E358=\"\",\"\",Students!E358)","v":""},{"$f":"IF(Students!F358=\"\",\"\",Students!F358)","v":""},{"$f":"IF(Students!G358=\"\",\"\",Students!G358)","v":""},{"$f":"IF(Students!G358=\"\",\"\",DATEDIF(Students!G358,Settings!$A$2,\"y\"))","v":""},{"$f":"IF(Students!C358=\"\",\"\",RIGHT(Home!$B$11,5))","v":""}]
[null,null,null,null,null,null,357,{"$f":"IF(Students!C359=\"\",\"\",Students!C359)","v":""},{"$f":"IF(Students!D359=\"\",\"\",Students!D359)","v":""},{"$f":"IF(Students!C359=\"\",\"\",H358&\" \"&I358&\" \"&O358)","v":""},{"$f":"IF(Students!E359=\"\",\"\",Students!E359)","v":""},{"$f":"IF(Students!F359=\"\",\"\",Students!F359)","v":""},{"$f":"IF(Students!G359=\"\",\"\",Students!G359)","v":""},{"$f":"IF(Students!G359=\"\",\"\",DATEDIF(Students!G359,Settings!$A$2,\"y\"))","v":""},{"$f":"IF(Students!C359=\"\",\"\",RIGHT(Home!$B$11,5))","v":""}]
[null,null,null,null,null,null,358,{"$f":"IF(Students!C360=\"\",\"\",Students!C360)","v":""},{"$f":"IF(Students!D360=\"\",\"\",Students!D360)","v":""},{"$f":"IF(Students!C360=\"\",\"\",H359&\" \"&I359&\" \"&O359)","v":""},{"$f":"IF(Students!E360=\"\",\"\",Students!E360)","v":""},{"$f":"IF(Students!F360=\"\",\"\",Students!F360)","v":""},{"$f":"IF(Students!G360=\"\",\"\",Students!G360)","v":""},{"$f":"IF(Students!G360=\"\",\"\",DATEDIF(Students!G360,Settings!$A$2,\"y\"))","v":""},{"$f":"IF(Students!C360=\"\",\"\",RIGHT(Home!$B$11,5))","v":""}]
[null,null,null,null,null,null,359,{"$f":"IF(Students!C361=\"\",\"\",Students!C361)","v":""},{"$f":"IF(Students!D361=\"\",\"\",Students!D361)","v":""},{"$f":"IF(Students!C361=\"\",\"\",H360&\" \"&I360&\" \"&O360)","v":""},{"$f":"IF(Students!E361=\"\",\"\",Students!E361)","v":""},{"$f":"IF(Students!F361=\"\",\"\",Students!F361)","v":""},{"$f":"IF(Students!G361=\"\",\"\",Students!G361)","v":""},{"$f":"IF(Students!G361=\"\",\"\",DATEDIF(Students!G361,Settings!$A$2,\"y\"))","v":""},{"$f":"IF(Students!C361=\"\",\"\",RIGHT(Home!$B$11,5))","v":""}]
[null,null,null,null,null,null,360,{"$f":"IF(Students!C362=\"\",\"\",Students!C362)","v":""},{"$f":"IF(Students!D362=\"\",\"\",Students!D362)","v":""},{"$f":"IF(Students!C362=\"\",\"\",H361&\" \"&I361&\" \"&O361)","v":""},{"$f":"IF(Students!E362=\"\",\"\",Students!E362)","v":""},{"$f":"IF(Students!F362=\"\",\"\",Students!F362)","v":""},{"$f":"IF(Students!G362=\"\",\"\",Students!G362)","v":""},{"$f":"IF(Students!G362=\"\",\"\",DATEDIF(Students!G362,Settings!$A$2,\"y\"))","v":""},{"$f":"IF(Students!C362=\"\",\"\",RIGHT(Home!$B$11,5))","v":""}]
[null,null,null,null,null,null,361,{"$f":"IF(Students!C363=\"\",\"\",Students!C363)","v":""},{"$f":"IF(Students!D363=\"\",\"\",Students!D363)","v":""},{"$f":"IF(Students!C363=\"\",\"\",H362&\" \"&I362&\" \"&O362)","v":""},{"$f":"IF(Students!E363=\"\",\"\",Students!E363)","v":""},{"$f":"IF(Students!F363=\"\",\"\",Students!F363)","v":""},{"$f":"IF(Students!G363=\"\",\"\",Students!G363)","v":""},{"$f":"IF(Students!G363=\"\",\"\",DATEDIF(Students!G363,Settings!$A$2,\"y\"))","v":""},{"$f":"IF(Students!C363=\"\",\"\",RIGHT(Home!$B$11,5))","v":""}]
[null,null,null,null,null,null,362,{"$f":"IF(Students!C364=\"\",\"\",Students!C364)","v":""},{"$f":"IF(Students!D364=\"\",\"\",Students!D364)","v":""},{"$f":"IF(Students!C364=\"\",\"\",H363&\" \"&I363&\" \"&O363)","v":""},{"$f":"IF(Students!E364=\"\",\"\",Students!E364)","v":""},{"$f":"IF(Students!F364=\"\",\"\",Students!F364)","v":""},{"$f":"IF(Students!G364=\"\",\"\",Students!G364)","v":""},{"$f":"IF(Students!G364=\"\",\"\",DATEDIF(Students!G364,Settings!$A$2,\"y\"))","v":""},{"$f":"IF(Students!C364=\"\",\"\",RIGHT(Home!$B$11,5))","v":""}]
[null,null,null,null,null,null,363,{"$f":"IF(Students!C365=\"\",\"\",Students!C365)","v":""},{"$f":"IF(Students!D365=\"\",\"\",Students!D365)","v":""},{"$f":"IF(Students!C365=\"\",\"\",H364&\" \"&I364&\" \"&O364)","v":""},{"$f":"IF(Students!E365=\"\",\"\",Students!E365)","v":""},{"$f":"IF(Students!F365=\"\",\"\",Students!F365)","v":""},{"$f":"IF(Students!G365=\"\",\"\",Students!G365)","v":""},{"$f":"IF(Students!G365=\"\",\"\",DATEDIF(Students!G365,Settings!$A$2,\"y\"))","v":""},{"$f":"IF(Students!C365=\"\",\"\",RIGHT(Home!$B$11,5))","v":""}]
[null,null,null,null,null,null,364,{"$f":"IF(Students!C366=\"\",\"\",Students!C366)","v":""},{"$f":"IF(Students!D366=\"\",\"\",Students!D366)","v":""},{"$f":"IF(Students!C366=\"\",\"\",H365&\" \"&I365&\" \"&O365)","v":""},{"$f":"IF(Students!E366=\"\",\"\",Students!E366)","v":""},{"$f":"IF(Students!F366=\"\",\"\",Students!F366)","v":""},{"$f":"IF(Students!G366=\"\",\"\",Students!G366)","v":""},{"$f":"IF(Students!G366=\"\",\"\",DATEDIF(Students!G366,Settings!$A$2,\"y\"))","v":""},{"$f":"IF(Students!C366=\"\",\"\",RIGHT(Home!$B$11,5))","v":""}]
[null,null,null,null,null,null,365,{"$f":"IF(Students!C367=\"\",\"\",Students!C367)","v":""},{"$f":"IF(Students!D367=\"\",\"\",Students!D367)","v":""},{"$f":"IF(Students!C367=\"\",\"\",H366&\" \"&I366&\" \"&O366)","v":""},{"$f":"IF(Students!E367=\"\",\"\",Students!E367)","v":""},{"$f":"IF(Students!F367=\"\",\"\",Students!F367)","v":""},{"$f":"IF(Students!G367=\"\",\"\",Students!G367)","v":""},{"$f":"IF(Students!G367=\"\",\"\",DATEDIF(Students!G367,Settings!$A$2,\"y\"))","v":""},{"$f":"IF(Students!C367=\"\",\"\",RIGHT(Home!$B$11,5))","v":""}]
[null,null,null,null,null,null,366,{"$f":"IF(Students!C368=\"\",\"\",Students!C368)","v":""},{"$f":"IF(Students!D368=\"\",\"\",Students!D368)","v":""},{"$f":"IF(Students!C368=\"\",\"\",H367&\" \"&I367&\" \"&O367)","v":""},{"$f":"IF(Students!E368=\"\",\"\",Students!E368)","v":""},{"$f":"IF(Students!F368=\"\",\"\",Students!F368)","v":""},{"$f":"IF(Students!G368=\"\",\"\",Students!G368)","v":""},{"$f":"IF(Students!G368=\"\",\"\",DATEDIF(Students!G368,Settings!$A$2,\"y\"))","v":""},{"$f":"IF(Students!C368=\"\",\"\",RIGHT(Home!$B$11,5))","v":""}]
[null,null,null,null,null,null,367,{"$f":"IF(Students!C369=\"\",\"\",Students!C369)","v":""},{"$f":"IF(Students!D369=\"\",\"\",Students!D369)","v":""},{"$f":"IF(Students!C369=\"\",\"\",H368&\" \"&I368&\" \"&O368)","v":""},{"$f":"IF(Students!E369=\"\",\"\",Students!E369)","v":""},{"$f":"IF(Students!F369=\"\",\"\",Students!F369)","v":""},{"$f":"IF(Students!G369=\"\",\"\",Students!G369)","v":""},{"$f":"IF(Students!G369=\"\",\"\",DATEDIF(Students!G369,Settings!$A$2,\"y\"))","v":""},{"$f":"IF(Students!C369=\"\",\"\",RIGHT(Home!$B$11,5))","v":""}]
[null,null,null,null,null,null,368,{"$f":"IF(Students!C370=\"\",\"\",Students!C370)","v":""},{"$f":"IF(Students!D370=\"\",\"\",Students!D370)","v":""},{"$f":"IF(Students!C370=\"\",\"\",H369&\" \"&I369&\" \"&O369)","v":""},{"$f":"IF(Students!E370=\"\",\"\",Students!E370)","v":""},{"$f":"IF(Students!F370=\"\",\"\",Students!F370)","v":""},{"$f":"IF(Students!G370=\"\",\"\",Students!G370)","v":""},{"$f":"IF(Students!G370=\"\",\"\",DATEDIF(Students!G370,Settings!$A$2,\"y\"))","v":""},{"$f":"IF(Students!C370=\"\",\"\",RIGHT(Home!$B$11,5))","v":""}]
[null,null,null,null,null,null,369,{"$f":"IF(Students!C371=\"\",\"\",Students!C371)","v":""},{"$f":"IF(Students!D371=\"\",\"\",Students!D371)","v":""},{"$f":"IF(Students!C371=\"\",\"\",H370&\" \"&I370&\" \"&O370)","v":""},{"$f":"IF(Students!E371=\"\",\"\",Students!E371)","v":""},{"$f":"IF(Students!F371=\"\",\"\",Students!F371)","v":""},{"$f":"IF(Students!G371=\"\",\"\",Students!G371)","v":""},{"$f":"IF(Students!G371=\"\",\"\",DATEDIF(Students!G371,Settings!$A$2,\"y\"))","v":""},{"$f":"IF(Students!C371=\"\",\"\",RIGHT(Home!$B$11,5))","v":""}]
[null,null,null,null,null,null,370,{"$f":"IF(Students!C372=\"\",\"\",Students!C372)","v":""},{"$f":"IF(Students!D372=\"\",\"\",Students!D372)","v":""},{"$f":"IF(Students!C372=\"\",\"\",H371&\" \"&I371&\" \"&O371)","v":""},{"$f":"IF(Students!E372=\"\",\"\",Students!E372)","v":""},{"$f":"IF(Students!F372=\"\",\"\",Students!F372)","v":""},{"$f":"IF(Students!G372=\"\",\"\",Students!G372)","v":""},{"$f":"IF(Students!G372=\"\",\"\",DATEDIF(Students!G372,Settings!$A$2,\"y\"))","v":""},{"$f":"IF(Students!C372=\"\",\"\",RIGHT(Home!$B$11,5))","v":""}]
[null,null,null,null,null,null,371,{"$f":"IF(Students!C373=\"\",\"\",Students!C373)","v":""},{"$f":"IF(Students!D373=\"\",\"\",Students!D373)","v":""},{"$f":"IF(Students!C373=\"\",\"\",H372&\" \"&I372&\" \"&O372)","v":""},{"$f":"IF(Students!E373=\"\",\"\",Students!E373)","v":""},{"$f":"IF(Students!F373=\"\",\"\",Students!F373)","v":""},{"$f":"IF(Students!G373=\"\",\"\",Students!G373)","v":""},{"$f":"IF(Students!G373=\"\",\"\",DATEDIF(Students!G373,Settings!$A$2,\"y\"))","v":""},{"$f":"IF(Students!C373=\"\",\"\",RIGHT(Home!$B$11,5))","v":""}]
[null,null,null,null,null,null,372,{"$f":"IF(Students!C374=\"\",\"\",Students!C374)","v":""},{"$f":"IF(Students!D374=\"\",\"\",Students!D374)","v":""},{"$f":"IF(Students!C374=\"\",\"\",H373&\" \"&I373&\" \"&O373)","v":""},{"$f":"IF(Students!E374=\"\",\"\",Students!E374)","v":""},{"$f":"IF(Students!F374=\"\",\"\",Students!F374)","v":""},{"$f":"IF(Students!G374=\"\",\"\",Students!G374)","v":""},{"$f":"IF(Students!G374=\"\",\"\",DATEDIF(Students!G374,Settings!$A$2,\"y\"))","v":""},{"$f":"IF(Students!C374=\"\",\"\",RIGHT(Home!$B$11,5))","v":""}]
[null,null,null,null,null,null,373,{"$f":"IF(Students!C375=\"\",\"\",Students!C375)","v":""},{"$f":"IF(Students!D375=\"\",\"\",Students!D375)","v":""},{"$f":"IF(Students!C375=\"\",\"\",H374&\" \"&I374&\" \"&O374)","v":""},{"$f":"IF(Students!E375=\"\",\"\",Students!E375)","v":""},{"$f":"IF(Students!F375=\"\",\"\",Students!F375)","v":""},{"$f":"IF(Students!G375=\"\",\"\",Students!G375)","v":""},{"$f":"IF(Students!G375=\"\",\"\",DATEDIF(Students!G375,Settings!$A$2,\"y\"))","v":""},{"$f":"IF(Students!C375=\"\",\"\",RIGHT(Home!$B$11,5))","v":""}]
[null,null,null,null,null,null,374,{"$f":"IF(Students!C376=\"\",\"\",Students!C376)","v":""},{"$f":"IF(Students!D376=\"\",\"\",Students!D376)","v":""},{"$f":"IF(Students!C376=\"\",\"\",H375&\" \"&I375&\" \"&O375)","v":""},{"$f":"IF(Students!E376=\"\",\"\",Students!E376)","v":""},{"$f":"IF(Students!F376=\"\",\"\",Students!F376)","v":""},{"$f":"IF(Students!G376=\"\",\"\",Students!G376)","v":""},{"$f":"IF(Students!G376=\"\",\"\",DATEDIF(Students!G376,Settings!$A$2,\"y\"))","v":""},{"$f":"IF(Students!C376=\"\",\"\",RIGHT(Home!$B$11,5))","v":""}]
[null,null,null,null,null,null,375,{"$f":"IF(Students!C377=\"\",\"\",Students!C377)","v":""},{"$f":"IF(Students!D377=\"\",\"\",Students!D377)","v":""},{"$f":"IF(Students!C377=\"\",\"\",H376&\" \"&I376&\" \"&O376)","v":""},{"$f":"IF(Students!E377=\"\",\"\",Students!E377)","v":""},{"$f":"IF(Students!F377=\"\",\"\",Students!F377)","v":""},{"$f":"IF(Students!G377=\"\",\"\",Students!G377)","v":""},{"$f":"IF(Students!G377=\"\",\"\",DATEDIF(Students!G377,Settings!$A$2,\"y\"))","v":""},{"$f":"IF(Students!C377=\"\",\"\",RIGHT(Home!$B$11,5))","v":""}]
[null,null,null,null,null,null,376,{"$f":"IF(Students!C378=\"\",\"\",Students!C378)","v":""},{"$f":"IF(Students!D378=\"\",\"\",Students!D378)","v":""},{"$f":"IF(Students!C378=\"\",\"\",H377&\" \"&I377&\" \"&O377)","v":""},{"$f":"IF(Students!E378=\"\",\"\",Students!E378)","v":""},{"$f":"IF(Students!F378=\"\",\"\",Students!F378)","v":""},{"$f":"IF(Students!G378=\"\",\"\",Students!G378)","v":""},{"$f":"IF(Students!G378=\"\",\"\",DATEDIF(Students!G378,Settings!$A$2,\"y\"))","v":""},{"$f":"IF(Students!C378=\"\",\"\",RIGHT(Home!$B$11,5))","v":""}]
[null,null,null,null,null,null,377,{"$f":"IF(Students!C379=\"\",\"\",Students!C379)","v":""},{"$f":"IF(Students!D379=\"\",\"\",Students!D379)","v":""},{"$f":"IF(Students!C379=\"\",\"\",H378&\" \"&I378&\" \"&O378)","v":""},{"$f":"IF(Students!E379=\"\",\"\",Students!E379)","v":""},{"$f":"IF(Students!F379=\"\",\"\",Students!F379)","v":""},{"$f":"IF(Students!G379=\"\",\"\",Students!G379)","v":""},{"$f":"IF(Students!G379=\"\",\"\",DATEDIF(Students!G379,Settings!$A$2,\"y\"))","v":""},{"$f":"IF(Students!C379=\"\",\"\",RIGHT(Home!$B$11,5))","v":""}]
[null,null,null,null,null,null,378,{"$f":"IF(Students!C380=\"\",\"\",Students!C380)","v":""},{"$f":"IF(Students!D380=\"\",\"\",Students!D380)","v":""},{"$f":"IF(Students!C380=\"\",\"\",H379&\" \"&I379&\" \"&O379)","v":""},{"$f":"IF(Students!E380=\"\",\"\",Students!E380)","v":""},{"$f":"IF(Students!F380=\"\",\"\",Students!F380)","v":""},{"$f":"IF(Students!G380=\"\",\"\",Students!G380)","v":""},{"$f":"IF(Students!G380=\"\",\"\",DATEDIF(Students!G380,Settings!$A$2,\"y\"))","v":""},{"$f":"IF(Students!C380=\"\",\"\",RIGHT(Home!$B$11,5))","v":""}]
[null,null,null,null,null,null,379,{"$f":"IF(Students!C381=\"\",\"\",Students!C381)","v":""},{"$f":"IF(Students!D381=\"\",\"\",Students!D381)","v":""},{"$f":"IF(Students!C381=\"\",\"\",H380&\" \"&I380&\" \"&O380)","v":""},{"$f":"IF(Students!E381=\"\",\"\",Students!E381)","v":""},{"$f":"IF(Students!F381=\"\",\"\",Students!F381)","v":""},{"$f":"IF(Students!G381=\"\",\"\",Students!G381)","v":""},{"$f":"IF(Students!G381=\"\",\"\",DATEDIF(Students!G381,Settings!$A$2,\"y\"))","v":""},{"$f":"IF(Students!C381=\"\",\"\",RIGHT(Home!$B$11,5))","v":""}]
[null,null,null,null,null,null,380,{"$f":"IF(Students!C382=\"\",\"\",Students!C382)","v":""},{"$f":"IF(Students!D382=\"\",\"\",Students!D382)","v":""},{"$f":"IF(Students!C382=\"\",\"\",H381&\" \"&I381&\" \"&O381)","v":""},{"$f":"IF(Students!E382=\"\",\"\",Students!E382)","v":""},{"$f":"IF(Students!F382=\"\",\"\",Students!F382)","v":""},{"$f":"IF(Students!G382=\"\",\"\",Students!G382)","v":""},{"$f":"IF(Students!G382=\"\",\"\",DATEDIF(Students!G382,Settings!$A$2,\"y\"))","v":""},{"$f":"IF(Students!C382=\"\",\"\",RIGHT(Home!$B$11,5))","v":""}]
[null,null,null,null,null,null,381,{"$f":"IF(Students!C383=\"\",\"\",Students!C383)","v":""},{"$f":"IF(Students!D383=\"\",\"\",Students!D383)","v":""},{"$f":"IF(Students!C383=\"\",\"\",H382&\" \"&I382&\" \"&O382)","v":""},{"$f":"IF(Students!E383=\"\",\"\",Students!E383)","v":""},{"$f":"IF(Students!F383=\"\",\"\",Students!F383)","v":""},{"$f":"IF(Students!G383=\"\",\"\",Students!G383)","v":""},{"$f":"IF(Students!G383=\"\",\"\",DATEDIF(Students!G383,Settings!$A$2,\"y\"))","v":""},{"$f":"IF(Students!C383=\"\",\"\",RIGHT(Home!$B$11,5))","v":""}]
[null,null,null,null,null,null,382,{"$f":"IF(Students!C384=\"\",\"\",Students!C384)","v":""},{"$f":"IF(Students!D384=\"\",\"\",Students!D384)","v":""},{"$f":"IF(Students!C384=\"\",\"\",H383&\" \"&I383&\" \"&O383)","v":""},{"$f":"IF(Students!E384=\"\",\"\",Students!E384)","v":""},{"$f":"IF(Students!F384=\"\",\"\",Students!F384)","v":""},{"$f":"IF(Students!G384=\"\",\"\",Students!G384)","v":""},{"$f":"IF(Students!G384=\"\",\"\",DATEDIF(Students!G384,Settings!$A$2,\"y\"))","v":""},{"$f":"IF(Students!C384=\"\",\"\",RIGHT(Home!$B$11,5))","v":""}]
[null,null,null,null,null,null,383,{"$f":"IF(Students!C385=\"\",\"\",Students!C385)","v":""},{"$f":"IF(Students!D385=\"\",\"\",Students!D385)","v":""},{"$f":"IF(Students!C385=\"\",\"\",H384&\" \"&I384&\" \"&O384)","v":""},{"$f":"IF(Students!E385=\"\",\"\",Students!E385)","v":""},{"$f":"IF(Students!F385=\"\",\"\",Students!F385)","v":""},{"$f":"IF(Students!G385=\"\",\"\",Students!G385)","v":""},{"$f":"IF(Students!G385=\"\",\"\",DATEDIF(Students!G385,Settings!$A$2,\"y\"))","v":""},{"$f":"IF(Students!C385=\"\",\"\",RIGHT(Home!$B$11,5))","v":""}]
[null,null,null,null,null,null,384,{"$f":"IF(Students!C386=\"\",\"\",Students!C386)","v":""},{"$f":"IF(Students!D386=\"\",\"\",Students!D386)","v":""},{"$f":"IF(Students!C386=\"\",\"\",H385&\" \"&I385&\" \"&O385)","v":""},{"$f":"IF(Students!E386=\"\",\"\",Students!E386)","v":""},{"$f":"IF(Students!F386=\"\",\"\",Students!F386)","v":""},{"$f":"IF(Students!G386=\"\",\"\",Students!G386)","v":""},{"$f":"IF(Students!G386=\"\",\"\",DATEDIF(Students!G386,Settings!$A$2,\"y\"))","v":""},{"$f":"IF(Students!C386=\"\",\"\",RIGHT(Home!$B$11,5))","v":""}]
[null,null,null,null,null,null,385,{"$f":"IF(Students!C387=\"\",\"\",Students!C387)","v":""},{"$f":"IF(Students!D387=\"\",\"\",Students!D387)","v":""},{"$f":"IF(Students!C387=\"\",\"\",H386&\" \"&I386&\" \"&O386)","v":""},{"$f":"IF(Students!E387=\"\",\"\",Students!E387)","v":""},{"$f":"IF(Students!F387=\"\",\"\",Students!F387)","v":""},{"$f":"IF(Students!G387=\"\",\"\",Students!G387)","v":""},{"$f":"IF(Students!G387=\"\",\"\",DATEDIF(Students!G387,Settings!$A$2,\"y\"))","v":""},{"$f":"IF(Students!C387=\"\",\"\",RIGHT(Home!$B$11,5))","v":""}]
[null,null,null,null,null,null,{"$f":"ROW()-1","v":386},{"$f":"IF(Students!C388=\"\",\"\",Students!C388)","v":""},{"$f":"IF(Students!D388=\"\",\"\",Students!D388)","v":""},{"$f":"IF(Students!C388=\"\",\"\",H387&\" \"&I387&\" \"&O387)","v":""},{"$f":"IF(Students!E388=\"\",\"\",Students!E388)","v":""},{"$f":"IF(Students!F388=\"\",\"\",Students!F388)","v":""},{"$f":"IF(Students!G388=\"\",\"\",Students!G388)","v":""},{"$f":"IF(Students!G388=\"\",\"\",DATEDIF(Students!G388,Settings!$A$2,\"y\"))","v":""},{"$f":"IF(Students!C388=\"\",\"\",RIGHT(Home!$B$11,5))","v":""}]
[null,null,null,null,null,null,387,{"$f":"IF(Students!C389=\"\",\"\",Students!C389)","v":""},{"$f":"IF(Students!D389=\"\",\"\",Students!D389)","v":""},{"$f":"IF(Students!C389=\"\",\"\",H388&\" \"&I388&\" \"&O388)","v":""},{"$f":"IF(Students!E389=\"\",\"\",Students!E389)","v":""},{"$f":"IF(Students!F389=\"\",\"\",Students!F389)","v":""},{"$f":"IF(Students!G389=\"\",\"\",Students!G389)","v":""},{"$f":"IF(Students!G389=\"\",\"\",DATEDIF(Students!G389,Settings!$A$2,\"y\"))","v":""},{"$f":"IF(Students!C389=\"\",\"\",RIGHT(Home!$B$11,5))","v":""}]
[null,null,null,null,null,null,388,{"$f":"IF(Students!C390=\"\",\"\",Students!C390)","v":""},{"$f":"IF(Students!D390=\"\",\"\",Students!D390)","v":""},{"$f":"IF(Students!C390=\"\",\"\",H389&\" \"&I389&\" \"&O389)","v":""},{"$f":"IF(Students!E390=\"\",\"\",Students!E390)","v":""},{"$f":"IF(Students!F390=\"\",\"\",Students!F390)","v":""},{"$f":"IF(Students!G390=\"\",\"\",Students!G390)","v":""},{"$f":"IF(Students!G390=\"\",\"\",DATEDIF(Students!G390,Settings!$A$2,\"y\"))","v":""},{"$f":"IF(Students!C390=\"\",\"\",RIGHT(Home!$B$11,5))","v":""}]
[null,null,null,null,null,null,389,{"$f":"IF(Students!C391=\"\",\"\",Students!C391)","v":""},{"$f":"IF(Students!D391=\"\",\"\",Students!D391)","v":""},{"$f":"IF(Students!C391=\"\",\"\",H390&\" \"&I390&\" \"&O390)","v":""},{"$f":"IF(Students!E391=\"\",\"\",Students!E391)","v":""},{"$f":"IF(Students!F391=\"\",\"\",Students!F391)","v":""},{"$f":"IF(Students!G391=\"\",\"\",Students!G391)","v":""},{"$f":"IF(Students!G391=\"\",\"\",DATEDIF(Students!G391,Settings!$A$2,\"y\"))","v":""},{"$f":"IF(Students!C391=\"\",\"\",RIGHT(Home!$B$11,5))","v":""}]
[null,null,null,null,null,null,390,{"$f":"IF(Students!C392=\"\",\"\",Students!C392)","v":""},{"$f":"IF(Students!D392=\"\",\"\",Students!D392)","v":""},{"$f":"IF(Students!C392=\"\",\"\",H391&\" \"&I391&\" \"&O391)","v":""},{"$f":"IF(Students!E392=\"\",\"\",Students!E392)","v":""},{"$f":"IF(Students!F392=\"\",\"\",Students!F392)","v":""},{"$f":"IF(Students!G392=\"\",\"\",Students!G392)","v":""},{"$f":"IF(Students!G392=\"\",\"\",DATEDIF(Students!G392,Settings!$A$2,\"y\"))","v":""},{"$f":"IF(Students!C392=\"\",\"\",RIGHT(Home!$B$11,5))","v":""}]
[null,null,null,null,null,null,391,{"$f":"IF(Students!C393=\"\",\"\",Students!C393)","v":""},{"$f":"IF(Students!D393=\"\",\"\",Students!D393)","v":""},{"$f":"IF(Students!C393=\"\",\"\",H392&\" \"&I392&\" \"&O392)","v":""},{"$f":"IF(Students!E393=\"\",\"\",Students!E393)","v":""},{"$f":"IF(Students!F393=\"\",\"\",Students!F393)","v":""},{"$f":"IF(Students!G393=\"\",\"\",Students!G393)","v":""},{"$f":"IF(Students!G393=\"\",\"\",DATEDIF(Students!G393,Settings!$A$2,\"y\"))","v":""},{"$f":"IF(Students!C393=\"\",\"\",RIGHT(Home!$B$11,5))","v":""}]
[null,null,null,null,null,null,392,{"$f":"IF(Students!C394=\"\",\"\",Students!C394)","v":""},{"$f":"IF(Students!D394=\"\",\"\",Students!D394)","v":""},{"$f":"IF(Students!C394=\"\",\"\",H393&\" \"&I393&\" \"&O393)","v":""},{"$f":"IF(Students!E394=\"\",\"\",Students!E394)","v":""},{"$f":"IF(Students!F394=\"\",\"\",Students!F394)","v":""},{"$f":"IF(Students!G394=\"\",\"\",Students!G394)","v":""},{"$f":"IF(Students!G394=\"\",\"\",DATEDIF(Students!G394,Settings!$A$2,\"y\"))","v":""},{"$f":"IF(Students!C394=\"\",\"\",RIGHT(Home!$B$11,5))","v":""}]
[null,null,null,null,null,null,393,{"$f":"IF(Students!C395=\"\",\"\",Students!C395)","v":""},{"$f":"IF(Students!D395=\"\",\"\",Students!D395)","v":""},{"$f":"IF(Students!C395=\"\",\"\",H394&\" \"&I394&\" \"&O394)","v":""},{"$f":"IF(Students!E395=\"\",\"\",Students!E395)","v":""},{"$f":"IF(Students!F395=\"\",\"\",Students!F395)","v":""},{"$f":"IF(Students!G395=\"\",\"\",Students!G395)","v":""},{"$f":"IF(Students!G395=\"\",\"\",DATEDIF(Students!G395,Settings!$A$2,\"y\"))","v":""},{"$f":"IF(Students!C395=\"\",\"\",RIGHT(Home!$B$11,5))","v":""}]
[null,null,null,null,null,null,394,{"$f":"IF(Students!C396=\"\",\"\",Students!C396)","v":""},{"$f":"IF(Students!D396=\"\",\"\",Students!D396)","v":""},{"$f":"IF(Students!C396=\"\",\"\",H395&\" \"&I395&\" \"&O395)","v":""},{"$f":"IF(Students!E396=\"\",\"\",Students!E396)","v":""},{"$f":"IF(Students!F396=\"\",\"\",Students!F396)","v":""},{"$f":"IF(Students!G396=\"\",\"\",Students!G396)","v":""},{"$f":"IF(Students!G396=\"\",\"\",DATEDIF(Students!G396,Settings!$A$2,\"y\"))","v":""},{"$f":"IF(Students!C396=\"\",\"\",RIGHT(Home!$B$11,5))","v":""}]
[null,null,null,null,null,null,395,{"$f":"IF(Students!C397=\"\",\"\",Students!C397)","v":""},{"$f":"IF(Students!D397=\"\",\"\",Students!D397)","v":""},{"$f":"IF(Students!C397=\"\",\"\",H396&\" \"&I396&\" \"&O396)","v":""},{"$f":"IF(Students!E397=\"\",\"\",Students!E397)","v":""},{"$f":"IF(Students!F397=\"\",\"\",Students!F397)","v":""},{"$f":"IF(Students!G397=\"\",\"\",Students!G397)","v":""},{"$f":"IF(Students!G397=\"\",\"\",DATEDIF(Students!G397,Settings!$A$2,\"y\"))","v":""},{"$f":"IF(Students!C397=\"\",\"\",RIGHT(Home!$B$11,5))","v":""}]
[null,null,null,null,null,null,396,{"$f":"IF(Students!C398=\"\",\"\",Students!C398)","v":""},{"$f":"IF(Students!D398=\"\",\"\",Students!D398)","v":""},{"$f":"IF(Students!C398=\"\",\"\",H397&\" \"&I397&\" \"&O397)","v":""},{"$f":"IF(Students!E398=\"\",\"\",Students!E398)","v":""},{"$f":"IF(Students!F398=\"\",\"\",Students!F398)","v":""},{"$f":"IF(Students!G398=\"\",\"\",Students!G398)","v":""},{"$f":"IF(Students!G398=\"\",\"\",DATEDIF(Students!G398,Settings!$A$2,\"y\"))","v":""},{"$f":"IF(Students!C398=\"\",\"\",RIGHT(Home!$B$11,5))","v":""}]
[null,null,null,null,null,null,397,{"$f":"IF(Students!C399=\"\",\"\",Students!C399)","v":""},{"$f":"IF(Students!D399=\"\",\"\",Students!D399)","v":""},{"$f":"IF(Students!C399=\"\",\"\",H398&\" \"&I398&\" \"&O398)","v":""},{"$f":"IF(Students!E399=\"\",\"\",Students!E399)","v":""},{"$f":"IF(Students!F399=\"\",\"\",Students!F399)","v":""},{"$f":"IF(Students!G399=\"\",\"\",Students!G399)","v":""},{"$f":"IF(Students!G399=\"\",\"\",DATEDIF(Students!G399,Settings!$A$2,\"y\"))","v":""},{"$f":"IF(Students!C399=\"\",\"\",RIGHT(Home!$B$11,5))","v":""}]
[null,null,null,null,null,null,398,{"$f":"IF(Students!C400=\"\",\"\",Students!C400)","v":""},{"$f":"IF(Students!D400=\"\",\"\",Students!D400)","v":""},{"$f":"IF(Students!C400=\"\",\"\",H399&\" \"&I399&\" \"&O399)","v":""},{"$f":"IF(Students!E400=\"\",\"\",Students!E400)","v":""},{"$f":"IF(Students!F400=\"\",\"\",Students!F400)","v":""},{"$f":"IF(Students!G400=\"\",\"\",Students!G400)","v":""},{"$f":"IF(Students!G400=\"\",\"\",DATEDIF(Students!G400,Settings!$A$2,\"y\"))","v":""},{"$f":"IF(Students!C400=\"\",\"\",RIGHT(Home!$B$11,5))","v":""}]
[null,null,null,null,null,null,399,{"$f":"IF(Students!C401=\"\",\"\",Students!C401)","v":""},{"$f":"IF(Students!D401=\"\",\"\",Students!D401)","v":""},{"$f":"IF(Students!C401=\"\",\"\",H400&\" \"&I400&\" \"&O400)","v":""},{"$f":"IF(Students!E401=\"\",\"\",Students!E401)","v":""},{"$f":"IF(Students!F401=\"\",\"\",Students!F401)","v":""},{"$f":"IF(Students!G401=\"\",\"\",Students!G401)","v":""},{"$f":"IF(Students!G401=\"\",\"\",DATEDIF(Students!G401,Settings!$A$2,\"y\"))","v":""},{"$f":"IF(Students!C401=\"\",\"\",RIGHT(Home!$B$11,5))","v":""}]
[null,null,null,null,null,null,400,{"$f":"IF(Students!C402=\"\",\"\",Students!C402)","v":""},{"$f":"IF(Students!D402=\"\",\"\",Students!D402)","v":""},{"$f":"IF(Students!C402=\"\",\"\",H401&\" \"&I401&\" \"&O401)","v":""},{"$f":"IF(Students!E402=\"\",\"\",Students!E402)","v":""},{"$f":"IF(Students!F402=\"\",\"\",Students!F402)","v":""},{"$f":"IF(Students!G402=\"\",\"\",Students!G402)","v":""},{"$f":"IF(Students!G402=\"\",\"\",DATEDIF(Students!G402,Settings!$A$2,\"y\"))","v":""},{"$f":"IF(Students!C402=\"\",\"\",RIGHT(Home!$B$11,5))","v":""}]
[null,null,null,null,null,null,401,{"$f":"IF(Students!C403=\"\",\"\",Students!C403)","v":""},{"$f":"IF(Students!D403=\"\",\"\",Students!D403)","v":""},{"$f":"IF(Students!C403=\"\",\"\",H402&\" \"&I402&\" \"&O402)","v":""},{"$f":"IF(Students!E403=\"\",\"\",Students!E403)","v":""},{"$f":"IF(Students!F403=\"\",\"\",Students!F403)","v":""},{"$f":"IF(Students!G403=\"\",\"\",Students!G403)","v":""},{"$f":"IF(Students!G403=\"\",\"\",DATEDIF(Students!G403,Settings!$A$2,\"y\"))","v":""},{"$f":"IF(Students!C403=\"\",\"\",RIGHT(Home!$B$11,5))","v":""}]
[null,null,null,null,null,null,402,{"$f":"IF(Students!C404=\"\",\"\",Students!C404)","v":""},{"$f":"IF(Students!D404=\"\",\"\",Students!D404)","v":""},{"$f":"IF(Students!C404=\"\",\"\",H403&\" \"&I403&\" \"&O403)","v":""},{"$f":"IF(Students!E404=\"\",\"\",Students!E404)","v":""},{"$f":"IF(Students!F404=\"\",\"\",Students!F404)","v":""},{"$f":"IF(Students!G404=\"\",\"\",Students!G404)","v":""},{"$f":"IF(Students!G404=\"\",\"\",DATEDIF(Students!G404,Settings!$A$2,\"y\"))","v":""},{"$f":"IF(Students!C404=\"\",\"\",RIGHT(Home!$B$11,5))","v":""}]
[null,null,null,null,null,null,403,{"$f":"IF(Students!C405=\"\",\"\",Students!C405)","v":""},{"$f":"IF(Students!D405=\"\",\"\",Students!D405)","v":""},{"$f":"IF(Students!C405=\"\",\"\",H404&\" \"&I404&\" \"&O404)","v":""},{"$f":"IF(Students!E405=\"\",\"\",Students!E405)","v":""},{"$f":"IF(Students!F405=\"\",\"\",Students!F405)","v":""},{"$f":"IF(Students!G405=\"\",\"\",Students!G405)","v":""},{"$f":"IF(Students!G405=\"\",\"\",DATEDIF(Students!G405,Settings!$A$2,\"y\"))","v":""},{"$f":"IF(Students!C405=\"\",\"\",RIGHT(Home!$B$11,5))","v":""}]
[null,null,null,null,null,null,404,{"$f":"IF(Students!C406=\"\",\"\",Students!C406)","v":""},{"$f":"IF(Students!D406=\"\",\"\",Students!D406)","v":""},{"$f":"IF(Students!C406=\"\",\"\",H405&\" \"&I405&\" \"&O405)","v":""},{"$f":"IF(Students!E406=\"\",\"\",Students!E406)","v":""},{"$f":"IF(Students!F406=\"\",\"\",Students!F406)","v":""},{"$f":"IF(Students!G406=\"\",\"\",Students!G406)","v":""},{"$f":"IF(Students!G406=\"\",\"\",DATEDIF(Students!G406,Settings!$A$2,\"y\"))","v":""},{"$f":"IF(Students!C406=\"\",\"\",RIGHT(Home!$B$11,5))","v":""}]
[null,null,null,null,null,null,405,{"$f":"IF(Students!C407=\"\",\"\",Students!C407)","v":""},{"$f":"IF(Students!D407=\"\",\"\",Students!D407)","v":""},{"$f":"IF(Students!C407=\"\",\"\",H406&\" \"&I406&\" \"&O406)","v":""},{"$f":"IF(Students!E407=\"\",\"\",Students!E407)","v":""},{"$f":"IF(Students!F407=\"\",\"\",Students!F407)","v":""},{"$f":"IF(Students!G407=\"\",\"\",Students!G407)","v":""},{"$f":"IF(Students!G407=\"\",\"\",DATEDIF(Students!G407,Settings!$A$2,\"y\"))","v":""},{"$f":"IF(Students!C407=\"\",\"\",RIGHT(Home!$B$11,5))","v":""}]
[null,null,null,null,null,null,406,{"$f":"IF(Students!C408=\"\",\"\",Students!C408)","v":""},{"$f":"IF(Students!D408=\"\",\"\",Students!D408)","v":""},{"$f":"IF(Students!C408=\"\",\"\",H407&\" \"&I407&\" \"&O407)","v":""},{"$f":"IF(Students!E408=\"\",\"\",Students!E408)","v":""},{"$f":"IF(Students!F408=\"\",\"\",Students!F408)","v":""},{"$f":"IF(Students!G408=\"\",\"\",Students!G408)","v":""},{"$f":"IF(Students!G408=\"\",\"\",DATEDIF(Students!G408,Settings!$A$2,\"y\"))","v":""},{"$f":"IF(Students!C408=\"\",\"\",RIGHT(Home!$B$11,5))","v":""}]
[null,null,null,null,null,null,407,{"$f":"IF(Students!C409=\"\",\"\",Students!C409)","v":""},{"$f":"IF(Students!D409=\"\",\"\",Students!D409)","v":""},{"$f":"IF(Students!C409=\"\",\"\",H408&\" \"&I408&\" \"&O408)","v":""},{"$f":"IF(Students!E409=\"\",\"\",Students!E409)","v":""},{"$f":"IF(Students!F409=\"\",\"\",Students!F409)","v":""},{"$f":"IF(Students!G409=\"\",\"\",Students!G409)","v":""},{"$f":"IF(Students!G409=\"\",\"\",DATEDIF(Students!G409,Settings!$A$2,\"y\"))","v":""},{"$f":"IF(Students!C409=\"\",\"\",RIGHT(Home!$B$11,5))","v":""}]
[null,null,null,null,null,null,408,{"$f":"IF(Students!C410=\"\",\"\",Students!C410)","v":""},{"$f":"IF(Students!D410=\"\",\"\",Students!D410)","v":""},{"$f":"IF(Students!C410=\"\",\"\",H409&\" \"&I409&\" \"&O409)","v":""},{"$f":"IF(Students!E410=\"\",\"\",Students!E410)","v":""},{"$f":"IF(Students!F410=\"\",\"\",Students!F410)","v":""},{"$f":"IF(Students!G410=\"\",\"\",Students!G410)","v":""},{"$f":"IF(Students!G410=\"\",\"\",DATEDIF(Students!G410,Settings!$A$2,\"y\"))","v":""},{"$f":"IF(Students!C410=\"\",\"\",RIGHT(Home!$B$11,5))","v":""}]
[null,null,null,null,null,null,409,{"$f":"IF(Students!C411=\"\",\"\",Students!C411)","v":""},{"$f":"IF(Students!D411=\"\",\"\",Students!D411)","v":""},{"$f":"IF(Students!C411=\"\",\"\",H410&\" \"&I410&\" \"&O410)","v":""},{"$f":"IF(Students!E411=\"\",\"\",Students!E411)","v":""},{"$f":"IF(Students!F411=\"\",\"\",Students!F411)","v":""},{"$f":"IF(Students!G411=\"\",\"\",Students!G411)","v":""},{"$f":"IF(Students!G411=\"\",\"\",DATEDIF(Students!G411,Settings!$A$2,\"y\"))","v":""},{"$f":"IF(Students!C411=\"\",\"\",RIGHT(Home!$B$11,5))","v":""}]
[null,null,null,null,null,null,410,{"$f":"IF(Students!C412=\"\",\"\",Students!C412)","v":""},{"$f":"IF(Students!D412=\"\",\"\",Students!D412)","v":""},{"$f":"IF(Students!C412=\"\",\"\",H411&\" \"&I411&\" \"&O411)","v":""},{"$f":"IF(Students!E412=\"\",\"\",Students!E412)","v":""},{"$f":"IF(Students!F412=\"\",\"\",Students!F412)","v":""},{"$f":"IF(Students!G412=\"\",\"\",Students!G412)","v":""},{"$f":"IF(Students!G412=\"\",\"\",DATEDIF(Students!G412,Settings!$A$2,\"y\"))","v":""},{"$f":"IF(Students!C412=\"\",\"\",RIGHT(Home!$B$11,5))","v":""}]
[null,null,null,null,null,null,411,{"$f":"IF(Students!C413=\"\",\"\",Students!C413)","v":""},{"$f":"IF(Students!D413=\"\",\"\",Students!D413)","v":""},{"$f":"IF(Students!C413=\"\",\"\",H412&\" \"&I412&\" \"&O412)","v":""},{"$f":"IF(Students!E413=\"\",\"\",Students!E413)","v":""},{"$f":"IF(Students!F413=\"\",\"\",Students!F413)","v":""},{"$f":"IF(Students!G413=\"\",\"\",Students!G413)","v":""},{"$f":"IF(Students!G413=\"\",\"\",DATEDIF(Students!G413,Settings!$A$2,\"y\"))","v":""},{"$f":"IF(Students!C413=\"\",\"\",RIGHT(Home!$B$11,5))","v":""}]
[null,null,null,null,null,null,412,{"$f":"IF(Students!C414=\"\",\"\",Students!C414)","v":""},{"$f":"IF(Students!D414=\"\",\"\",Students!D414)","v":""},{"$f":"IF(Students!C414=\"\",\"\",H413&\" \"&I413&\" \"&O413)","v":""},{"$f":"IF(Students!E414=\"\",\"\",Students!E414)","v":""},{"$f":"IF(Students!F414=\"\",\"\",Students!F414)","v":""},{"$f":"IF(Students!G414=\"\",\"\",Students!G414)","v":""},{"$f":"IF(Students!G414=\"\",\"\",DATEDIF(Students!G414,Settings!$A$2,\"y\"))","v":""},{"$f":"IF(Students!C414=\"\",\"\",RIGHT(Home!$B$11,5))","v":""}]
[null,null,null,null,null,null,413,{"$f":"IF(Students!C415=\"\",\"\",Students!C415)","v":""},{"$f":"IF(Students!D415=\"\",\"\",Students!D415)","v":""},{"$f":"IF(Students!C415=\"\",\"\",H414&\" \"&I414&\" \"&O414)","v":""},{"$f":"IF(Students!E415=\"\",\"\",Students!E415)","v":""},{"$f":"IF(Students!F415=\"\",\"\",Students!F415)","v":""},{"$f":"IF(Students!G415=\"\",\"\",Students!G415)","v":""},{"$f":"IF(Students!G415=\"\",\"\",DATEDIF(Students!G415,Settings!$A$2,\"y\"))","v":""},{"$f":"IF(Students!C415=\"\",\"\",RIGHT(Home!$B$11,5))","v":""}]
[null,null,null,null,null,null,414,{"$f":"IF(Students!C416=\"\",\"\",Students!C416)","v":""},{"$f":"IF(Students!D416=\"\",\"\",Students!D416)","v":""},{"$f":"IF(Students!C416=\"\",\"\",H415&\" \"&I415&\" \"&O415)","v":""},{"$f":"IF(Students!E416=\"\",\"\",Students!E416)","v":""},{"$f":"IF(Students!F416=\"\",\"\",Students!F416)","v":""},{"$f":"IF(Students!G416=\"\",\"\",Students!G416)","v":""},{"$f":"IF(Students!G416=\"\",\"\",DATEDIF(Students!G416,Settings!$A$2,\"y\"))","v":""},{"$f":"IF(Students!C416=\"\",\"\",RIGHT(Home!$B$11,5))","v":""}]
[null,null,null,null,null,null,415,{"$f":"IF(Students!C417=\"\",\"\",Students!C417)","v":""},{"$f":"IF(Students!D417=\"\",\"\",Students!D417)","v":""},{"$f":"IF(Students!C417=\"\",\"\",H416&\" \"&I416&\" \"&O416)","v":""},{"$f":"IF(Students!E417=\"\",\"\",Students!E417)","v":""},{"$f":"IF(Students!F417=\"\",\"\",Students!F417)","v":""},{"$f":"IF(Students!G417=\"\",\"\",Students!G417)","v":""},{"$f":"IF(Students!G417=\"\",\"\",DATEDIF(Students!G417,Settings!$A$2,\"y\"))","v":""},{"$f":"IF(Students!C417=\"\",\"\",RIGHT(Home!$B$11,5))","v":""}]
[null,null,null,null,null,null,416,{"$f":"IF(Students!C418=\"\",\"\",Students!C418)","v":""},{"$f":"IF(Students!D418=\"\",\"\",Students!D418)","v":""},{"$f":"IF(Students!C418=\"\",\"\",H417&\" \"&I417&\" \"&O417)","v":""},{"$f":"IF(Students!E418=\"\",\"\",Students!E418)","v":""},{"$f":"IF(Students!F418=\"\",\"\",Students!F418)","v":""},{"$f":"IF(Students!G418=\"\",\"\",Students!G418)","v":""},{"$f":"IF(Students!G418=\"\",\"\",DATEDIF(Students!G418,Settings!$A$2,\"y\"))","v":""},{"$f":"IF(Students!C418=\"\",\"\",RIGHT(Home!$B$11,5))","v":""}]
[null,null,null,null,null,null,417,{"$f":"IF(Students!C419=\"\",\"\",Students!C419)","v":""},{"$f":"IF(Students!D419=\"\",\"\",Students!D419)","v":""},{"$f":"IF(Students!C419=\"\",\"\",H418&\" \"&I418&\" \"&O418)","v":""},{"$f":"IF(Students!E419=\"\",\"\",Students!E419)","v":""},{"$f":"IF(Students!F419=\"\",\"\",Students!F419)","v":""},{"$f":"IF(Students!G419=\"\",\"\",Students!G419)","v":""},{"$f":"IF(Students!G419=\"\",\"\",DATEDIF(Students!G419,Settings!$A$2,\"y\"))","v":""},{"$f":"IF(Students!C419=\"\",\"\",RIGHT(Home!$B$11,5))","v":""}]
[null,null,null,null,null,null,418,{"$f":"IF(Students!C420=\"\",\"\",Students!C420)","v":""},{"$f":"IF(Students!D420=\"\",\"\",Students!D420)","v":""},{"$f":"IF(Students!C420=\"\",\"\",H419&\" \"&I419&\" \"&O419)","v":""},{"$f":"IF(Students!E420=\"\",\"\",Students!E420)","v":""},{"$f":"IF(Students!F420=\"\",\"\",Students!F420)","v":""},{"$f":"IF(Students!G420=\"\",\"\",Students!G420)","v":""},{"$f":"IF(Students!G420=\"\",\"\",DATEDIF(Students!G420,Settings!$A$2,\"y\"))","v":""},{"$f":"IF(Students!C420=\"\",\"\",RIGHT(Home!$B$11,5))","v":""}]
[null,null,null,null,null,null,419,{"$f":"IF(Students!C421=\"\",\"\",Students!C421)","v":""},{"$f":"IF(Students!D421=\"\",\"\",Students!D421)","v":""},{"$f":"IF(Students!C421=\"\",\"\",H420&\" \"&I420&\" \"&O420)","v":""},{"$f":"IF(Students!E421=\"\",\"\",Students!E421)","v":""},{"$f":"IF(Students!F421=\"\",\"\",Students!F421)","v":""},{"$f":"IF(Students!G421=\"\",\"\",Students!G421)","v":""},{"$f":"IF(Students!G421=\"\",\"\",DATEDIF(Students!G421,Settings!$A$2,\"y\"))","v":""},{"$f":"IF(Students!C421=\"\",\"\",RIGHT(Home!$B$11,5))","v":""}]
[null,null,null,null,null,null,420,{"$f":"IF(Students!C422=\"\",\"\",Students!C422)","v":""},{"$f":"IF(Students!D422=\"\",\"\",Students!D422)","v":""},{"$f":"IF(Students!C422=\"\",\"\",H421&\" \"&I421&\" \"&O421)","v":""},{"$f":"IF(Students!E422=\"\",\"\",Students!E422)","v":""},{"$f":"IF(Students!F422=\"\",\"\",Students!F422)","v":""},{"$f":"IF(Students!G422=\"\",\"\",Students!G422)","v":""},{"$f":"IF(Students!G422=\"\",\"\",DATEDIF(Students!G422,Settings!$A$2,\"y\"))","v":""},{"$f":"IF(Students!C422=\"\",\"\",RIGHT(Home!$B$11,5))","v":""}]
[null,null,null,null,null,null,421,{"$f":"IF(Students!C423=\"\",\"\",Students!C423)","v":""},{"$f":"IF(Students!D423=\"\",\"\",Students!D423)","v":""},{"$f":"IF(Students!C423=\"\",\"\",H422&\" \"&I422&\" \"&O422)","v":""},{"$f":"IF(Students!E423=\"\",\"\",Students!E423)","v":""},{"$f":"IF(Students!F423=\"\",\"\",Students!F423)","v":""},{"$f":"IF(Students!G423=\"\",\"\",Students!G423)","v":""},{"$f":"IF(Students!G423=\"\",\"\",DATEDIF(Students!G423,Settings!$A$2,\"y\"))","v":""},{"$f":"IF(Students!C423=\"\",\"\",RIGHT(Home!$B$11,5))","v":""}]
[null,null,null,null,null,null,422,{"$f":"IF(Students!C424=\"\",\"\",Students!C424)","v":""},{"$f":"IF(Students!D424=\"\",\"\",Students!D424)","v":""},{"$f":"IF(Students!C424=\"\",\"\",H423&\" \"&I423&\" \"&O423)","v":""},{"$f":"IF(Students!E424=\"\",\"\",Students!E424)","v":""},{"$f":"IF(Students!F424=\"\",\"\",Students!F424)","v":""},{"$f":"IF(Students!G424=\"\",\"\",Students!G424)","v":""},{"$f":"IF(Students!G424=\"\",\"\",DATEDIF(Students!G424,Settings!$A$2,\"y\"))","v":""},{"$f":"IF(Students!C424=\"\",\"\",RIGHT(Home!$B$11,5))","v":""}]
[null,null,null,null,null,null,423,{"$f":"IF(Students!C425=\"\",\"\",Students!C425)","v":""},{"$f":"IF(Students!D425=\"\",\"\",Students!D425)","v":""},{"$f":"IF(Students!C425=\"\",\"\",H424&\" \"&I424&\" \"&O424)","v":""},{"$f":"IF(Students!E425=\"\",\"\",Students!E425)","v":""},{"$f":"IF(Students!F425=\"\",\"\",Students!F425)","v":""},{"$f":"IF(Students!G425=\"\",\"\",Students!G425)","v":""},{"$f":"IF(Students!G425=\"\",\"\",DATEDIF(Students!G425,Settings!$A$2,\"y\"))","v":""},{"$f":"IF(Students!C425=\"\",\"\",RIGHT(Home!$B$11,5))","v":""}]
[null,null,null,null,null,null,424,{"$f":"IF(Students!C426=\"\",\"\",Students!C426)","v":""},{"$f":"IF(Students!D426=\"\",\"\",Students!D426)","v":""},{"$f":"IF(Students!C426=\"\",\"\",H425&\" \"&I425&\" \"&O425)","v":""},{"$f":"IF(Students!E426=\"\",\"\",Students!E426)","v":""},{"$f":"IF(Students!F426=\"\",\"\",Students!F426)","v":""},{"$f":"IF(Students!G426=\"\",\"\",Students!G426)","v":""},{"$f":"IF(Students!G426=\"\",\"\",DATEDIF(Students!G426,Settings!$A$2,\"y\"))","v":""},{"$f":"IF(Students!C426=\"\",\"\",RIGHT(Home!$B$11,5))","v":""}]
[null,null,null,null,null,null,425,{"$f":"IF(Students!C427=\"\",\"\",Students!C427)","v":""},{"$f":"IF(Students!D427=\"\",\"\",Students!D427)","v":""},{"$f":"IF(Students!C427=\"\",\"\",H426&\" \"&I426&\" \"&O426)","v":""},{"$f":"IF(Students!E427=\"\",\"\",Students!E427)","v":""},{"$f":"IF(Students!F427=\"\",\"\",Students!F427)","v":""},{"$f":"IF(Students!G427=\"\",\"\",Students!G427)","v":""},{"$f":"IF(Students!G427=\"\",\"\",DATEDIF(Students!G427,Settings!$A$2,\"y\"))","v":""},{"$f":"IF(Students!C427=\"\",\"\",RIGHT(Home!$B$11,5))","v":""}]
[null,null,null,null,null,null,426,{"$f":"IF(Students!C428=\"\",\"\",Students!C428)","v":""},{"$f":"IF(Students!D428=\"\",\"\",Students!D428)","v":""},{"$f":"IF(Students!C428=\"\",\"\",H427&\" \"&I427&\" \"&O427)","v":""},{"$f":"IF(Students!E428=\"\",\"\",Students!E428)","v":""},{"$f":"IF(Students!F428=\"\",\"\",Students!F428)","v":""},{"$f":"IF(Students!G428=\"\",\"\",Students!G428)","v":""},{"$f":"IF(Students!G428=\"\",\"\",DATEDIF(Students!G428,Settings!$A$2,\"y\"))","v":""},{"$f":"IF(Students!C428=\"\",\"\",RIGHT(Home!$B$11,5))","v":""}]
[null,null,null,null,null,null,427,{"$f":"IF(Students!C429=\"\",\"\",Students!C429)","v":""},{"$f":"IF(Students!D429=\"\",\"\",Students!D429)","v":""},{"$f":"IF(Students!C429=\"\",\"\",H428&\" \"&I428&\" \"&O428)","v":""},{"$f":"IF(Students!E429=\"\",\"\",Students!E429)","v":""},{"$f":"IF(Students!F429=\"\",\"\",Students!F429)","v":""},{"$f":"IF(Students!G429=\"\",\"\",Students!G429)","v":""},{"$f":"IF(Students!G429=\"\",\"\",DATEDIF(Students!G429,Settings!$A$2,\"y\"))","v":""},{"$f":"IF(Students!C429=\"\",\"\",RIGHT(Home!$B$11,5))","v":""}]
[null,null,null,null,null,null,428,{"$f":"IF(Students!C430=\"\",\"\",Students!C430)","v":""},{"$f":"IF(Students!D430=\"\",\"\",Students!D430)","v":""},{"$f":"IF(Students!C430=\"\",\"\",H429&\" \"&I429&\" \"&O429)","v":""},{"$f":"IF(Students!E430=\"\",\"\",Students!E430)","v":""},{"$f":"IF(Students!F430=\"\",\"\",Students!F430)","v":""},{"$f":"IF(Students!G430=\"\",\"\",Students!G430)","v":""},{"$f":"IF(Students!G430=\"\",\"\",DATEDIF(Students!G430,Settings!$A$2,\"y\"))","v":""},{"$f":"IF(Students!C430=\"\",\"\",RIGHT(Home!$B$11,5))","v":""}]
[null,null,null,null,null,null,429,{"$f":"IF(Students!C431=\"\",\"\",Students!C431)","v":""},{"$f":"IF(Students!D431=\"\",\"\",Students!D431)","v":""},{"$f":"IF(Students!C431=\"\",\"\",H430&\" \"&I430&\" \"&O430)","v":""},{"$f":"IF(Students!E431=\"\",\"\",Students!E431)","v":""},{"$f":"IF(Students!F431=\"\",\"\",Students!F431)","v":""},{"$f":"IF(Students!G431=\"\",\"\",Students!G431)","v":""},{"$f":"IF(Students!G431=\"\",\"\",DATEDIF(Students!G431,Settings!$A$2,\"y\"))","v":""},{"$f":"IF(Students!C431=\"\",\"\",RIGHT(Home!$B$11,5))","v":""}]
[null,null,null,null,null,null,430,{"$f":"IF(Students!C432=\"\",\"\",Students!C432)","v":""},{"$f":"IF(Students!D432=\"\",\"\",Students!D432)","v":""},{"$f":"IF(Students!C432=\"\",\"\",H431&\" \"&I431&\" \"&O431)","v":""},{"$f":"IF(Students!E432=\"\",\"\",Students!E432)","v":""},{"$f":"IF(Students!F432=\"\",\"\",Students!F432)","v":""},{"$f":"IF(Students!G432=\"\",\"\",Students!G432)","v":""},{"$f":"IF(Students!G432=\"\",\"\",DATEDIF(Students!G432,Settings!$A$2,\"y\"))","v":""},{"$f":"IF(Students!C432=\"\",\"\",RIGHT(Home!$B$11,5))","v":""}]
[null,null,null,null,null,null,431,{"$f":"IF(Students!C433=\"\",\"\",Students!C433)","v":""},{"$f":"IF(Students!D433=\"\",\"\",Students!D433)","v":""},{"$f":"IF(Students!C433=\"\",\"\",H432&\" \"&I432&\" \"&O432)","v":""},{"$f":"IF(Students!E433=\"\",\"\",Students!E433)","v":""},{"$f":"IF(Students!F433=\"\",\"\",Students!F433)","v":""},{"$f":"IF(Students!G433=\"\",\"\",Students!G433)","v":""},{"$f":"IF(Students!G433=\"\",\"\",DATEDIF(Students!G433,Settings!$A$2,\"y\"))","v":""},{"$f":"IF(Students!C433=\"\",\"\",RIGHT(Home!$B$11,5))","v":""}]
[null,null,null,null,null,null,432,{"$f":"IF(Students!C434=\"\",\"\",Students!C434)","v":""},{"$f":"IF(Students!D434=\"\",\"\",Students!D434)","v":""},{"$f":"IF(Students!C434=\"\",\"\",H433&\" \"&I433&\" \"&O433)","v":""},{"$f":"IF(Students!E434=\"\",\"\",Students!E434)","v":""},{"$f":"IF(Students!F434=\"\",\"\",Students!F434)","v":""},{"$f":"IF(Students!G434=\"\",\"\",Students!G434)","v":""},{"$f":"IF(Students!G434=\"\",\"\",DATEDIF(Students!G434,Settings!$A$2,\"y\"))","v":""},{"$f":"IF(Students!C434=\"\",\"\",RIGHT(Home!$B$11,5))","v":""}]
[null,null,null,null,null,null,433,{"$f":"IF(Students!C435=\"\",\"\",Students!C435)","v":""},{"$f":"IF(Students!D435=\"\",\"\",Students!D435)","v":""},{"$f":"IF(Students!C435=\"\",\"\",H434&\" \"&I434&\" \"&O434)","v":""},{"$f":"IF(Students!E435=\"\",\"\",Students!E435)","v":""},{"$f":"IF(Students!F435=\"\",\"\",Students!F435)","v":""},{"$f":"IF(Students!G435=\"\",\"\",Students!G435)","v":""},{"$f":"IF(Students!G435=\"\",\"\",DATEDIF(Students!G435,Settings!$A$2,\"y\"))","v":""},{"$f":"IF(Students!C435=\"\",\"\",RIGHT(Home!$B$11,5))","v":""}]
[null,null,null,null,null,null,434,{"$f":"IF(Students!C436=\"\",\"\",Students!C436)","v":""},{"$f":"IF(Students!D436=\"\",\"\",Students!D436)","v":""},{"$f":"IF(Students!C436=\"\",\"\",H435&\" \"&I435&\" \"&O435)","v":""},{"$f":"IF(Students!E436=\"\",\"\",Students!E436)","v":""},{"$f":"IF(Students!F436=\"\",\"\",Students!F436)","v":""},{"$f":"IF(Students!G436=\"\",\"\",Students!G436)","v":""},{"$f":"IF(Students!G436=\"\",\"\",DATEDIF(Students!G436,Settings!$A$2,\"y\"))","v":""},{"$f":"IF(Students!C436=\"\",\"\",RIGHT(Home!$B$11,5))","v":""}]
[null,null,null,null,null,null,435,{"$f":"IF(Students!C437=\"\",\"\",Students!C437)","v":""},{"$f":"IF(Students!D437=\"\",\"\",Students!D437)","v":""},{"$f":"IF(Students!C437=\"\",\"\",H436&\" \"&I436&\" \"&O436)","v":""},{"$f":"IF(Students!E437=\"\",\"\",Students!E437)","v":""},{"$f":"IF(Students!F437=\"\",\"\",Students!F437)","v":""},{"$f":"IF(Students!G437=\"\",\"\",Students!G437)","v":""},{"$f":"IF(Students!G437=\"\",\"\",DATEDIF(Students!G437,Settings!$A$2,\"y\"))","v":""},{"$f":"IF(Students!C437=\"\",\"\",RIGHT(Home!$B$11,5))","v":""}]
[null,null,null,null,null,null,436,{"$f":"IF(Students!C438=\"\",\"\",Students!C438)","v":""},{"$f":"IF(Students!D438=\"\",\"\",Students!D438)","v":""},{"$f":"IF(Students!C438=\"\",\"\",H437&\" \"&I437&\" \"&O437)","v":""},{"$f":"IF(Students!E438=\"\",\"\",Students!E438)","v":""},{"$f":"IF(Students!F438=\"\",\"\",Students!F438)","v":""},{"$f":"IF(Students!G438=\"\",\"\",Students!G438)","v":""},{"$f":"IF(Students!G438=\"\",\"\",DATEDIF(Students!G438,Settings!$A$2,\"y\"))","v":""},{"$f":"IF(Students!C438=\"\",\"\",RIGHT(Home!$B$11,5))","v":""}]
[null,null,null,null,null,null,437,{"$f":"IF(Students!C439=\"\",\"\",Students!C439)","v":""},{"$f":"IF(Students!D439=\"\",\"\",Students!D439)","v":""},{"$f":"IF(Students!C439=\"\",\"\",H438&\" \"&I438&\" \"&O438)","v":""},{"$f":"IF(Students!E439=\"\",\"\",Students!E439)","v":""},{"$f":"IF(Students!F439=\"\",\"\",Students!F439)","v":""},{"$f":"IF(Students!G439=\"\",\"\",Students!G439)","v":""},{"$f":"IF(Students!G439=\"\",\"\",DATEDIF(Students!G439,Settings!$A$2,\"y\"))","v":""},{"$f":"IF(Students!C439=\"\",\"\",RIGHT(Home!$B$11,5))","v":""}]
[null,null,null,null,null,null,438,{"$f":"IF(Students!C440=\"\",\"\",Students!C440)","v":""},{"$f":"IF(Students!D440=\"\",\"\",Students!D440)","v":""},{"$f":"IF(Students!C440=\"\",\"\",H439&\" \"&I439&\" \"&O439)","v":""},{"$f":"IF(Students!E440=\"\",\"\",Students!E440)","v":""},{"$f":"IF(Students!F440=\"\",\"\",Students!F440)","v":""},{"$f":"IF(Students!G440=\"\",\"\",Students!G440)","v":""},{"$f":"IF(Students!G440=\"\",\"\",DATEDIF(Students!G440,Settings!$A$2,\"y\"))","v":""},{"$f":"IF(Students!C440=\"\",\"\",RIGHT(Home!$B$11,5))","v":""}]
[null,null,null,null,null,null,439,{"$f":"IF(Students!C441=\"\",\"\",Students!C441)","v":""},{"$f":"IF(Students!D441=\"\",\"\",Students!D441)","v":""},{"$f":"IF(Students!C441=\"\",\"\",H440&\" \"&I440&\" \"&O440)","v":""},{"$f":"IF(Students!E441=\"\",\"\",Students!E441)","v":""},{"$f":"IF(Students!F441=\"\",\"\",Students!F441)","v":""},{"$f":"IF(Students!G441=\"\",\"\",Students!G441)","v":""},{"$f":"IF(Students!G441=\"\",\"\",DATEDIF(Students!G441,Settings!$A$2,\"y\"))","v":""},{"$f":"IF(Students!C441=\"\",\"\",RIGHT(Home!$B$11,5))","v":""}]
[null,null,null,null,null,null,440,{"$f":"IF(Students!C442=\"\",\"\",Students!C442)","v":""},{"$f":"IF(Students!D442=\"\",\"\",Students!D442)","v":""},{"$f":"IF(Students!C442=\"\",\"\",H441&\" \"&I441&\" \"&O441)","v":""},{"$f":"IF(Students!E442=\"\",\"\",Students!E442)","v":""},{"$f":"IF(Students!F442=\"\",\"\",Students!F442)","v":""},{"$f":"IF(Students!G442=\"\",\"\",Students!G442)","v":""},{"$f":"IF(Students!G442=\"\",\"\",DATEDIF(Students!G442,Settings!$A$2,\"y\"))","v":""},{"$f":"IF(Students!C442=\"\",\"\",RIGHT(Home!$B$11,5))","v":""}]
[null,null,null,null,null,null,441,{"$f":"IF(Students!C443=\"\",\"\",Students!C443)","v":""},{"$f":"IF(Students!D443=\"\",\"\",Students!D443)","v":""},{"$f":"IF(Students!C443=\"\",\"\",H442&\" \"&I442&\" \"&O442)","v":""},{"$f":"IF(Students!E443=\"\",\"\",Students!E443)","v":""},{"$f":"IF(Students!F443=\"\",\"\",Students!F443)","v":""},{"$f":"IF(Students!G443=\"\",\"\",Students!G443)","v":""},{"$f":"IF(Students!G443=\"\",\"\",DATEDIF(Students!G443,Settings!$A$2,\"y\"))","v":""},{"$f":"IF(Students!C443=\"\",\"\",RIGHT(Home!$B$11,5))","v":""}]
[null,null,null,null,null,null,442,{"$f":"IF(Students!C444=\"\",\"\",Students!C444)","v":""},{"$f":"IF(Students!D444=\"\",\"\",Students!D444)","v":""},{"$f":"IF(Students!C444=\"\",\"\",H443&\" \"&I443&\" \"&O443)","v":""},{"$f":"IF(Students!E444=\"\",\"\",Students!E444)","v":""},{"$f":"IF(Students!F444=\"\",\"\",Students!F444)","v":""},{"$f":"IF(Students!G444=\"\",\"\",Students!G444)","v":""},{"$f":"IF(Students!G444=\"\",\"\",DATEDIF(Students!G444,Settings!$A$2,\"y\"))","v":""},{"$f":"IF(Students!C444=\"\",\"\",RIGHT(Home!$B$11,5))","v":""}]
[null,null,null,null,null,null,443,{"$f":"IF(Students!C445=\"\",\"\",Students!C445)","v":""},{"$f":"IF(Students!D445=\"\",\"\",Students!D445)","v":""},{"$f":"IF(Students!C445=\"\",\"\",H444&\" \"&I444&\" \"&O444)","v":""},{"$f":"IF(Students!E445=\"\",\"\",Students!E445)","v":""},{"$f":"IF(Students!F445=\"\",\"\",Students!F445)","v":""},{"$f":"IF(Students!G445=\"\",\"\",Students!G445)","v":""},{"$f":"IF(Students!G445=\"\",\"\",DATEDIF(Students!G445,Settings!$A$2,\"y\"))","v":""},{"$f":"IF(Students!C445=\"\",\"\",RIGHT(Home!$B$11,5))","v":""}]
[null,null,null,null,null,null,444,{"$f":"IF(Students!C446=\"\",\"\",Students!C446)","v":""},{"$f":"IF(Students!D446=\"\",\"\",Students!D446)","v":""},{"$f":"IF(Students!C446=\"\",\"\",H445&\" \"&I445&\" \"&O445)","v":""},{"$f":"IF(Students!E446=\"\",\"\",Students!E446)","v":""},{"$f":"IF(Students!F446=\"\",\"\",Students!F446)","v":""},{"$f":"IF(Students!G446=\"\",\"\",Students!G446)","v":""},{"$f":"IF(Students!G446=\"\",\"\",DATEDIF(Students!G446,Settings!$A$2,\"y\"))","v":""},{"$f":"IF(Students!C446=\"\",\"\",RIGHT(Home!$B$11,5))","v":""}]
[null,null,null,null,null,null,445,{"$f":"IF(Students!C447=\"\",\"\",Students!C447)","v":""},{"$f":"IF(Students!D447=\"\",\"\",Students!D447)","v":""},{"$f":"IF(Students!C447=\"\",\"\",H446&\" \"&I446&\" \"&O446)","v":""},{"$f":"IF(Students!E447=\"\",\"\",Students!E447)","v":""},{"$f":"IF(Students!F447=\"\",\"\",Students!F447)","v":""},{"$f":"IF(Students!G447=\"\",\"\",Students!G447)","v":""},{"$f":"IF(Students!G447=\"\",\"\",DATEDIF(Students!G447,Settings!$A$2,\"y\"))","v":""},{"$f":"IF(Students!C447=\"\",\"\",RIGHT(Home!$B$11,5))","v":""}]
[null,null,null,null,null,null,446,{"$f":"IF(Students!C448=\"\",\"\",Students!C448)","v":""},{"$f":"IF(Students!D448=\"\",\"\",Students!D448)","v":""},{"$f":"IF(Students!C448=\"\",\"\",H447&\" \"&I447&\" \"&O447)","v":""},{"$f":"IF(Students!E448=\"\",\"\",Students!E448)","v":""},{"$f":"IF(Students!F448=\"\",\"\",Students!F448)","v":""},{"$f":"IF(Students!G448=\"\",\"\",Students!G448)","v":""},{"$f":"IF(Students!G448=\"\",\"\",DATEDIF(Students!G448,Settings!$A$2,\"y\"))","v":""},{"$f":"IF(Students!C448=\"\",\"\",RIGHT(Home!$B$11,5))","v":""}]
[null,null,null,null,null,null,447,{"$f":"IF(Students!C449=\"\",\"\",Students!C449)","v":""},{"$f":"IF(Students!D449=\"\",\"\",Students!D449)","v":""},{"$f":"IF(Students!C449=\"\",\"\",H448&\" \"&I448&\" \"&O448)","v":""},{"$f":"IF(Students!E449=\"\",\"\",Students!E449)","v":""},{"$f":"IF(Students!F449=\"\",\"\",Students!F449)","v":""},{"$f":"IF(Students!G449=\"\",\"\",Students!G449)","v":""},{"$f":"IF(Students!G449=\"\",\"\",DATEDIF(Students!G449,Settings!$A$2,\"y\"))","v":""},{"$f":"IF(Students!C449=\"\",\"\",RIGHT(Home!$B$11,5))","v":""}]
[null,null,null,null,null,null,448,{"$f":"IF(Students!C450=\"\",\"\",Students!C450)","v":""},{"$f":"IF(Students!D450=\"\",\"\",Students!D450)","v":""},{"$f":"IF(Students!C450=\"\",\"\",H449&\" \"&I449&\" \"&O449)","v":""},{"$f":"IF(Students!E450=\"\",\"\",Students!E450)","v":""},{"$f":"IF(Students!F450=\"\",\"\",Students!F450)","v":""},{"$f":"IF(Students!G450=\"\",\"\",Students!G450)","v":""},{"$f":"IF(Students!G450=\"\",\"\",DATEDIF(Students!G450,Settings!$A$2,\"y\"))","v":""},{"$f":"IF(Students!C450=\"\",\"\",RIGHT(Home!$B$11,5))","v":""}]
[null,null,null,null,null,null,449,{"$f":"IF(Students!C451=\"\",\"\",Students!C451)","v":""},{"$f":"IF(Students!D451=\"\",\"\",Students!D451)","v":""},{"$f":"IF(Students!C451=\"\",\"\",H450&\" \"&I450&\" \"&O450)","v":""},{"$f":"IF(Students!E451=\"\",\"\",Students!E451)","v":""},{"$f":"IF(Students!F451=\"\",\"\",Students!F451)","v":""},{"$f":"IF(Students!G451=\"\",\"\",Students!G451)","v":""},{"$f":"IF(Students!G451=\"\",\"\",DATEDIF(Students!G451,Settings!$A$2,\"y\"))","v":""},{"$f":"IF(Students!C451=\"\",\"\",RIGHT(Home!$B$11,5))","v":""}]
[null,null,null,null,null,null,{"$f":"ROW()-1","v":450},{"$f":"IF(Students!C452=\"\",\"\",Students!C452)","v":""},{"$f":"IF(Students!D452=\"\",\"\",Students!D452)","v":""},{"$f":"IF(Students!C452=\"\",\"\",H451&\" \"&I451&\" \"&O451)","v":""},{"$f":"IF(Students!E452=\"\",\"\",Students!E452)","v":""},{"$f":"IF(Students!F452=\"\",\"\",Students!F452)","v":""},{"$f":"IF(Students!G452=\"\",\"\",Students!G452)","v":""},{"$f":"IF(Students!G452=\"\",\"\",DATEDIF(Students!G452,Settings!$A$2,\"y\"))","v":""},{"$f":"IF(Students!C452=\"\",\"\",RIGHT(Home!$B$11,5))","v":""}]
[null,null,null,null,null,null,451,{"$f":"IF(Students!C453=\"\",\"\",Students!C453)","v":""},{"$f":"IF(Students!D453=\"\",\"\",Students!D453)","v":""},{"$f":"IF(Students!C453=\"\",\"\",H452&\" \"&I452&\" \"&O452)","v":""},{"$f":"IF(Students!E453=\"\",\"\",Students!E453)","v":""},{"$f":"IF(Students!F453=\"\",\"\",Students!F453)","v":""},{"$f":"IF(Students!G453=\"\",\"\",Students!G453)","v":""},{"$f":"IF(Students!G453=\"\",\"\",DATEDIF(Students!G453,Settings!$A$2,\"y\"))","v":""},{"$f":"IF(Students!C453=\"\",\"\",RIGHT(Home!$B$11,5))","v":""}]
[null,null,null,null,null,null,452,{"$f":"IF(Students!C454=\"\",\"\",Students!C454)","v":""},{"$f":"IF(Students!D454=\"\",\"\",Students!D454)","v":""},{"$f":"IF(Students!C454=\"\",\"\",H453&\" \"&I453&\" \"&O453)","v":""},{"$f":"IF(Students!E454=\"\",\"\",Students!E454)","v":""},{"$f":"IF(Students!F454=\"\",\"\",Students!F454)","v":""},{"$f":"IF(Students!G454=\"\",\"\",Students!G454)","v":""},{"$f":"IF(Students!G454=\"\",\"\",DATEDIF(Students!G454,Settings!$A$2,\"y\"))","v":""},{"$f":"IF(Students!C454=\"\",\"\",RIGHT(Home!$B$11,5))","v":""}]
[null,null,null,null,null,null,453,{"$f":"IF(Students!C455=\"\",\"\",Students!C455)","v":""},{"$f":"IF(Students!D455=\"\",\"\",Students!D455)","v":""},{"$f":"IF(Students!C455=\"\",\"\",H454&\" \"&I454&\" \"&O454)","v":""},{"$f":"IF(Students!E455=\"\",\"\",Students!E455)","v":""},{"$f":"IF(Students!F455=\"\",\"\",Students!F455)","v":""},{"$f":"IF(Students!G455=\"\",\"\",Students!G455)","v":""},{"$f":"IF(Students!G455=\"\",\"\",DATEDIF(Students!G455,Settings!$A$2,\"y\"))","v":""},{"$f":"IF(Students!C455=\"\",\"\",RIGHT(Home!$B$11,5))","v":""}]
[null,null,null,null,null,null,454,{"$f":"IF(Students!C456=\"\",\"\",Students!C456)","v":""},{"$f":"IF(Students!D456=\"\",\"\",Students!D456)","v":""},{"$f":"IF(Students!C456=\"\",\"\",H455&\" \"&I455&\" \"&O455)","v":""},{"$f":"IF(Students!E456=\"\",\"\",Students!E456)","v":""},{"$f":"IF(Students!F456=\"\",\"\",Students!F456)","v":""},{"$f":"IF(Students!G456=\"\",\"\",Students!G456)","v":""},{"$f":"IF(Students!G456=\"\",\"\",DATEDIF(Students!G456,Settings!$A$2,\"y\"))","v":""},{"$f":"IF(Students!C456=\"\",\"\",RIGHT(Home!$B$11,5))","v":""}]
[null,null,null,null,null,null,455,{"$f":"IF(Students!C457=\"\",\"\",Students!C457)","v":""},{"$f":"IF(Students!D457=\"\",\"\",Students!D457)","v":""},{"$f":"IF(Students!C457=\"\",\"\",H456&\" \"&I456&\" \"&O456)","v":""},{"$f":"IF(Students!E457=\"\",\"\",Students!E457)","v":""},{"$f":"IF(Students!F457=\"\",\"\",Students!F457)","v":""},{"$f":"IF(Students!G457=\"\",\"\",Students!G457)","v":""},{"$f":"IF(Students!G457=\"\",\"\",DATEDIF(Students!G457,Settings!$A$2,\"y\"))","v":""},{"$f":"IF(Students!C457=\"\",\"\",RIGHT(Home!$B$11,5))","v":""}]
[null,null,null,null,null,null,456,{"$f":"IF(Students!C458=\"\",\"\",Students!C458)","v":""},{"$f":"IF(Students!D458=\"\",\"\",Students!D458)","v":""},{"$f":"IF(Students!C458=\"\",\"\",H457&\" \"&I457&\" \"&O457)","v":""},{"$f":"IF(Students!E458=\"\",\"\",Students!E458)","v":""},{"$f":"IF(Students!F458=\"\",\"\",Students!F458)","v":""},{"$f":"IF(Students!G458=\"\",\"\",Students!G458)","v":""},{"$f":"IF(Students!G458=\"\",\"\",DATEDIF(Students!G458,Settings!$A$2,\"y\"))","v":""},{"$f":"IF(Students!C458=\"\",\"\",RIGHT(Home!$B$11,5))","v":""}]
[null,null,null,null,null,null,457,{"$f":"IF(Students!C459=\"\",\"\",Students!C459)","v":""},{"$f":"IF(Students!D459=\"\",\"\",Students!D459)","v":""},{"$f":"IF(Students!C459=\"\",\"\",H458&\" \"&I458&\" \"&O458)","v":""},{"$f":"IF(Students!E459=\"\",\"\",Students!E459)","v":""},{"$f":"IF(Students!F459=\"\",\"\",Students!F459)","v":""},{"$f":"IF(Students!G459=\"\",\"\",Students!G459)","v":""},{"$f":"IF(Students!G459=\"\",\"\",DATEDIF(Students!G459,Settings!$A$2,\"y\"))","v":""},{"$f":"IF(Students!C459=\"\",\"\",RIGHT(Home!$B$11,5))","v":""}]
[null,null,null,null,null,null,458,{"$f":"IF(Students!C460=\"\",\"\",Students!C460)","v":""},{"$f":"IF(Students!D460=\"\",\"\",Students!D460)","v":""},{"$f":"IF(Students!C460=\"\",\"\",H459&\" \"&I459&\" \"&O459)","v":""},{"$f":"IF(Students!E460=\"\",\"\",Students!E460)","v":""},{"$f":"IF(Students!F460=\"\",\"\",Students!F460)","v":""},{"$f":"IF(Students!G460=\"\",\"\",Students!G460)","v":""},{"$f":"IF(Students!G460=\"\",\"\",DATEDIF(Students!G460,Settings!$A$2,\"y\"))","v":""},{"$f":"IF(Students!C460=\"\",\"\",RIGHT(Home!$B$11,5))","v":""}]
[null,null,null,null,null,null,459,{"$f":"IF(Students!C461=\"\",\"\",Students!C461)","v":""},{"$f":"IF(Students!D461=\"\",\"\",Students!D461)","v":""},{"$f":"IF(Students!C461=\"\",\"\",H460&\" \"&I460&\" \"&O460)","v":""},{"$f":"IF(Students!E461=\"\",\"\",Students!E461)","v":""},{"$f":"IF(Students!F461=\"\",\"\",Students!F461)","v":""},{"$f":"IF(Students!G461=\"\",\"\",Students!G461)","v":""},{"$f":"IF(Students!G461=\"\",\"\",DATEDIF(Students!G461,Settings!$A$2,\"y\"))","v":""},{"$f":"IF(Students!C461=\"\",\"\",RIGHT(Home!$B$11,5))","v":""}]
[null,null,null,null,null,null,460,{"$f":"IF(Students!C462=\"\",\"\",Students!C462)","v":""},{"$f":"IF(Students!D462=\"\",\"\",Students!D462)","v":""},{"$f":"IF(Students!C462=\"\",\"\",H461&\" \"&I461&\" \"&O461)","v":""},{"$f":"IF(Students!E462=\"\",\"\",Students!E462)","v":""},{"$f":"IF(Students!F462=\"\",\"\",Students!F462)","v":""},{"$f":"IF(Students!G462=\"\",\"\",Students!G462)","v":""},{"$f":"IF(Students!G462=\"\",\"\",DATEDIF(Students!G462,Settings!$A$2,\"y\"))","v":""},{"$f":"IF(Students!C462=\"\",\"\",RIGHT(Home!$B$11,5))","v":""}]
[null,null,null,null,null,null,461,{"$f":"IF(Students!C463=\"\",\"\",Students!C463)","v":""},{"$f":"IF(Students!D463=\"\",\"\",Students!D463)","v":""},{"$f":"IF(Students!C463=\"\",\"\",H462&\" \"&I462&\" \"&O462)","v":""},{"$f":"IF(Students!E463=\"\",\"\",Students!E463)","v":""},{"$f":"IF(Students!F463=\"\",\"\",Students!F463)","v":""},{"$f":"IF(Students!G463=\"\",\"\",Students!G463)","v":""},{"$f":"IF(Students!G463=\"\",\"\",DATEDIF(Students!G463,Settings!$A$2,\"y\"))","v":""},{"$f":"IF(Students!C463=\"\",\"\",RIGHT(Home!$B$11,5))","v":""}]
[null,null,null,null,null,null,462,{"$f":"IF(Students!C464=\"\",\"\",Students!C464)","v":""},{"$f":"IF(Students!D464=\"\",\"\",Students!D464)","v":""},{"$f":"IF(Students!C464=\"\",\"\",H463&\" \"&I463&\" \"&O463)","v":""},{"$f":"IF(Students!E464=\"\",\"\",Students!E464)","v":""},{"$f":"IF(Students!F464=\"\",\"\",Students!F464)","v":""},{"$f":"IF(Students!G464=\"\",\"\",Students!G464)","v":""},{"$f":"IF(Students!G464=\"\",\"\",DATEDIF(Students!G464,Settings!$A$2,\"y\"))","v":""},{"$f":"IF(Students!C464=\"\",\"\",RIGHT(Home!$B$11,5))","v":""}]
[null,null,null,null,null,null,463,{"$f":"IF(Students!C465=\"\",\"\",Students!C465)","v":""},{"$f":"IF(Students!D465=\"\",\"\",Students!D465)","v":""},{"$f":"IF(Students!C465=\"\",\"\",H464&\" \"&I464&\" \"&O464)","v":""},{"$f":"IF(Students!E465=\"\",\"\",Students!E465)","v":""},{"$f":"IF(Students!F465=\"\",\"\",Students!F465)","v":""},{"$f":"IF(Students!G465=\"\",\"\",Students!G465)","v":""},{"$f":"IF(Students!G465=\"\",\"\",DATEDIF(Students!G465,Settings!$A$2,\"y\"))","v":""},{"$f":"IF(Students!C465=\"\",\"\",RIGHT(Home!$B$11,5))","v":""}]
[null,null,null,null,null,null,464,{"$f":"IF(Students!C466=\"\",\"\",Students!C466)","v":""},{"$f":"IF(Students!D466=\"\",\"\",Students!D466)","v":""},{"$f":"IF(Students!C466=\"\",\"\",H465&\" \"&I465&\" \"&O465)","v":""},{"$f":"IF(Students!E466=\"\",\"\",Students!E466)","v":""},{"$f":"IF(Students!F466=\"\",\"\",Students!F466)","v":""},{"$f":"IF(Students!G466=\"\",\"\",Students!G466)","v":""},{"$f":"IF(Students!G466=\"\",\"\",DATEDIF(Students!G466,Settings!$A$2,\"y\"))","v":""},{"$f":"IF(Students!C466=\"\",\"\",RIGHT(Home!$B$11,5))","v":""}]
[null,null,null,null,null,null,465,{"$f":"IF(Students!C467=\"\",\"\",Students!C467)","v":""},{"$f":"IF(Students!D467=\"\",\"\",Students!D467)","v":""},{"$f":"IF(Students!C467=\"\",\"\",H466&\" \"&I466&\" \"&O466)","v":""},{"$f":"IF(Students!E467=\"\",\"\",Students!E467)","v":""},{"$f":"IF(Students!F467=\"\",\"\",Students!F467)","v":""},{"$f":"IF(Students!G467=\"\",\"\",Students!G467)","v":""},{"$f":"IF(Students!G467=\"\",\"\",DATEDIF(Students!G467,Settings!$A$2,\"y\"))","v":""},{"$f":"IF(Students!C467=\"\",\"\",RIGHT(Home!$B$11,5))","v":""}]
[null,null,null,null,null,null,466,{"$f":"IF(Students!C468=\"\",\"\",Students!C468)","v":""},{"$f":"IF(Students!D468=\"\",\"\",Students!D468)","v":""},{"$f":"IF(Students!C468=\"\",\"\",H467&\" \"&I467&\" \"&O467)","v":""},{"$f":"IF(Students!E468=\"\",\"\",Students!E468)","v":""},{"$f":"IF(Students!F468=\"\",\"\",Students!F468)","v":""},{"$f":"IF(Students!G468=\"\",\"\",Students!G468)","v":""},{"$f":"IF(Students!G468=\"\",\"\",DATEDIF(Students!G468,Settings!$A$2,\"y\"))","v":""},{"$f":"IF(Students!C468=\"\",\"\",RIGHT(Home!$B$11,5))","v":""}]
[null,null,null,null,null,null,467,{"$f":"IF(Students!C469=\"\",\"\",Students!C469)","v":""},{"$f":"IF(Students!D469=\"\",\"\",Students!D469)","v":""},{"$f":"IF(Students!C469=\"\",\"\",H468&\" \"&I468&\" \"&O468)","v":""},{"$f":"IF(Students!E469=\"\",\"\",Students!E469)","v":""},{"$f":"IF(Students!F469=\"\",\"\",Students!F469)","v":""},{"$f":"IF(Students!G469=\"\",\"\",Students!G469)","v":""},{"$f":"IF(Students!G469=\"\",\"\",DATEDIF(Students!G469,Settings!$A$2,\"y\"))","v":""},{"$f":"IF(Students!C469=\"\",\"\",RIGHT(Home!$B$11,5))","v":""}]
[null,null,null,null,null,null,468,{"$f":"IF(Students!C470=\"\",\"\",Students!C470)","v":""},{"$f":"IF(Students!D470=\"\",\"\",Students!D470)","v":""},{"$f":"IF(Students!C470=\"\",\"\",H469&\" \"&I469&\" \"&O469)","v":""},{"$f":"IF(Students!E470=\"\",\"\",Students!E470)","v":""},{"$f":"IF(Students!F470=\"\",\"\",Students!F470)","v":""},{"$f":"IF(Students!G470=\"\",\"\",Students!G470)","v":""},{"$f":"IF(Students!G470=\"\",\"\",DATEDIF(Students!G470,Settings!$A$2,\"y\"))","v":""},{"$f":"IF(Students!C470=\"\",\"\",RIGHT(Home!$B$11,5))","v":""}]
[null,null,null,null,null,null,469,{"$f":"IF(Students!C471=\"\",\"\",Students!C471)","v":""},{"$f":"IF(Students!D471=\"\",\"\",Students!D471)","v":""},{"$f":"IF(Students!C471=\"\",\"\",H470&\" \"&I470&\" \"&O470)","v":""},{"$f":"IF(Students!E471=\"\",\"\",Students!E471)","v":""},{"$f":"IF(Students!F471=\"\",\"\",Students!F471)","v":""},{"$f":"IF(Students!G471=\"\",\"\",Students!G471)","v":""},{"$f":"IF(Students!G471=\"\",\"\",DATEDIF(Students!G471,Settings!$A$2,\"y\"))","v":""},{"$f":"IF(Students!C471=\"\",\"\",RIGHT(Home!$B$11,5))","v":""}]
[null,null,null,null,null,null,470,{"$f":"IF(Students!C472=\"\",\"\",Students!C472)","v":""},{"$f":"IF(Students!D472=\"\",\"\",Students!D472)","v":""},{"$f":"IF(Students!C472=\"\",\"\",H471&\" \"&I471&\" \"&O471)","v":""},{"$f":"IF(Students!E472=\"\",\"\",Students!E472)","v":""},{"$f":"IF(Students!F472=\"\",\"\",Students!F472)","v":""},{"$f":"IF(Students!G472=\"\",\"\",Students!G472)","v":""},{"$f":"IF(Students!G472=\"\",\"\",DATEDIF(Students!G472,Settings!$A$2,\"y\"))","v":""},{"$f":"IF(Students!C472=\"\",\"\",RIGHT(Home!$B$11,5))","v":""}]
[null,null,null,null,null,null,471,{"$f":"IF(Students!C473=\"\",\"\",Students!C473)","v":""},{"$f":"IF(Students!D473=\"\",\"\",Students!D473)","v":""},{"$f":"IF(Students!C473=\"\",\"\",H472&\" \"&I472&\" \"&O472)","v":""},{"$f":"IF(Students!E473=\"\",\"\",Students!E473)","v":""},{"$f":"IF(Students!F473=\"\",\"\",Students!F473)","v":""},{"$f":"IF(Students!G473=\"\",\"\",Students!G473)","v":""},{"$f":"IF(Students!G473=\"\",\"\",DATEDIF(Students!G473,Settings!$A$2,\"y\"))","v":""},{"$f":"IF(Students!C473=\"\",\"\",RIGHT(Home!$B$11,5))","v":""}]
[null,null,null,null,null,null,472,{"$f":"IF(Students!C474=\"\",\"\",Students!C474)","v":""},{"$f":"IF(Students!D474=\"\",\"\",Students!D474)","v":""},{"$f":"IF(Students!C474=\"\",\"\",H473&\" \"&I473&\" \"&O473)","v":""},{"$f":"IF(Students!E474=\"\",\"\",Students!E474)","v":""},{"$f":"IF(Students!F474=\"\",\"\",Students!F474)","v":""},{"$f":"IF(Students!G474=\"\",\"\",Students!G474)","v":""},{"$f":"IF(Students!G474=\"\",\"\",DATEDIF(Students!G474,Settings!$A$2,\"y\"))","v":""},{"$f":"IF(Students!C474=\"\",\"\",RIGHT(Home!$B$11,5))","v":""}]
[null,null,null,null,null,null,473,{"$f":"IF(Students!C475=\"\",\"\",Students!C475)","v":""},{"$f":"IF(Students!D475=\"\",\"\",Students!D475)","v":""},{"$f":"IF(Students!C475=\"\",\"\",H474&\" \"&I474&\" \"&O474)","v":""},{"$f":"IF(Students!E475=\"\",\"\",Students!E475)","v":""},{"$f":"IF(Students!F475=\"\",\"\",Students!F475)","v":""},{"$f":"IF(Students!G475=\"\",\"\",Students!G475)","v":""},{"$f":"IF(Students!G475=\"\",\"\",DATEDIF(Students!G475,Settings!$A$2,\"y\"))","v":""},{"$f":"IF(Students!C475=\"\",\"\",RIGHT(Home!$B$11,5))","v":""}]
[null,null,null,null,null,null,474,{"$f":"IF(Students!C476=\"\",\"\",Students!C476)","v":""},{"$f":"IF(Students!D476=\"\",\"\",Students!D476)","v":""},{"$f":"IF(Students!C476=\"\",\"\",H475&\" \"&I475&\" \"&O475)","v":""},{"$f":"IF(Students!E476=\"\",\"\",Students!E476)","v":""},{"$f":"IF(Students!F476=\"\",\"\",Students!F476)","v":""},{"$f":"IF(Students!G476=\"\",\"\",Students!G476)","v":""},{"$f":"IF(Students!G476=\"\",\"\",DATEDIF(Students!G476,Settings!$A$2,\"y\"))","v":""},{"$f":"IF(Students!C476=\"\",\"\",RIGHT(Home!$B$11,5))","v":""}]
[null,null,null,null,null,null,475,{"$f":"IF(Students!C477=\"\",\"\",Students!C477)","v":""},{"$f":"IF(Students!D477=\"\",\"\",Students!D477)","v":""},{"$f":"IF(Students!C477=\"\",\"\",H476&\" \"&I476&\" \"&O476)","v":""},{"$f":"IF(Students!E477=\"\",\"\",Students!E477)","v":""},{"$f":"IF(Students!F477=\"\",\"\",Students!F477)","v":""},{"$f":"IF(Students!G477=\"\",\"\",Students!G477)","v":""},{"$f":"IF(Students!G477=\"\",\"\",DATEDIF(Students!G477,Settings!$A$2,\"y\"))","v":""},{"$f":"IF(Students!C477=\"\",\"\",RIGHT(Home!$B$11,5))","v":""}]
[null,null,null,null,null,null,476,{"$f":"IF(Students!C478=\"\",\"\",Students!C478)","v":""},{"$f":"IF(Students!D478=\"\",\"\",Students!D478)","v":""},{"$f":"IF(Students!C478=\"\",\"\",H477&\" \"&I477&\" \"&O477)","v":""},{"$f":"IF(Students!E478=\"\",\"\",Students!E478)","v":""},{"$f":"IF(Students!F478=\"\",\"\",Students!F478)","v":""},{"$f":"IF(Students!G478=\"\",\"\",Students!G478)","v":""},{"$f":"IF(Students!G478=\"\",\"\",DATEDIF(Students!G478,Settings!$A$2,\"y\"))","v":""},{"$f":"IF(Students!C478=\"\",\"\",RIGHT(Home!$B$11,5))","v":""}]
[null,null,null,null,null,null,477,{"$f":"IF(Students!C479=\"\",\"\",Students!C479)","v":""},{"$f":"IF(Students!D479=\"\",\"\",Students!D479)","v":""},{"$f":"IF(Students!C479=\"\",\"\",H478&\" \"&I478&\" \"&O478)","v":""},{"$f":"IF(Students!E479=\"\",\"\",Students!E479)","v":""},{"$f":"IF(Students!F479=\"\",\"\",Students!F479)","v":""},{"$f":"IF(Students!G479=\"\",\"\",Students!G479)","v":""},{"$f":"IF(Students!G479=\"\",\"\",DATEDIF(Students!G479,Settings!$A$2,\"y\"))","v":""},{"$f":"IF(Students!C479=\"\",\"\",RIGHT(Home!$B$11,5))","v":""}]
[null,null,null,null,null,null,478,{"$f":"IF(Students!C480=\"\",\"\",Students!C480)","v":""},{"$f":"IF(Students!D480=\"\",\"\",Students!D480)","v":""},{"$f":"IF(Students!C480=\"\",\"\",H479&\" \"&I479&\" \"&O479)","v":""},{"$f":"IF(Students!E480=\"\",\"\",Students!E480)","v":""},{"$f":"IF(Students!F480=\"\",\"\",Students!F480)","v":""},{"$f":"IF(Students!G480=\"\",\"\",Students!G480)","v":""},{"$f":"IF(Students!G480=\"\",\"\",DATEDIF(Students!G480,Settings!$A$2,\"y\"))","v":""},{"$f":"IF(Students!C480=\"\",\"\",RIGHT(Home!$B$11,5))","v":""}]
[null,null,null,null,null,null,479,{"$f":"IF(Students!C481=\"\",\"\",Students!C481)","v":""},{"$f":"IF(Students!D481=\"\",\"\",Students!D481)","v":""},{"$f":"IF(Students!C481=\"\",\"\",H480&\" \"&I480&\" \"&O480)","v":""},{"$f":"IF(Students!E481=\"\",\"\",Students!E481)","v":""},{"$f":"IF(Students!F481=\"\",\"\",Students!F481)","v":""},{"$f":"IF(Students!G481=\"\",\"\",Students!G481)","v":""},{"$f":"IF(Students!G481=\"\",\"\",DATEDIF(Students!G481,Settings!$A$2,\"y\"))","v":""},{"$f":"IF(Students!C481=\"\",\"\",RIGHT(Home!$B$11,5))","v":""}]
[null,null,null,null,null,null,480,{"$f":"IF(Students!C482=\"\",\"\",Students!C482)","v":""},{"$f":"IF(Students!D482=\"\",\"\",Students!D482)","v":""},{"$f":"IF(Students!C482=\"\",\"\",H481&\" \"&I481&\" \"&O481)","v":""},{"$f":"IF(Students!E482=\"\",\"\",Students!E482)","v":""},{"$f":"IF(Students!F482=\"\",\"\",Students!F482)","v":""},{"$f":"IF(Students!G482=\"\",\"\",Students!G482)","v":""},{"$f":"IF(Students!G482=\"\",\"\",DATEDIF(Students!G482,Settings!$A$2,\"y\"))","v":""},{"$f":"IF(Students!C482=\"\",\"\",RIGHT(Home!$B$11,5))","v":""}]
[null,null,null,null,null,null,481,{"$f":"IF(Students!C483=\"\",\"\",Students!C483)","v":""},{"$f":"IF(Students!D483=\"\",\"\",Students!D483)","v":""},{"$f":"IF(Students!C483=\"\",\"\",H482&\" \"&I482&\" \"&O482)","v":""},{"$f":"IF(Students!E483=\"\",\"\",Students!E483)","v":""},{"$f":"IF(Students!F483=\"\",\"\",Students!F483)","v":""},{"$f":"IF(Students!G483=\"\",\"\",Students!G483)","v":""},{"$f":"IF(Students!G483=\"\",\"\",DATEDIF(Students!G483,Settings!$A$2,\"y\"))","v":""},{"$f":"IF(Students!C483=\"\",\"\",RIGHT(Home!$B$11,5))","v":""}]
[null,null,null,null,null,null,482,{"$f":"IF(Students!C484=\"\",\"\",Students!C484)","v":""},{"$f":"IF(Students!D484=\"\",\"\",Students!D484)","v":""},{"$f":"IF(Students!C484=\"\",\"\",H483&\" \"&I483&\" \"&O483)","v":""},{"$f":"IF(Students!E484=\"\",\"\",Students!E484)","v":""},{"$f":"IF(Students!F484=\"\",\"\",Students!F484)","v":""},{"$f":"IF(Students!G484=\"\",\"\",Students!G484)","v":""},{"$f":"IF(Students!G484=\"\",\"\",DATEDIF(Students!G484,Settings!$A$2,\"y\"))","v":""},{"$f":"IF(Students!C484=\"\",\"\",RIGHT(Home!$B$11,5))","v":""}]
[null,null,null,null,null,null,483,{"$f":"IF(Students!C485=\"\",\"\",Students!C485)","v":""},{"$f":"IF(Students!D485=\"\",\"\",Students!D485)","v":""},{"$f":"IF(Students!C485=\"\",\"\",H484&\" \"&I484&\" \"&O484)","v":""},{"$f":"IF(Students!E485=\"\",\"\",Students!E485)","v":""},{"$f":"IF(Students!F485=\"\",\"\",Students!F485)","v":""},{"$f":"IF(Students!G485=\"\",\"\",Students!G485)","v":""},{"$f":"IF(Students!G485=\"\",\"\",DATEDIF(Students!G485,Settings!$A$2,\"y\"))","v":""},{"$f":"IF(Students!C485=\"\",\"\",RIGHT(Home!$B$11,5))","v":""}]
[null,null,null,null,null,null,484,{"$f":"IF(Students!C486=\"\",\"\",Students!C486)","v":""},{"$f":"IF(Students!D486=\"\",\"\",Students!D486)","v":""},{"$f":"IF(Students!C486=\"\",\"\",H485&\" \"&I485&\" \"&O485)","v":""},{"$f":"IF(Students!E486=\"\",\"\",Students!E486)","v":""},{"$f":"IF(Students!F486=\"\",\"\",Students!F486)","v":""},{"$f":"IF(Students!G486=\"\",\"\",Students!G486)","v":""},{"$f":"IF(Students!G486=\"\",\"\",DATEDIF(Students!G486,Settings!$A$2,\"y\"))","v":""},{"$f":"IF(Students!C486=\"\",\"\",RIGHT(Home!$B$11,5))","v":""}]
[null,null,null,null,null,null,485,{"$f":"IF(Students!C487=\"\",\"\",Students!C487)","v":""},{"$f":"IF(Students!D487=\"\",\"\",Students!D487)","v":""},{"$f":"IF(Students!C487=\"\",\"\",H486&\" \"&I486&\" \"&O486)","v":""},{"$f":"IF(Students!E487=\"\",\"\",Students!E487)","v":""},{"$f":"IF(Students!F487=\"\",\"\",Students!F487)","v":""},{"$f":"IF(Students!G487=\"\",\"\",Students!G487)","v":""},{"$f":"IF(Students!G487=\"\",\"\",DATEDIF(Students!G487,Settings!$A$2,\"y\"))","v":""},{"$f":"IF(Students!C487=\"\",\"\",RIGHT(Home!$B$11,5))","v":""}]
[null,null,null,null,null,null,486,{"$f":"IF(Students!C488=\"\",\"\",Students!C488)","v":""},{"$f":"IF(Students!D488=\"\",\"\",Students!D488)","v":""},{"$f":"IF(Students!C488=\"\",\"\",H487&\" \"&I487&\" \"&O487)","v":""},{"$f":"IF(Students!E488=\"\",\"\",Students!E488)","v":""},{"$f":"IF(Students!F488=\"\",\"\",Students!F488)","v":""},{"$f":"IF(Students!G488=\"\",\"\",Students!G488)","v":""},{"$f":"IF(Students!G488=\"\",\"\",DATEDIF(Students!G488,Settings!$A$2,\"y\"))","v":""},{"$f":"IF(Students!C488=\"\",\"\",RIGHT(Home!$B$11,5))","v":""}]
[null,null,null,null,null,null,487,{"$f":"IF(Students!C489=\"\",\"\",Students!C489)","v":""},{"$f":"IF(Students!D489=\"\",\"\",Students!D489)","v":""},{"$f":"IF(Students!C489=\"\",\"\",H488&\" \"&I488&\" \"&O488)","v":""},{"$f":"IF(Students!E489=\"\",\"\",Students!E489)","v":""},{"$f":"IF(Students!F489=\"\",\"\",Students!F489)","v":""},{"$f":"IF(Students!G489=\"\",\"\",Students!G489)","v":""},{"$f":"IF(Students!G489=\"\",\"\",DATEDIF(Students!G489,Settings!$A$2,\"y\"))","v":""},{"$f":"IF(Students!C489=\"\",\"\",RIGHT(Home!$B$11,5))","v":""}]
[null,null,null,null,null,null,488,{"$f":"IF(Students!C490=\"\",\"\",Students!C490)","v":""},{"$f":"IF(Students!D490=\"\",\"\",Students!D490)","v":""},{"$f":"IF(Students!C490=\"\",\"\",H489&\" \"&I489&\" \"&O489)","v":""},{"$f":"IF(Students!E490=\"\",\"\",Students!E490)","v":""},{"$f":"IF(Students!F490=\"\",\"\",Students!F490)","v":""},{"$f":"IF(Students!G490=\"\",\"\",Students!G490)","v":""},{"$f":"IF(Students!G490=\"\",\"\",DATEDIF(Students!G490,Settings!$A$2,\"y\"))","v":""},{"$f":"IF(Students!C490=\"\",\"\",RIGHT(Home!$B$11,5))","v":""}]
[null,null,null,null,null,null,489,{"$f":"IF(Students!C491=\"\",\"\",Students!C491)","v":""},{"$f":"IF(Students!D491=\"\",\"\",Students!D491)","v":""},{"$f":"IF(Students!C491=\"\",\"\",H490&\" \"&I490&\" \"&O490)","v":""},{"$f":"IF(Students!E491=\"\",\"\",Students!E491)","v":""},{"$f":"IF(Students!F491=\"\",\"\",Students!F491)","v":""},{"$f":"IF(Students!G491=\"\",\"\",Students!G491)","v":""},{"$f":"IF(Students!G491=\"\",\"\",DATEDIF(Students!G491,Settings!$A$2,\"y\"))","v":""},{"$f":"IF(Students!C491=\"\",\"\",RIGHT(Home!$B$11,5))","v":""}]
[null,null,null,null,null,null,490,{"$f":"IF(Students!C492=\"\",\"\",Students!C492)","v":""},{"$f":"IF(Students!D492=\"\",\"\",Students!D492)","v":""},{"$f":"IF(Students!C492=\"\",\"\",H491&\" \"&I491&\" \"&O491)","v":""},{"$f":"IF(Students!E492=\"\",\"\",Students!E492)","v":""},{"$f":"IF(Students!F492=\"\",\"\",Students!F492)","v":""},{"$f":"IF(Students!G492=\"\",\"\",Students!G492)","v":""},{"$f":"IF(Students!G492=\"\",\"\",DATEDIF(Students!G492,Settings!$A$2,\"y\"))","v":""},{"$f":"IF(Students!C492=\"\",\"\",RIGHT(Home!$B$11,5))","v":""}]
[null,null,null,null,null,null,491,{"$f":"IF(Students!C493=\"\",\"\",Students!C493)","v":""},{"$f":"IF(Students!D493=\"\",\"\",Students!D493)","v":""},{"$f":"IF(Students!C493=\"\",\"\",H492&\" \"&I492&\" \"&O492)","v":""},{"$f":"IF(Students!E493=\"\",\"\",Students!E493)","v":""},{"$f":"IF(Students!F493=\"\",\"\",Students!F493)","v":""},{"$f":"IF(Students!G493=\"\",\"\",Students!G493)","v":""},{"$f":"IF(Students!G493=\"\",\"\",DATEDIF(Students!G493,Settings!$A$2,\"y\"))","v":""},{"$f":"IF(Students!C493=\"\",\"\",RIGHT(Home!$B$11,5))","v":""}]
[null,null,null,null,null,null,492,{"$f":"IF(Students!C494=\"\",\"\",Students!C494)","v":""},{"$f":"IF(Students!D494=\"\",\"\",Students!D494)","v":""},{"$f":"IF(Students!C494=\"\",\"\",H493&\" \"&I493&\" \"&O493)","v":""},{"$f":"IF(Students!E494=\"\",\"\",Students!E494)","v":""},{"$f":"IF(Students!F494=\"\",\"\",Students!F494)","v":""},{"$f":"IF(Students!G494=\"\",\"\",Students!G494)","v":""},{"$f":"IF(Students!G494=\"\",\"\",DATEDIF(Students!G494,Settings!$A$2,\"y\"))","v":""},{"$f":"IF(Students!C494=\"\",\"\",RIGHT(Home!$B$11,5))","v":""}]
[null,null,null,null,null,null,493,{"$f":"IF(Students!C495=\"\",\"\",Students!C495)","v":""},{"$f":"IF(Students!D495=\"\",\"\",Students!D495)","v":""},{"$f":"IF(Students!C495=\"\",\"\",H494&\" \"&I494&\" \"&O494)","v":""},{"$f":"IF(Students!E495=\"\",\"\",Students!E495)","v":""},{"$f":"IF(Students!F495=\"\",\"\",Students!F495)","v":""},{"$f":"IF(Students!G495=\"\",\"\",Students!G495)","v":""},{"$f":"IF(Students!G495=\"\",\"\",DATEDIF(Students!G495,Settings!$A$2,\"y\"))","v":""},{"$f":"IF(Students!C495=\"\",\"\",RIGHT(Home!$B$11,5))","v":""}]
[null,null,null,null,null,null,494,{"$f":"IF(Students!C496=\"\",\"\",Students!C496)","v":""},{"$f":"IF(Students!D496=\"\",\"\",Students!D496)","v":""},{"$f":"IF(Students!C496=\"\",\"\",H495&\" \"&I495&\" \"&O495)","v":""},{"$f":"IF(Students!E496=\"\",\"\",Students!E496)","v":""},{"$f":"IF(Students!F496=\"\",\"\",Students!F496)","v":""},{"$f":"IF(Students!G496=\"\",\"\",Students!G496)","v":""},{"$f":"IF(Students!G496=\"\",\"\",DATEDIF(Students!G496,Settings!$A$2,\"y\"))","v":""},{"$f":"IF(Students!C496=\"\",\"\",RIGHT(Home!$B$11,5))","v":""}]
[null,null,null,null,null,null,495,{"$f":"IF(Students!C497=\"\",\"\",Students!C497)","v":""},{"$f":"IF(Students!D497=\"\",\"\",Students!D497)","v":""},{"$f":"IF(Students!C497=\"\",\"\",H496&\" \"&I496&\" \"&O496)","v":""},{"$f":"IF(Students!E497=\"\",\"\",Students!E497)","v":""},{"$f":"IF(Students!F497=\"\",\"\",Students!F497)","v":""},{"$f":"IF(Students!G497=\"\",\"\",Students!G497)","v":""},{"$f":"IF(Students!G497=\"\",\"\",DATEDIF(Students!G497,Settings!$A$2,\"y\"))","v":""},{"$f":"IF(Students!C497=\"\",\"\",RIGHT(Home!$B$11,5))","v":""}]
[null,null,null,null,null,null,496,{"$f":"IF(Students!C498=\"\",\"\",Students!C498)","v":""},{"$f":"IF(Students!D498=\"\",\"\",Students!D498)","v":""},{"$f":"IF(Students!C498=\"\",\"\",H497&\" \"&I497&\" \"&O497)","v":""},{"$f":"IF(Students!E498=\"\",\"\",Students!E498)","v":""},{"$f":"IF(Students!F498=\"\",\"\",Students!F498)","v":""},{"$f":"IF(Students!G498=\"\",\"\",Students!G498)","v":""},{"$f":"IF(Students!G498=\"\",\"\",DATEDIF(Students!G498,Settings!$A$2,\"y\"))","v":""},{"$f":"IF(Students!C498=\"\",\"\",RIGHT(Home!$B$11,5))","v":""}]
[null,null,null,null,null,null,497,{"$f":"IF(Students!C499=\"\",\"\",Students!C499)","v":""},{"$f":"IF(Students!D499=\"\",\"\",Students!D499)","v":""},{"$f":"IF(Students!C499=\"\",\"\",H498&\" \"&I498&\" \"&O498)","v":""},{"$f":"IF(Students!E499=\"\",\"\",Students!E499)","v":""},{"$f":"IF(Students!F499=\"\",\"\",Students!F499)","v":""},{"$f":"IF(Students!G499=\"\",\"\",Students!G499)","v":""},{"$f":"IF(Students!G499=\"\",\"\",DATEDIF(Students!G499,Settings!$A$2,\"y\"))","v":""},{"$f":"IF(Students!C499=\"\",\"\",RIGHT(Home!$B$11,5))","v":""}]
[null,null,null,null,null,null,498,{"$f":"IF(Students!C500=\"\",\"\",Students!C500)","v":""},{"$f":"IF(Students!D500=\"\",\"\",Students!D500)","v":""},{"$f":"IF(Students!C500=\"\",\"\",H499&\" \"&I499&\" \"&O499)","v":""},{"$f":"IF(Students!E500=\"\",\"\",Students!E500)","v":""},{"$f":"IF(Students!F500=\"\",\"\",Students!F500)","v":""},{"$f":"IF(Students!G500=\"\",\"\",Students!G500)","v":""},{"$f":"IF(Students!G500=\"\",\"\",DATEDIF(Students!G500,Settings!$A$2,\"y\"))","v":""},{"$f":"IF(Students!C500=\"\",\"\",RIGHT(Home!$B$11,5))","v":""}]
[null,null,null,null,null,null,499,{"$f":"IF(Students!C501=\"\",\"\",Students!C501)","v":""},{"$f":"IF(Students!D501=\"\",\"\",Students!D501)","v":""},{"$f":"IF(Students!C501=\"\",\"\",H500&\" \"&I500&\" \"&O500)","v":""},{"$f":"IF(Students!E501=\"\",\"\",Students!E501)","v":""},{"$f":"IF(Students!F501=\"\",\"\",Students!F501)","v":""},{"$f":"IF(Students!G501=\"\",\"\",Students!G501)","v":""},{"$f":"IF(Students!G501=\"\",\"\",DATEDIF(Students!G501,Settings!$A$2,\"y\"))","v":""},{"$f":"IF(Students!C501=\"\",\"\",RIGHT(Home!$B$11,5))","v":""}]
[null,null,null,null,null,null,500,{"$f":"IF(Students!C502=\"\",\"\",Students!C502)","v":""},{"$f":"IF(Students!D502=\"\",\"\",Students!D502)","v":""},{"$f":"IF(Students!C502=\"\",\"\",H501&\" \"&I501&\" \"&O501)","v":""},{"$f":"IF(Students!E502=\"\",\"\",Students!E502)","v":""},{"$f":"IF(Students!F502=\"\",\"\",Students!F502)","v":""},{"$f":"IF(Students!G502=\"\",\"\",Students!G502)","v":""},{"$f":"IF(Students!G502=\"\",\"\",DATEDIF(Students!G502,Settings!$A$2,\"y\"))","v":""},{"$f":"IF(Students!C502=\"\",\"\",RIGHT(Home!$B$11,5))","v":""}]
[null,null,null,null,null,null,501,{"$f":"IF(Students!C503=\"\",\"\",Students!C503)","v":""},{"$f":"IF(Students!D503=\"\",\"\",Students!D503)","v":""},{"$f":"IF(Students!C503=\"\",\"\",H502&\" \"&I502&\" \"&O502)","v":""},{"$f":"IF(Students!E503=\"\",\"\",Students!E503)","v":""},{"$f":"IF(Students!F503=\"\",\"\",Students!F503)","v":""},{"$f":"IF(Students!G503=\"\",\"\",Students!G503)","v":""},{"$f":"IF(Students!G503=\"\",\"\",DATEDIF(Students!G503,Settings!$A$2,\"y\"))","v":""},{"$f":"IF(Students!C503=\"\",\"\",RIGHT(Home!$B$11,5))","v":""}]
[null,null,null,null,null,null,502,{"$f":"IF(Students!C504=\"\",\"\",Students!C504)","v":""},{"$f":"IF(Students!D504=\"\",\"\",Students!D504)","v":""},{"$f":"IF(Students!C504=\"\",\"\",H503&\" \"&I503&\" \"&O503)","v":""},{"$f":"IF(Students!E504=\"\",\"\",Students!E504)","v":""},{"$f":"IF(Students!F504=\"\",\"\",Students!F504)","v":""},{"$f":"IF(Students!G504=\"\",\"\",Students!G504)","v":""},{"$f":"IF(Students!G504=\"\",\"\",DATEDIF(Students!G504,Settings!$A$2,\"y\"))","v":""},{"$f":"IF(Students!C504=\"\",\"\",RIGHT(Home!$B$11,5))","v":""}]
[null,null,null,null,null,null,503,{"$f":"IF(Students!C505=\"\",\"\",Students!C505)","v":""},{"$f":"IF(Students!D505=\"\",\"\",Students!D505)","v":""},{"$f":"IF(Students!C505=\"\",\"\",H504&\" \"&I504&\" \"&O504)","v":""},{"$f":"IF(Students!E505=\"\",\"\",Students!E505)","v":""},{"$f":"IF(Students!F505=\"\",\"\",Students!F505)","v":""},{"$f":"IF(Students!G505=\"\",\"\",Students!G505)","v":""},{"$f":"IF(Students!G505=\"\",\"\",DATEDIF(Students!G505,Settings!$A$2,\"y\"))","v":""},{"$f":"IF(Students!C505=\"\",\"\",RIGHT(Home!$B$11,5))","v":""}]
[null,null,null,null,null,null,504,{"$f":"IF(Students!C506=\"\",\"\",Students!C506)","v":""},{"$f":"IF(Students!D506=\"\",\"\",Students!D506)","v":""},{"$f":"IF(Students!C506=\"\",\"\",H505&\" \"&I505&\" \"&O505)","v":""},{"$f":"IF(Students!E506=\"\",\"\",Students!E506)","v":""},{"$f":"IF(Students!F506=\"\",\"\",Students!F506)","v":""},{"$f":"IF(Students!G506=\"\",\"\",Students!G506)","v":""},{"$f":"IF(Students!G506=\"\",\"\",DATEDIF(Students!G506,Settings!$A$2,\"y\"))","v":""},{"$f":"IF(Students!C506=\"\",\"\",RIGHT(Home!$B$11,5))","v":""}]
[null,null,null,null,null,null,505,{"$f":"IF(Students!C507=\"\",\"\",Students!C507)","v":""},{"$f":"IF(Students!D507=\"\",\"\",Students!D507)","v":""},{"$f":"IF(Students!C507=\"\",\"\",H506&\" \"&I506&\" \"&O506)","v":""},{"$f":"IF(Students!E507=\"\",\"\",Students!E507)","v":""},{"$f":"IF(Students!F507=\"\",\"\",Students!F507)","v":""},{"$f":"IF(Students!G507=\"\",\"\",Students!G507)","v":""},{"$f":"IF(Students!G507=\"\",\"\",DATEDIF(Students!G507,Settings!$A$2,\"y\"))","v":""},{"$f":"IF(Students!C507=\"\",\"\",RIGHT(Home!$B$11,5))","v":""}]
[null,null,null,null,null,null,506,{"$f":"IF(Students!C508=\"\",\"\",Students!C508)","v":""},{"$f":"IF(Students!D508=\"\",\"\",Students!D508)","v":""},{"$f":"IF(Students!C508=\"\",\"\",H507&\" \"&I507&\" \"&O507)","v":""},{"$f":"IF(Students!E508=\"\",\"\",Students!E508)","v":""},{"$f":"IF(Students!F508=\"\",\"\",Students!F508)","v":""},{"$f":"IF(Students!G508=\"\",\"\",Students!G508)","v":""},{"$f":"IF(Students!G508=\"\",\"\",DATEDIF(Students!G508,Settings!$A$2,\"y\"))","v":""},{"$f":"IF(Students!C508=\"\",\"\",RIGHT(Home!$B$11,5))","v":""}]
[null,null,null,null,null,null,507,{"$f":"IF(Students!C509=\"\",\"\",Students!C509)","v":""},{"$f":"IF(Students!D509=\"\",\"\",Students!D509)","v":""},{"$f":"IF(Students!C509=\"\",\"\",H508&\" \"&I508&\" \"&O508)","v":""},{"$f":"IF(Students!E509=\"\",\"\",Students!E509)","v":""},{"$f":"IF(Students!F509=\"\",\"\",Students!F509)","v":""},{"$f":"IF(Students!G509=\"\",\"\",Students!G509)","v":""},{"$f":"IF(Students!G509=\"\",\"\",DATEDIF(Students!G509,Settings!$A$2,\"y\"))","v":""},{"$f":"IF(Students!C509=\"\",\"\",RIGHT(Home!$B$11,5))","v":""}]
[null,null,null,null,null,null,508,{"$f":"IF(Students!C510=\"\",\"\",Students!C510)","v":""},{"$f":"IF(Students!D510=\"\",\"\",Students!D510)","v":""},{"$f":"IF(Students!C510=\"\",\"\",H509&\" \"&I509&\" \"&O509)","v":""},{"$f":"IF(Students!E510=\"\",\"\",Students!E510)","v":""},{"$f":"IF(Students!F510=\"\",\"\",Students!F510)","v":""},{"$f":"IF(Students!G510=\"\",\"\",Students!G510)","v":""},{"$f":"IF(Students!G510=\"\",\"\",DATEDIF(Students!G510,Settings!$A$2,\"y\"))","v":""},{"$f":"IF(Students!C510=\"\",\"\",RIGHT(Home!$B$11,5))","v":""}]
[null,null,null,null,null,null,509,{"$f":"IF(Students!C511=\"\",\"\",Students!C511)","v":""},{"$f":"IF(Students!D511=\"\",\"\",Students!D511)","v":""},{"$f":"IF(Students!C511=\"\",\"\",H510&\" \"&I510&\" \"&O510)","v":""},{"$f":"IF(Students!E511=\"\",\"\",Students!E511)","v":""},{"$f":"IF(Students!F511=\"\",\"\",Students!F511)","v":""},{"$f":"IF(Students!G511=\"\",\"\",Students!G511)","v":""},{"$f":"IF(Students!G511=\"\",\"\",DATEDIF(Students!G511,Settings!$A$2,\"y\"))","v":""},{"$f":"IF(Students!C511=\"\",\"\",RIGHT(Home!$B$11,5))","v":""}]
[null,null,null,null,null,null,510,{"$f":"IF(Students!C512=\"\",\"\",Students!C512)","v":""},{"$f":"IF(Students!D512=\"\",\"\",Students!D512)","v":""},{"$f":"IF(Students!C512=\"\",\"\",H511&\" \"&I511&\" \"&O511)","v":""},{"$f":"IF(Students!E512=\"\",\"\",Students!E512)","v":""},{"$f":"IF(Students!F512=\"\",\"\",Students!F512)","v":""},{"$f":"IF(Students!G512=\"\",\"\",Students!G512)","v":""},{"$f":"IF(Students!G512=\"\",\"\",DATEDIF(Students!G512,Settings!$A$2,\"y\"))","v":""},{"$f":"IF(Students!C512=\"\",\"\",RIGHT(Home!$B$11,5))","v":""}]
[null,null,null,null,null,null,511,{"$f":"IF(Students!C513=\"\",\"\",Students!C513)","v":""},{"$f":"IF(Students!D513=\"\",\"\",Students!D513)","v":""},{"$f":"IF(Students!C513=\"\",\"\",H512&\" \"&I512&\" \"&O512)","v":""},{"$f":"IF(Students!E513=\"\",\"\",Students!E513)","v":""},{"$f":"IF(Students!F513=\"\",\"\",Students!F513)","v":""},{"$f":"IF(Students!G513=\"\",\"\",Students!G513)","v":""},{"$f":"IF(Students!G513=\"\",\"\",DATEDIF(Students!G513,Settings!$A$2,\"y\"))","v":""},{"$f":"IF(Students!C513=\"\",\"\",RIGHT(Home!$B$11,5))","v":""}]
[null,null,null,null,null,null,512,{"$f":"IF(Students!C514=\"\",\"\",Students!C514)","v":""},{"$f":"IF(Students!D514=\"\",\"\",Students!D514)","v":""},{"$f":"IF(Students!C514=\"\",\"\",H513&\" \"&I513&\" \"&O513)","v":""},{"$f":"IF(Students!E514=\"\",\"\",Students!E514)","v":""},{"$f":"IF(Students!F514=\"\",\"\",Students!F514)","v":""},{"$f":"IF(Students!G514=\"\",\"\",Students!G514)","v":""},{"$f":"IF(Students!G514=\"\",\"\",DATEDIF(Students!G514,Settings!$A$2,\"y\"))","v":""},{"$f":"IF(Students!C514=\"\",\"\",RIGHT(Home!$B$11,5))","v":""}]
[null,null,null,null,null,null,513,{"$f":"IF(Students!C515=\"\",\"\",Students!C515)","v":""},{"$f":"IF(Students!D515=\"\",\"\",Students!D515)","v":""},{"$f":"IF(Students!C515=\"\",\"\",H514&\" \"&I514&\" \"&O514)","v":""},{"$f":"IF(Students!E515=\"\",\"\",Students!E515)","v":""},{"$f":"IF(Students!F515=\"\",\"\",Students!F515)","v":""},{"$f":"IF(Students!G515=\"\",\"\",Students!G515)","v":""},{"$f":"IF(Students!G515=\"\",\"\",DATEDIF(Students!G515,Settings!$A$2,\"y\"))","v":""},{"$f":"IF(Students!C515=\"\",\"\",RIGHT(Home!$B$11,5))","v":""}]
[null,null,null,null,null,null,{"$f":"ROW()-1","v":514},{"$f":"IF(Students!C516=\"\",\"\",Students!C516)","v":""},{"$f":"IF(Students!D516=\"\",\"\",Students!D516)","v":""},{"$f":"IF(Students!C516=\"\",\"\",H515&\" \"&I515&\" \"&O515)","v":""},{"$f":"IF(Students!E516=\"\",\"\",Students!E516)","v":""},{"$f":"IF(Students!F516=\"\",\"\",Students!F516)","v":""},{"$f":"IF(Students!G516=\"\",\"\",Students!G516)","v":""},{"$f":"IF(Students!G516=\"\",\"\",DATEDIF(Students!G516,Settings!$A$2,\"y\"))","v":""},{"$f":"IF(Students!C516=\"\",\"\",RIGHT(Home!$B$11,5))","v":""}]
[null,null,null,null,null,null,515,{"$f":"IF(Students!C517=\"\",\"\",Students!C517)","v":""},{"$f":"IF(Students!D517=\"\",\"\",Students!D517)","v":""},{"$f":"IF(Students!C517=\"\",\"\",H516&\" \"&I516&\" \"&O516)","v":""},{"$f":"IF(Students!E517=\"\",\"\",Students!E517)","v":""},{"$f":"IF(Students!F517=\"\",\"\",Students!F517)","v":""},{"$f":"IF(Students!G517=\"\",\"\",Students!G517)","v":""},{"$f":"IF(Students!G517=\"\",\"\",DATEDIF(Students!G517,Settings!$A$2,\"y\"))","v":""},{"$f":"IF(Students!C517=\"\",\"\",RIGHT(Home!$B$11,5))","v":""}]
[null,null,null,null,null,null,516,{"$f":"IF(Students!C518=\"\",\"\",Students!C518)","v":""},{"$f":"IF(Students!D518=\"\",\"\",Students!D518)","v":""},{"$f":"IF(Students!C518=\"\",\"\",H517&\" \"&I517&\" \"&O517)","v":""},{"$f":"IF(Students!E518=\"\",\"\",Students!E518)","v":""},{"$f":"IF(Students!F518=\"\",\"\",Students!F518)","v":""},{"$f":"IF(Students!G518=\"\",\"\",Students!G518)","v":""},{"$f":"IF(Students!G518=\"\",\"\",DATEDIF(Students!G518,Settings!$A$2,\"y\"))","v":""},{"$f":"IF(Students!C518=\"\",\"\",RIGHT(Home!$B$11,5))","v":""}]
[null,null,null,null,null,null,517,{"$f":"IF(Students!C519=\"\",\"\",Students!C519)","v":""},{"$f":"IF(Students!D519=\"\",\"\",Students!D519)","v":""},{"$f":"IF(Students!C519=\"\",\"\",H518&\" \"&I518&\" \"&O518)","v":""},{"$f":"IF(Students!E519=\"\",\"\",Students!E519)","v":""},{"$f":"IF(Students!F519=\"\",\"\",Students!F519)","v":""},{"$f":"IF(Students!G519=\"\",\"\",Students!G519)","v":""},{"$f":"IF(Students!G519=\"\",\"\",DATEDIF(Students!G519,Settings!$A$2,\"y\"))","v":""},{"$f":"IF(Students!C519=\"\",\"\",RIGHT(Home!$B$11,5))","v":""}]
[null,null,null,null,null,null,518,{"$f":"IF(Students!C520=\"\",\"\",Students!C520)","v":""},{"$f":"IF(Students!D520=\"\",\"\",Students!D520)","v":""},{"$f":"IF(Students!C520=\"\",\"\",H519&\" \"&I519&\" \"&O519)","v":""},{"$f":"IF(Students!E520=\"\",\"\",Students!E520)","v":""},{"$f":"IF(Students!F520=\"\",\"\",Students!F520)","v":""},{"$f":"IF(Students!G520=\"\",\"\",Students!G520)","v":""},{"$f":"IF(Students!G520=\"\",\"\",DATEDIF(Students!G520,Settings!$A$2,\"y\"))","v":""},{"$f":"IF(Students!C520=\"\",\"\",RIGHT(Home!$B$11,5))","v":""}]
[null,null,null,null,null,null,519,{"$f":"IF(Students!C521=\"\",\"\",Students!C521)","v":""},{"$f":"IF(Students!D521=\"\",\"\",Students!D521)","v":""},{"$f":"IF(Students!C521=\"\",\"\",H520&\" \"&I520&\" \"&O520)","v":""},{"$f":"IF(Students!E521=\"\",\"\",Students!E521)","v":""},{"$f":"IF(Students!F521=\"\",\"\",Students!F521)","v":""},{"$f":"IF(Students!G521=\"\",\"\",Students!G521)","v":""},{"$f":"IF(Students!G521=\"\",\"\",DATEDIF(Students!G521,Settings!$A$2,\"y\"))","v":""},{"$f":"IF(Students!C521=\"\",\"\",RIGHT(Home!$B$11,5))","v":""}]
[null,null,null,null,null,null,520,{"$f":"IF(Students!C522=\"\",\"\",Students!C522)","v":""},{"$f":"IF(Students!D522=\"\",\"\",Students!D522)","v":""},{"$f":"IF(Students!C522=\"\",\"\",H521&\" \"&I521&\" \"&O521)","v":""},{"$f":"IF(Students!E522=\"\",\"\",Students!E522)","v":""},{"$f":"IF(Students!F522=\"\",\"\",Students!F522)","v":""},{"$f":"IF(Students!G522=\"\",\"\",Students!G522)","v":""},{"$f":"IF(Students!G522=\"\",\"\",DATEDIF(Students!G522,Settings!$A$2,\"y\"))","v":""},{"$f":"IF(Students!C522=\"\",\"\",RIGHT(Home!$B$11,5))","v":""}]
[null,null,null,null,null,null,521,{"$f":"IF(Students!C523=\"\",\"\",Students!C523)","v":""},{"$f":"IF(Students!D523=\"\",\"\",Students!D523)","v":""},{"$f":"IF(Students!C523=\"\",\"\",H522&\" \"&I522&\" \"&O522)","v":""},{"$f":"IF(Students!E523=\"\",\"\",Students!E523)","v":""},{"$f":"IF(Students!F523=\"\",\"\",Students!F523)","v":""},{"$f":"IF(Students!G523=\"\",\"\",Students!G523)","v":""},{"$f":"IF(Students!G523=\"\",\"\",DATEDIF(Students!G523,Settings!$A$2,\"y\"))","v":""},{"$f":"IF(Students!C523=\"\",\"\",RIGHT(Home!$B$11,5))","v":""}]
[null,null,null,null,null,null,522,{"$f":"IF(Students!C524=\"\",\"\",Students!C524)","v":""},{"$f":"IF(Students!D524=\"\",\"\",Students!D524)","v":""},{"$f":"IF(Students!C524=\"\",\"\",H523&\" \"&I523&\" \"&O523)","v":""},{"$f":"IF(Students!E524=\"\",\"\",Students!E524)","v":""},{"$f":"IF(Students!F524=\"\",\"\",Students!F524)","v":""},{"$f":"IF(Students!G524=\"\",\"\",Students!G524)","v":""},{"$f":"IF(Students!G524=\"\",\"\",DATEDIF(Students!G524,Settings!$A$2,\"y\"))","v":""},{"$f":"IF(Students!C524=\"\",\"\",RIGHT(Home!$B$11,5))","v":""}]
[null,null,null,null,null,null,523,{"$f":"IF(Students!C525=\"\",\"\",Students!C525)","v":""},{"$f":"IF(Students!D525=\"\",\"\",Students!D525)","v":""},{"$f":"IF(Students!C525=\"\",\"\",H524&\" \"&I524&\" \"&O524)","v":""},{"$f":"IF(Students!E525=\"\",\"\",Students!E525)","v":""},{"$f":"IF(Students!F525=\"\",\"\",Students!F525)","v":""},{"$f":"IF(Students!G525=\"\",\"\",Students!G525)","v":""},{"$f":"IF(Students!G525=\"\",\"\",DATEDIF(Students!G525,Settings!$A$2,\"y\"))","v":""},{"$f":"IF(Students!C525=\"\",\"\",RIGHT(Home!$B$11,5))","v":""}]
[null,null,null,null,null,null,524,{"$f":"IF(Students!C526=\"\",\"\",Students!C526)","v":""},{"$f":"IF(Students!D526=\"\",\"\",Students!D526)","v":""},{"$f":"IF(Students!C526=\"\",\"\",H525&\" \"&I525&\" \"&O525)","v":""},{"$f":"IF(Students!E526=\"\",\"\",Students!E526)","v":""},{"$f":"IF(Students!F526=\"\",\"\",Students!F526)","v":""},{"$f":"IF(Students!G526=\"\",\"\",Students!G526)","v":""},{"$f":"IF(Students!G526=\"\",\"\",DATEDIF(Students!G526,Settings!$A$2,\"y\"))","v":""},{"$f":"IF(Students!C526=\"\",\"\",RIGHT(Home!$B$11,5))","v":""}]
[null,null,null,null,null,null,525,{"$f":"IF(Students!C527=\"\",\"\",Students!C527)","v":""},{"$f":"IF(Students!D527=\"\",\"\",Students!D527)","v":""},{"$f":"IF(Students!C527=\"\",\"\",H526&\" \"&I526&\" \"&O526)","v":""},{"$f":"IF(Students!E527=\"\",\"\",Students!E527)","v":""},{"$f":"IF(Students!F527=\"\",\"\",Students!F527)","v":""},{"$f":"IF(Students!G527=\"\",\"\",Students!G527)","v":""},{"$f":"IF(Students!G527=\"\",\"\",DATEDIF(Students!G527,Settings!$A$2,\"y\"))","v":""},{"$f":"IF(Students!C527=\"\",\"\",RIGHT(Home!$B$11,5))","v":""}]
[null,null,null,null,null,null,526,{"$f":"IF(Students!C528=\"\",\"\",Students!C528)","v":""},{"$f":"IF(Students!D528=\"\",\"\",Students!D528)","v":""},{"$f":"IF(Students!C528=\"\",\"\",H527&\" \"&I527&\" \"&O527)","v":""},{"$f":"IF(Students!E528=\"\",\"\",Students!E528)","v":""},{"$f":"IF(Students!F528=\"\",\"\",Students!F528)","v":""},{"$f":"IF(Students!G528=\"\",\"\",Students!G528)","v":""},{"$f":"IF(Students!G528=\"\",\"\",DATEDIF(Students!G528,Settings!$A$2,\"y\"))","v":""},{"$f":"IF(Students!C528=\"\",\"\",RIGHT(Home!$B$11,5))","v":""}]
[null,null,null,null,null,null,527,{"$f":"IF(Students!C529=\"\",\"\",Students!C529)","v":""},{"$f":"IF(Students!D529=\"\",\"\",Students!D529)","v":""},{"$f":"IF(Students!C529=\"\",\"\",H528&\" \"&I528&\" \"&O528)","v":""},{"$f":"IF(Students!E529=\"\",\"\",Students!E529)","v":""},{"$f":"IF(Students!F529=\"\",\"\",Students!F529)","v":""},{"$f":"IF(Students!G529=\"\",\"\",Students!G529)","v":""},{"$f":"IF(Students!G529=\"\",\"\",DATEDIF(Students!G529,Settings!$A$2,\"y\"))","v":""},{"$f":"IF(Students!C529=\"\",\"\",RIGHT(Home!$B$11,5))","v":""}]
[null,null,null,null,null,null,528,{"$f":"IF(Students!C530=\"\",\"\",Students!C530)","v":""},{"$f":"IF(Students!D530=\"\",\"\",Students!D530)","v":""},{"$f":"IF(Students!C530=\"\",\"\",H529&\" \"&I529&\" \"&O529)","v":""},{"$f":"IF(Students!E530=\"\",\"\",Students!E530)","v":""},{"$f":"IF(Students!F530=\"\",\"\",Students!F530)","v":""},{"$f":"IF(Students!G530=\"\",\"\",Students!G530)","v":""},{"$f":"IF(Students!G530=\"\",\"\",DATEDIF(Students!G530,Settings!$A$2,\"y\"))","v":""},{"$f":"IF(Students!C530=\"\",\"\",RIGHT(Home!$B$11,5))","v":""}]
[null,null,null,null,null,null,529,{"$f":"IF(Students!C531=\"\",\"\",Students!C531)","v":""},{"$f":"IF(Students!D531=\"\",\"\",Students!D531)","v":""},{"$f":"IF(Students!C531=\"\",\"\",H530&\" \"&I530&\" \"&O530)","v":""},{"$f":"IF(Students!E531=\"\",\"\",Students!E531)","v":""},{"$f":"IF(Students!F531=\"\",\"\",Students!F531)","v":""},{"$f":"IF(Students!G531=\"\",\"\",Students!G531)","v":""},{"$f":"IF(Students!G531=\"\",\"\",DATEDIF(Students!G531,Settings!$A$2,\"y\"))","v":""},{"$f":"IF(Students!C531=\"\",\"\",RIGHT(Home!$B$11,5))","v":""}]
[null,null,null,null,null,null,530,{"$f":"IF(Students!C532=\"\",\"\",Students!C532)","v":""},{"$f":"IF(Students!D532=\"\",\"\",Students!D532)","v":""},{"$f":"IF(Students!C532=\"\",\"\",H531&\" \"&I531&\" \"&O531)","v":""},{"$f":"IF(Students!E532=\"\",\"\",Students!E532)","v":""},{"$f":"IF(Students!F532=\"\",\"\",Students!F532)","v":""},{"$f":"IF(Students!G532=\"\",\"\",Students!G532)","v":""},{"$f":"IF(Students!G532=\"\",\"\",DATEDIF(Students!G532,Settings!$A$2,\"y\"))","v":""},{"$f":"IF(Students!C532=\"\",\"\",RIGHT(Home!$B$11,5))","v":""}]
[null,null,null,null,null,null,531,{"$f":"IF(Students!C533=\"\",\"\",Students!C533)","v":""},{"$f":"IF(Students!D533=\"\",\"\",Students!D533)","v":""},{"$f":"IF(Students!C533=\"\",\"\",H532&\" \"&I532&\" \"&O532)","v":""},{"$f":"IF(Students!E533=\"\",\"\",Students!E533)","v":""},{"$f":"IF(Students!F533=\"\",\"\",Students!F533)","v":""},{"$f":"IF(Students!G533=\"\",\"\",Students!G533)","v":""},{"$f":"IF(Students!G533=\"\",\"\",DATEDIF(Students!G533,Settings!$A$2,\"y\"))","v":""},{"$f":"IF(Students!C533=\"\",\"\",RIGHT(Home!$B$11,5))","v":""}]
[null,null,null,null,null,null,532,{"$f":"IF(Students!C534=\"\",\"\",Students!C534)","v":""},{"$f":"IF(Students!D534=\"\",\"\",Students!D534)","v":""},{"$f":"IF(Students!C534=\"\",\"\",H533&\" \"&I533&\" \"&O533)","v":""},{"$f":"IF(Students!E534=\"\",\"\",Students!E534)","v":""},{"$f":"IF(Students!F534=\"\",\"\",Students!F534)","v":""},{"$f":"IF(Students!G534=\"\",\"\",Students!G534)","v":""},{"$f":"IF(Students!G534=\"\",\"\",DATEDIF(Students!G534,Settings!$A$2,\"y\"))","v":""},{"$f":"IF(Students!C534=\"\",\"\",RIGHT(Home!$B$11,5))","v":""}]
[null,null,null,null,null,null,533,{"$f":"IF(Students!C535=\"\",\"\",Students!C535)","v":""},{"$f":"IF(Students!D535=\"\",\"\",Students!D535)","v":""},{"$f":"IF(Students!C535=\"\",\"\",H534&\" \"&I534&\" \"&O534)","v":""},{"$f":"IF(Students!E535=\"\",\"\",Students!E535)","v":""},{"$f":"IF(Students!F535=\"\",\"\",Students!F535)","v":""},{"$f":"IF(Students!G535=\"\",\"\",Students!G535)","v":""},{"$f":"IF(Students!G535=\"\",\"\",DATEDIF(Students!G535,Settings!$A$2,\"y\"))","v":""},{"$f":"IF(Students!C535=\"\",\"\",RIGHT(Home!$B$11,5))","v":""}]
[null,null,null,null,null,null,534,{"$f":"IF(Students!C536=\"\",\"\",Students!C536)","v":""},{"$f":"IF(Students!D536=\"\",\"\",Students!D536)","v":""},{"$f":"IF(Students!C536=\"\",\"\",H535&\" \"&I535&\" \"&O535)","v":""},{"$f":"IF(Students!E536=\"\",\"\",Students!E536)","v":""},{"$f":"IF(Students!F536=\"\",\"\",Students!F536)","v":""},{"$f":"IF(Students!G536=\"\",\"\",Students!G536)","v":""},{"$f":"IF(Students!G536=\"\",\"\",DATEDIF(Students!G536,Settings!$A$2,\"y\"))","v":""},{"$f":"IF(Students!C536=\"\",\"\",RIGHT(Home!$B$11,5))","v":""}]
[null,null,null,null,null,null,535,{"$f":"IF(Students!C537=\"\",\"\",Students!C537)","v":""},{"$f":"IF(Students!D537=\"\",\"\",Students!D537)","v":""},{"$f":"IF(Students!C537=\"\",\"\",H536&\" \"&I536&\" \"&O536)","v":""},{"$f":"IF(Students!E537=\"\",\"\",Students!E537)","v":""},{"$f":"IF(Students!F537=\"\",\"\",Students!F537)","v":""},{"$f":"IF(Students!G537=\"\",\"\",Students!G537)","v":""},{"$f":"IF(Students!G537=\"\",\"\",DATEDIF(Students!G537,Settings!$A$2,\"y\"))","v":""},{"$f":"IF(Students!C537=\"\",\"\",RIGHT(Home!$B$11,5))","v":""}]
[null,null,null,null,null,null,536,{"$f":"IF(Students!C538=\"\",\"\",Students!C538)","v":""},{"$f":"IF(Students!D538=\"\",\"\",Students!D538)","v":""},{"$f":"IF(Students!C538=\"\",\"\",H537&\" \"&I537&\" \"&O537)","v":""},{"$f":"IF(Students!E538=\"\",\"\",Students!E538)","v":""},{"$f":"IF(Students!F538=\"\",\"\",Students!F538)","v":""},{"$f":"IF(Students!G538=\"\",\"\",Students!G538)","v":""},{"$f":"IF(Students!G538=\"\",\"\",DATEDIF(Students!G538,Settings!$A$2,\"y\"))","v":""},{"$f":"IF(Students!C538=\"\",\"\",RIGHT(Home!$B$11,5))","v":""}]
[null,null,null,null,null,null,537,{"$f":"IF(Students!C539=\"\",\"\",Students!C539)","v":""},{"$f":"IF(Students!D539=\"\",\"\",Students!D539)","v":""},{"$f":"IF(Students!C539=\"\",\"\",H538&\" \"&I538&\" \"&O538)","v":""},{"$f":"IF(Students!E539=\"\",\"\",Students!E539)","v":""},{"$f":"IF(Students!F539=\"\",\"\",Students!F539)","v":""},{"$f":"IF(Students!G539=\"\",\"\",Students!G539)","v":""},{"$f":"IF(Students!G539=\"\",\"\",DATEDIF(Students!G539,Settings!$A$2,\"y\"))","v":""},{"$f":"IF(Students!C539=\"\",\"\",RIGHT(Home!$B$11,5))","v":""}]
[null,null,null,null,null,null,538,{"$f":"IF(Students!C540=\"\",\"\",Students!C540)","v":""},{"$f":"IF(Students!D540=\"\",\"\",Students!D540)","v":""},{"$f":"IF(Students!C540=\"\",\"\",H539&\" \"&I539&\" \"&O539)","v":""},{"$f":"IF(Students!E540=\"\",\"\",Students!E540)","v":""},{"$f":"IF(Students!F540=\"\",\"\",Students!F540)","v":""},{"$f":"IF(Students!G540=\"\",\"\",Students!G540)","v":""},{"$f":"IF(Students!G540=\"\",\"\",DATEDIF(Students!G540,Settings!$A$2,\"y\"))","v":""},{"$f":"IF(Students!C540=\"\",\"\",RIGHT(Home!$B$11,5))","v":""}]
[null,null,null,null,null,null,539,{"$f":"IF(Students!C541=\"\",\"\",Students!C541)","v":""},{"$f":"IF(Students!D541=\"\",\"\",Students!D541)","v":""},{"$f":"IF(Students!C541=\"\",\"\",H540&\" \"&I540&\" \"&O540)","v":""},{"$f":"IF(Students!E541=\"\",\"\",Students!E541)","v":""},{"$f":"IF(Students!F541=\"\",\"\",Students!F541)","v":""},{"$f":"IF(Students!G541=\"\",\"\",Students!G541)","v":""},{"$f":"IF(Students!G541=\"\",\"\",DATEDIF(Students!G541,Settings!$A$2,\"y\"))","v":""},{"$f":"IF(Students!C541=\"\",\"\",RIGHT(Home!$B$11,5))","v":""}]
[null,null,null,null,null,null,540,{"$f":"IF(Students!C542=\"\",\"\",Students!C542)","v":""},{"$f":"IF(Students!D542=\"\",\"\",Students!D542)","v":""},{"$f":"IF(Students!C542=\"\",\"\",H541&\" \"&I541&\" \"&O541)","v":""},{"$f":"IF(Students!E542=\"\",\"\",Students!E542)","v":""},{"$f":"IF(Students!F542=\"\",\"\",Students!F542)","v":""},{"$f":"IF(Students!G542=\"\",\"\",Students!G542)","v":""},{"$f":"IF(Students!G542=\"\",\"\",DATEDIF(Students!G542,Settings!$A$2,\"y\"))","v":""},{"$f":"IF(Students!C542=\"\",\"\",RIGHT(Home!$B$11,5))","v":""}]
[null,null,null,null,null,null,541,{"$f":"IF(Students!C543=\"\",\"\",Students!C543)","v":""},{"$f":"IF(Students!D543=\"\",\"\",Students!D543)","v":""},{"$f":"IF(Students!C543=\"\",\"\",H542&\" \"&I542&\" \"&O542)","v":""},{"$f":"IF(Students!E543=\"\",\"\",Students!E543)","v":""},{"$f":"IF(Students!F543=\"\",\"\",Students!F543)","v":""},{"$f":"IF(Students!G543=\"\",\"\",Students!G543)","v":""},{"$f":"IF(Students!G543=\"\",\"\",DATEDIF(Students!G543,Settings!$A$2,\"y\"))","v":""},{"$f":"IF(Students!C543=\"\",\"\",RIGHT(Home!$B$11,5))","v":""}]
[null,null,null,null,null,null,542,{"$f":"IF(Students!C544=\"\",\"\",Students!C544)","v":""},{"$f":"IF(Students!D544=\"\",\"\",Students!D544)","v":""},{"$f":"IF(Students!C544=\"\",\"\",H543&\" \"&I543&\" \"&O543)","v":""},{"$f":"IF(Students!E544=\"\",\"\",Students!E544)","v":""},{"$f":"IF(Students!F544=\"\",\"\",Students!F544)","v":""},{"$f":"IF(Students!G544=\"\",\"\",Students!G544)","v":""},{"$f":"IF(Students!G544=\"\",\"\",DATEDIF(Students!G544,Settings!$A$2,\"y\"))","v":""},{"$f":"IF(Students!C544=\"\",\"\",RIGHT(Home!$B$11,5))","v":""}]
[null,null,null,null,null,null,543,{"$f":"IF(Students!C545=\"\",\"\",Students!C545)","v":""},{"$f":"IF(Students!D545=\"\",\"\",Students!D545)","v":""},{"$f":"IF(Students!C545=\"\",\"\",H544&\" \"&I544&\" \"&O544)","v":""},{"$f":"IF(Students!E545=\"\",\"\",Students!E545)","v":""},{"$f":"IF(Students!F545=\"\",\"\",Students!F545)","v":""},{"$f":"IF(Students!G545=\"\",\"\",Students!G545)","v":""},{"$f":"IF(Students!G545=\"\",\"\",DATEDIF(Students!G545,Settings!$A$2,\"y\"))","v":""},{"$f":"IF(Students!C545=\"\",\"\",RIGHT(Home!$B$11,5))","v":""}]
[null,null,null,null,null,null,544,{"$f":"IF(Students!C546=\"\",\"\",Students!C546)","v":""},{"$f":"IF(Students!D546=\"\",\"\",Students!D546)","v":""},{"$f":"IF(Students!C546=\"\",\"\",H545&\" \"&I545&\" \"&O545)","v":""},{"$f":"IF(Students!E546=\"\",\"\",Students!E546)","v":""},{"$f":"IF(Students!F546=\"\",\"\",Students!F546)","v":""},{"$f":"IF(Students!G546=\"\",\"\",Students!G546)","v":""},{"$f":"IF(Students!G546=\"\",\"\",DATEDIF(Students!G546,Settings!$A$2,\"y\"))","v":""},{"$f":"IF(Students!C546=\"\",\"\",RIGHT(Home!$B$11,5))","v":""}]
[null,null,null,null,null,null,545,{"$f":"IF(Students!C547=\"\",\"\",Students!C547)","v":""},{"$f":"IF(Students!D547=\"\",\"\",Students!D547)","v":""},{"$f":"IF(Students!C547=\"\",\"\",H546&\" \"&I546&\" \"&O546)","v":""},{"$f":"IF(Students!E547=\"\",\"\",Students!E547)","v":""},{"$f":"IF(Students!F547=\"\",\"\",Students!F547)","v":""},{"$f":"IF(Students!G547=\"\",\"\",Students!G547)","v":""},{"$f":"IF(Students!G547=\"\",\"\",DATEDIF(Students!G547,Settings!$A$2,\"y\"))","v":""},{"$f":"IF(Students!C547=\"\",\"\",RIGHT(Home!$B$11,5))","v":""}]
[null,null,null,null,null,null,546,{"$f":"IF(Students!C548=\"\",\"\",Students!C548)","v":""},{"$f":"IF(Students!D548=\"\",\"\",Students!D548)","v":""},{"$f":"IF(Students!C548=\"\",\"\",H547&\" \"&I547&\" \"&O547)","v":""},{"$f":"IF(Students!E548=\"\",\"\",Students!E548)","v":""},{"$f":"IF(Students!F548=\"\",\"\",Students!F548)","v":""},{"$f":"IF(Students!G548=\"\",\"\",Students!G548)","v":""},{"$f":"IF(Students!G548=\"\",\"\",DATEDIF(Students!G548,Settings!$A$2,\"y\"))","v":""},{"$f":"IF(Students!C548=\"\",\"\",RIGHT(Home!$B$11,5))","v":""}]
[null,null,null,null,null,null,547,{"$f":"IF(Students!C549=\"\",\"\",Students!C549)","v":""},{"$f":"IF(Students!D549=\"\",\"\",Students!D549)","v":""},{"$f":"IF(Students!C549=\"\",\"\",H548&\" \"&I548&\" \"&O548)","v":""},{"$f":"IF(Students!E549=\"\",\"\",Students!E549)","v":""},{"$f":"IF(Students!F549=\"\",\"\",Students!F549)","v":""},{"$f":"IF(Students!G549=\"\",\"\",Students!G549)","v":""},{"$f":"IF(Students!G549=\"\",\"\",DATEDIF(Students!G549,Settings!$A$2,\"y\"))","v":""},{"$f":"IF(Students!C549=\"\",\"\",RIGHT(Home!$B$11,5))","v":""}]
[null,null,null,null,null,null,548,{"$f":"IF(Students!C550=\"\",\"\",Students!C550)","v":""},{"$f":"IF(Students!D550=\"\",\"\",Students!D550)","v":""},{"$f":"IF(Students!C550=\"\",\"\",H549&\" \"&I549&\" \"&O549)","v":""},{"$f":"IF(Students!E550=\"\",\"\",Students!E550)","v":""},{"$f":"IF(Students!F550=\"\",\"\",Students!F550)","v":""},{"$f":"IF(Students!G550=\"\",\"\",Students!G550)","v":""},{"$f":"IF(Students!G550=\"\",\"\",DATEDIF(Students!G550,Settings!$A$2,\"y\"))","v":""},{"$f":"IF(Students!C550=\"\",\"\",RIGHT(Home!$B$11,5))","v":""}]
[null,null,null,null,null,null,549,{"$f":"IF(Students!C551=\"\",\"\",Students!C551)","v":""},{"$f":"IF(Students!D551=\"\",\"\",Students!D551)","v":""},{"$f":"IF(Students!C551=\"\",\"\",H550&\" \"&I550&\" \"&O550)","v":""},{"$f":"IF(Students!E551=\"\",\"\",Students!E551)","v":""},{"$f":"IF(Students!F551=\"\",\"\",Students!F551)","v":""},{"$f":"IF(Students!G551=\"\",\"\",Students!G551)","v":""},{"$f":"IF(Students!G551=\"\",\"\",DATEDIF(Students!G551,Settings!$A$2,\"y\"))","v":""},{"$f":"IF(Students!C551=\"\",\"\",RIGHT(Home!$B$11,5))","v":""}]
[null,null,null,null,null,null,550,{"$f":"IF(Students!C552=\"\",\"\",Students!C552)","v":""},{"$f":"IF(Students!D552=\"\",\"\",Students!D552)","v":""},{"$f":"IF(Students!C552=\"\",\"\",H551&\" \"&I551&\" \"&O551)","v":""},{"$f":"IF(Students!E552=\"\",\"\",Students!E552)","v":""},{"$f":"IF(Students!F552=\"\",\"\",Students!F552)","v":""},{"$f":"IF(Students!G552=\"\",\"\",Students!G552)","v":""},{"$f":"IF(Students!G552=\"\",\"\",DATEDIF(Students!G552,Settings!$A$2,\"y\"))","v":""},{"$f":"IF(Students!C552=\"\",\"\",RIGHT(Home!$B$11,5))","v":""}]
[null,null,null,null,null,null,551,{"$f":"IF(Students!C553=\"\",\"\",Students!C553)","v":""},{"$f":"IF(Students!D553=\"\",\"\",Students!D553)","v":""},{"$f":"IF(Students!C553=\"\",\"\",H552&\" \"&I552&\" \"&O552)","v":""},{"$f":"IF(Students!E553=\"\",\"\",Students!E553)","v":""},{"$f":"IF(Students!F553=\"\",\"\",Students!F553)","v":""},{"$f":"IF(Students!G553=\"\",\"\",Students!G553)","v":""},{"$f":"IF(Students!G553=\"\",\"\",DATEDIF(Students!G553,Settings!$A$2,\"y\"))","v":""},{"$f":"IF(Students!C553=\"\",\"\",RIGHT(Home!$B$11,5))","v":""}]
[null,null,null,null,null,null,552,{"$f":"IF(Students!C554=\"\",\"\",Students!C554)","v":""},{"$f":"IF(Students!D554=\"\",\"\",Students!D554)","v":""},{"$f":"IF(Students!C554=\"\",\"\",H553&\" \"&I553&\" \"&O553)","v":""},{"$f":"IF(Students!E554=\"\",\"\",Students!E554)","v":""},{"$f":"IF(Students!F554=\"\",\"\",Students!F554)","v":""},{"$f":"IF(Students!G554=\"\",\"\",Students!G554)","v":""},{"$f":"IF(Students!G554=\"\",\"\",DATEDIF(Students!G554,Settings!$A$2,\"y\"))","v":""},{"$f":"IF(Students!C554=\"\",\"\",RIGHT(Home!$B$11,5))","v":""}]
[null,null,null,null,null,null,553,{"$f":"IF(Students!C555=\"\",\"\",Students!C555)","v":""},{"$f":"IF(Students!D555=\"\",\"\",Students!D555)","v":""},{"$f":"IF(Students!C555=\"\",\"\",H554&\" \"&I554&\" \"&O554)","v":""},{"$f":"IF(Students!E555=\"\",\"\",Students!E555)","v":""},{"$f":"IF(Students!F555=\"\",\"\",Students!F555)","v":""},{"$f":"IF(Students!G555=\"\",\"\",Students!G555)","v":""},{"$f":"IF(Students!G555=\"\",\"\",DATEDIF(Students!G555,Settings!$A$2,\"y\"))","v":""},{"$f":"IF(Students!C555=\"\",\"\",RIGHT(Home!$B$11,5))","v":""}]
[null,null,null,null,null,null,554,{"$f":"IF(Students!C556=\"\",\"\",Students!C556)","v":""},{"$f":"IF(Students!D556=\"\",\"\",Students!D556)","v":""},{"$f":"IF(Students!C556=\"\",\"\",H555&\" \"&I555&\" \"&O555)","v":""},{"$f":"IF(Students!E556=\"\",\"\",Students!E556)","v":""},{"$f":"IF(Students!F556=\"\",\"\",Students!F556)","v":""},{"$f":"IF(Students!G556=\"\",\"\",Students!G556)","v":""},{"$f":"IF(Students!G556=\"\",\"\",DATEDIF(Students!G556,Settings!$A$2,\"y\"))","v":""},{"$f":"IF(Students!C556=\"\",\"\",RIGHT(Home!$B$11,5))","v":""}]
[null,null,null,null,null,null,555,{"$f":"IF(Students!C557=\"\",\"\",Students!C557)","v":""},{"$f":"IF(Students!D557=\"\",\"\",Students!D557)","v":""},{"$f":"IF(Students!C557=\"\",\"\",H556&\" \"&I556&\" \"&O556)","v":""},{"$f":"IF(Students!E557=\"\",\"\",Students!E557)","v":""},{"$f":"IF(Students!F557=\"\",\"\",Students!F557)","v":""},{"$f":"IF(Students!G557=\"\",\"\",Students!G557)","v":""},{"$f":"IF(Students!G557=\"\",\"\",DATEDIF(Students!G557,Settings!$A$2,\"y\"))","v":""},{"$f":"IF(Students!C557=\"\",\"\",RIGHT(Home!$B$11,5))","v":""}]
[null,null,null,null,null,null,556,{"$f":"IF(Students!C558=\"\",\"\",Students!C558)","v":""},{"$f":"IF(Students!D558=\"\",\"\",Students!D558)","v":""},{"$f":"IF(Students!C558=\"\",\"\",H557&\" \"&I557&\" \"&O557)","v":""},{"$f":"IF(Students!E558=\"\",\"\",Students!E558)","v":""},{"$f":"IF(Students!F558=\"\",\"\",Students!F558)","v":""},{"$f":"IF(Students!G558=\"\",\"\",Students!G558)","v":""},{"$f":"IF(Students!G558=\"\",\"\",DATEDIF(Students!G558,Settings!$A$2,\"y\"))","v":""},{"$f":"IF(Students!C558=\"\",\"\",RIGHT(Home!$B$11,5))","v":""}]
[null,null,null,null,null,null,557,{"$f":"IF(Students!C559=\"\",\"\",Students!C559)","v":""},{"$f":"IF(Students!D559=\"\",\"\",Students!D559)","v":""},{"$f":"IF(Students!C559=\"\",\"\",H558&\" \"&I558&\" \"&O558)","v":""},{"$f":"IF(Students!E559=\"\",\"\",Students!E559)","v":""},{"$f":"IF(Students!F559=\"\",\"\",Students!F559)","v":""},{"$f":"IF(Students!G559=\"\",\"\",Students!G559)","v":""},{"$f":"IF(Students!G559=\"\",\"\",DATEDIF(Students!G559,Settings!$A$2,\"y\"))","v":""},{"$f":"IF(Students!C559=\"\",\"\",RIGHT(Home!$B$11,5))","v":""}]
[null,null,null,null,null,null,558,{"$f":"IF(Students!C560=\"\",\"\",Students!C560)","v":""},{"$f":"IF(Students!D560=\"\",\"\",Students!D560)","v":""},{"$f":"IF(Students!C560=\"\",\"\",H559&\" \"&I559&\" \"&O559)","v":""},{"$f":"IF(Students!E560=\"\",\"\",Students!E560)","v":""},{"$f":"IF(Students!F560=\"\",\"\",Students!F560)","v":""},{"$f":"IF(Students!G560=\"\",\"\",Students!G560)","v":""},{"$f":"IF(Students!G560=\"\",\"\",DATEDIF(Students!G560,Settings!$A$2,\"y\"))","v":""},{"$f":"IF(Students!C560=\"\",\"\",RIGHT(Home!$B$11,5))","v":""}]
[null,null,null,null,null,null,559,{"$f":"IF(Students!C561=\"\",\"\",Students!C561)","v":""},{"$f":"IF(Students!D561=\"\",\"\",Students!D561)","v":""},{"$f":"IF(Students!C561=\"\",\"\",H560&\" \"&I560&\" \"&O560)","v":""},{"$f":"IF(Students!E561=\"\",\"\",Students!E561)","v":""},{"$f":"IF(Students!F561=\"\",\"\",Students!F561)","v":""},{"$f":"IF(Students!G561=\"\",\"\",Students!G561)","v":""},{"$f":"IF(Students!G561=\"\",\"\",DATEDIF(Students!G561,Settings!$A$2,\"y\"))","v":""},{"$f":"IF(Students!C561=\"\",\"\",RIGHT(Home!$B$11,5))","v":""}]
[null,null,null,null,null,null,560,{"$f":"IF(Students!C562=\"\",\"\",Students!C562)","v":""},{"$f":"IF(Students!D562=\"\",\"\",Students!D562)","v":""},{"$f":"IF(Students!C562=\"\",\"\",H561&\" \"&I561&\" \"&O561)","v":""},{"$f":"IF(Students!E562=\"\",\"\",Students!E562)","v":""},{"$f":"IF(Students!F562=\"\",\"\",Students!F562)","v":""},{"$f":"IF(Students!G562=\"\",\"\",Students!G562)","v":""},{"$f":"IF(Students!G562=\"\",\"\",DATEDIF(Students!G562,Settings!$A$2,\"y\"))","v":""},{"$f":"IF(Students!C562=\"\",\"\",RIGHT(Home!$B$11,5))","v":""}]
[null,null,null,null,null,null,561,{"$f":"IF(Students!C563=\"\",\"\",Students!C563)","v":""},{"$f":"IF(Students!D563=\"\",\"\",Students!D563)","v":""},{"$f":"IF(Students!C563=\"\",\"\",H562&\" \"&I562&\" \"&O562)","v":""},{"$f":"IF(Students!E563=\"\",\"\",Students!E563)","v":""},{"$f":"IF(Students!F563=\"\",\"\",Students!F563)","v":""},{"$f":"IF(Students!G563=\"\",\"\",Students!G563)","v":""},{"$f":"IF(Students!G563=\"\",\"\",DATEDIF(Students!G563,Settings!$A$2,\"y\"))","v":""},{"$f":"IF(Students!C563=\"\",\"\",RIGHT(Home!$B$11,5))","v":""}]
[null,null,null,null,null,null,562,{"$f":"IF(Students!C564=\"\",\"\",Students!C564)","v":""},{"$f":"IF(Students!D564=\"\",\"\",Students!D564)","v":""},{"$f":"IF(Students!C564=\"\",\"\",H563&\" \"&I563&\" \"&O563)","v":""},{"$f":"IF(Students!E564=\"\",\"\",Students!E564)","v":""},{"$f":"IF(Students!F564=\"\",\"\",Students!F564)","v":""},{"$f":"IF(Students!G564=\"\",\"\",Students!G564)","v":""},{"$f":"IF(Students!G564=\"\",\"\",DATEDIF(Students!G564,Settings!$A$2,\"y\"))","v":""},{"$f":"IF(Students!C564=\"\",\"\",RIGHT(Home!$B$11,5))","v":""}]
[null,null,null,null,null,null,563,{"$f":"IF(Students!C565=\"\",\"\",Students!C565)","v":""},{"$f":"IF(Students!D565=\"\",\"\",Students!D565)","v":""},{"$f":"IF(Students!C565=\"\",\"\",H564&\" \"&I564&\" \"&O564)","v":""},{"$f":"IF(Students!E565=\"\",\"\",Students!E565)","v":""},{"$f":"IF(Students!F565=\"\",\"\",Students!F565)","v":""},{"$f":"IF(Students!G565=\"\",\"\",Students!G565)","v":""},{"$f":"IF(Students!G565=\"\",\"\",DATEDIF(Students!G565,Settings!$A$2,\"y\"))","v":""},{"$f":"IF(Students!C565=\"\",\"\",RIGHT(Home!$B$11,5))","v":""}]
[null,null,null,null,null,null,564,{"$f":"IF(Students!C566=\"\",\"\",Students!C566)","v":""},{"$f":"IF(Students!D566=\"\",\"\",Students!D566)","v":""},{"$f":"IF(Students!C566=\"\",\"\",H565&\" \"&I565&\" \"&O565)","v":""},{"$f":"IF(Students!E566=\"\",\"\",Students!E566)","v":""},{"$f":"IF(Students!F566=\"\",\"\",Students!F566)","v":""},{"$f":"IF(Students!G566=\"\",\"\",Students!G566)","v":""},{"$f":"IF(Students!G566=\"\",\"\",DATEDIF(Students!G566,Settings!$A$2,\"y\"))","v":""},{"$f":"IF(Students!C566=\"\",\"\",RIGHT(Home!$B$11,5))","v":""}]
[null,null,null,null,null,null,565,{"$f":"IF(Students!C567=\"\",\"\",Students!C567)","v":""},{"$f":"IF(Students!D567=\"\",\"\",Students!D567)","v":""},{"$f":"IF(Students!C567=\"\",\"\",H566&\" \"&I566&\" \"&O566)","v":""},{"$f":"IF(Students!E567=\"\",\"\",Students!E567)","v":""},{"$f":"IF(Students!F567=\"\",\"\",Students!F567)","v":""},{"$f":"IF(Students!G567=\"\",\"\",Students!G567)","v":""},{"$f":"IF(Students!G567=\"\",\"\",DATEDIF(Students!G567,Settings!$A$2,\"y\"))","v":""},{"$f":"IF(Students!C567=\"\",\"\",RIGHT(Home!$B$11,5))","v":""}]
[null,null,null,null,null,null,566,{"$f":"IF(Students!C568=\"\",\"\",Students!C568)","v":""},{"$f":"IF(Students!D568=\"\",\"\",Students!D568)","v":""},{"$f":"IF(Students!C568=\"\",\"\",H567&\" \"&I567&\" \"&O567)","v":""},{"$f":"IF(Students!E568=\"\",\"\",Students!E568)","v":""},{"$f":"IF(Students!F568=\"\",\"\",Students!F568)","v":""},{"$f":"IF(Students!G568=\"\",\"\",Students!G568)","v":""},{"$f":"IF(Students!G568=\"\",\"\",DATEDIF(Students!G568,Settings!$A$2,\"y\"))","v":""},{"$f":"IF(Students!C568=\"\",\"\",RIGHT(Home!$B$11,5))","v":""}]
[null,null,null,null,null,null,567,{"$f":"IF(Students!C569=\"\",\"\",Students!C569)","v":""},{"$f":"IF(Students!D569=\"\",\"\",Students!D569)","v":""},{"$f":"IF(Students!C569=\"\",\"\",H568&\" \"&I568&\" \"&O568)","v":""},{"$f":"IF(Students!E569=\"\",\"\",Students!E569)","v":""},{"$f":"IF(Students!F569=\"\",\"\",Students!F569)","v":""},{"$f":"IF(Students!G569=\"\",\"\",Students!G569)","v":""},{"$f":"IF(Students!G569=\"\",\"\",DATEDIF(Students!G569,Settings!$A$2,\"y\"))","v":""},{"$f":"IF(Students!C569=\"\",\"\",RIGHT(Home!$B$11,5))","v":""}]
[null,null,null,null,null,null,568,{"$f":"IF(Students!C570=\"\",\"\",Students!C570)","v":""},{"$f":"IF(Students!D570=\"\",\"\",Students!D570)","v":""},{"$f":"IF(Students!C570=\"\",\"\",H569&\" \"&I569&\" \"&O569)","v":""},{"$f":"IF(Students!E570=\"\",\"\",Students!E570)","v":""},{"$f":"IF(Students!F570=\"\",\"\",Students!F570)","v":""},{"$f":"IF(Students!G570=\"\",\"\",Students!G570)","v":""},{"$f":"IF(Students!G570=\"\",\"\",DATEDIF(Students!G570,Settings!$A$2,\"y\"))","v":""},{"$f":"IF(Students!C570=\"\",\"\",RIGHT(Home!$B$11,5))","v":""}]
[null,null,null,null,null,null,569,{"$f":"IF(Students!C571=\"\",\"\",Students!C571)","v":""},{"$f":"IF(Students!D571=\"\",\"\",Students!D571)","v":""},{"$f":"IF(Students!C571=\"\",\"\",H570&\" \"&I570&\" \"&O570)","v":""},{"$f":"IF(Students!E571=\"\",\"\",Students!E571)","v":""},{"$f":"IF(Students!F571=\"\",\"\",Students!F571)","v":""},{"$f":"IF(Students!G571=\"\",\"\",Students!G571)","v":""},{"$f":"IF(Students!G571=\"\",\"\",DATEDIF(Students!G571,Settings!$A$2,\"y\"))","v":""},{"$f":"IF(Students!C571=\"\",\"\",RIGHT(Home!$B$11,5))","v":""}]
[null,null,null,null,null,null,570,{"$f":"IF(Students!C572=\"\",\"\",Students!C572)","v":""},{"$f":"IF(Students!D572=\"\",\"\",Students!D572)","v":""},{"$f":"IF(Students!C572=\"\",\"\",H571&\" \"&I571&\" \"&O571)","v":""},{"$f":"IF(Students!E572=\"\",\"\",Students!E572)","v":""},{"$f":"IF(Students!F572=\"\",\"\",Students!F572)","v":""},{"$f":"IF(Students!G572=\"\",\"\",Students!G572)","v":""},{"$f":"IF(Students!G572=\"\",\"\",DATEDIF(Students!G572,Settings!$A$2,\"y\"))","v":""},{"$f":"IF(Students!C572=\"\",\"\",RIGHT(Home!$B$11,5))","v":""}]
[null,null,null,null,null,null,571,{"$f":"IF(Students!C573=\"\",\"\",Students!C573)","v":""},{"$f":"IF(Students!D573=\"\",\"\",Students!D573)","v":""},{"$f":"IF(Students!C573=\"\",\"\",H572&\" \"&I572&\" \"&O572)","v":""},{"$f":"IF(Students!E573=\"\",\"\",Students!E573)","v":""},{"$f":"IF(Students!F573=\"\",\"\",Students!F573)","v":""},{"$f":"IF(Students!G573=\"\",\"\",Students!G573)","v":""},{"$f":"IF(Students!G573=\"\",\"\",DATEDIF(Students!G573,Settings!$A$2,\"y\"))","v":""},{"$f":"IF(Students!C573=\"\",\"\",RIGHT(Home!$B$11,5))","v":""}]
[null,null,null,null,null,null,572,{"$f":"IF(Students!C574=\"\",\"\",Students!C574)","v":""},{"$f":"IF(Students!D574=\"\",\"\",Students!D574)","v":""},{"$f":"IF(Students!C574=\"\",\"\",H573&\" \"&I573&\" \"&O573)","v":""},{"$f":"IF(Students!E574=\"\",\"\",Students!E574)","v":""},{"$f":"IF(Students!F574=\"\",\"\",Students!F574)","v":""},{"$f":"IF(Students!G574=\"\",\"\",Students!G574)","v":""},{"$f":"IF(Students!G574=\"\",\"\",DATEDIF(Students!G574,Settings!$A$2,\"y\"))","v":""},{"$f":"IF(Students!C574=\"\",\"\",RIGHT(Home!$B$11,5))","v":""}]
[null,null,null,null,null,null,573,{"$f":"IF(Students!C575=\"\",\"\",Students!C575)","v":""},{"$f":"IF(Students!D575=\"\",\"\",Students!D575)","v":""},{"$f":"IF(Students!C575=\"\",\"\",H574&\" \"&I574&\" \"&O574)","v":""},{"$f":"IF(Students!E575=\"\",\"\",Students!E575)","v":""},{"$f":"IF(Students!F575=\"\",\"\",Students!F575)","v":""},{"$f":"IF(Students!G575=\"\",\"\",Students!G575)","v":""},{"$f":"IF(Students!G575=\"\",\"\",DATEDIF(Students!G575,Settings!$A$2,\"y\"))","v":""},{"$f":"IF(Students!C575=\"\",\"\",RIGHT(Home!$B$11,5))","v":""}]
[null,null,null,null,null,null,574,{"$f":"IF(Students!C576=\"\",\"\",Students!C576)","v":""},{"$f":"IF(Students!D576=\"\",\"\",Students!D576)","v":""},{"$f":"IF(Students!C576=\"\",\"\",H575&\" \"&I575&\" \"&O575)","v":""},{"$f":"IF(Students!E576=\"\",\"\",Students!E576)","v":""},{"$f":"IF(Students!F576=\"\",\"\",Students!F576)","v":""},{"$f":"IF(Students!G576=\"\",\"\",Students!G576)","v":""},{"$f":"IF(Students!G576=\"\",\"\",DATEDIF(Students!G576,Settings!$A$2,\"y\"))","v":""},{"$f":"IF(Students!C576=\"\",\"\",RIGHT(Home!$B$11,5))","v":""}]
[null,null,null,null,null,null,575,{"$f":"IF(Students!C577=\"\",\"\",Students!C577)","v":""},{"$f":"IF(Students!D577=\"\",\"\",Students!D577)","v":""},{"$f":"IF(Students!C577=\"\",\"\",H576&\" \"&I576&\" \"&O576)","v":""},{"$f":"IF(Students!E577=\"\",\"\",Students!E577)","v":""},{"$f":"IF(Students!F577=\"\",\"\",Students!F577)","v":""},{"$f":"IF(Students!G577=\"\",\"\",Students!G577)","v":""},{"$f":"IF(Students!G577=\"\",\"\",DATEDIF(Students!G577,Settings!$A$2,\"y\"))","v":""},{"$f":"IF(Students!C577=\"\",\"\",RIGHT(Home!$B$11,5))","v":""}]
[null,null,null,null,null,null,576,{"$f":"IF(Students!C578=\"\",\"\",Students!C578)","v":""},{"$f":"IF(Students!D578=\"\",\"\",Students!D578)","v":""},{"$f":"IF(Students!C578=\"\",\"\",H577&\" \"&I577&\" \"&O577)","v":""},{"$f":"IF(Students!E578=\"\",\"\",Students!E578)","v":""},{"$f":"IF(Students!F578=\"\",\"\",Students!F578)","v":""},{"$f":"IF(Students!G578=\"\",\"\",Students!G578)","v":""},{"$f":"IF(Students!G578=\"\",\"\",DATEDIF(Students!G578,Settings!$A$2,\"y\"))","v":""},{"$f":"IF(Students!C578=\"\",\"\",RIGHT(Home!$B$11,5))","v":""}]
[null,null,null,null,null,null,577,{"$f":"IF(Students!C579=\"\",\"\",Students!C579)","v":""},{"$f":"IF(Students!D579=\"\",\"\",Students!D579)","v":""},{"$f":"IF(Students!C579=\"\",\"\",H578&\" \"&I578&\" \"&O578)","v":""},{"$f":"IF(Students!E579=\"\",\"\",Students!E579)","v":""},{"$f":"IF(Students!F579=\"\",\"\",Students!F579)","v":""},{"$f":"IF(Students!G579=\"\",\"\",Students!G579)","v":""},{"$f":"IF(Students!G579=\"\",\"\",DATEDIF(Students!G579,Settings!$A$2,\"y\"))","v":""},{"$f":"IF(Students!C579=\"\",\"\",RIGHT(Home!$B$11,5))","v":""}]
[null,null,null,null,null,null,{"$f":"ROW()-1","v":578},{"$f":"IF(Students!C580=\"\",\"\",Students!C580)","v":""},{"$f":"IF(Students!D580=\"\",\"\",Students!D580)","v":""},{"$f":"IF(Students!C580=\"\",\"\",H579&\" \"&I579&\" \"&O579)","v":""},{"$f":"IF(Students!E580=\"\",\"\",Students!E580)","v":""},{"$f":"IF(Students!F580=\"\",\"\",Students!F580)","v":""},{"$f":"IF(Students!G580=\"\",\"\",Students!G580)","v":""},{"$f":"IF(Students!G580=\"\",\"\",DATEDIF(Students!G580,Settings!$A$2,\"y\"))","v":""},{"$f":"IF(Students!C580=\"\",\"\",RIGHT(Home!$B$11,5))","v":""}]
[null,null,null,null,null,null,579,{"$f":"IF(Students!C581=\"\",\"\",Students!C581)","v":""},{"$f":"IF(Students!D581=\"\",\"\",Students!D581)","v":""},{"$f":"IF(Students!C581=\"\",\"\",H580&\" \"&I580&\" \"&O580)","v":""},{"$f":"IF(Students!E581=\"\",\"\",Students!E581)","v":""},{"$f":"IF(Students!F581=\"\",\"\",Students!F581)","v":""},{"$f":"IF(Students!G581=\"\",\"\",Students!G581)","v":""},{"$f":"IF(Students!G581=\"\",\"\",DATEDIF(Students!G581,Settings!$A$2,\"y\"))","v":""},{"$f":"IF(Students!C581=\"\",\"\",RIGHT(Home!$B$11,5))","v":""}]
[null,null,null,null,null,null,580,{"$f":"IF(Students!C582=\"\",\"\",Students!C582)","v":""},{"$f":"IF(Students!D582=\"\",\"\",Students!D582)","v":""},{"$f":"IF(Students!C582=\"\",\"\",H581&\" \"&I581&\" \"&O581)","v":""},{"$f":"IF(Students!E582=\"\",\"\",Students!E582)","v":""},{"$f":"IF(Students!F582=\"\",\"\",Students!F582)","v":""},{"$f":"IF(Students!G582=\"\",\"\",Students!G582)","v":""},{"$f":"IF(Students!G582=\"\",\"\",DATEDIF(Students!G582,Settings!$A$2,\"y\"))","v":""},{"$f":"IF(Students!C582=\"\",\"\",RIGHT(Home!$B$11,5))","v":""}]
[null,null,null,null,null,null,581,{"$f":"IF(Students!C583=\"\",\"\",Students!C583)","v":""},{"$f":"IF(Students!D583=\"\",\"\",Students!D583)","v":""},{"$f":"IF(Students!C583=\"\",\"\",H582&\" \"&I582&\" \"&O582)","v":""},{"$f":"IF(Students!E583=\"\",\"\",Students!E583)","v":""},{"$f":"IF(Students!F583=\"\",\"\",Students!F583)","v":""},{"$f":"IF(Students!G583=\"\",\"\",Students!G583)","v":""},{"$f":"IF(Students!G583=\"\",\"\",DATEDIF(Students!G583,Settings!$A$2,\"y\"))","v":""},{"$f":"IF(Students!C583=\"\",\"\",RIGHT(Home!$B$11,5))","v":""}]
[null,null,null,null,null,null,582,{"$f":"IF(Students!C584=\"\",\"\",Students!C584)","v":""},{"$f":"IF(Students!D584=\"\",\"\",Students!D584)","v":""},{"$f":"IF(Students!C584=\"\",\"\",H583&\" \"&I583&\" \"&O583)","v":""},{"$f":"IF(Students!E584=\"\",\"\",Students!E584)","v":""},{"$f":"IF(Students!F584=\"\",\"\",Students!F584)","v":""},{"$f":"IF(Students!G584=\"\",\"\",Students!G584)","v":""},{"$f":"IF(Students!G584=\"\",\"\",DATEDIF(Students!G584,Settings!$A$2,\"y\"))","v":""},{"$f":"IF(Students!C584=\"\",\"\",RIGHT(Home!$B$11,5))","v":""}]
[null,null,null,null,null,null,583,{"$f":"IF(Students!C585=\"\",\"\",Students!C585)","v":""},{"$f":"IF(Students!D585=\"\",\"\",Students!D585)","v":""},{"$f":"IF(Students!C585=\"\",\"\",H584&\" \"&I584&\" \"&O584)","v":""},{"$f":"IF(Students!E585=\"\",\"\",Students!E585)","v":""},{"$f":"IF(Students!F585=\"\",\"\",Students!F585)","v":""},{"$f":"IF(Students!G585=\"\",\"\",Students!G585)","v":""},{"$f":"IF(Students!G585=\"\",\"\",DATEDIF(Students!G585,Settings!$A$2,\"y\"))","v":""},{"$f":"IF(Students!C585=\"\",\"\",RIGHT(Home!$B$11,5))","v":""}]
[null,null,null,null,null,null,584,{"$f":"IF(Students!C586=\"\",\"\",Students!C586)","v":""},{"$f":"IF(Students!D586=\"\",\"\",Students!D586)","v":""},{"$f":"IF(Students!C586=\"\",\"\",H585&\" \"&I585&\" \"&O585)","v":""},{"$f":"IF(Students!E586=\"\",\"\",Students!E586)","v":""},{"$f":"IF(Students!F586=\"\",\"\",Students!F586)","v":""},{"$f":"IF(Students!G586=\"\",\"\",Students!G586)","v":""},{"$f":"IF(Students!G586=\"\",\"\",DATEDIF(Students!G586,Settings!$A$2,\"y\"))","v":""},{"$f":"IF(Students!C586=\"\",\"\",RIGHT(Home!$B$11,5))","v":""}]
[null,null,null,null,null,null,585,{"$f":"IF(Students!C587=\"\",\"\",Students!C587)","v":""},{"$f":"IF(Students!D587=\"\",\"\",Students!D587)","v":""},{"$f":"IF(Students!C587=\"\",\"\",H586&\" \"&I586&\" \"&O586)","v":""},{"$f":"IF(Students!E587=\"\",\"\",Students!E587)","v":""},{"$f":"IF(Students!F587=\"\",\"\",Students!F587)","v":""},{"$f":"IF(Students!G587=\"\",\"\",Students!G587)","v":""},{"$f":"IF(Students!G587=\"\",\"\",DATEDIF(Students!G587,Settings!$A$2,\"y\"))","v":""},{"$f":"IF(Students!C587=\"\",\"\",RIGHT(Home!$B$11,5))","v":""}]
[null,null,null,null,null,null,586,{"$f":"IF(Students!C588=\"\",\"\",Students!C588)","v":""},{"$f":"IF(Students!D588=\"\",\"\",Students!D588)","v":""},{"$f":"IF(Students!C588=\"\",\"\",H587&\" \"&I587&\" \"&O587)","v":""},{"$f":"IF(Students!E588=\"\",\"\",Students!E588)","v":""},{"$f":"IF(Students!F588=\"\",\"\",Students!F588)","v":""},{"$f":"IF(Students!G588=\"\",\"\",Students!G588)","v":""},{"$f":"IF(Students!G588=\"\",\"\",DATEDIF(Students!G588,Settings!$A$2,\"y\"))","v":""},{"$f":"IF(Students!C588=\"\",\"\",RIGHT(Home!$B$11,5))","v":""}]
[null,null,null,null,null,null,587,{"$f":"IF(Students!C589=\"\",\"\",Students!C589)","v":""},{"$f":"IF(Students!D589=\"\",\"\",Students!D589)","v":""},{"$f":"IF(Students!C589=\"\",\"\",H588&\" \"&I588&\" \"&O588)","v":""},{"$f":"IF(Students!E589=\"\",\"\",Students!E589)","v":""},{"$f":"IF(Students!F589=\"\",\"\",Students!F589)","v":""},{"$f":"IF(Students!G589=\"\",\"\",Students!G589)","v":""},{"$f":"IF(Students!G589=\"\",\"\",DATEDIF(Students!G589,Settings!$A$2,\"y\"))","v":""},{"$f":"IF(Students!C589=\"\",\"\",RIGHT(Home!$B$11,5))","v":""}]
[null,null,null,null,null,null,588,{"$f":"IF(Students!C590=\"\",\"\",Students!C590)","v":""},{"$f":"IF(Students!D590=\"\",\"\",Students!D590)","v":""},{"$f":"IF(Students!C590=\"\",\"\",H589&\" \"&I589&\" \"&O589)","v":""},{"$f":"IF(Students!E590=\"\",\"\",Students!E590)","v":""},{"$f":"IF(Students!F590=\"\",\"\",Students!F590)","v":""},{"$f":"IF(Students!G590=\"\",\"\",Students!G590)","v":""},{"$f":"IF(Students!G590=\"\",\"\",DATEDIF(Students!G590,Settings!$A$2,\"y\"))","v":""},{"$f":"IF(Students!C590=\"\",\"\",RIGHT(Home!$B$11,5))","v":""}]
[null,null,null,null,null,null,589,{"$f":"IF(Students!C591=\"\",\"\",Students!C591)","v":""},{"$f":"IF(Students!D591=\"\",\"\",Students!D591)","v":""},{"$f":"IF(Students!C591=\"\",\"\",H590&\" \"&I590&\" \"&O590)","v":""},{"$f":"IF(Students!E591=\"\",\"\",Students!E591)","v":""},{"$f":"IF(Students!F591=\"\",\"\",Students!F591)","v":""},{"$f":"IF(Students!G591=\"\",\"\",Students!G591)","v":""},{"$f":"IF(Students!G591=\"\",\"\",DATEDIF(Students!G591,Settings!$A$2,\"y\"))","v":""},{"$f":"IF(Students!C591=\"\",\"\",RIGHT(Home!$B$11,5))","v":""}]
[null,null,null,null,null,null,590,{"$f":"IF(Students!C592=\"\",\"\",Students!C592)","v":""},{"$f":"IF(Students!D592=\"\",\"\",Students!D592)","v":""},{"$f":"IF(Students!C592=\"\",\"\",H591&\" \"&I591&\" \"&O591)","v":""},{"$f":"IF(Students!E592=\"\",\"\",Students!E592)","v":""},{"$f":"IF(Students!F592=\"\",\"\",Students!F592)","v":""},{"$f":"IF(Students!G592=\"\",\"\",Students!G592)","v":""},{"$f":"IF(Students!G592=\"\",\"\",DATEDIF(Students!G592,Settings!$A$2,\"y\"))","v":""},{"$f":"IF(Students!C592=\"\",\"\",RIGHT(Home!$B$11,5))","v":""}]
[null,null,null,null,null,null,591,{"$f":"IF(Students!C593=\"\",\"\",Students!C593)","v":""},{"$f":"IF(Students!D593=\"\",\"\",Students!D593)","v":""},{"$f":"IF(Students!C593=\"\",\"\",H592&\" \"&I592&\" \"&O592)","v":""},{"$f":"IF(Students!E593=\"\",\"\",Students!E593)","v":""},{"$f":"IF(Students!F593=\"\",\"\",Students!F593)","v":""},{"$f":"IF(Students!G593=\"\",\"\",Students!G593)","v":""},{"$f":"IF(Students!G593=\"\",\"\",DATEDIF(Students!G593,Settings!$A$2,\"y\"))","v":""},{"$f":"IF(Students!C593=\"\",\"\",RIGHT(Home!$B$11,5))","v":""}]
[null,null,null,null,null,null,592,{"$f":"IF(Students!C594=\"\",\"\",Students!C594)","v":""},{"$f":"IF(Students!D594=\"\",\"\",Students!D594)","v":""},{"$f":"IF(Students!C594=\"\",\"\",H593&\" \"&I593&\" \"&O593)","v":""},{"$f":"IF(Students!E594=\"\",\"\",Students!E594)","v":""},{"$f":"IF(Students!F594=\"\",\"\",Students!F594)","v":""},{"$f":"IF(Students!G594=\"\",\"\",Students!G594)","v":""},{"$f":"IF(Students!G594=\"\",\"\",DATEDIF(Students!G594,Settings!$A$2,\"y\"))","v":""},{"$f":"IF(Students!C594=\"\",\"\",RIGHT(Home!$B$11,5))","v":""}]
[null,null,null,null,null,null,593,{"$f":"IF(Students!C595=\"\",\"\",Students!C595)","v":""},{"$f":"IF(Students!D595=\"\",\"\",Students!D595)","v":""},{"$f":"IF(Students!C595=\"\",\"\",H594&\" \"&I594&\" \"&O594)","v":""},{"$f":"IF(Students!E595=\"\",\"\",Students!E595)","v":""},{"$f":"IF(Students!F595=\"\",\"\",Students!F595)","v":""},{"$f":"IF(Students!G595=\"\",\"\",Students!G595)","v":""},{"$f":"IF(Students!G595=\"\",\"\",DATEDIF(Students!G595,Settings!$A$2,\"y\"))","v":""},{"$f":"IF(Students!C595=\"\",\"\",RIGHT(Home!$B$11,5))","v":""}]
[null,null,null,null,null,null,594,{"$f":"IF(Students!C596=\"\",\"\",Students!C596)","v":""},{"$f":"IF(Students!D596=\"\",\"\",Students!D596)","v":""},{"$f":"IF(Students!C596=\"\",\"\",H595&\" \"&I595&\" \"&O595)","v":""},{"$f":"IF(Students!E596=\"\",\"\",Students!E596)","v":""},{"$f":"IF(Students!F596=\"\",\"\",Students!F596)","v":""},{"$f":"IF(Students!G596=\"\",\"\",Students!G596)","v":""},{"$f":"IF(Students!G596=\"\",\"\",DATEDIF(Students!G596,Settings!$A$2,\"y\"))","v":""},{"$f":"IF(Students!C596=\"\",\"\",RIGHT(Home!$B$11,5))","v":""}]
[null,null,null,null,null,null,595,{"$f":"IF(Students!C597=\"\",\"\",Students!C597)","v":""},{"$f":"IF(Students!D597=\"\",\"\",Students!D597)","v":""},{"$f":"IF(Students!C597=\"\",\"\",H596&\" \"&I596&\" \"&O596)","v":""},{"$f":"IF(Students!E597=\"\",\"\",Students!E597)","v":""},{"$f":"IF(Students!F597=\"\",\"\",Students!F597)","v":""},{"$f":"IF(Students!G597=\"\",\"\",Students!G597)","v":""},{"$f":"IF(Students!G597=\"\",\"\",DATEDIF(Students!G597,Settings!$A$2,\"y\"))","v":""},{"$f":"IF(Students!C597=\"\",\"\",RIGHT(Home!$B$11,5))","v":""}]
[null,null,null,null,null,null,596,{"$f":"IF(Students!C598=\"\",\"\",Students!C598)","v":""},{"$f":"IF(Students!D598=\"\",\"\",Students!D598)","v":""},{"$f":"IF(Students!C598=\"\",\"\",H597&\" \"&I597&\" \"&O597)","v":""},{"$f":"IF(Students!E598=\"\",\"\",Students!E598)","v":""},{"$f":"IF(Students!F598=\"\",\"\",Students!F598)","v":""},{"$f":"IF(Students!G598=\"\",\"\",Students!G598)","v":""},{"$f":"IF(Students!G598=\"\",\"\",DATEDIF(Students!G598,Settings!$A$2,\"y\"))","v":""},{"$f":"IF(Students!C598=\"\",\"\",RIGHT(Home!$B$11,5))","v":""}]
[null,null,null,null,null,null,597,{"$f":"IF(Students!C599=\"\",\"\",Students!C599)","v":""},{"$f":"IF(Students!D599=\"\",\"\",Students!D599)","v":""},{"$f":"IF(Students!C599=\"\",\"\",H598&\" \"&I598&\" \"&O598)","v":""},{"$f":"IF(Students!E599=\"\",\"\",Students!E599)","v":""},{"$f":"IF(Students!F599=\"\",\"\",Students!F599)","v":""},{"$f":"IF(Students!G599=\"\",\"\",Students!G599)","v":""},{"$f":"IF(Students!G599=\"\",\"\",DATEDIF(Students!G599,Settings!$A$2,\"y\"))","v":""},{"$f":"IF(Students!C599=\"\",\"\",RIGHT(Home!$B$11,5))","v":""}]
[null,null,null,null,null,null,598,{"$f":"IF(Students!C600=\"\",\"\",Students!C600)","v":""},{"$f":"IF(Students!D600=\"\",\"\",Students!D600)","v":""},{"$f":"IF(Students!C600=\"\",\"\",H599&\" \"&I599&\" \"&O599)","v":""},{"$f":"IF(Students!E600=\"\",\"\",Students!E600)","v":""},{"$f":"IF(Students!F600=\"\",\"\",Students!F600)","v":""},{"$f":"IF(Students!G600=\"\",\"\",Students!G600)","v":""},{"$f":"IF(Students!G600=\"\",\"\",DATEDIF(Students!G600,Settings!$A$2,\"y\"))","v":""},{"$f":"IF(Students!C600=\"\",\"\",RIGHT(Home!$B$11,5))","v":""}]
[null,null,null,null,null,null,599,{"$f":"IF(Students!C601=\"\",\"\",Students!C601)","v":""},{"$f":"IF(Students!D601=\"\",\"\",Students!D601)","v":""},{"$f":"IF(Students!C601=\"\",\"\",H600&\" \"&I600&\" \"&O600)","v":""},{"$f":"IF(Students!E601=\"\",\"\",Students!E601)","v":""},{"$f":"IF(Students!F601=\"\",\"\",Students!F601)","v":""},{"$f":"IF(Students!G601=\"\",\"\",Students!G601)","v":""},{"$f":"IF(Students!G601=\"\",\"\",DATEDIF(Students!G601,Settings!$A$2,\"y\"))","v":""},{"$f":"IF(Students!C601=\"\",\"\",RIGHT(Home!$B$11,5))","v":""}]
[null,null,null,null,null,null,600,{"$f":"IF(Students!C602=\"\",\"\",Students!C602)","v":""},{"$f":"IF(Students!D602=\"\",\"\",Students!D602)","v":""},{"$f":"IF(Students!C602=\"\",\"\",H601&\" \"&I601&\" \"&O601)","v":""},{"$f":"IF(Students!E602=\"\",\"\",Students!E602)","v":""},{"$f":"IF(Students!F602=\"\",\"\",Students!F602)","v":""},{"$f":"IF(Students!G602=\"\",\"\",Students!G602)","v":""},{"$f":"IF(Students!G602=\"\",\"\",DATEDIF(Students!G602,Settings!$A$2,\"y\"))","v":""},{"$f":"IF(Students!C602=\"\",\"\",RIGHT(Home!$B$11,5))","v":""}]
[null,null,null,null,null,null,601,{"$f":"IF(Students!C603=\"\",\"\",Students!C603)","v":""},{"$f":"IF(Students!D603=\"\",\"\",Students!D603)","v":""},{"$f":"IF(Students!C603=\"\",\"\",H602&\" \"&I602&\" \"&O602)","v":""},{"$f":"IF(Students!E603=\"\",\"\",Students!E603)","v":""},{"$f":"IF(Students!F603=\"\",\"\",Students!F603)","v":""},{"$f":"IF(Students!G603=\"\",\"\",Students!G603)","v":""},{"$f":"IF(Students!G603=\"\",\"\",DATEDIF(Students!G603,Settings!$A$2,\"y\"))","v":""},{"$f":"IF(Students!C603=\"\",\"\",RIGHT(Home!$B$11,5))","v":""}]
[null,null,null,null,null,null,602,{"$f":"IF(Students!C604=\"\",\"\",Students!C604)","v":""},{"$f":"IF(Students!D604=\"\",\"\",Students!D604)","v":""},{"$f":"IF(Students!C604=\"\",\"\",H603&\" \"&I603&\" \"&O603)","v":""},{"$f":"IF(Students!E604=\"\",\"\",Students!E604)","v":""},{"$f":"IF(Students!F604=\"\",\"\",Students!F604)","v":""},{"$f":"IF(Students!G604=\"\",\"\",Students!G604)","v":""},{"$f":"IF(Students!G604=\"\",\"\",DATEDIF(Students!G604,Settings!$A$2,\"y\"))","v":""},{"$f":"IF(Students!C604=\"\",\"\",RIGHT(Home!$B$11,5))","v":""}]
[null,null,null,null,null,null,603,{"$f":"IF(Students!C605=\"\",\"\",Students!C605)","v":""},{"$f":"IF(Students!D605=\"\",\"\",Students!D605)","v":""},{"$f":"IF(Students!C605=\"\",\"\",H604&\" \"&I604&\" \"&O604)","v":""},{"$f":"IF(Students!E605=\"\",\"\",Students!E605)","v":""},{"$f":"IF(Students!F605=\"\",\"\",Students!F605)","v":""},{"$f":"IF(Students!G605=\"\",\"\",Students!G605)","v":""},{"$f":"IF(Students!G605=\"\",\"\",DATEDIF(Students!G605,Settings!$A$2,\"y\"))","v":""},{"$f":"IF(Students!C605=\"\",\"\",RIGHT(Home!$B$11,5))","v":""}]
[null,null,null,null,null,null,604,{"$f":"IF(Students!C606=\"\",\"\",Students!C606)","v":""},{"$f":"IF(Students!D606=\"\",\"\",Students!D606)","v":""},{"$f":"IF(Students!C606=\"\",\"\",H605&\" \"&I605&\" \"&O605)","v":""},{"$f":"IF(Students!E606=\"\",\"\",Students!E606)","v":""},{"$f":"IF(Students!F606=\"\",\"\",Students!F606)","v":""},{"$f":"IF(Students!G606=\"\",\"\",Students!G606)","v":""},{"$f":"IF(Students!G606=\"\",\"\",DATEDIF(Students!G606,Settings!$A$2,\"y\"))","v":""},{"$f":"IF(Students!C606=\"\",\"\",RIGHT(Home!$B$11,5))","v":""}]
[null,null,null,null,null,null,605,{"$f":"IF(Students!C607=\"\",\"\",Students!C607)","v":""},{"$f":"IF(Students!D607=\"\",\"\",Students!D607)","v":""},{"$f":"IF(Students!C607=\"\",\"\",H606&\" \"&I606&\" \"&O606)","v":""},{"$f":"IF(Students!E607=\"\",\"\",Students!E607)","v":""},{"$f":"IF(Students!F607=\"\",\"\",Students!F607)","v":""},{"$f":"IF(Students!G607=\"\",\"\",Students!G607)","v":""},{"$f":"IF(Students!G607=\"\",\"\",DATEDIF(Students!G607,Settings!$A$2,\"y\"))","v":""},{"$f":"IF(Students!C607=\"\",\"\",RIGHT(Home!$B$11,5))","v":""}]
[null,null,null,null,null,null,606,{"$f":"IF(Students!C608=\"\",\"\",Students!C608)","v":""},{"$f":"IF(Students!D608=\"\",\"\",Students!D608)","v":""},{"$f":"IF(Students!C608=\"\",\"\",H607&\" \"&I607&\" \"&O607)","v":""},{"$f":"IF(Students!E608=\"\",\"\",Students!E608)","v":""},{"$f":"IF(Students!F608=\"\",\"\",Students!F608)","v":""},{"$f":"IF(Students!G608=\"\",\"\",Students!G608)","v":""},{"$f":"IF(Students!G608=\"\",\"\",DATEDIF(Students!G608,Settings!$A$2,\"y\"))","v":""},{"$f":"IF(Students!C608=\"\",\"\",RIGHT(Home!$B$11,5))","v":""}]
[null,null,null,null,null,null,607,{"$f":"IF(Students!C609=\"\",\"\",Students!C609)","v":""},{"$f":"IF(Students!D609=\"\",\"\",Students!D609)","v":""},{"$f":"IF(Students!C609=\"\",\"\",H608&\" \"&I608&\" \"&O608)","v":""},{"$f":"IF(Students!E609=\"\",\"\",Students!E609)","v":""},{"$f":"IF(Students!F609=\"\",\"\",Students!F609)","v":""},{"$f":"IF(Students!G609=\"\",\"\",Students!G609)","v":""},{"$f":"IF(Students!G609=\"\",\"\",DATEDIF(Students!G609,Settings!$A$2,\"y\"))","v":""},{"$f":"IF(Students!C609=\"\",\"\",RIGHT(Home!$B$11,5))","v":""}]
[null,null,null,null,null,null,608,{"$f":"IF(Students!C610=\"\",\"\",Students!C610)","v":""},{"$f":"IF(Students!D610=\"\",\"\",Students!D610)","v":""},{"$f":"IF(Students!C610=\"\",\"\",H609&\" \"&I609&\" \"&O609)","v":""},{"$f":"IF(Students!E610=\"\",\"\",Students!E610)","v":""},{"$f":"IF(Students!F610=\"\",\"\",Students!F610)","v":""},{"$f":"IF(Students!G610=\"\",\"\",Students!G610)","v":""},{"$f":"IF(Students!G610=\"\",\"\",DATEDIF(Students!G610,Settings!$A$2,\"y\"))","v":""},{"$f":"IF(Students!C610=\"\",\"\",RIGHT(Home!$B$11,5))","v":""}]
[null,null,null,null,null,null,609,{"$f":"IF(Students!C611=\"\",\"\",Students!C611)","v":""},{"$f":"IF(Students!D611=\"\",\"\",Students!D611)","v":""},{"$f":"IF(Students!C611=\"\",\"\",H610&\" \"&I610&\" \"&O610)","v":""},{"$f":"IF(Students!E611=\"\",\"\",Students!E611)","v":""},{"$f":"IF(Students!F611=\"\",\"\",Students!F611)","v":""},{"$f":"IF(Students!G611=\"\",\"\",Students!G611)","v":""},{"$f":"IF(Students!G611=\"\",\"\",DATEDIF(Students!G611,Settings!$A$2,\"y\"))","v":""},{"$f":"IF(Students!C611=\"\",\"\",RIGHT(Home!$B$11,5))","v":""}]
[null,null,null,null,null,null,610,{"$f":"IF(Students!C612=\"\",\"\",Students!C612)","v":""},{"$f":"IF(Students!D612=\"\",\"\",Students!D612)","v":""},{"$f":"IF(Students!C612=\"\",\"\",H611&\" \"&I611&\" \"&O611)","v":""},{"$f":"IF(Students!E612=\"\",\"\",Students!E612)","v":""},{"$f":"IF(Students!F612=\"\",\"\",Students!F612)","v":""},{"$f":"IF(Students!G612=\"\",\"\",Students!G612)","v":""},{"$f":"IF(Students!G612=\"\",\"\",DATEDIF(Students!G612,Settings!$A$2,\"y\"))","v":""},{"$f":"IF(Students!C612=\"\",\"\",RIGHT(Home!$B$11,5))","v":""}]
[null,null,null,null,null,null,611,{"$f":"IF(Students!C613=\"\",\"\",Students!C613)","v":""},{"$f":"IF(Students!D613=\"\",\"\",Students!D613)","v":""},{"$f":"IF(Students!C613=\"\",\"\",H612&\" \"&I612&\" \"&O612)","v":""},{"$f":"IF(Students!E613=\"\",\"\",Students!E613)","v":""},{"$f":"IF(Students!F613=\"\",\"\",Students!F613)","v":""},{"$f":"IF(Students!G613=\"\",\"\",Students!G613)","v":""},{"$f":"IF(Students!G613=\"\",\"\",DATEDIF(Students!G613,Settings!$A$2,\"y\"))","v":""},{"$f":"IF(Students!C613=\"\",\"\",RIGHT(Home!$B$11,5))","v":""}]
[null,null,null,null,null,null,612,{"$f":"IF(Students!C614=\"\",\"\",Students!C614)","v":""},{"$f":"IF(Students!D614=\"\",\"\",Students!D614)","v":""},{"$f":"IF(Students!C614=\"\",\"\",H613&\" \"&I613&\" \"&O613)","v":""},{"$f":"IF(Students!E614=\"\",\"\",Students!E614)","v":""},{"$f":"IF(Students!F614=\"\",\"\",Students!F614)","v":""},{"$f":"IF(Students!G614=\"\",\"\",Students!G614)","v":""},{"$f":"IF(Students!G614=\"\",\"\",DATEDIF(Students!G614,Settings!$A$2,\"y\"))","v":""},{"$f":"IF(Students!C614=\"\",\"\",RIGHT(Home!$B$11,5))","v":""}]
[null,null,null,null,null,null,613,{"$f":"IF(Students!C615=\"\",\"\",Students!C615)","v":""},{"$f":"IF(Students!D615=\"\",\"\",Students!D615)","v":""},{"$f":"IF(Students!C615=\"\",\"\",H614&\" \"&I614&\" \"&O614)","v":""},{"$f":"IF(Students!E615=\"\",\"\",Students!E615)","v":""},{"$f":"IF(Students!F615=\"\",\"\",Students!F615)","v":""},{"$f":"IF(Students!G615=\"\",\"\",Students!G615)","v":""},{"$f":"IF(Students!G615=\"\",\"\",DATEDIF(Students!G615,Settings!$A$2,\"y\"))","v":""},{"$f":"IF(Students!C615=\"\",\"\",RIGHT(Home!$B$11,5))","v":""}]
[null,null,null,null,null,null,614,{"$f":"IF(Students!C616=\"\",\"\",Students!C616)","v":""},{"$f":"IF(Students!D616=\"\",\"\",Students!D616)","v":""},{"$f":"IF(Students!C616=\"\",\"\",H615&\" \"&I615&\" \"&O615)","v":""},{"$f":"IF(Students!E616=\"\",\"\",Students!E616)","v":""},{"$f":"IF(Students!F616=\"\",\"\",Students!F616)","v":""},{"$f":"IF(Students!G616=\"\",\"\",Students!G616)","v":""},{"$f":"IF(Students!G616=\"\",\"\",DATEDIF(Students!G616,Settings!$A$2,\"y\"))","v":""},{"$f":"IF(Students!C616=\"\",\"\",RIGHT(Home!$B$11,5))","v":""}]
[null,null,null,null,null,null,615,{"$f":"IF(Students!C617=\"\",\"\",Students!C617)","v":""},{"$f":"IF(Students!D617=\"\",\"\",Students!D617)","v":""},{"$f":"IF(Students!C617=\"\",\"\",H616&\" \"&I616&\" \"&O616)","v":""},{"$f":"IF(Students!E617=\"\",\"\",Students!E617)","v":""},{"$f":"IF(Students!F617=\"\",\"\",Students!F617)","v":""},{"$f":"IF(Students!G617=\"\",\"\",Students!G617)","v":""},{"$f":"IF(Students!G617=\"\",\"\",DATEDIF(Students!G617,Settings!$A$2,\"y\"))","v":""},{"$f":"IF(Students!C617=\"\",\"\",RIGHT(Home!$B$11,5))","v":""}]
[null,null,null,null,null,null,616,{"$f":"IF(Students!C618=\"\",\"\",Students!C618)","v":""},{"$f":"IF(Students!D618=\"\",\"\",Students!D618)","v":""},{"$f":"IF(Students!C618=\"\",\"\",H617&\" \"&I617&\" \"&O617)","v":""},{"$f":"IF(Students!E618=\"\",\"\",Students!E618)","v":""},{"$f":"IF(Students!F618=\"\",\"\",Students!F618)","v":""},{"$f":"IF(Students!G618=\"\",\"\",Students!G618)","v":""},{"$f":"IF(Students!G618=\"\",\"\",DATEDIF(Students!G618,Settings!$A$2,\"y\"))","v":""},{"$f":"IF(Students!C618=\"\",\"\",RIGHT(Home!$B$11,5))","v":""}]
[null,null,null,null,null,null,617,{"$f":"IF(Students!C619=\"\",\"\",Students!C619)","v":""},{"$f":"IF(Students!D619=\"\",\"\",Students!D619)","v":""},{"$f":"IF(Students!C619=\"\",\"\",H618&\" \"&I618&\" \"&O618)","v":""},{"$f":"IF(Students!E619=\"\",\"\",Students!E619)","v":""},{"$f":"IF(Students!F619=\"\",\"\",Students!F619)","v":""},{"$f":"IF(Students!G619=\"\",\"\",Students!G619)","v":""},{"$f":"IF(Students!G619=\"\",\"\",DATEDIF(Students!G619,Settings!$A$2,\"y\"))","v":""},{"$f":"IF(Students!C619=\"\",\"\",RIGHT(Home!$B$11,5))","v":""}]
[null,null,null,null,null,null,618,{"$f":"IF(Students!C620=\"\",\"\",Students!C620)","v":""},{"$f":"IF(Students!D620=\"\",\"\",Students!D620)","v":""},{"$f":"IF(Students!C620=\"\",\"\",H619&\" \"&I619&\" \"&O619)","v":""},{"$f":"IF(Students!E620=\"\",\"\",Students!E620)","v":""},{"$f":"IF(Students!F620=\"\",\"\",Students!F620)","v":""},{"$f":"IF(Students!G620=\"\",\"\",Students!G620)","v":""},{"$f":"IF(Students!G620=\"\",\"\",DATEDIF(Students!G620,Settings!$A$2,\"y\"))","v":""},{"$f":"IF(Students!C620=\"\",\"\",RIGHT(Home!$B$11,5))","v":""}]
[null,null,null,null,null,null,619,{"$f":"IF(Students!C621=\"\",\"\",Students!C621)","v":""},{"$f":"IF(Students!D621=\"\",\"\",Students!D621)","v":""},{"$f":"IF(Students!C621=\"\",\"\",H620&\" \"&I620&\" \"&O620)","v":""},{"$f":"IF(Students!E621=\"\",\"\",Students!E621)","v":""},{"$f":"IF(Students!F621=\"\",\"\",Students!F621)","v":""},{"$f":"IF(Students!G621=\"\",\"\",Students!G621)","v":""},{"$f":"IF(Students!G621=\"\",\"\",DATEDIF(Students!G621,Settings!$A$2,\"y\"))","v":""},{"$f":"IF(Students!C621=\"\",\"\",RIGHT(Home!$B$11,5))","v":""}]
[null,null,null,null,null,null,620,{"$f":"IF(Students!C622=\"\",\"\",Students!C622)","v":""},{"$f":"IF(Students!D622=\"\",\"\",Students!D622)","v":""},{"$f":"IF(Students!C622=\"\",\"\",H621&\" \"&I621&\" \"&O621)","v":""},{"$f":"IF(Students!E622=\"\",\"\",Students!E622)","v":""},{"$f":"IF(Students!F622=\"\",\"\",Students!F622)","v":""},{"$f":"IF(Students!G622=\"\",\"\",Students!G622)","v":""},{"$f":"IF(Students!G622=\"\",\"\",DATEDIF(Students!G622,Settings!$A$2,\"y\"))","v":""},{"$f":"IF(Students!C622=\"\",\"\",RIGHT(Home!$B$11,5))","v":""}]
[null,null,null,null,null,null,621,{"$f":"IF(Students!C623=\"\",\"\",Students!C623)","v":""},{"$f":"IF(Students!D623=\"\",\"\",Students!D623)","v":""},{"$f":"IF(Students!C623=\"\",\"\",H622&\" \"&I622&\" \"&O622)","v":""},{"$f":"IF(Students!E623=\"\",\"\",Students!E623)","v":""},{"$f":"IF(Students!F623=\"\",\"\",Students!F623)","v":""},{"$f":"IF(Students!G623=\"\",\"\",Students!G623)","v":""},{"$f":"IF(Students!G623=\"\",\"\",DATEDIF(Students!G623,Settings!$A$2,\"y\"))","v":""},{"$f":"IF(Students!C623=\"\",\"\",RIGHT(Home!$B$11,5))","v":""}]
[null,null,null,null,null,null,622,{"$f":"IF(Students!C624=\"\",\"\",Students!C624)","v":""},{"$f":"IF(Students!D624=\"\",\"\",Students!D624)","v":""},{"$f":"IF(Students!C624=\"\",\"\",H623&\" \"&I623&\" \"&O623)","v":""},{"$f":"IF(Students!E624=\"\",\"\",Students!E624)","v":""},{"$f":"IF(Students!F624=\"\",\"\",Students!F624)","v":""},{"$f":"IF(Students!G624=\"\",\"\",Students!G624)","v":""},{"$f":"IF(Students!G624=\"\",\"\",DATEDIF(Students!G624,Settings!$A$2,\"y\"))","v":""},{"$f":"IF(Students!C624=\"\",\"\",RIGHT(Home!$B$11,5))","v":""}]
[null,null,null,null,null,null,623,{"$f":"IF(Students!C625=\"\",\"\",Students!C625)","v":""},{"$f":"IF(Students!D625=\"\",\"\",Students!D625)","v":""},{"$f":"IF(Students!C625=\"\",\"\",H624&\" \"&I624&\" \"&O624)","v":""},{"$f":"IF(Students!E625=\"\",\"\",Students!E625)","v":""},{"$f":"IF(Students!F625=\"\",\"\",Students!F625)","v":""},{"$f":"IF(Students!G625=\"\",\"\",Students!G625)","v":""},{"$f":"IF(Students!G625=\"\",\"\",DATEDIF(Students!G625,Settings!$A$2,\"y\"))","v":""},{"$f":"IF(Students!C625=\"\",\"\",RIGHT(Home!$B$11,5))","v":""}]
[null,null,null,null,null,null,624,{"$f":"IF(Students!C626=\"\",\"\",Students!C626)","v":""},{"$f":"IF(Students!D626=\"\",\"\",Students!D626)","v":""},{"$f":"IF(Students!C626=\"\",\"\",H625&\" \"&I625&\" \"&O625)","v":""},{"$f":"IF(Students!E626=\"\",\"\",Students!E626)","v":""},{"$f":"IF(Students!F626=\"\",\"\",Students!F626)","v":""},{"$f":"IF(Students!G626=\"\",\"\",Students!G626)","v":""},{"$f":"IF(Students!G626=\"\",\"\",DATEDIF(Students!G626,Settings!$A$2,\"y\"))","v":""},{"$f":"IF(Students!C626=\"\",\"\",RIGHT(Home!$B$11,5))","v":""}]
[null,null,null,null,null,null,625,{"$f":"IF(Students!C627=\"\",\"\",Students!C627)","v":""},{"$f":"IF(Students!D627=\"\",\"\",Students!D627)","v":""},{"$f":"IF(Students!C627=\"\",\"\",H626&\" \"&I626&\" \"&O626)","v":""},{"$f":"IF(Students!E627=\"\",\"\",Students!E627)","v":""},{"$f":"IF(Students!F627=\"\",\"\",Students!F627)","v":""},{"$f":"IF(Students!G627=\"\",\"\",Students!G627)","v":""},{"$f":"IF(Students!G627=\"\",\"\",DATEDIF(Students!G627,Settings!$A$2,\"y\"))","v":""},{"$f":"IF(Students!C627=\"\",\"\",RIGHT(Home!$B$11,5))","v":""}]
[null,null,null,null,null,null,626,{"$f":"IF(Students!C628=\"\",\"\",Students!C628)","v":""},{"$f":"IF(Students!D628=\"\",\"\",Students!D628)","v":""},{"$f":"IF(Students!C628=\"\",\"\",H627&\" \"&I627&\" \"&O627)","v":""},{"$f":"IF(Students!E628=\"\",\"\",Students!E628)","v":""},{"$f":"IF(Students!F628=\"\",\"\",Students!F628)","v":""},{"$f":"IF(Students!G628=\"\",\"\",Students!G628)","v":""},{"$f":"IF(Students!G628=\"\",\"\",DATEDIF(Students!G628,Settings!$A$2,\"y\"))","v":""},{"$f":"IF(Students!C628=\"\",\"\",RIGHT(Home!$B$11,5))","v":""}]
[null,null,null,null,null,null,627,{"$f":"IF(Students!C629=\"\",\"\",Students!C629)","v":""},{"$f":"IF(Students!D629=\"\",\"\",Students!D629)","v":""},{"$f":"IF(Students!C629=\"\",\"\",H628&\" \"&I628&\" \"&O628)","v":""},{"$f":"IF(Students!E629=\"\",\"\",Students!E629)","v":""},{"$f":"IF(Students!F629=\"\",\"\",Students!F629)","v":""},{"$f":"IF(Students!G629=\"\",\"\",Students!G629)","v":""},{"$f":"IF(Students!G629=\"\",\"\",DATEDIF(Students!G629,Settings!$A$2,\"y\"))","v":""},{"$f":"IF(Students!C629=\"\",\"\",RIGHT(Home!$B$11,5))","v":""}]
[null,null,null,null,null,null,628,{"$f":"IF(Students!C630=\"\",\"\",Students!C630)","v":""},{"$f":"IF(Students!D630=\"\",\"\",Students!D630)","v":""},{"$f":"IF(Students!C630=\"\",\"\",H629&\" \"&I629&\" \"&O629)","v":""},{"$f":"IF(Students!E630=\"\",\"\",Students!E630)","v":""},{"$f":"IF(Students!F630=\"\",\"\",Students!F630)","v":""},{"$f":"IF(Students!G630=\"\",\"\",Students!G630)","v":""},{"$f":"IF(Students!G630=\"\",\"\",DATEDIF(Students!G630,Settings!$A$2,\"y\"))","v":""},{"$f":"IF(Students!C630=\"\",\"\",RIGHT(Home!$B$11,5))","v":""}]
[null,null,null,null,null,null,629,{"$f":"IF(Students!C631=\"\",\"\",Students!C631)","v":""},{"$f":"IF(Students!D631=\"\",\"\",Students!D631)","v":""},{"$f":"IF(Students!C631=\"\",\"\",H630&\" \"&I630&\" \"&O630)","v":""},{"$f":"IF(Students!E631=\"\",\"\",Students!E631)","v":""},{"$f":"IF(Students!F631=\"\",\"\",Students!F631)","v":""},{"$f":"IF(Students!G631=\"\",\"\",Students!G631)","v":""},{"$f":"IF(Students!G631=\"\",\"\",DATEDIF(Students!G631,Settings!$A$2,\"y\"))","v":""},{"$f":"IF(Students!C631=\"\",\"\",RIGHT(Home!$B$11,5))","v":""}]
[null,null,null,null,null,null,630,{"$f":"IF(Students!C632=\"\",\"\",Students!C632)","v":""},{"$f":"IF(Students!D632=\"\",\"\",Students!D632)","v":""},{"$f":"IF(Students!C632=\"\",\"\",H631&\" \"&I631&\" \"&O631)","v":""},{"$f":"IF(Students!E632=\"\",\"\",Students!E632)","v":""},{"$f":"IF(Students!F632=\"\",\"\",Students!F632)","v":""},{"$f":"IF(Students!G632=\"\",\"\",Students!G632)","v":""},{"$f":"IF(Students!G632=\"\",\"\",DATEDIF(Students!G632,Settings!$A$2,\"y\"))","v":""},{"$f":"IF(Students!C632=\"\",\"\",RIGHT(Home!$B$11,5))","v":""}]
[null,null,null,null,null,null,631,{"$f":"IF(Students!C633=\"\",\"\",Students!C633)","v":""},{"$f":"IF(Students!D633=\"\",\"\",Students!D633)","v":""},{"$f":"IF(Students!C633=\"\",\"\",H632&\" \"&I632&\" \"&O632)","v":""},{"$f":"IF(Students!E633=\"\",\"\",Students!E633)","v":""},{"$f":"IF(Students!F633=\"\",\"\",Students!F633)","v":""},{"$f":"IF(Students!G633=\"\",\"\",Students!G633)","v":""},{"$f":"IF(Students!G633=\"\",\"\",DATEDIF(Students!G633,Settings!$A$2,\"y\"))","v":""},{"$f":"IF(Students!C633=\"\",\"\",RIGHT(Home!$B$11,5))","v":""}]
[null,null,null,null,null,null,632,{"$f":"IF(Students!C634=\"\",\"\",Students!C634)","v":""},{"$f":"IF(Students!D634=\"\",\"\",Students!D634)","v":""},{"$f":"IF(Students!C634=\"\",\"\",H633&\" \"&I633&\" \"&O633)","v":""},{"$f":"IF(Students!E634=\"\",\"\",Students!E634)","v":""},{"$f":"IF(Students!F634=\"\",\"\",Students!F634)","v":""},{"$f":"IF(Students!G634=\"\",\"\",Students!G634)","v":""},{"$f":"IF(Students!G634=\"\",\"\",DATEDIF(Students!G634,Settings!$A$2,\"y\"))","v":""},{"$f":"IF(Students!C634=\"\",\"\",RIGHT(Home!$B$11,5))","v":""}]
[null,null,null,null,null,null,633,{"$f":"IF(Students!C635=\"\",\"\",Students!C635)","v":""},{"$f":"IF(Students!D635=\"\",\"\",Students!D635)","v":""},{"$f":"IF(Students!C635=\"\",\"\",H634&\" \"&I634&\" \"&O634)","v":""},{"$f":"IF(Students!E635=\"\",\"\",Students!E635)","v":""},{"$f":"IF(Students!F635=\"\",\"\",Students!F635)","v":""},{"$f":"IF(Students!G635=\"\",\"\",Students!G635)","v":""},{"$f":"IF(Students!G635=\"\",\"\",DATEDIF(Students!G635,Settings!$A$2,\"y\"))","v":""},{"$f":"IF(Students!C635=\"\",\"\",RIGHT(Home!$B$11,5))","v":""}]
[null,null,null,null,null,null,634,{"$f":"IF(Students!C636=\"\",\"\",Students!C636)","v":""},{"$f":"IF(Students!D636=\"\",\"\",Students!D636)","v":""},{"$f":"IF(Students!C636=\"\",\"\",H635&\" \"&I635&\" \"&O635)","v":""},{"$f":"IF(Students!E636=\"\",\"\",Students!E636)","v":""},{"$f":"IF(Students!F636=\"\",\"\",Students!F636)","v":""},{"$f":"IF(Students!G636=\"\",\"\",Students!G636)","v":""},{"$f":"IF(Students!G636=\"\",\"\",DATEDIF(Students!G636,Settings!$A$2,\"y\"))","v":""},{"$f":"IF(Students!C636=\"\",\"\",RIGHT(Home!$B$11,5))","v":""}]
[null,null,null,null,null,null,635,{"$f":"IF(Students!C637=\"\",\"\",Students!C637)","v":""},{"$f":"IF(Students!D637=\"\",\"\",Students!D637)","v":""},{"$f":"IF(Students!C637=\"\",\"\",H636&\" \"&I636&\" \"&O636)","v":""},{"$f":"IF(Students!E637=\"\",\"\",Students!E637)","v":""},{"$f":"IF(Students!F637=\"\",\"\",Students!F637)","v":""},{"$f":"IF(Students!G637=\"\",\"\",Students!G637)","v":""},{"$f":"IF(Students!G637=\"\",\"\",DATEDIF(Students!G637,Settings!$A$2,\"y\"))","v":""},{"$f":"IF(Students!C637=\"\",\"\",RIGHT(Home!$B$11,5))","v":""}]
[null,null,null,null,null,null,636,{"$f":"IF(Students!C638=\"\",\"\",Students!C638)","v":""},{"$f":"IF(Students!D638=\"\",\"\",Students!D638)","v":""},{"$f":"IF(Students!C638=\"\",\"\",H637&\" \"&I637&\" \"&O637)","v":""},{"$f":"IF(Students!E638=\"\",\"\",Students!E638)","v":""},{"$f":"IF(Students!F638=\"\",\"\",Students!F638)","v":""},{"$f":"IF(Students!G638=\"\",\"\",Students!G638)","v":""},{"$f":"IF(Students!G638=\"\",\"\",DATEDIF(Students!G638,Settings!$A$2,\"y\"))","v":""},{"$f":"IF(Students!C638=\"\",\"\",RIGHT(Home!$B$11,5))","v":""}]
[null,null,null,null,null,null,637,{"$f":"IF(Students!C639=\"\",\"\",Students!C639)","v":""},{"$f":"IF(Students!D639=\"\",\"\",Students!D639)","v":""},{"$f":"IF(Students!C639=\"\",\"\",H638&\" \"&I638&\" \"&O638)","v":""},{"$f":"IF(Students!E639=\"\",\"\",Students!E639)","v":""},{"$f":"IF(Students!F639=\"\",\"\",Students!F639)","v":""},{"$f":"IF(Students!G639=\"\",\"\",Students!G639)","v":""},{"$f":"IF(Students!G639=\"\",\"\",DATEDIF(Students!G639,Settings!$A$2,\"y\"))","v":""},{"$f":"IF(Students!C639=\"\",\"\",RIGHT(Home!$B$11,5))","v":""}]
[null,null,null,null,null,null,638,{"$f":"IF(Students!C640=\"\",\"\",Students!C640)","v":""},{"$f":"IF(Students!D640=\"\",\"\",Students!D640)","v":""},{"$f":"IF(Students!C640=\"\",\"\",H639&\" \"&I639&\" \"&O639)","v":""},{"$f":"IF(Students!E640=\"\",\"\",Students!E640)","v":""},{"$f":"IF(Students!F640=\"\",\"\",Students!F640)","v":""},{"$f":"IF(Students!G640=\"\",\"\",Students!G640)","v":""},{"$f":"IF(Students!G640=\"\",\"\",DATEDIF(Students!G640,Settings!$A$2,\"y\"))","v":""},{"$f":"IF(Students!C640=\"\",\"\",RIGHT(Home!$B$11,5))","v":""}]
[null,null,null,null,null,null,639,{"$f":"IF(Students!C641=\"\",\"\",Students!C641)","v":""},{"$f":"IF(Students!D641=\"\",\"\",Students!D641)","v":""},{"$f":"IF(Students!C641=\"\",\"\",H640&\" \"&I640&\" \"&O640)","v":""},{"$f":"IF(Students!E641=\"\",\"\",Students!E641)","v":""},{"$f":"IF(Students!F641=\"\",\"\",Students!F641)","v":""},{"$f":"IF(Students!G641=\"\",\"\",Students!G641)","v":""},{"$f":"IF(Students!G641=\"\",\"\",DATEDIF(Students!G641,Settings!$A$2,\"y\"))","v":""},{"$f":"IF(Students!C641=\"\",\"\",RIGHT(Home!$B$11,5))","v":""}]
[null,null,null,null,null,null,640,{"$f":"IF(Students!C642=\"\",\"\",Students!C642)","v":""},{"$f":"IF(Students!D642=\"\",\"\",Students!D642)","v":""},{"$f":"IF(Students!C642=\"\",\"\",H641&\" \"&I641&\" \"&O641)","v":""},{"$f":"IF(Students!E642=\"\",\"\",Students!E642)","v":""},{"$f":"IF(Students!F642=\"\",\"\",Students!F642)","v":""},{"$f":"IF(Students!G642=\"\",\"\",Students!G642)","v":""},{"$f":"IF(Students!G642=\"\",\"\",DATEDIF(Students!G642,Settings!$A$2,\"y\"))","v":""},{"$f":"IF(Students!C642=\"\",\"\",RIGHT(Home!$B$11,5))","v":""}]
[null,null,null,null,null,null,641,{"$f":"IF(Students!C643=\"\",\"\",Students!C643)","v":""},{"$f":"IF(Students!D643=\"\",\"\",Students!D643)","v":""},{"$f":"IF(Students!C643=\"\",\"\",H642&\" \"&I642&\" \"&O642)","v":""},{"$f":"IF(Students!E643=\"\",\"\",Students!E643)","v":""},{"$f":"IF(Students!F643=\"\",\"\",Students!F643)","v":""},{"$f":"IF(Students!G643=\"\",\"\",Students!G643)","v":""},{"$f":"IF(Students!G643=\"\",\"\",DATEDIF(Students!G643,Settings!$A$2,\"y\"))","v":""},{"$f":"IF(Students!C643=\"\",\"\",RIGHT(Home!$B$11,5))","v":""}]
[null,null,null,null,null,null,{"$f":"ROW()-1","v":642},{"$f":"IF(Students!C644=\"\",\"\",Students!C644)","v":""},{"$f":"IF(Students!D644=\"\",\"\",Students!D644)","v":""},{"$f":"IF(Students!C644=\"\",\"\",H643&\" \"&I643&\" \"&O643)","v":""},{"$f":"IF(Students!E644=\"\",\"\",Students!E644)","v":""},{"$f":"IF(Students!F644=\"\",\"\",Students!F644)","v":""},{"$f":"IF(Students!G644=\"\",\"\",Students!G644)","v":""},{"$f":"IF(Students!G644=\"\",\"\",DATEDIF(Students!G644,Settings!$A$2,\"y\"))","v":""},{"$f":"IF(Students!C644=\"\",\"\",RIGHT(Home!$B$11,5))","v":""}]
[null,null,null,null,null,null,643,{"$f":"IF(Students!C645=\"\",\"\",Students!C645)","v":""},{"$f":"IF(Students!D645=\"\",\"\",Students!D645)","v":""},{"$f":"IF(Students!C645=\"\",\"\",H644&\" \"&I644&\" \"&O644)","v":""},{"$f":"IF(Students!E645=\"\",\"\",Students!E645)","v":""},{"$f":"IF(Students!F645=\"\",\"\",Students!F645)","v":""},{"$f":"IF(Students!G645=\"\",\"\",Students!G645)","v":""},{"$f":"IF(Students!G645=\"\",\"\",DATEDIF(Students!G645,Settings!$A$2,\"y\"))","v":""},{"$f":"IF(Students!C645=\"\",\"\",RIGHT(Home!$B$11,5))","v":""}]
[null,null,null,null,null,null,644,{"$f":"IF(Students!C646=\"\",\"\",Students!C646)","v":""},{"$f":"IF(Students!D646=\"\",\"\",Students!D646)","v":""},{"$f":"IF(Students!C646=\"\",\"\",H645&\" \"&I645&\" \"&O645)","v":""},{"$f":"IF(Students!E646=\"\",\"\",Students!E646)","v":""},{"$f":"IF(Students!F646=\"\",\"\",Students!F646)","v":""},{"$f":"IF(Students!G646=\"\",\"\",Students!G646)","v":""},{"$f":"IF(Students!G646=\"\",\"\",DATEDIF(Students!G646,Settings!$A$2,\"y\"))","v":""},{"$f":"IF(Students!C646=\"\",\"\",RIGHT(Home!$B$11,5))","v":""}]
[null,null,null,null,null,null,645,{"$f":"IF(Students!C647=\"\",\"\",Students!C647)","v":""},{"$f":"IF(Students!D647=\"\",\"\",Students!D647)","v":""},{"$f":"IF(Students!C647=\"\",\"\",H646&\" \"&I646&\" \"&O646)","v":""},{"$f":"IF(Students!E647=\"\",\"\",Students!E647)","v":""},{"$f":"IF(Students!F647=\"\",\"\",Students!F647)","v":""},{"$f":"IF(Students!G647=\"\",\"\",Students!G647)","v":""},{"$f":"IF(Students!G647=\"\",\"\",DATEDIF(Students!G647,Settings!$A$2,\"y\"))","v":""},{"$f":"IF(Students!C647=\"\",\"\",RIGHT(Home!$B$11,5))","v":""}]
[null,null,null,null,null,null,646,{"$f":"IF(Students!C648=\"\",\"\",Students!C648)","v":""},{"$f":"IF(Students!D648=\"\",\"\",Students!D648)","v":""},{"$f":"IF(Students!C648=\"\",\"\",H647&\" \"&I647&\" \"&O647)","v":""},{"$f":"IF(Students!E648=\"\",\"\",Students!E648)","v":""},{"$f":"IF(Students!F648=\"\",\"\",Students!F648)","v":""},{"$f":"IF(Students!G648=\"\",\"\",Students!G648)","v":""},{"$f":"IF(Students!G648=\"\",\"\",DATEDIF(Students!G648,Settings!$A$2,\"y\"))","v":""},{"$f":"IF(Students!C648=\"\",\"\",RIGHT(Home!$B$11,5))","v":""}]
[null,null,null,null,null,null,647,{"$f":"IF(Students!C649=\"\",\"\",Students!C649)","v":""},{"$f":"IF(Students!D649=\"\",\"\",Students!D649)","v":""},{"$f":"IF(Students!C649=\"\",\"\",H648&\" \"&I648&\" \"&O648)","v":""},{"$f":"IF(Students!E649=\"\",\"\",Students!E649)","v":""},{"$f":"IF(Students!F649=\"\",\"\",Students!F649)","v":""},{"$f":"IF(Students!G649=\"\",\"\",Students!G649)","v":""},{"$f":"IF(Students!G649=\"\",\"\",DATEDIF(Students!G649,Settings!$A$2,\"y\"))","v":""},{"$f":"IF(Students!C649=\"\",\"\",RIGHT(Home!$B$11,5))","v":""}]
[null,null,null,null,null,null,648,{"$f":"IF(Students!C650=\"\",\"\",Students!C650)","v":""},{"$f":"IF(Students!D650=\"\",\"\",Students!D650)","v":""},{"$f":"IF(Students!C650=\"\",\"\",H649&\" \"&I649&\" \"&O649)","v":""},{"$f":"IF(Students!E650=\"\",\"\",Students!E650)","v":""},{"$f":"IF(Students!F650=\"\",\"\",Students!F650)","v":""},{"$f":"IF(Students!G650=\"\",\"\",Students!G650)","v":""},{"$f":"IF(Students!G650=\"\",\"\",DATEDIF(Students!G650,Settings!$A$2,\"y\"))","v":""},{"$f":"IF(Students!C650=\"\",\"\",RIGHT(Home!$B$11,5))","v":""}]
[null,null,null,null,null,null,649,{"$f":"IF(Students!C651=\"\",\"\",Students!C651)","v":""},{"$f":"IF(Students!D651=\"\",\"\",Students!D651)","v":""},{"$f":"IF(Students!C651=\"\",\"\",H650&\" \"&I650&\" \"&O650)","v":""},{"$f":"IF(Students!E651=\"\",\"\",Students!E651)","v":""},{"$f":"IF(Students!F651=\"\",\"\",Students!F651)","v":""},{"$f":"IF(Students!G651=\"\",\"\",Students!G651)","v":""},{"$f":"IF(Students!G651=\"\",\"\",DATEDIF(Students!G651,Settings!$A$2,\"y\"))","v":""},{"$f":"IF(Students!C651=\"\",\"\",RIGHT(Home!$B$11,5))","v":""}]
[null,null,null,null,null,null,650,{"$f":"IF(Students!C652=\"\",\"\",Students!C652)","v":""},{"$f":"IF(Students!D652=\"\",\"\",Students!D652)","v":""},{"$f":"IF(Students!C652=\"\",\"\",H651&\" \"&I651&\" \"&O651)","v":""},{"$f":"IF(Students!E652=\"\",\"\",Students!E652)","v":""},{"$f":"IF(Students!F652=\"\",\"\",Students!F652)","v":""},{"$f":"IF(Students!G652=\"\",\"\",Students!G652)","v":""},{"$f":"IF(Students!G652=\"\",\"\",DATEDIF(Students!G652,Settings!$A$2,\"y\"))","v":""},{"$f":"IF(Students!C652=\"\",\"\",RIGHT(Home!$B$11,5))","v":""}]
[null,null,null,null,null,null,651,{"$f":"IF(Students!C653=\"\",\"\",Students!C653)","v":""},{"$f":"IF(Students!D653=\"\",\"\",Students!D653)","v":""},{"$f":"IF(Students!C653=\"\",\"\",H652&\" \"&I652&\" \"&O652)","v":""},{"$f":"IF(Students!E653=\"\",\"\",Students!E653)","v":""},{"$f":"IF(Students!F653=\"\",\"\",Students!F653)","v":""},{"$f":"IF(Students!G653=\"\",\"\",Students!G653)","v":""},{"$f":"IF(Students!G653=\"\",\"\",DATEDIF(Students!G653,Settings!$A$2,\"y\"))","v":""},{"$f":"IF(Students!C653=\"\",\"\",RIGHT(Home!$B$11,5))","v":""}]
[null,null,null,null,null,null,652,{"$f":"IF(Students!C654=\"\",\"\",Students!C654)","v":""},{"$f":"IF(Students!D654=\"\",\"\",Students!D654)","v":""},{"$f":"IF(Students!C654=\"\",\"\",H653&\" \"&I653&\" \"&O653)","v":""},{"$f":"IF(Students!E654=\"\",\"\",Students!E654)","v":""},{"$f":"IF(Students!F654=\"\",\"\",Students!F654)","v":""},{"$f":"IF(Students!G654=\"\",\"\",Students!G654)","v":""},{"$f":"IF(Students!G654=\"\",\"\",DATEDIF(Students!G654,Settings!$A$2,\"y\"))","v":""},{"$f":"IF(Students!C654=\"\",\"\",RIGHT(Home!$B$11,5))","v":""}]
[null,null,null,null,null,null,653,{"$f":"IF(Students!C655=\"\",\"\",Students!C655)","v":""},{"$f":"IF(Students!D655=\"\",\"\",Students!D655)","v":""},{"$f":"IF(Students!C655=\"\",\"\",H654&\" \"&I654&\" \"&O654)","v":""},{"$f":"IF(Students!E655=\"\",\"\",Students!E655)","v":""},{"$f":"IF(Students!F655=\"\",\"\",Students!F655)","v":""},{"$f":"IF(Students!G655=\"\",\"\",Students!G655)","v":""},{"$f":"IF(Students!G655=\"\",\"\",DATEDIF(Students!G655,Settings!$A$2,\"y\"))","v":""},{"$f":"IF(Students!C655=\"\",\"\",RIGHT(Home!$B$11,5))","v":""}]
[null,null,null,null,null,null,654,{"$f":"IF(Students!C656=\"\",\"\",Students!C656)","v":""},{"$f":"IF(Students!D656=\"\",\"\",Students!D656)","v":""},{"$f":"IF(Students!C656=\"\",\"\",H655&\" \"&I655&\" \"&O655)","v":""},{"$f":"IF(Students!E656=\"\",\"\",Students!E656)","v":""},{"$f":"IF(Students!F656=\"\",\"\",Students!F656)","v":""},{"$f":"IF(Students!G656=\"\",\"\",Students!G656)","v":""},{"$f":"IF(Students!G656=\"\",\"\",DATEDIF(Students!G656,Settings!$A$2,\"y\"))","v":""},{"$f":"IF(Students!C656=\"\",\"\",RIGHT(Home!$B$11,5))","v":""}]
[null,null,null,null,null,null,655,{"$f":"IF(Students!C657=\"\",\"\",Students!C657)","v":""},{"$f":"IF(Students!D657=\"\",\"\",Students!D657)","v":""},{"$f":"IF(Students!C657=\"\",\"\",H656&\" \"&I656&\" \"&O656)","v":""},{"$f":"IF(Students!E657=\"\",\"\",Students!E657)","v":""},{"$f":"IF(Students!F657=\"\",\"\",Students!F657)","v":""},{"$f":"IF(Students!G657=\"\",\"\",Students!G657)","v":""},{"$f":"IF(Students!G657=\"\",\"\",DATEDIF(Students!G657,Settings!$A$2,\"y\"))","v":""},{"$f":"IF(Students!C657=\"\",\"\",RIGHT(Home!$B$11,5))","v":""}]
[null,null,null,null,null,null,656,{"$f":"IF(Students!C658=\"\",\"\",Students!C658)","v":""},{"$f":"IF(Students!D658=\"\",\"\",Students!D658)","v":""},{"$f":"IF(Students!C658=\"\",\"\",H657&\" \"&I657&\" \"&O657)","v":""},{"$f":"IF(Students!E658=\"\",\"\",Students!E658)","v":""},{"$f":"IF(Students!F658=\"\",\"\",Students!F658)","v":""},{"$f":"IF(Students!G658=\"\",\"\",Students!G658)","v":""},{"$f":"IF(Students!G658=\"\",\"\",DATEDIF(Students!G658,Settings!$A$2,\"y\"))","v":""},{"$f":"IF(Students!C658=\"\",\"\",RIGHT(Home!$B$11,5))","v":""}]
[null,null,null,null,null,null,657,{"$f":"IF(Students!C659=\"\",\"\",Students!C659)","v":""},{"$f":"IF(Students!D659=\"\",\"\",Students!D659)","v":""},{"$f":"IF(Students!C659=\"\",\"\",H658&\" \"&I658&\" \"&O658)","v":""},{"$f":"IF(Students!E659=\"\",\"\",Students!E659)","v":""},{"$f":"IF(Students!F659=\"\",\"\",Students!F659)","v":""},{"$f":"IF(Students!G659=\"\",\"\",Students!G659)","v":""},{"$f":"IF(Students!G659=\"\",\"\",DATEDIF(Students!G659,Settings!$A$2,\"y\"))","v":""},{"$f":"IF(Students!C659=\"\",\"\",RIGHT(Home!$B$11,5))","v":""}]
[null,null,null,null,null,null,658,{"$f":"IF(Students!C660=\"\",\"\",Students!C660)","v":""},{"$f":"IF(Students!D660=\"\",\"\",Students!D660)","v":""},{"$f":"IF(Students!C660=\"\",\"\",H659&\" \"&I659&\" \"&O659)","v":""},{"$f":"IF(Students!E660=\"\",\"\",Students!E660)","v":""},{"$f":"IF(Students!F660=\"\",\"\",Students!F660)","v":""},{"$f":"IF(Students!G660=\"\",\"\",Students!G660)","v":""},{"$f":"IF(Students!G660=\"\",\"\",DATEDIF(Students!G660,Settings!$A$2,\"y\"))","v":""},{"$f":"IF(Students!C660=\"\",\"\",RIGHT(Home!$B$11,5))","v":""}]
[null,null,null,null,null,null,659,{"$f":"IF(Students!C661=\"\",\"\",Students!C661)","v":""},{"$f":"IF(Students!D661=\"\",\"\",Students!D661)","v":""},{"$f":"IF(Students!C661=\"\",\"\",H660&\" \"&I660&\" \"&O660)","v":""},{"$f":"IF(Students!E661=\"\",\"\",Students!E661)","v":""},{"$f":"IF(Students!F661=\"\",\"\",Students!F661)","v":""},{"$f":"IF(Students!G661=\"\",\"\",Students!G661)","v":""},{"$f":"IF(Students!G661=\"\",\"\",DATEDIF(Students!G661,Settings!$A$2,\"y\"))","v":""},{"$f":"IF(Students!C661=\"\",\"\",RIGHT(Home!$B$11,5))","v":""}]
[null,null,null,null,null,null,660,{"$f":"IF(Students!C662=\"\",\"\",Students!C662)","v":""},{"$f":"IF(Students!D662=\"\",\"\",Students!D662)","v":""},{"$f":"IF(Students!C662=\"\",\"\",H661&\" \"&I661&\" \"&O661)","v":""},{"$f":"IF(Students!E662=\"\",\"\",Students!E662)","v":""},{"$f":"IF(Students!F662=\"\",\"\",Students!F662)","v":""},{"$f":"IF(Students!G662=\"\",\"\",Students!G662)","v":""},{"$f":"IF(Students!G662=\"\",\"\",DATEDIF(Students!G662,Settings!$A$2,\"y\"))","v":""},{"$f":"IF(Students!C662=\"\",\"\",RIGHT(Home!$B$11,5))","v":""}]
[null,null,null,null,null,null,661,{"$f":"IF(Students!C663=\"\",\"\",Students!C663)","v":""},{"$f":"IF(Students!D663=\"\",\"\",Students!D663)","v":""},{"$f":"IF(Students!C663=\"\",\"\",H662&\" \"&I662&\" \"&O662)","v":""},{"$f":"IF(Students!E663=\"\",\"\",Students!E663)","v":""},{"$f":"IF(Students!F663=\"\",\"\",Students!F663)","v":""},{"$f":"IF(Students!G663=\"\",\"\",Students!G663)","v":""},{"$f":"IF(Students!G663=\"\",\"\",DATEDIF(Students!G663,Settings!$A$2,\"y\"))","v":""},{"$f":"IF(Students!C663=\"\",\"\",RIGHT(Home!$B$11,5))","v":""}]
[null,null,null,null,null,null,662,{"$f":"IF(Students!C664=\"\",\"\",Students!C664)","v":""},{"$f":"IF(Students!D664=\"\",\"\",Students!D664)","v":""},{"$f":"IF(Students!C664=\"\",\"\",H663&\" \"&I663&\" \"&O663)","v":""},{"$f":"IF(Students!E664=\"\",\"\",Students!E664)","v":""},{"$f":"IF(Students!F664=\"\",\"\",Students!F664)","v":""},{"$f":"IF(Students!G664=\"\",\"\",Students!G664)","v":""},{"$f":"IF(Students!G664=\"\",\"\",DATEDIF(Students!G664,Settings!$A$2,\"y\"))","v":""},{"$f":"IF(Students!C664=\"\",\"\",RIGHT(Home!$B$11,5))","v":""}]
[null,null,null,null,null,null,663,{"$f":"IF(Students!C665=\"\",\"\",Students!C665)","v":""},{"$f":"IF(Students!D665=\"\",\"\",Students!D665)","v":""},{"$f":"IF(Students!C665=\"\",\"\",H664&\" \"&I664&\" \"&O664)","v":""},{"$f":"IF(Students!E665=\"\",\"\",Students!E665)","v":""},{"$f":"IF(Students!F665=\"\",\"\",Students!F665)","v":""},{"$f":"IF(Students!G665=\"\",\"\",Students!G665)","v":""},{"$f":"IF(Students!G665=\"\",\"\",DATEDIF(Students!G665,Settings!$A$2,\"y\"))","v":""},{"$f":"IF(Students!C665=\"\",\"\",RIGHT(Home!$B$11,5))","v":""}]
[null,null,null,null,null,null,664,{"$f":"IF(Students!C666=\"\",\"\",Students!C666)","v":""},{"$f":"IF(Students!D666=\"\",\"\",Students!D666)","v":""},{"$f":"IF(Students!C666=\"\",\"\",H665&\" \"&I665&\" \"&O665)","v":""},{"$f":"IF(Students!E666=\"\",\"\",Students!E666)","v":""},{"$f":"IF(Students!F666=\"\",\"\",Students!F666)","v":""},{"$f":"IF(Students!G666=\"\",\"\",Students!G666)","v":""},{"$f":"IF(Students!G666=\"\",\"\",DATEDIF(Students!G666,Settings!$A$2,\"y\"))","v":""},{"$f":"IF(Students!C666=\"\",\"\",RIGHT(Home!$B$11,5))","v":""}]
[null,null,null,null,null,null,665,{"$f":"IF(Students!C667=\"\",\"\",Students!C667)","v":""},{"$f":"IF(Students!D667=\"\",\"\",Students!D667)","v":""},{"$f":"IF(Students!C667=\"\",\"\",H666&\" \"&I666&\" \"&O666)","v":""},{"$f":"IF(Students!E667=\"\",\"\",Students!E667)","v":""},{"$f":"IF(Students!F667=\"\",\"\",Students!F667)","v":""},{"$f":"IF(Students!G667=\"\",\"\",Students!G667)","v":""},{"$f":"IF(Students!G667=\"\",\"\",DATEDIF(Students!G667,Settings!$A$2,\"y\"))","v":""},{"$f":"IF(Students!C667=\"\",\"\",RIGHT(Home!$B$11,5))","v":""}]
[null,null,null,null,null,null,666,{"$f":"IF(Students!C668=\"\",\"\",Students!C668)","v":""},{"$f":"IF(Students!D668=\"\",\"\",Students!D668)","v":""},{"$f":"IF(Students!C668=\"\",\"\",H667&\" \"&I667&\" \"&O667)","v":""},{"$f":"IF(Students!E668=\"\",\"\",Students!E668)","v":""},{"$f":"IF(Students!F668=\"\",\"\",Students!F668)","v":""},{"$f":"IF(Students!G668=\"\",\"\",Students!G668)","v":""},{"$f":"IF(Students!G668=\"\",\"\",DATEDIF(Students!G668,Settings!$A$2,\"y\"))","v":""},{"$f":"IF(Students!C668=\"\",\"\",RIGHT(Home!$B$11,5))","v":""}]
[null,null,null,null,null,null,667,{"$f":"IF(Students!C669=\"\",\"\",Students!C669)","v":""},{"$f":"IF(Students!D669=\"\",\"\",Students!D669)","v":""},{"$f":"IF(Students!C669=\"\",\"\",H668&\" \"&I668&\" \"&O668)","v":""},{"$f":"IF(Students!E669=\"\",\"\",Students!E669)","v":""},{"$f":"IF(Students!F669=\"\",\"\",Students!F669)","v":""},{"$f":"IF(Students!G669=\"\",\"\",Students!G669)","v":""},{"$f":"IF(Students!G669=\"\",\"\",DATEDIF(Students!G669,Settings!$A$2,\"y\"))","v":""},{"$f":"IF(Students!C669=\"\",\"\",RIGHT(Home!$B$11,5))","v":""}]
[null,null,null,null,null,null,668,{"$f":"IF(Students!C670=\"\",\"\",Students!C670)","v":""},{"$f":"IF(Students!D670=\"\",\"\",Students!D670)","v":""},{"$f":"IF(Students!C670=\"\",\"\",H669&\" \"&I669&\" \"&O669)","v":""},{"$f":"IF(Students!E670=\"\",\"\",Students!E670)","v":""},{"$f":"IF(Students!F670=\"\",\"\",Students!F670)","v":""},{"$f":"IF(Students!G670=\"\",\"\",Students!G670)","v":""},{"$f":"IF(Students!G670=\"\",\"\",DATEDIF(Students!G670,Settings!$A$2,\"y\"))","v":""},{"$f":"IF(Students!C670=\"\",\"\",RIGHT(Home!$B$11,5))","v":""}]
[null,null,null,null,null,null,669,{"$f":"IF(Students!C671=\"\",\"\",Students!C671)","v":""},{"$f":"IF(Students!D671=\"\",\"\",Students!D671)","v":""},{"$f":"IF(Students!C671=\"\",\"\",H670&\" \"&I670&\" \"&O670)","v":""},{"$f":"IF(Students!E671=\"\",\"\",Students!E671)","v":""},{"$f":"IF(Students!F671=\"\",\"\",Students!F671)","v":""},{"$f":"IF(Students!G671=\"\",\"\",Students!G671)","v":""},{"$f":"IF(Students!G671=\"\",\"\",DATEDIF(Students!G671,Settings!$A$2,\"y\"))","v":""},{"$f":"IF(Students!C671=\"\",\"\",RIGHT(Home!$B$11,5))","v":""}]
[null,null,null,null,null,null,670,{"$f":"IF(Students!C672=\"\",\"\",Students!C672)","v":""},{"$f":"IF(Students!D672=\"\",\"\",Students!D672)","v":""},{"$f":"IF(Students!C672=\"\",\"\",H671&\" \"&I671&\" \"&O671)","v":""},{"$f":"IF(Students!E672=\"\",\"\",Students!E672)","v":""},{"$f":"IF(Students!F672=\"\",\"\",Students!F672)","v":""},{"$f":"IF(Students!G672=\"\",\"\",Students!G672)","v":""},{"$f":"IF(Students!G672=\"\",\"\",DATEDIF(Students!G672,Settings!$A$2,\"y\"))","v":""},{"$f":"IF(Students!C672=\"\",\"\",RIGHT(Home!$B$11,5))","v":""}]
[null,null,null,null,null,null,671,{"$f":"IF(Students!C673=\"\",\"\",Students!C673)","v":""},{"$f":"IF(Students!D673=\"\",\"\",Students!D673)","v":""},{"$f":"IF(Students!C673=\"\",\"\",H672&\" \"&I672&\" \"&O672)","v":""},{"$f":"IF(Students!E673=\"\",\"\",Students!E673)","v":""},{"$f":"IF(Students!F673=\"\",\"\",Students!F673)","v":""},{"$f":"IF(Students!G673=\"\",\"\",Students!G673)","v":""},{"$f":"IF(Students!G673=\"\",\"\",DATEDIF(Students!G673,Settings!$A$2,\"y\"))","v":""},{"$f":"IF(Students!C673=\"\",\"\",RIGHT(Home!$B$11,5))","v":""}]
[null,null,null,null,null,null,672,{"$f":"IF(Students!C674=\"\",\"\",Students!C674)","v":""},{"$f":"IF(Students!D674=\"\",\"\",Students!D674)","v":""},{"$f":"IF(Students!C674=\"\",\"\",H673&\" \"&I673&\" \"&O673)","v":""},{"$f":"IF(Students!E674=\"\",\"\",Students!E674)","v":""},{"$f":"IF(Students!F674=\"\",\"\",Students!F674)","v":""},{"$f":"IF(Students!G674=\"\",\"\",Students!G674)","v":""},{"$f":"IF(Students!G674=\"\",\"\",DATEDIF(Students!G674,Settings!$A$2,\"y\"))","v":""},{"$f":"IF(Students!C674=\"\",\"\",RIGHT(Home!$B$11,5))","v":""}]
[null,null,null,null,null,null,673,{"$f":"IF(Students!C675=\"\",\"\",Students!C675)","v":""},{"$f":"IF(Students!D675=\"\",\"\",Students!D675)","v":""},{"$f":"IF(Students!C675=\"\",\"\",H674&\" \"&I674&\" \"&O674)","v":""},{"$f":"IF(Students!E675=\"\",\"\",Students!E675)","v":""},{"$f":"IF(Students!F675=\"\",\"\",Students!F675)","v":""},{"$f":"IF(Students!G675=\"\",\"\",Students!G675)","v":""},{"$f":"IF(Students!G675=\"\",\"\",DATEDIF(Students!G675,Settings!$A$2,\"y\"))","v":""},{"$f":"IF(Students!C675=\"\",\"\",RIGHT(Home!$B$11,5))","v":""}]
[null,null,null,null,null,null,674,{"$f":"IF(Students!C676=\"\",\"\",Students!C676)","v":""},{"$f":"IF(Students!D676=\"\",\"\",Students!D676)","v":""},{"$f":"IF(Students!C676=\"\",\"\",H675&\" \"&I675&\" \"&O675)","v":""},{"$f":"IF(Students!E676=\"\",\"\",Students!E676)","v":""},{"$f":"IF(Students!F676=\"\",\"\",Students!F676)","v":""},{"$f":"IF(Students!G676=\"\",\"\",Students!G676)","v":""},{"$f":"IF(Students!G676=\"\",\"\",DATEDIF(Students!G676,Settings!$A$2,\"y\"))","v":""},{"$f":"IF(Students!C676=\"\",\"\",RIGHT(Home!$B$11,5))","v":""}]
[null,null,null,null,null,null,675,{"$f":"IF(Students!C677=\"\",\"\",Students!C677)","v":""},{"$f":"IF(Students!D677=\"\",\"\",Students!D677)","v":""},{"$f":"IF(Students!C677=\"\",\"\",H676&\" \"&I676&\" \"&O676)","v":""},{"$f":"IF(Students!E677=\"\",\"\",Students!E677)","v":""},{"$f":"IF(Students!F677=\"\",\"\",Students!F677)","v":""},{"$f":"IF(Students!G677=\"\",\"\",Students!G677)","v":""},{"$f":"IF(Students!G677=\"\",\"\",DATEDIF(Students!G677,Settings!$A$2,\"y\"))","v":""},{"$f":"IF(Students!C677=\"\",\"\",RIGHT(Home!$B$11,5))","v":""}]
[null,null,null,null,null,null,676,{"$f":"IF(Students!C678=\"\",\"\",Students!C678)","v":""},{"$f":"IF(Students!D678=\"\",\"\",Students!D678)","v":""},{"$f":"IF(Students!C678=\"\",\"\",H677&\" \"&I677&\" \"&O677)","v":""},{"$f":"IF(Students!E678=\"\",\"\",Students!E678)","v":""},{"$f":"IF(Students!F678=\"\",\"\",Students!F678)","v":""},{"$f":"IF(Students!G678=\"\",\"\",Students!G678)","v":""},{"$f":"IF(Students!G678=\"\",\"\",DATEDIF(Students!G678,Settings!$A$2,\"y\"))","v":""},{"$f":"IF(Students!C678=\"\",\"\",RIGHT(Home!$B$11,5))","v":""}]
[null,null,null,null,null,null,677,{"$f":"IF(Students!C679=\"\",\"\",Students!C679)","v":""},{"$f":"IF(Students!D679=\"\",\"\",Students!D679)","v":""},{"$f":"IF(Students!C679=\"\",\"\",H678&\" \"&I678&\" \"&O678)","v":""},{"$f":"IF(Students!E679=\"\",\"\",Students!E679)","v":""},{"$f":"IF(Students!F679=\"\",\"\",Students!F679)","v":""},{"$f":"IF(Students!G679=\"\",\"\",Students!G679)","v":""},{"$f":"IF(Students!G679=\"\",\"\",DATEDIF(Students!G679,Settings!$A$2,\"y\"))","v":""},{"$f":"IF(Students!C679=\"\",\"\",RIGHT(Home!$B$11,5))","v":""}]
[null,null,null,null,null,null,678,{"$f":"IF(Students!C680=\"\",\"\",Students!C680)","v":""},{"$f":"IF(Students!D680=\"\",\"\",Students!D680)","v":""},{"$f":"IF(Students!C680=\"\",\"\",H679&\" \"&I679&\" \"&O679)","v":""},{"$f":"IF(Students!E680=\"\",\"\",Students!E680)","v":""},{"$f":"IF(Students!F680=\"\",\"\",Students!F680)","v":""},{"$f":"IF(Students!G680=\"\",\"\",Students!G680)","v":""},{"$f":"IF(Students!G680=\"\",\"\",DATEDIF(Students!G680,Settings!$A$2,\"y\"))","v":""},{"$f":"IF(Students!C680=\"\",\"\",RIGHT(Home!$B$11,5))","v":""}]
[null,null,null,null,null,null,679,{"$f":"IF(Students!C681=\"\",\"\",Students!C681)","v":""},{"$f":"IF(Students!D681=\"\",\"\",Students!D681)","v":""},{"$f":"IF(Students!C681=\"\",\"\",H680&\" \"&I680&\" \"&O680)","v":""},{"$f":"IF(Students!E681=\"\",\"\",Students!E681)","v":""},{"$f":"IF(Students!F681=\"\",\"\",Students!F681)","v":""},{"$f":"IF(Students!G681=\"\",\"\",Students!G681)","v":""},{"$f":"IF(Students!G681=\"\",\"\",DATEDIF(Students!G681,Settings!$A$2,\"y\"))","v":""},{"$f":"IF(Students!C681=\"\",\"\",RIGHT(Home!$B$11,5))","v":""}]
[null,null,null,null,null,null,680,{"$f":"IF(Students!C682=\"\",\"\",Students!C682)","v":""},{"$f":"IF(Students!D682=\"\",\"\",Students!D682)","v":""},{"$f":"IF(Students!C682=\"\",\"\",H681&\" \"&I681&\" \"&O681)","v":""},{"$f":"IF(Students!E682=\"\",\"\",Students!E682)","v":""},{"$f":"IF(Students!F682=\"\",\"\",Students!F682)","v":""},{"$f":"IF(Students!G682=\"\",\"\",Students!G682)","v":""},{"$f":"IF(Students!G682=\"\",\"\",DATEDIF(Students!G682,Settings!$A$2,\"y\"))","v":""},{"$f":"IF(Students!C682=\"\",\"\",RIGHT(Home!$B$11,5))","v":""}]
[null,null,null,null,null,null,681,{"$f":"IF(Students!C683=\"\",\"\",Students!C683)","v":""},{"$f":"IF(Students!D683=\"\",\"\",Students!D683)","v":""},{"$f":"IF(Students!C683=\"\",\"\",H682&\" \"&I682&\" \"&O682)","v":""},{"$f":"IF(Students!E683=\"\",\"\",Students!E683)","v":""},{"$f":"IF(Students!F683=\"\",\"\",Students!F683)","v":""},{"$f":"IF(Students!G683=\"\",\"\",Students!G683)","v":""},{"$f":"IF(Students!G683=\"\",\"\",DATEDIF(Students!G683,Settings!$A$2,\"y\"))","v":""},{"$f":"IF(Students!C683=\"\",\"\",RIGHT(Home!$B$11,5))","v":""}]
[null,null,null,null,null,null,682,{"$f":"IF(Students!C684=\"\",\"\",Students!C684)","v":""},{"$f":"IF(Students!D684=\"\",\"\",Students!D684)","v":""},{"$f":"IF(Students!C684=\"\",\"\",H683&\" \"&I683&\" \"&O683)","v":""},{"$f":"IF(Students!E684=\"\",\"\",Students!E684)","v":""},{"$f":"IF(Students!F684=\"\",\"\",Students!F684)","v":""},{"$f":"IF(Students!G684=\"\",\"\",Students!G684)","v":""},{"$f":"IF(Students!G684=\"\",\"\",DATEDIF(Students!G684,Settings!$A$2,\"y\"))","v":""},{"$f":"IF(Students!C684=\"\",\"\",RIGHT(Home!$B$11,5))","v":""}]
[null,null,null,null,null,null,683,{"$f":"IF(Students!C685=\"\",\"\",Students!C685)","v":""},{"$f":"IF(Students!D685=\"\",\"\",Students!D685)","v":""},{"$f":"IF(Students!C685=\"\",\"\",H684&\" \"&I684&\" \"&O684)","v":""},{"$f":"IF(Students!E685=\"\",\"\",Students!E685)","v":""},{"$f":"IF(Students!F685=\"\",\"\",Students!F685)","v":""},{"$f":"IF(Students!G685=\"\",\"\",Students!G685)","v":""},{"$f":"IF(Students!G685=\"\",\"\",DATEDIF(Students!G685,Settings!$A$2,\"y\"))","v":""},{"$f":"IF(Students!C685=\"\",\"\",RIGHT(Home!$B$11,5))","v":""}]
[null,null,null,null,null,null,684,{"$f":"IF(Students!C686=\"\",\"\",Students!C686)","v":""},{"$f":"IF(Students!D686=\"\",\"\",Students!D686)","v":""},{"$f":"IF(Students!C686=\"\",\"\",H685&\" \"&I685&\" \"&O685)","v":""},{"$f":"IF(Students!E686=\"\",\"\",Students!E686)","v":""},{"$f":"IF(Students!F686=\"\",\"\",Students!F686)","v":""},{"$f":"IF(Students!G686=\"\",\"\",Students!G686)","v":""},{"$f":"IF(Students!G686=\"\",\"\",DATEDIF(Students!G686,Settings!$A$2,\"y\"))","v":""},{"$f":"IF(Students!C686=\"\",\"\",RIGHT(Home!$B$11,5))","v":""}]
[null,null,null,null,null,null,685,{"$f":"IF(Students!C687=\"\",\"\",Students!C687)","v":""},{"$f":"IF(Students!D687=\"\",\"\",Students!D687)","v":""},{"$f":"IF(Students!C687=\"\",\"\",H686&\" \"&I686&\" \"&O686)","v":""},{"$f":"IF(Students!E687=\"\",\"\",Students!E687)","v":""},{"$f":"IF(Students!F687=\"\",\"\",Students!F687)","v":""},{"$f":"IF(Students!G687=\"\",\"\",Students!G687)","v":""},{"$f":"IF(Students!G687=\"\",\"\",DATEDIF(Students!G687,Settings!$A$2,\"y\"))","v":""},{"$f":"IF(Students!C687=\"\",\"\",RIGHT(Home!$B$11,5))","v":""}]
[null,null,null,null,null,null,686,{"$f":"IF(Students!C688=\"\",\"\",Students!C688)","v":""},{"$f":"IF(Students!D688=\"\",\"\",Students!D688)","v":""},{"$f":"IF(Students!C688=\"\",\"\",H687&\" \"&I687&\" \"&O687)","v":""},{"$f":"IF(Students!E688=\"\",\"\",Students!E688)","v":""},{"$f":"IF(Students!F688=\"\",\"\",Students!F688)","v":""},{"$f":"IF(Students!G688=\"\",\"\",Students!G688)","v":""},{"$f":"IF(Students!G688=\"\",\"\",DATEDIF(Students!G688,Settings!$A$2,\"y\"))","v":""},{"$f":"IF(Students!C688=\"\",\"\",RIGHT(Home!$B$11,5))","v":""}]
[null,null,null,null,null,null,687,{"$f":"IF(Students!C689=\"\",\"\",Students!C689)","v":""},{"$f":"IF(Students!D689=\"\",\"\",Students!D689)","v":""},{"$f":"IF(Students!C689=\"\",\"\",H688&\" \"&I688&\" \"&O688)","v":""},{"$f":"IF(Students!E689=\"\",\"\",Students!E689)","v":""},{"$f":"IF(Students!F689=\"\",\"\",Students!F689)","v":""},{"$f":"IF(Students!G689=\"\",\"\",Students!G689)","v":""},{"$f":"IF(Students!G689=\"\",\"\",DATEDIF(Students!G689,Settings!$A$2,\"y\"))","v":""},{"$f":"IF(Students!C689=\"\",\"\",RIGHT(Home!$B$11,5))","v":""}]
[null,null,null,null,null,null,688,{"$f":"IF(Students!C690=\"\",\"\",Students!C690)","v":""},{"$f":"IF(Students!D690=\"\",\"\",Students!D690)","v":""},{"$f":"IF(Students!C690=\"\",\"\",H689&\" \"&I689&\" \"&O689)","v":""},{"$f":"IF(Students!E690=\"\",\"\",Students!E690)","v":""},{"$f":"IF(Students!F690=\"\",\"\",Students!F690)","v":""},{"$f":"IF(Students!G690=\"\",\"\",Students!G690)","v":""},{"$f":"IF(Students!G690=\"\",\"\",DATEDIF(Students!G690,Settings!$A$2,\"y\"))","v":""},{"$f":"IF(Students!C690=\"\",\"\",RIGHT(Home!$B$11,5))","v":""}]
[null,null,null,null,null,null,689,{"$f":"IF(Students!C691=\"\",\"\",Students!C691)","v":""},{"$f":"IF(Students!D691=\"\",\"\",Students!D691)","v":""},{"$f":"IF(Students!C691=\"\",\"\",H690&\" \"&I690&\" \"&O690)","v":""},{"$f":"IF(Students!E691=\"\",\"\",Students!E691)","v":""},{"$f":"IF(Students!F691=\"\",\"\",Students!F691)","v":""},{"$f":"IF(Students!G691=\"\",\"\",Students!G691)","v":""},{"$f":"IF(Students!G691=\"\",\"\",DATEDIF(Students!G691,Settings!$A$2,\"y\"))","v":""},{"$f":"IF(Students!C691=\"\",\"\",RIGHT(Home!$B$11,5))","v":""}]
[null,null,null,null,null,null,690,{"$f":"IF(Students!C692=\"\",\"\",Students!C692)","v":""},{"$f":"IF(Students!D692=\"\",\"\",Students!D692)","v":""},{"$f":"IF(Students!C692=\"\",\"\",H691&\" \"&I691&\" \"&O691)","v":""},{"$f":"IF(Students!E692=\"\",\"\",Students!E692)","v":""},{"$f":"IF(Students!F692=\"\",\"\",Students!F692)","v":""},{"$f":"IF(Students!G692=\"\",\"\",Students!G692)","v":""},{"$f":"IF(Students!G692=\"\",\"\",DATEDIF(Students!G692,Settings!$A$2,\"y\"))","v":""},{"$f":"IF(Students!C692=\"\",\"\",RIGHT(Home!$B$11,5))","v":""}]
[null,null,null,null,null,null,691,{"$f":"IF(Students!C693=\"\",\"\",Students!C693)","v":""},{"$f":"IF(Students!D693=\"\",\"\",Students!D693)","v":""},{"$f":"IF(Students!C693=\"\",\"\",H692&\" \"&I692&\" \"&O692)","v":""},{"$f":"IF(Students!E693=\"\",\"\",Students!E693)","v":""},{"$f":"IF(Students!F693=\"\",\"\",Students!F693)","v":""},{"$f":"IF(Students!G693=\"\",\"\",Students!G693)","v":""},{"$f":"IF(Students!G693=\"\",\"\",DATEDIF(Students!G693,Settings!$A$2,\"y\"))","v":""},{"$f":"IF(Students!C693=\"\",\"\",RIGHT(Home!$B$11,5))","v":""}]
[null,null,null,null,null,null,692,{"$f":"IF(Students!C694=\"\",\"\",Students!C694)","v":""},{"$f":"IF(Students!D694=\"\",\"\",Students!D694)","v":""},{"$f":"IF(Students!C694=\"\",\"\",H693&\" \"&I693&\" \"&O693)","v":""},{"$f":"IF(Students!E694=\"\",\"\",Students!E694)","v":""},{"$f":"IF(Students!F694=\"\",\"\",Students!F694)","v":""},{"$f":"IF(Students!G694=\"\",\"\",Students!G694)","v":""},{"$f":"IF(Students!G694=\"\",\"\",DATEDIF(Students!G694,Settings!$A$2,\"y\"))","v":""},{"$f":"IF(Students!C694=\"\",\"\",RIGHT(Home!$B$11,5))","v":""}]
[null,null,null,null,null,null,693,{"$f":"IF(Students!C695=\"\",\"\",Students!C695)","v":""},{"$f":"IF(Students!D695=\"\",\"\",Students!D695)","v":""},{"$f":"IF(Students!C695=\"\",\"\",H694&\" \"&I694&\" \"&O694)","v":""},{"$f":"IF(Students!E695=\"\",\"\",Students!E695)","v":""},{"$f":"IF(Students!F695=\"\",\"\",Students!F695)","v":""},{"$f":"IF(Students!G695=\"\",\"\",Students!G695)","v":""},{"$f":"IF(Students!G695=\"\",\"\",DATEDIF(Students!G695,Settings!$A$2,\"y\"))","v":""},{"$f":"IF(Students!C695=\"\",\"\",RIGHT(Home!$B$11,5))","v":""}]
[null,null,null,null,null,null,694,{"$f":"IF(Students!C696=\"\",\"\",Students!C696)","v":""},{"$f":"IF(Students!D696=\"\",\"\",Students!D696)","v":""},{"$f":"IF(Students!C696=\"\",\"\",H695&\" \"&I695&\" \"&O695)","v":""},{"$f":"IF(Students!E696=\"\",\"\",Students!E696)","v":""},{"$f":"IF(Students!F696=\"\",\"\",Students!F696)","v":""},{"$f":"IF(Students!G696=\"\",\"\",Students!G696)","v":""},{"$f":"IF(Students!G696=\"\",\"\",DATEDIF(Students!G696,Settings!$A$2,\"y\"))","v":""},{"$f":"IF(Students!C696=\"\",\"\",RIGHT(Home!$B$11,5))","v":""}]
[null,null,null,null,null,null,695,{"$f":"IF(Students!C697=\"\",\"\",Students!C697)","v":""},{"$f":"IF(Students!D697=\"\",\"\",Students!D697)","v":""},{"$f":"IF(Students!C697=\"\",\"\",H696&\" \"&I696&\" \"&O696)","v":""},{"$f":"IF(Students!E697=\"\",\"\",Students!E697)","v":""},{"$f":"IF(Students!F697=\"\",\"\",Students!F697)","v":""},{"$f":"IF(Students!G697=\"\",\"\",Students!G697)","v":""},{"$f":"IF(Students!G697=\"\",\"\",DATEDIF(Students!G697,Settings!$A$2,\"y\"))","v":""},{"$f":"IF(Students!C697=\"\",\"\",RIGHT(Home!$B$11,5))","v":""}]
[null,null,null,null,null,null,696,{"$f":"IF(Students!C698=\"\",\"\",Students!C698)","v":""},{"$f":"IF(Students!D698=\"\",\"\",Students!D698)","v":""},{"$f":"IF(Students!C698=\"\",\"\",H697&\" \"&I697&\" \"&O697)","v":""},{"$f":"IF(Students!E698=\"\",\"\",Students!E698)","v":""},{"$f":"IF(Students!F698=\"\",\"\",Students!F698)","v":""},{"$f":"IF(Students!G698=\"\",\"\",Students!G698)","v":""},{"$f":"IF(Students!G698=\"\",\"\",DATEDIF(Students!G698,Settings!$A$2,\"y\"))","v":""},{"$f":"IF(Students!C698=\"\",\"\",RIGHT(Home!$B$11,5))","v":""}]
[null,null,null,null,null,null,697,{"$f":"IF(Students!C699=\"\",\"\",Students!C699)","v":""},{"$f":"IF(Students!D699=\"\",\"\",Students!D699)","v":""},{"$f":"IF(Students!C699=\"\",\"\",H698&\" \"&I698&\" \"&O698)","v":""},{"$f":"IF(Students!E699=\"\",\"\",Students!E699)","v":""},{"$f":"IF(Students!F699=\"\",\"\",Students!F699)","v":""},{"$f":"IF(Students!G699=\"\",\"\",Students!G699)","v":""},{"$f":"IF(Students!G699=\"\",\"\",DATEDIF(Students!G699,Settings!$A$2,\"y\"))","v":""},{"$f":"IF(Students!C699=\"\",\"\",RIGHT(Home!$B$11,5))","v":""}]
[null,null,null,null,null,null,698,{"$f":"IF(Students!C700=\"\",\"\",Students!C700)","v":""},{"$f":"IF(Students!D700=\"\",\"\",Students!D700)","v":""},{"$f":"IF(Students!C700=\"\",\"\",H699&\" \"&I699&\" \"&O699)","v":""},{"$f":"IF(Students!E700=\"\",\"\",Students!E700)","v":""},{"$f":"IF(Students!F700=\"\",\"\",Students!F700)","v":""},{"$f":"IF(Students!G700=\"\",\"\",Students!G700)","v":""},{"$f":"IF(Students!G700=\"\",\"\",DATEDIF(Students!G700,Settings!$A$2,\"y\"))","v":""},{"$f":"IF(Students!C700=\"\",\"\",RIGHT(Home!$B$11,5))","v":""}]
[null,null,null,null,null,null,699,{"$f":"IF(Students!C701=\"\",\"\",Students!C701)","v":""},{"$f":"IF(Students!D701=\"\",\"\",Students!D701)","v":""},{"$f":"IF(Students!C701=\"\",\"\",H700&\" \"&I700&\" \"&O700)","v":""},{"$f":"IF(Students!E701=\"\",\"\",Students!E701)","v":""},{"$f":"IF(Students!F701=\"\",\"\",Students!F701)","v":""},{"$f":"IF(Students!G701=\"\",\"\",Students!G701)","v":""},{"$f":"IF(Students!G701=\"\",\"\",DATEDIF(Students!G701,Settings!$A$2,\"y\"))","v":""},{"$f":"IF(Students!C701=\"\",\"\",RIGHT(Home!$B$11,5))","v":""}]
[null,null,null,null,null,null,700,{"$f":"IF(Students!C702=\"\",\"\",Students!C702)","v":""},{"$f":"IF(Students!D702=\"\",\"\",Students!D702)","v":""},{"$f":"IF(Students!C702=\"\",\"\",H701&\" \"&I701&\" \"&O701)","v":""},{"$f":"IF(Students!E702=\"\",\"\",Students!E702)","v":""},{"$f":"IF(Students!F702=\"\",\"\",Students!F702)","v":""},{"$f":"IF(Students!G702=\"\",\"\",Students!G702)","v":""},{"$f":"IF(Students!G702=\"\",\"\",DATEDIF(Students!G702,Settings!$A$2,\"y\"))","v":""},{"$f":"IF(Students!C702=\"\",\"\",RIGHT(Home!$B$11,5))","v":""}]
[null,null,null,null,null,null,701,{"$f":"IF(Students!C703=\"\",\"\",Students!C703)","v":""},{"$f":"IF(Students!D703=\"\",\"\",Students!D703)","v":""},{"$f":"IF(Students!C703=\"\",\"\",H702&\" \"&I702&\" \"&O702)","v":""},{"$f":"IF(Students!E703=\"\",\"\",Students!E703)","v":""},{"$f":"IF(Students!F703=\"\",\"\",Students!F703)","v":""},{"$f":"IF(Students!G703=\"\",\"\",Students!G703)","v":""},{"$f":"IF(Students!G703=\"\",\"\",DATEDIF(Students!G703,Settings!$A$2,\"y\"))","v":""},{"$f":"IF(Students!C703=\"\",\"\",RIGHT(Home!$B$11,5))","v":""}]
[null,null,null,null,null,null,702,{"$f":"IF(Students!C704=\"\",\"\",Students!C704)","v":""},{"$f":"IF(Students!D704=\"\",\"\",Students!D704)","v":""},{"$f":"IF(Students!C704=\"\",\"\",H703&\" \"&I703&\" \"&O703)","v":""},{"$f":"IF(Students!E704=\"\",\"\",Students!E704)","v":""},{"$f":"IF(Students!F704=\"\",\"\",Students!F704)","v":""},{"$f":"IF(Students!G704=\"\",\"\",Students!G704)","v":""},{"$f":"IF(Students!G704=\"\",\"\",DATEDIF(Students!G704,Settings!$A$2,\"y\"))","v":""},{"$f":"IF(Students!C704=\"\",\"\",RIGHT(Home!$B$11,5))","v":""}]
[null,null,null,null,null,null,703,{"$f":"IF(Students!C705=\"\",\"\",Students!C705)","v":""},{"$f":"IF(Students!D705=\"\",\"\",Students!D705)","v":""},{"$f":"IF(Students!C705=\"\",\"\",H704&\" \"&I704&\" \"&O704)","v":""},{"$f":"IF(Students!E705=\"\",\"\",Students!E705)","v":""},{"$f":"IF(Students!F705=\"\",\"\",Students!F705)","v":""},{"$f":"IF(Students!G705=\"\",\"\",Students!G705)","v":""},{"$f":"IF(Students!G705=\"\",\"\",DATEDIF(Students!G705,Settings!$A$2,\"y\"))","v":""},{"$f":"IF(Students!C705=\"\",\"\",RIGHT(Home!$B$11,5))","v":""}]
[null,null,null,null,null,null,704,{"$f":"IF(Students!C706=\"\",\"\",Students!C706)","v":""},{"$f":"IF(Students!D706=\"\",\"\",Students!D706)","v":""},{"$f":"IF(Students!C706=\"\",\"\",H705&\" \"&I705&\" \"&O705)","v":""},{"$f":"IF(Students!E706=\"\",\"\",Students!E706)","v":""},{"$f":"IF(Students!F706=\"\",\"\",Students!F706)","v":""},{"$f":"IF(Students!G706=\"\",\"\",Students!G706)","v":""},{"$f":"IF(Students!G706=\"\",\"\",DATEDIF(Students!G706,Settings!$A$2,\"y\"))","v":""},{"$f":"IF(Students!C706=\"\",\"\",RIGHT(Home!$B$11,5))","v":""}]
[null,null,null,null,null,null,705,{"$f":"IF(Students!C707=\"\",\"\",Students!C707)","v":""},{"$f":"IF(Students!D707=\"\",\"\",Students!D707)","v":""},{"$f":"IF(Students!C707=\"\",\"\",H706&\" \"&I706&\" \"&O706)","v":""},{"$f":"IF(Students!E707=\"\",\"\",Students!E707)","v":""},{"$f":"IF(Students!F707=\"\",\"\",Students!F707)","v":""},{"$f":"IF(Students!G707=\"\",\"\",Students!G707)","v":""},{"$f":"IF(Students!G707=\"\",\"\",DATEDIF(Students!G707,Settings!$A$2,\"y\"))","v":""},{"$f":"IF(Students!C707=\"\",\"\",RIGHT(Home!$B$11,5))","v":""}]
[null,null,null,null,null,null,{"$f":"ROW()-1","v":706},{"$f":"IF(Students!C708=\"\",\"\",Students!C708)","v":""},{"$f":"IF(Students!D708=\"\",\"\",Students!D708)","v":""},{"$f":"IF(Students!C708=\"\",\"\",H707&\" \"&I707&\" \"&O707)","v":""},{"$f":"IF(Students!E708=\"\",\"\",Students!E708)","v":""},{"$f":"IF(Students!F708=\"\",\"\",Students!F708)","v":""},{"$f":"IF(Students!G708=\"\",\"\",Students!G708)","v":""},{"$f":"IF(Students!G708=\"\",\"\",DATEDIF(Students!G708,Settings!$A$2,\"y\"))","v":""},{"$f":"IF(Students!C708=\"\",\"\",RIGHT(Home!$B$11,5))","v":""}]
[null,null,null,null,null,null,707,{"$f":"IF(Students!C709=\"\",\"\",Students!C709)","v":""},{"$f":"IF(Students!D709=\"\",\"\",Students!D709)","v":""},{"$f":"IF(Students!C709=\"\",\"\",H708&\" \"&I708&\" \"&O708)","v":""},{"$f":"IF(Students!E709=\"\",\"\",Students!E709)","v":""},{"$f":"IF(Students!F709=\"\",\"\",Students!F709)","v":""},{"$f":"IF(Students!G709=\"\",\"\",Students!G709)","v":""},{"$f":"IF(Students!G709=\"\",\"\",DATEDIF(Students!G709,Settings!$A$2,\"y\"))","v":""},{"$f":"IF(Students!C709=\"\",\"\",RIGHT(Home!$B$11,5))","v":""}]
[null,null,null,null,null,null,708,{"$f":"IF(Students!C710=\"\",\"\",Students!C710)","v":""},{"$f":"IF(Students!D710=\"\",\"\",Students!D710)","v":""},{"$f":"IF(Students!C710=\"\",\"\",H709&\" \"&I709&\" \"&O709)","v":""},{"$f":"IF(Students!E710=\"\",\"\",Students!E710)","v":""},{"$f":"IF(Students!F710=\"\",\"\",Students!F710)","v":""},{"$f":"IF(Students!G710=\"\",\"\",Students!G710)","v":""},{"$f":"IF(Students!G710=\"\",\"\",DATEDIF(Students!G710,Settings!$A$2,\"y\"))","v":""},{"$f":"IF(Students!C710=\"\",\"\",RIGHT(Home!$B$11,5))","v":""}]
[null,null,null,null,null,null,709,{"$f":"IF(Students!C711=\"\",\"\",Students!C711)","v":""},{"$f":"IF(Students!D711=\"\",\"\",Students!D711)","v":""},{"$f":"IF(Students!C711=\"\",\"\",H710&\" \"&I710&\" \"&O710)","v":""},{"$f":"IF(Students!E711=\"\",\"\",Students!E711)","v":""},{"$f":"IF(Students!F711=\"\",\"\",Students!F711)","v":""},{"$f":"IF(Students!G711=\"\",\"\",Students!G711)","v":""},{"$f":"IF(Students!G711=\"\",\"\",DATEDIF(Students!G711,Settings!$A$2,\"y\"))","v":""},{"$f":"IF(Students!C711=\"\",\"\",RIGHT(Home!$B$11,5))","v":""}]
[null,null,null,null,null,null,710,{"$f":"IF(Students!C712=\"\",\"\",Students!C712)","v":""},{"$f":"IF(Students!D712=\"\",\"\",Students!D712)","v":""},{"$f":"IF(Students!C712=\"\",\"\",H711&\" \"&I711&\" \"&O711)","v":""},{"$f":"IF(Students!E712=\"\",\"\",Students!E712)","v":""},{"$f":"IF(Students!F712=\"\",\"\",Students!F712)","v":""},{"$f":"IF(Students!G712=\"\",\"\",Students!G712)","v":""},{"$f":"IF(Students!G712=\"\",\"\",DATEDIF(Students!G712,Settings!$A$2,\"y\"))","v":""},{"$f":"IF(Students!C712=\"\",\"\",RIGHT(Home!$B$11,5))","v":""}]
[null,null,null,null,null,null,711,{"$f":"IF(Students!C713=\"\",\"\",Students!C713)","v":""},{"$f":"IF(Students!D713=\"\",\"\",Students!D713)","v":""},{"$f":"IF(Students!C713=\"\",\"\",H712&\" \"&I712&\" \"&O712)","v":""},{"$f":"IF(Students!E713=\"\",\"\",Students!E713)","v":""},{"$f":"IF(Students!F713=\"\",\"\",Students!F713)","v":""},{"$f":"IF(Students!G713=\"\",\"\",Students!G713)","v":""},{"$f":"IF(Students!G713=\"\",\"\",DATEDIF(Students!G713,Settings!$A$2,\"y\"))","v":""},{"$f":"IF(Students!C713=\"\",\"\",RIGHT(Home!$B$11,5))","v":""}]
[null,null,null,null,null,null,712,{"$f":"IF(Students!C714=\"\",\"\",Students!C714)","v":""},{"$f":"IF(Students!D714=\"\",\"\",Students!D714)","v":""},{"$f":"IF(Students!C714=\"\",\"\",H713&\" \"&I713&\" \"&O713)","v":""},{"$f":"IF(Students!E714=\"\",\"\",Students!E714)","v":""},{"$f":"IF(Students!F714=\"\",\"\",Students!F714)","v":""},{"$f":"IF(Students!G714=\"\",\"\",Students!G714)","v":""},{"$f":"IF(Students!G714=\"\",\"\",DATEDIF(Students!G714,Settings!$A$2,\"y\"))","v":""},{"$f":"IF(Students!C714=\"\",\"\",RIGHT(Home!$B$11,5))","v":""}]
[null,null,null,null,null,null,713,{"$f":"IF(Students!C715=\"\",\"\",Students!C715)","v":""},{"$f":"IF(Students!D715=\"\",\"\",Students!D715)","v":""},{"$f":"IF(Students!C715=\"\",\"\",H714&\" \"&I714&\" \"&O714)","v":""},{"$f":"IF(Students!E715=\"\",\"\",Students!E715)","v":""},{"$f":"IF(Students!F715=\"\",\"\",Students!F715)","v":""},{"$f":"IF(Students!G715=\"\",\"\",Students!G715)","v":""},{"$f":"IF(Students!G715=\"\",\"\",DATEDIF(Students!G715,Settings!$A$2,\"y\"))","v":""},{"$f":"IF(Students!C715=\"\",\"\",RIGHT(Home!$B$11,5))","v":""}]
[null,null,null,null,null,null,714,{"$f":"IF(Students!C716=\"\",\"\",Students!C716)","v":""},{"$f":"IF(Students!D716=\"\",\"\",Students!D716)","v":""},{"$f":"IF(Students!C716=\"\",\"\",H715&\" \"&I715&\" \"&O715)","v":""},{"$f":"IF(Students!E716=\"\",\"\",Students!E716)","v":""},{"$f":"IF(Students!F716=\"\",\"\",Students!F716)","v":""},{"$f":"IF(Students!G716=\"\",\"\",Students!G716)","v":""},{"$f":"IF(Students!G716=\"\",\"\",DATEDIF(Students!G716,Settings!$A$2,\"y\"))","v":""},{"$f":"IF(Students!C716=\"\",\"\",RIGHT(Home!$B$11,5))","v":""}]
[null,null,null,null,null,null,715,{"$f":"IF(Students!C717=\"\",\"\",Students!C717)","v":""},{"$f":"IF(Students!D717=\"\",\"\",Students!D717)","v":""},{"$f":"IF(Students!C717=\"\",\"\",H716&\" \"&I716&\" \"&O716)","v":""},{"$f":"IF(Students!E717=\"\",\"\",Students!E717)","v":""},{"$f":"IF(Students!F717=\"\",\"\",Students!F717)","v":""},{"$f":"IF(Students!G717=\"\",\"\",Students!G717)","v":""},{"$f":"IF(Students!G717=\"\",\"\",DATEDIF(Students!G717,Settings!$A$2,\"y\"))","v":""},{"$f":"IF(Students!C717=\"\",\"\",RIGHT(Home!$B$11,5))","v":""}]
[null,null,null,null,null,null,716,{"$f":"IF(Students!C718=\"\",\"\",Students!C718)","v":""},{"$f":"IF(Students!D718=\"\",\"\",Students!D718)","v":""},{"$f":"IF(Students!C718=\"\",\"\",H717&\" \"&I717&\" \"&O717)","v":""},{"$f":"IF(Students!E718=\"\",\"\",Students!E718)","v":""},{"$f":"IF(Students!F718=\"\",\"\",Students!F718)","v":""},{"$f":"IF(Students!G718=\"\",\"\",Students!G718)","v":""},{"$f":"IF(Students!G718=\"\",\"\",DATEDIF(Students!G718,Settings!$A$2,\"y\"))","v":""},{"$f":"IF(Students!C718=\"\",\"\",RIGHT(Home!$B$11,5))","v":""}]
[null,null,null,null,null,null,717,{"$f":"IF(Students!C719=\"\",\"\",Students!C719)","v":""},{"$f":"IF(Students!D719=\"\",\"\",Students!D719)","v":""},{"$f":"IF(Students!C719=\"\",\"\",H718&\" \"&I718&\" \"&O718)","v":""},{"$f":"IF(Students!E719=\"\",\"\",Students!E719)","v":""},{"$f":"IF(Students!F719=\"\",\"\",Students!F719)","v":""},{"$f":"IF(Students!G719=\"\",\"\",Students!G719)","v":""},{"$f":"IF(Students!G719=\"\",\"\",DATEDIF(Students!G719,Settings!$A$2,\"y\"))","v":""},{"$f":"IF(Students!C719=\"\",\"\",RIGHT(Home!$B$11,5))","v":""}]
[null,null,null,null,null,null,718,{"$f":"IF(Students!C720=\"\",\"\",Students!C720)","v":""},{"$f":"IF(Students!D720=\"\",\"\",Students!D720)","v":""},{"$f":"IF(Students!C720=\"\",\"\",H719&\" \"&I719&\" \"&O719)","v":""},{"$f":"IF(Students!E720=\"\",\"\",Students!E720)","v":""},{"$f":"IF(Students!F720=\"\",\"\",Students!F720)","v":""},{"$f":"IF(Students!G720=\"\",\"\",Students!G720)","v":""},{"$f":"IF(Students!G720=\"\",\"\",DATEDIF(Students!G720,Settings!$A$2,\"y\"))","v":""},{"$f":"IF(Students!C720=\"\",\"\",RIGHT(Home!$B$11,5))","v":""}]
[null,null,null,null,null,null,719,{"$f":"IF(Students!C721=\"\",\"\",Students!C721)","v":""},{"$f":"IF(Students!D721=\"\",\"\",Students!D721)","v":""},{"$f":"IF(Students!C721=\"\",\"\",H720&\" \"&I720&\" \"&O720)","v":""},{"$f":"IF(Students!E721=\"\",\"\",Students!E721)","v":""},{"$f":"IF(Students!F721=\"\",\"\",Students!F721)","v":""},{"$f":"IF(Students!G721=\"\",\"\",Students!G721)","v":""},{"$f":"IF(Students!G721=\"\",\"\",DATEDIF(Students!G721,Settings!$A$2,\"y\"))","v":""},{"$f":"IF(Students!C721=\"\",\"\",RIGHT(Home!$B$11,5))","v":""}]
[null,null,null,null,null,null,720,{"$f":"IF(Students!C722=\"\",\"\",Students!C722)","v":""},{"$f":"IF(Students!D722=\"\",\"\",Students!D722)","v":""},{"$f":"IF(Students!C722=\"\",\"\",H721&\" \"&I721&\" \"&O721)","v":""},{"$f":"IF(Students!E722=\"\",\"\",Students!E722)","v":""},{"$f":"IF(Students!F722=\"\",\"\",Students!F722)","v":""},{"$f":"IF(Students!G722=\"\",\"\",Students!G722)","v":""},{"$f":"IF(Students!G722=\"\",\"\",DATEDIF(Students!G722,Settings!$A$2,\"y\"))","v":""},{"$f":"IF(Students!C722=\"\",\"\",RIGHT(Home!$B$11,5))","v":""}]
[null,null,null,null,null,null,721,{"$f":"IF(Students!C723=\"\",\"\",Students!C723)","v":""},{"$f":"IF(Students!D723=\"\",\"\",Students!D723)","v":""},{"$f":"IF(Students!C723=\"\",\"\",H722&\" \"&I722&\" \"&O722)","v":""},{"$f":"IF(Students!E723=\"\",\"\",Students!E723)","v":""},{"$f":"IF(Students!F723=\"\",\"\",Students!F723)","v":""},{"$f":"IF(Students!G723=\"\",\"\",Students!G723)","v":""},{"$f":"IF(Students!G723=\"\",\"\",DATEDIF(Students!G723,Settings!$A$2,\"y\"))","v":""},{"$f":"IF(Students!C723=\"\",\"\",RIGHT(Home!$B$11,5))","v":""}]
[null,null,null,null,null,null,722,{"$f":"IF(Students!C724=\"\",\"\",Students!C724)","v":""},{"$f":"IF(Students!D724=\"\",\"\",Students!D724)","v":""},{"$f":"IF(Students!C724=\"\",\"\",H723&\" \"&I723&\" \"&O723)","v":""},{"$f":"IF(Students!E724=\"\",\"\",Students!E724)","v":""},{"$f":"IF(Students!F724=\"\",\"\",Students!F724)","v":""},{"$f":"IF(Students!G724=\"\",\"\",Students!G724)","v":""},{"$f":"IF(Students!G724=\"\",\"\",DATEDIF(Students!G724,Settings!$A$2,\"y\"))","v":""},{"$f":"IF(Students!C724=\"\",\"\",RIGHT(Home!$B$11,5))","v":""}]
[null,null,null,null,null,null,723,{"$f":"IF(Students!C725=\"\",\"\",Students!C725)","v":""},{"$f":"IF(Students!D725=\"\",\"\",Students!D725)","v":""},{"$f":"IF(Students!C725=\"\",\"\",H724&\" \"&I724&\" \"&O724)","v":""},{"$f":"IF(Students!E725=\"\",\"\",Students!E725)","v":""},{"$f":"IF(Students!F725=\"\",\"\",Students!F725)","v":""},{"$f":"IF(Students!G725=\"\",\"\",Students!G725)","v":""},{"$f":"IF(Students!G725=\"\",\"\",DATEDIF(Students!G725,Settings!$A$2,\"y\"))","v":""},{"$f":"IF(Students!C725=\"\",\"\",RIGHT(Home!$B$11,5))","v":""}]
[null,null,null,null,null,null,724,{"$f":"IF(Students!C726=\"\",\"\",Students!C726)","v":""},{"$f":"IF(Students!D726=\"\",\"\",Students!D726)","v":""},{"$f":"IF(Students!C726=\"\",\"\",H725&\" \"&I725&\" \"&O725)","v":""},{"$f":"IF(Students!E726=\"\",\"\",Students!E726)","v":""},{"$f":"IF(Students!F726=\"\",\"\",Students!F726)","v":""},{"$f":"IF(Students!G726=\"\",\"\",Students!G726)","v":""},{"$f":"IF(Students!G726=\"\",\"\",DATEDIF(Students!G726,Settings!$A$2,\"y\"))","v":""},{"$f":"IF(Students!C726=\"\",\"\",RIGHT(Home!$B$11,5))","v":""}]
[null,null,null,null,null,null,725,{"$f":"IF(Students!C727=\"\",\"\",Students!C727)","v":""},{"$f":"IF(Students!D727=\"\",\"\",Students!D727)","v":""},{"$f":"IF(Students!C727=\"\",\"\",H726&\" \"&I726&\" \"&O726)","v":""},{"$f":"IF(Students!E727=\"\",\"\",Students!E727)","v":""},{"$f":"IF(Students!F727=\"\",\"\",Students!F727)","v":""},{"$f":"IF(Students!G727=\"\",\"\",Students!G727)","v":""},{"$f":"IF(Students!G727=\"\",\"\",DATEDIF(Students!G727,Settings!$A$2,\"y\"))","v":""},{"$f":"IF(Students!C727=\"\",\"\",RIGHT(Home!$B$11,5))","v":""}]
[null,null,null,null,null,null,726,{"$f":"IF(Students!C728=\"\",\"\",Students!C728)","v":""},{"$f":"IF(Students!D728=\"\",\"\",Students!D728)","v":""},{"$f":"IF(Students!C728=\"\",\"\",H727&\" \"&I727&\" \"&O727)","v":""},{"$f":"IF(Students!E728=\"\",\"\",Students!E728)","v":""},{"$f":"IF(Students!F728=\"\",\"\",Students!F728)","v":""},{"$f":"IF(Students!G728=\"\",\"\",Students!G728)","v":""},{"$f":"IF(Students!G728=\"\",\"\",DATEDIF(Students!G728,Settings!$A$2,\"y\"))","v":""},{"$f":"IF(Students!C728=\"\",\"\",RIGHT(Home!$B$11,5))","v":""}]
[null,null,null,null,null,null,727,{"$f":"IF(Students!C729=\"\",\"\",Students!C729)","v":""},{"$f":"IF(Students!D729=\"\",\"\",Students!D729)","v":""},{"$f":"IF(Students!C729=\"\",\"\",H728&\" \"&I728&\" \"&O728)","v":""},{"$f":"IF(Students!E729=\"\",\"\",Students!E729)","v":""},{"$f":"IF(Students!F729=\"\",\"\",Students!F729)","v":""},{"$f":"IF(Students!G729=\"\",\"\",Students!G729)","v":""},{"$f":"IF(Students!G729=\"\",\"\",DATEDIF(Students!G729,Settings!$A$2,\"y\"))","v":""},{"$f":"IF(Students!C729=\"\",\"\",RIGHT(Home!$B$11,5))","v":""}]
[null,null,null,null,null,null,728,{"$f":"IF(Students!C730=\"\",\"\",Students!C730)","v":""},{"$f":"IF(Students!D730=\"\",\"\",Students!D730)","v":""},{"$f":"IF(Students!C730=\"\",\"\",H729&\" \"&I729&\" \"&O729)","v":""},{"$f":"IF(Students!E730=\"\",\"\",Students!E730)","v":""},{"$f":"IF(Students!F730=\"\",\"\",Students!F730)","v":""},{"$f":"IF(Students!G730=\"\",\"\",Students!G730)","v":""},{"$f":"IF(Students!G730=\"\",\"\",DATEDIF(Students!G730,Settings!$A$2,\"y\"))","v":""},{"$f":"IF(Students!C730=\"\",\"\",RIGHT(Home!$B$11,5))","v":""}]
[null,null,null,null,null,null,729,{"$f":"IF(Students!C731=\"\",\"\",Students!C731)","v":""},{"$f":"IF(Students!D731=\"\",\"\",Students!D731)","v":""},{"$f":"IF(Students!C731=\"\",\"\",H730&\" \"&I730&\" \"&O730)","v":""},{"$f":"IF(Students!E731=\"\",\"\",Students!E731)","v":""},{"$f":"IF(Students!F731=\"\",\"\",Students!F731)","v":""},{"$f":"IF(Students!G731=\"\",\"\",Students!G731)","v":""},{"$f":"IF(Students!G731=\"\",\"\",DATEDIF(Students!G731,Settings!$A$2,\"y\"))","v":""},{"$f":"IF(Students!C731=\"\",\"\",RIGHT(Home!$B$11,5))","v":""}]
[null,null,null,null,null,null,730,{"$f":"IF(Students!C732=\"\",\"\",Students!C732)","v":""},{"$f":"IF(Students!D732=\"\",\"\",Students!D732)","v":""},{"$f":"IF(Students!C732=\"\",\"\",H731&\" \"&I731&\" \"&O731)","v":""},{"$f":"IF(Students!E732=\"\",\"\",Students!E732)","v":""},{"$f":"IF(Students!F732=\"\",\"\",Students!F732)","v":""},{"$f":"IF(Students!G732=\"\",\"\",Students!G732)","v":""},{"$f":"IF(Students!G732=\"\",\"\",DATEDIF(Students!G732,Settings!$A$2,\"y\"))","v":""},{"$f":"IF(Students!C732=\"\",\"\",RIGHT(Home!$B$11,5))","v":""}]
[null,null,null,null,null,null,731,{"$f":"IF(Students!C733=\"\",\"\",Students!C733)","v":""},{"$f":"IF(Students!D733=\"\",\"\",Students!D733)","v":""},{"$f":"IF(Students!C733=\"\",\"\",H732&\" \"&I732&\" \"&O732)","v":""},{"$f":"IF(Students!E733=\"\",\"\",Students!E733)","v":""},{"$f":"IF(Students!F733=\"\",\"\",Students!F733)","v":""},{"$f":"IF(Students!G733=\"\",\"\",Students!G733)","v":""},{"$f":"IF(Students!G733=\"\",\"\",DATEDIF(Students!G733,Settings!$A$2,\"y\"))","v":""},{"$f":"IF(Students!C733=\"\",\"\",RIGHT(Home!$B$11,5))","v":""}]
[null,null,null,null,null,null,732,{"$f":"IF(Students!C734=\"\",\"\",Students!C734)","v":""},{"$f":"IF(Students!D734=\"\",\"\",Students!D734)","v":""},{"$f":"IF(Students!C734=\"\",\"\",H733&\" \"&I733&\" \"&O733)","v":""},{"$f":"IF(Students!E734=\"\",\"\",Students!E734)","v":""},{"$f":"IF(Students!F734=\"\",\"\",Students!F734)","v":""},{"$f":"IF(Students!G734=\"\",\"\",Students!G734)","v":""},{"$f":"IF(Students!G734=\"\",\"\",DATEDIF(Students!G734,Settings!$A$2,\"y\"))","v":""},{"$f":"IF(Students!C734=\"\",\"\",RIGHT(Home!$B$11,5))","v":""}]
[null,null,null,null,null,null,733,{"$f":"IF(Students!C735=\"\",\"\",Students!C735)","v":""},{"$f":"IF(Students!D735=\"\",\"\",Students!D735)","v":""},{"$f":"IF(Students!C735=\"\",\"\",H734&\" \"&I734&\" \"&O734)","v":""},{"$f":"IF(Students!E735=\"\",\"\",Students!E735)","v":""},{"$f":"IF(Students!F735=\"\",\"\",Students!F735)","v":""},{"$f":"IF(Students!G735=\"\",\"\",Students!G735)","v":""},{"$f":"IF(Students!G735=\"\",\"\",DATEDIF(Students!G735,Settings!$A$2,\"y\"))","v":""},{"$f":"IF(Students!C735=\"\",\"\",RIGHT(Home!$B$11,5))","v":""}]
[null,null,null,null,null,null,734,{"$f":"IF(Students!C736=\"\",\"\",Students!C736)","v":""},{"$f":"IF(Students!D736=\"\",\"\",Students!D736)","v":""},{"$f":"IF(Students!C736=\"\",\"\",H735&\" \"&I735&\" \"&O735)","v":""},{"$f":"IF(Students!E736=\"\",\"\",Students!E736)","v":""},{"$f":"IF(Students!F736=\"\",\"\",Students!F736)","v":""},{"$f":"IF(Students!G736=\"\",\"\",Students!G736)","v":""},{"$f":"IF(Students!G736=\"\",\"\",DATEDIF(Students!G736,Settings!$A$2,\"y\"))","v":""},{"$f":"IF(Students!C736=\"\",\"\",RIGHT(Home!$B$11,5))","v":""}]
[null,null,null,null,null,null,735,{"$f":"IF(Students!C737=\"\",\"\",Students!C737)","v":""},{"$f":"IF(Students!D737=\"\",\"\",Students!D737)","v":""},{"$f":"IF(Students!C737=\"\",\"\",H736&\" \"&I736&\" \"&O736)","v":""},{"$f":"IF(Students!E737=\"\",\"\",Students!E737)","v":""},{"$f":"IF(Students!F737=\"\",\"\",Students!F737)","v":""},{"$f":"IF(Students!G737=\"\",\"\",Students!G737)","v":""},{"$f":"IF(Students!G737=\"\",\"\",DATEDIF(Students!G737,Settings!$A$2,\"y\"))","v":""},{"$f":"IF(Students!C737=\"\",\"\",RIGHT(Home!$B$11,5))","v":""}]
[null,null,null,null,null,null,736,{"$f":"IF(Students!C738=\"\",\"\",Students!C738)","v":""},{"$f":"IF(Students!D738=\"\",\"\",Students!D738)","v":""},{"$f":"IF(Students!C738=\"\",\"\",H737&\" \"&I737&\" \"&O737)","v":""},{"$f":"IF(Students!E738=\"\",\"\",Students!E738)","v":""},{"$f":"IF(Students!F738=\"\",\"\",Students!F738)","v":""},{"$f":"IF(Students!G738=\"\",\"\",Students!G738)","v":""},{"$f":"IF(Students!G738=\"\",\"\",DATEDIF(Students!G738,Settings!$A$2,\"y\"))","v":""},{"$f":"IF(Students!C738=\"\",\"\",RIGHT(Home!$B$11,5))","v":""}]
[null,null,null,null,null,null,737,{"$f":"IF(Students!C739=\"\",\"\",Students!C739)","v":""},{"$f":"IF(Students!D739=\"\",\"\",Students!D739)","v":""},{"$f":"IF(Students!C739=\"\",\"\",H738&\" \"&I738&\" \"&O738)","v":""},{"$f":"IF(Students!E739=\"\",\"\",Students!E739)","v":""},{"$f":"IF(Students!F739=\"\",\"\",Students!F739)","v":""},{"$f":"IF(Students!G739=\"\",\"\",Students!G739)","v":""},{"$f":"IF(Students!G739=\"\",\"\",DATEDIF(Students!G739,Settings!$A$2,\"y\"))","v":""},{"$f":"IF(Students!C739=\"\",\"\",RIGHT(Home!$B$11,5))","v":""}]
[null,null,null,null,null,null,738,{"$f":"IF(Students!C740=\"\",\"\",Students!C740)","v":""},{"$f":"IF(Students!D740=\"\",\"\",Students!D740)","v":""},{"$f":"IF(Students!C740=\"\",\"\",H739&\" \"&I739&\" \"&O739)","v":""},{"$f":"IF(Students!E740=\"\",\"\",Students!E740)","v":""},{"$f":"IF(Students!F740=\"\",\"\",Students!F740)","v":""},{"$f":"IF(Students!G740=\"\",\"\",Students!G740)","v":""},{"$f":"IF(Students!G740=\"\",\"\",DATEDIF(Students!G740,Settings!$A$2,\"y\"))","v":""},{"$f":"IF(Students!C740=\"\",\"\",RIGHT(Home!$B$11,5))","v":""}]
[null,null,null,null,null,null,739,{"$f":"IF(Students!C741=\"\",\"\",Students!C741)","v":""},{"$f":"IF(Students!D741=\"\",\"\",Students!D741)","v":""},{"$f":"IF(Students!C741=\"\",\"\",H740&\" \"&I740&\" \"&O740)","v":""},{"$f":"IF(Students!E741=\"\",\"\",Students!E741)","v":""},{"$f":"IF(Students!F741=\"\",\"\",Students!F741)","v":""},{"$f":"IF(Students!G741=\"\",\"\",Students!G741)","v":""},{"$f":"IF(Students!G741=\"\",\"\",DATEDIF(Students!G741,Settings!$A$2,\"y\"))","v":""},{"$f":"IF(Students!C741=\"\",\"\",RIGHT(Home!$B$11,5))","v":""}]
[null,null,null,null,null,null,740,{"$f":"IF(Students!C742=\"\",\"\",Students!C742)","v":""},{"$f":"IF(Students!D742=\"\",\"\",Students!D742)","v":""},{"$f":"IF(Students!C742=\"\",\"\",H741&\" \"&I741&\" \"&O741)","v":""},{"$f":"IF(Students!E742=\"\",\"\",Students!E742)","v":""},{"$f":"IF(Students!F742=\"\",\"\",Students!F742)","v":""},{"$f":"IF(Students!G742=\"\",\"\",Students!G742)","v":""},{"$f":"IF(Students!G742=\"\",\"\",DATEDIF(Students!G742,Settings!$A$2,\"y\"))","v":""},{"$f":"IF(Students!C742=\"\",\"\",RIGHT(Home!$B$11,5))","v":""}]
[null,null,null,null,null,null,741,{"$f":"IF(Students!C743=\"\",\"\",Students!C743)","v":""},{"$f":"IF(Students!D743=\"\",\"\",Students!D743)","v":""},{"$f":"IF(Students!C743=\"\",\"\",H742&\" \"&I742&\" \"&O742)","v":""},{"$f":"IF(Students!E743=\"\",\"\",Students!E743)","v":""},{"$f":"IF(Students!F743=\"\",\"\",Students!F743)","v":""},{"$f":"IF(Students!G743=\"\",\"\",Students!G743)","v":""},{"$f":"IF(Students!G743=\"\",\"\",DATEDIF(Students!G743,Settings!$A$2,\"y\"))","v":""},{"$f":"IF(Students!C743=\"\",\"\",RIGHT(Home!$B$11,5))","v":""}]
[null,null,null,null,null,null,742,{"$f":"IF(Students!C744=\"\",\"\",Students!C744)","v":""},{"$f":"IF(Students!D744=\"\",\"\",Students!D744)","v":""},{"$f":"IF(Students!C744=\"\",\"\",H743&\" \"&I743&\" \"&O743)","v":""},{"$f":"IF(Students!E744=\"\",\"\",Students!E744)","v":""},{"$f":"IF(Students!F744=\"\",\"\",Students!F744)","v":""},{"$f":"IF(Students!G744=\"\",\"\",Students!G744)","v":""},{"$f":"IF(Students!G744=\"\",\"\",DATEDIF(Students!G744,Settings!$A$2,\"y\"))","v":""},{"$f":"IF(Students!C744=\"\",\"\",RIGHT(Home!$B$11,5))","v":""}]
[null,null,null,null,null,null,743,{"$f":"IF(Students!C745=\"\",\"\",Students!C745)","v":""},{"$f":"IF(Students!D745=\"\",\"\",Students!D745)","v":""},{"$f":"IF(Students!C745=\"\",\"\",H744&\" \"&I744&\" \"&O744)","v":""},{"$f":"IF(Students!E745=\"\",\"\",Students!E745)","v":""},{"$f":"IF(Students!F745=\"\",\"\",Students!F745)","v":""},{"$f":"IF(Students!G745=\"\",\"\",Students!G745)","v":""},{"$f":"IF(Students!G745=\"\",\"\",DATEDIF(Students!G745,Settings!$A$2,\"y\"))","v":""},{"$f":"IF(Students!C745=\"\",\"\",RIGHT(Home!$B$11,5))","v":""}]
[null,null,null,null,null,null,744,{"$f":"IF(Students!C746=\"\",\"\",Students!C746)","v":""},{"$f":"IF(Students!D746=\"\",\"\",Students!D746)","v":""},{"$f":"IF(Students!C746=\"\",\"\",H745&\" \"&I745&\" \"&O745)","v":""},{"$f":"IF(Students!E746=\"\",\"\",Students!E746)","v":""},{"$f":"IF(Students!F746=\"\",\"\",Students!F746)","v":""},{"$f":"IF(Students!G746=\"\",\"\",Students!G746)","v":""},{"$f":"IF(Students!G746=\"\",\"\",DATEDIF(Students!G746,Settings!$A$2,\"y\"))","v":""},{"$f":"IF(Students!C746=\"\",\"\",RIGHT(Home!$B$11,5))","v":""}]
[null,null,null,null,null,null,745,{"$f":"IF(Students!C747=\"\",\"\",Students!C747)","v":""},{"$f":"IF(Students!D747=\"\",\"\",Students!D747)","v":""},{"$f":"IF(Students!C747=\"\",\"\",H746&\" \"&I746&\" \"&O746)","v":""},{"$f":"IF(Students!E747=\"\",\"\",Students!E747)","v":""},{"$f":"IF(Students!F747=\"\",\"\",Students!F747)","v":""},{"$f":"IF(Students!G747=\"\",\"\",Students!G747)","v":""},{"$f":"IF(Students!G747=\"\",\"\",DATEDIF(Students!G747,Settings!$A$2,\"y\"))","v":""},{"$f":"IF(Students!C747=\"\",\"\",RIGHT(Home!$B$11,5))","v":""}]
[null,null,null,null,null,null,746,{"$f":"IF(Students!C748=\"\",\"\",Students!C748)","v":""},{"$f":"IF(Students!D748=\"\",\"\",Students!D748)","v":""},{"$f":"IF(Students!C748=\"\",\"\",H747&\" \"&I747&\" \"&O747)","v":""},{"$f":"IF(Students!E748=\"\",\"\",Students!E748)","v":""},{"$f":"IF(Students!F748=\"\",\"\",Students!F748)","v":""},{"$f":"IF(Students!G748=\"\",\"\",Students!G748)","v":""},{"$f":"IF(Students!G748=\"\",\"\",DATEDIF(Students!G748,Settings!$A$2,\"y\"))","v":""},{"$f":"IF(Students!C748=\"\",\"\",RIGHT(Home!$B$11,5))","v":""}]
[null,null,null,null,null,null,747,{"$f":"IF(Students!C749=\"\",\"\",Students!C749)","v":""},{"$f":"IF(Students!D749=\"\",\"\",Students!D749)","v":""},{"$f":"IF(Students!C749=\"\",\"\",H748&\" \"&I748&\" \"&O748)","v":""},{"$f":"IF(Students!E749=\"\",\"\",Students!E749)","v":""},{"$f":"IF(Students!F749=\"\",\"\",Students!F749)","v":""},{"$f":"IF(Students!G749=\"\",\"\",Students!G749)","v":""},{"$f":"IF(Students!G749=\"\",\"\",DATEDIF(Students!G749,Settings!$A$2,\"y\"))","v":""},{"$f":"IF(Students!C749=\"\",\"\",RIGHT(Home!$B$11,5))","v":""}]
[null,null,null,null,null,null,748,{"$f":"IF(Students!C750=\"\",\"\",Students!C750)","v":""},{"$f":"IF(Students!D750=\"\",\"\",Students!D750)","v":""},{"$f":"IF(Students!C750=\"\",\"\",H749&\" \"&I749&\" \"&O749)","v":""},{"$f":"IF(Students!E750=\"\",\"\",Students!E750)","v":""},{"$f":"IF(Students!F750=\"\",\"\",Students!F750)","v":""},{"$f":"IF(Students!G750=\"\",\"\",Students!G750)","v":""},{"$f":"IF(Students!G750=\"\",\"\",DATEDIF(Students!G750,Settings!$A$2,\"y\"))","v":""},{"$f":"IF(Students!C750=\"\",\"\",RIGHT(Home!$B$11,5))","v":""}]
[null,null,null,null,null,null,749,{"$f":"IF(Students!C751=\"\",\"\",Students!C751)","v":""},{"$f":"IF(Students!D751=\"\",\"\",Students!D751)","v":""},{"$f":"IF(Students!C751=\"\",\"\",H750&\" \"&I750&\" \"&O750)","v":""},{"$f":"IF(Students!E751=\"\",\"\",Students!E751)","v":""},{"$f":"IF(Students!F751=\"\",\"\",Students!F751)","v":""},{"$f":"IF(Students!G751=\"\",\"\",Students!G751)","v":""},{"$f":"IF(Students!G751=\"\",\"\",DATEDIF(Students!G751,Settings!$A$2,\"y\"))","v":""},{"$f":"IF(Students!C751=\"\",\"\",RIGHT(Home!$B$11,5))","v":""}]
[null,null,null,null,null,null,750,{"$f":"IF(Students!C752=\"\",\"\",Students!C752)","v":""},{"$f":"IF(Students!D752=\"\",\"\",Students!D752)","v":""},{"$f":"IF(Students!C752=\"\",\"\",H751&\" \"&I751&\" \"&O751)","v":""},{"$f":"IF(Students!E752=\"\",\"\",Students!E752)","v":""},{"$f":"IF(Students!F752=\"\",\"\",Students!F752)","v":""},{"$f":"IF(Students!G752=\"\",\"\",Students!G752)","v":""},{"$f":"IF(Students!G752=\"\",\"\",DATEDIF(Students!G752,Settings!$A$2,\"y\"))","v":""},{"$f":"IF(Students!C752=\"\",\"\",RIGHT(Home!$B$11,5))","v":""}]
[null,null,null,null,null,null,751,{"$f":"IF(Students!C753=\"\",\"\",Students!C753)","v":""},{"$f":"IF(Students!D753=\"\",\"\",Students!D753)","v":""},{"$f":"IF(Students!C753=\"\",\"\",H752&\" \"&I752&\" \"&O752)","v":""},{"$f":"IF(Students!E753=\"\",\"\",Students!E753)","v":""},{"$f":"IF(Students!F753=\"\",\"\",Students!F753)","v":""},{"$f":"IF(Students!G753=\"\",\"\",Students!G753)","v":""},{"$f":"IF(Students!G753=\"\",\"\",DATEDIF(Students!G753,Settings!$A$2,\"y\"))","v":""},{"$f":"IF(Students!C753=\"\",\"\",RIGHT(Home!$B$11,5))","v":""}]
[null,null,null,null,null,null,752,{"$f":"IF(Students!C754=\"\",\"\",Students!C754)","v":""},{"$f":"IF(Students!D754=\"\",\"\",Students!D754)","v":""},{"$f":"IF(Students!C754=\"\",\"\",H753&\" \"&I753&\" \"&O753)","v":""},{"$f":"IF(Students!E754=\"\",\"\",Students!E754)","v":""},{"$f":"IF(Students!F754=\"\",\"\",Students!F754)","v":""},{"$f":"IF(Students!G754=\"\",\"\",Students!G754)","v":""},{"$f":"IF(Students!G754=\"\",\"\",DATEDIF(Students!G754,Settings!$A$2,\"y\"))","v":""},{"$f":"IF(Students!C754=\"\",\"\",RIGHT(Home!$B$11,5))","v":""}]
[null,null,null,null,null,null,753,{"$f":"IF(Students!C755=\"\",\"\",Students!C755)","v":""},{"$f":"IF(Students!D755=\"\",\"\",Students!D755)","v":""},{"$f":"IF(Students!C755=\"\",\"\",H754&\" \"&I754&\" \"&O754)","v":""},{"$f":"IF(Students!E755=\"\",\"\",Students!E755)","v":""},{"$f":"IF(Students!F755=\"\",\"\",Students!F755)","v":""},{"$f":"IF(Students!G755=\"\",\"\",Students!G755)","v":""},{"$f":"IF(Students!G755=\"\",\"\",DATEDIF(Students!G755,Settings!$A$2,\"y\"))","v":""},{"$f":"IF(Students!C755=\"\",\"\",RIGHT(Home!$B$11,5))","v":""}]
[null,null,null,null,null,null,754,{"$f":"IF(Students!C756=\"\",\"\",Students!C756)","v":""},{"$f":"IF(Students!D756=\"\",\"\",Students!D756)","v":""},{"$f":"IF(Students!C756=\"\",\"\",H755&\" \"&I755&\" \"&O755)","v":""},{"$f":"IF(Students!E756=\"\",\"\",Students!E756)","v":""},{"$f":"IF(Students!F756=\"\",\"\",Students!F756)","v":""},{"$f":"IF(Students!G756=\"\",\"\",Students!G756)","v":""},{"$f":"IF(Students!G756=\"\",\"\",DATEDIF(Students!G756,Settings!$A$2,\"y\"))","v":""},{"$f":"IF(Students!C756=\"\",\"\",RIGHT(Home!$B$11,5))","v":""}]
[null,null,null,null,null,null,755,{"$f":"IF(Students!C757=\"\",\"\",Students!C757)","v":""},{"$f":"IF(Students!D757=\"\",\"\",Students!D757)","v":""},{"$f":"IF(Students!C757=\"\",\"\",H756&\" \"&I756&\" \"&O756)","v":""},{"$f":"IF(Students!E757=\"\",\"\",Students!E757)","v":""},{"$f":"IF(Students!F757=\"\",\"\",Students!F757)","v":""},{"$f":"IF(Students!G757=\"\",\"\",Students!G757)","v":""},{"$f":"IF(Students!G757=\"\",\"\",DATEDIF(Students!G757,Settings!$A$2,\"y\"))","v":""},{"$f":"IF(Students!C757=\"\",\"\",RIGHT(Home!$B$11,5))","v":""}]
[null,null,null,null,null,null,756,{"$f":"IF(Students!C758=\"\",\"\",Students!C758)","v":""},{"$f":"IF(Students!D758=\"\",\"\",Students!D758)","v":""},{"$f":"IF(Students!C758=\"\",\"\",H757&\" \"&I757&\" \"&O757)","v":""},{"$f":"IF(Students!E758=\"\",\"\",Students!E758)","v":""},{"$f":"IF(Students!F758=\"\",\"\",Students!F758)","v":""},{"$f":"IF(Students!G758=\"\",\"\",Students!G758)","v":""},{"$f":"IF(Students!G758=\"\",\"\",DATEDIF(Students!G758,Settings!$A$2,\"y\"))","v":""},{"$f":"IF(Students!C758=\"\",\"\",RIGHT(Home!$B$11,5))","v":""}]
[null,null,null,null,null,null,757,{"$f":"IF(Students!C759=\"\",\"\",Students!C759)","v":""},{"$f":"IF(Students!D759=\"\",\"\",Students!D759)","v":""},{"$f":"IF(Students!C759=\"\",\"\",H758&\" \"&I758&\" \"&O758)","v":""},{"$f":"IF(Students!E759=\"\",\"\",Students!E759)","v":""},{"$f":"IF(Students!F759=\"\",\"\",Students!F759)","v":""},{"$f":"IF(Students!G759=\"\",\"\",Students!G759)","v":""},{"$f":"IF(Students!G759=\"\",\"\",DATEDIF(Students!G759,Settings!$A$2,\"y\"))","v":""},{"$f":"IF(Students!C759=\"\",\"\",RIGHT(Home!$B$11,5))","v":""}]
[null,null,null,null,null,null,758,{"$f":"IF(Students!C760=\"\",\"\",Students!C760)","v":""},{"$f":"IF(Students!D760=\"\",\"\",Students!D760)","v":""},{"$f":"IF(Students!C760=\"\",\"\",H759&\" \"&I759&\" \"&O759)","v":""},{"$f":"IF(Students!E760=\"\",\"\",Students!E760)","v":""},{"$f":"IF(Students!F760=\"\",\"\",Students!F760)","v":""},{"$f":"IF(Students!G760=\"\",\"\",Students!G760)","v":""},{"$f":"IF(Students!G760=\"\",\"\",DATEDIF(Students!G760,Settings!$A$2,\"y\"))","v":""},{"$f":"IF(Students!C760=\"\",\"\",RIGHT(Home!$B$11,5))","v":""}]
[null,null,null,null,null,null,759,{"$f":"IF(Students!C761=\"\",\"\",Students!C761)","v":""},{"$f":"IF(Students!D761=\"\",\"\",Students!D761)","v":""},{"$f":"IF(Students!C761=\"\",\"\",H760&\" \"&I760&\" \"&O760)","v":""},{"$f":"IF(Students!E761=\"\",\"\",Students!E761)","v":""},{"$f":"IF(Students!F761=\"\",\"\",Students!F761)","v":""},{"$f":"IF(Students!G761=\"\",\"\",Students!G761)","v":""},{"$f":"IF(Students!G761=\"\",\"\",DATEDIF(Students!G761,Settings!$A$2,\"y\"))","v":""},{"$f":"IF(Students!C761=\"\",\"\",RIGHT(Home!$B$11,5))","v":""}]
[null,null,null,null,null,null,760,{"$f":"IF(Students!C762=\"\",\"\",Students!C762)","v":""},{"$f":"IF(Students!D762=\"\",\"\",Students!D762)","v":""},{"$f":"IF(Students!C762=\"\",\"\",H761&\" \"&I761&\" \"&O761)","v":""},{"$f":"IF(Students!E762=\"\",\"\",Students!E762)","v":""},{"$f":"IF(Students!F762=\"\",\"\",Students!F762)","v":""},{"$f":"IF(Students!G762=\"\",\"\",Students!G762)","v":""},{"$f":"IF(Students!G762=\"\",\"\",DATEDIF(Students!G762,Settings!$A$2,\"y\"))","v":""},{"$f":"IF(Students!C762=\"\",\"\",RIGHT(Home!$B$11,5))","v":""}]
[null,null,null,null,null,null,761,{"$f":"IF(Students!C763=\"\",\"\",Students!C763)","v":""},{"$f":"IF(Students!D763=\"\",\"\",Students!D763)","v":""},{"$f":"IF(Students!C763=\"\",\"\",H762&\" \"&I762&\" \"&O762)","v":""},{"$f":"IF(Students!E763=\"\",\"\",Students!E763)","v":""},{"$f":"IF(Students!F763=\"\",\"\",Students!F763)","v":""},{"$f":"IF(Students!G763=\"\",\"\",Students!G763)","v":""},{"$f":"IF(Students!G763=\"\",\"\",DATEDIF(Students!G763,Settings!$A$2,\"y\"))","v":""},{"$f":"IF(Students!C763=\"\",\"\",RIGHT(Home!$B$11,5))","v":""}]
[null,null,null,null,null,null,762,{"$f":"IF(Students!C764=\"\",\"\",Students!C764)","v":""},{"$f":"IF(Students!D764=\"\",\"\",Students!D764)","v":""},{"$f":"IF(Students!C764=\"\",\"\",H763&\" \"&I763&\" \"&O763)","v":""},{"$f":"IF(Students!E764=\"\",\"\",Students!E764)","v":""},{"$f":"IF(Students!F764=\"\",\"\",Students!F764)","v":""},{"$f":"IF(Students!G764=\"\",\"\",Students!G764)","v":""},{"$f":"IF(Students!G764=\"\",\"\",DATEDIF(Students!G764,Settings!$A$2,\"y\"))","v":""},{"$f":"IF(Students!C764=\"\",\"\",RIGHT(Home!$B$11,5))","v":""}]
[null,null,null,null,null,null,763,{"$f":"IF(Students!C765=\"\",\"\",Students!C765)","v":""},{"$f":"IF(Students!D765=\"\",\"\",Students!D765)","v":""},{"$f":"IF(Students!C765=\"\",\"\",H764&\" \"&I764&\" \"&O764)","v":""},{"$f":"IF(Students!E765=\"\",\"\",Students!E765)","v":""},{"$f":"IF(Students!F765=\"\",\"\",Students!F765)","v":""},{"$f":"IF(Students!G765=\"\",\"\",Students!G765)","v":""},{"$f":"IF(Students!G765=\"\",\"\",DATEDIF(Students!G765,Settings!$A$2,\"y\"))","v":""},{"$f":"IF(Students!C765=\"\",\"\",RIGHT(Home!$B$11,5))","v":""}]
[null,null,null,null,null,null,764,{"$f":"IF(Students!C766=\"\",\"\",Students!C766)","v":""},{"$f":"IF(Students!D766=\"\",\"\",Students!D766)","v":""},{"$f":"IF(Students!C766=\"\",\"\",H765&\" \"&I765&\" \"&O765)","v":""},{"$f":"IF(Students!E766=\"\",\"\",Students!E766)","v":""},{"$f":"IF(Students!F766=\"\",\"\",Students!F766)","v":""},{"$f":"IF(Students!G766=\"\",\"\",Students!G766)","v":""},{"$f":"IF(Students!G766=\"\",\"\",DATEDIF(Students!G766,Settings!$A$2,\"y\"))","v":""},{"$f":"IF(Students!C766=\"\",\"\",RIGHT(Home!$B$11,5))","v":""}]
[null,null,null,null,null,null,765,{"$f":"IF(Students!C767=\"\",\"\",Students!C767)","v":""},{"$f":"IF(Students!D767=\"\",\"\",Students!D767)","v":""},{"$f":"IF(Students!C767=\"\",\"\",H766&\" \"&I766&\" \"&O766)","v":""},{"$f":"IF(Students!E767=\"\",\"\",Students!E767)","v":""},{"$f":"IF(Students!F767=\"\",\"\",Students!F767)","v":""},{"$f":"IF(Students!G767=\"\",\"\",Students!G767)","v":""},{"$f":"IF(Students!G767=\"\",\"\",DATEDIF(Students!G767,Settings!$A$2,\"y\"))","v":""},{"$f":"IF(Students!C767=\"\",\"\",RIGHT(Home!$B$11,5))","v":""}]
[null,null,null,null,null,null,766,{"$f":"IF(Students!C768=\"\",\"\",Students!C768)","v":""},{"$f":"IF(Students!D768=\"\",\"\",Students!D768)","v":""},{"$f":"IF(Students!C768=\"\",\"\",H767&\" \"&I767&\" \"&O767)","v":""},{"$f":"IF(Students!E768=\"\",\"\",Students!E768)","v":""},{"$f":"IF(Students!F768=\"\",\"\",Students!F768)","v":""},{"$f":"IF(Students!G768=\"\",\"\",Students!G768)","v":""},{"$f":"IF(Students!G768=\"\",\"\",DATEDIF(Students!G768,Settings!$A$2,\"y\"))","v":""},{"$f":"IF(Students!C768=\"\",\"\",RIGHT(Home!$B$11,5))","v":""}]
[null,null,null,null,null,null,767,{"$f":"IF(Students!C769=\"\",\"\",Students!C769)","v":""},{"$f":"IF(Students!D769=\"\",\"\",Students!D769)","v":""},{"$f":"IF(Students!C769=\"\",\"\",H768&\" \"&I768&\" \"&O768)","v":""},{"$f":"IF(Students!E769=\"\",\"\",Students!E769)","v":""},{"$f":"IF(Students!F769=\"\",\"\",Students!F769)","v":""},{"$f":"IF(Students!G769=\"\",\"\",Students!G769)","v":""},{"$f":"IF(Students!G769=\"\",\"\",DATEDIF(Students!G769,Settings!$A$2,\"y\"))","v":""},{"$f":"IF(Students!C769=\"\",\"\",RIGHT(Home!$B$11,5))","v":""}]
[null,null,null,null,null,null,768,{"$f":"IF(Students!C770=\"\",\"\",Students!C770)","v":""},{"$f":"IF(Students!D770=\"\",\"\",Students!D770)","v":""},{"$f":"IF(Students!C770=\"\",\"\",H769&\" \"&I769&\" \"&O769)","v":""},{"$f":"IF(Students!E770=\"\",\"\",Students!E770)","v":""},{"$f":"IF(Students!F770=\"\",\"\",Students!F770)","v":""},{"$f":"IF(Students!G770=\"\",\"\",Students!G770)","v":""},{"$f":"IF(Students!G770=\"\",\"\",DATEDIF(Students!G770,Settings!$A$2,\"y\"))","v":""},{"$f":"IF(Students!C770=\"\",\"\",RIGHT(Home!$B$11,5))","v":""}]
[null,null,null,null,null,null,769,{"$f":"IF(Students!C771=\"\",\"\",Students!C771)","v":""},{"$f":"IF(Students!D771=\"\",\"\",Students!D771)","v":""},{"$f":"IF(Students!C771=\"\",\"\",H770&\" \"&I770&\" \"&O770)","v":""},{"$f":"IF(Students!E771=\"\",\"\",Students!E771)","v":""},{"$f":"IF(Students!F771=\"\",\"\",Students!F771)","v":""},{"$f":"IF(Students!G771=\"\",\"\",Students!G771)","v":""},{"$f":"IF(Students!G771=\"\",\"\",DATEDIF(Students!G771,Settings!$A$2,\"y\"))","v":""},{"$f":"IF(Students!C771=\"\",\"\",RIGHT(Home!$B$11,5))","v":""}]
[null,null,null,null,null,null,{"$f":"ROW()-1","v":770},{"$f":"IF(Students!C772=\"\",\"\",Students!C772)","v":""},{"$f":"IF(Students!D772=\"\",\"\",Students!D772)","v":""},{"$f":"IF(Students!C772=\"\",\"\",H771&\" \"&I771&\" \"&O771)","v":""},{"$f":"IF(Students!E772=\"\",\"\",Students!E772)","v":""},{"$f":"IF(Students!F772=\"\",\"\",Students!F772)","v":""},{"$f":"IF(Students!G772=\"\",\"\",Students!G772)","v":""},{"$f":"IF(Students!G772=\"\",\"\",DATEDIF(Students!G772,Settings!$A$2,\"y\"))","v":""},{"$f":"IF(Students!C772=\"\",\"\",RIGHT(Home!$B$11,5))","v":""}]
[null,null,null,null,null,null,771,{"$f":"IF(Students!C773=\"\",\"\",Students!C773)","v":""},{"$f":"IF(Students!D773=\"\",\"\",Students!D773)","v":""},{"$f":"IF(Students!C773=\"\",\"\",H772&\" \"&I772&\" \"&O772)","v":""},{"$f":"IF(Students!E773=\"\",\"\",Students!E773)","v":""},{"$f":"IF(Students!F773=\"\",\"\",Students!F773)","v":""},{"$f":"IF(Students!G773=\"\",\"\",Students!G773)","v":""},{"$f":"IF(Students!G773=\"\",\"\",DATEDIF(Students!G773,Settings!$A$2,\"y\"))","v":""},{"$f":"IF(Students!C773=\"\",\"\",RIGHT(Home!$B$11,5))","v":""}]
[null,null,null,null,null,null,772,{"$f":"IF(Students!C774=\"\",\"\",Students!C774)","v":""},{"$f":"IF(Students!D774=\"\",\"\",Students!D774)","v":""},{"$f":"IF(Students!C774=\"\",\"\",H773&\" \"&I773&\" \"&O773)","v":""},{"$f":"IF(Students!E774=\"\",\"\",Students!E774)","v":""},{"$f":"IF(Students!F774=\"\",\"\",Students!F774)","v":""},{"$f":"IF(Students!G774=\"\",\"\",Students!G774)","v":""},{"$f":"IF(Students!G774=\"\",\"\",DATEDIF(Students!G774,Settings!$A$2,\"y\"))","v":""},{"$f":"IF(Students!C774=\"\",\"\",RIGHT(Home!$B$11,5))","v":""}]
[null,null,null,null,null,null,773,{"$f":"IF(Students!C775=\"\",\"\",Students!C775)","v":""},{"$f":"IF(Students!D775=\"\",\"\",Students!D775)","v":""},{"$f":"IF(Students!C775=\"\",\"\",H774&\" \"&I774&\" \"&O774)","v":""},{"$f":"IF(Students!E775=\"\",\"\",Students!E775)","v":""},{"$f":"IF(Students!F775=\"\",\"\",Students!F775)","v":""},{"$f":"IF(Students!G775=\"\",\"\",Students!G775)","v":""},{"$f":"IF(Students!G775=\"\",\"\",DATEDIF(Students!G775,Settings!$A$2,\"y\"))","v":""},{"$f":"IF(Students!C775=\"\",\"\",RIGHT(Home!$B$11,5))","v":""}]
[null,null,null,null,null,null,774,{"$f":"IF(Students!C776=\"\",\"\",Students!C776)","v":""},{"$f":"IF(Students!D776=\"\",\"\",Students!D776)","v":""},{"$f":"IF(Students!C776=\"\",\"\",H775&\" \"&I775&\" \"&O775)","v":""},{"$f":"IF(Students!E776=\"\",\"\",Students!E776)","v":""},{"$f":"IF(Students!F776=\"\",\"\",Students!F776)","v":""},{"$f":"IF(Students!G776=\"\",\"\",Students!G776)","v":""},{"$f":"IF(Students!G776=\"\",\"\",DATEDIF(Students!G776,Settings!$A$2,\"y\"))","v":""},{"$f":"IF(Students!C776=\"\",\"\",RIGHT(Home!$B$11,5))","v":""}]
[null,null,null,null,null,null,775,{"$f":"IF(Students!C777=\"\",\"\",Students!C777)","v":""},{"$f":"IF(Students!D777=\"\",\"\",Students!D777)","v":""},{"$f":"IF(Students!C777=\"\",\"\",H776&\" \"&I776&\" \"&O776)","v":""},{"$f":"IF(Students!E777=\"\",\"\",Students!E777)","v":""},{"$f":"IF(Students!F777=\"\",\"\",Students!F777)","v":""},{"$f":"IF(Students!G777=\"\",\"\",Students!G777)","v":""},{"$f":"IF(Students!G777=\"\",\"\",DATEDIF(Students!G777,Settings!$A$2,\"y\"))","v":""},{"$f":"IF(Students!C777=\"\",\"\",RIGHT(Home!$B$11,5))","v":""}]
[null,null,null,null,null,null,776,{"$f":"IF(Students!C778=\"\",\"\",Students!C778)","v":""},{"$f":"IF(Students!D778=\"\",\"\",Students!D778)","v":""},{"$f":"IF(Students!C778=\"\",\"\",H777&\" \"&I777&\" \"&O777)","v":""},{"$f":"IF(Students!E778=\"\",\"\",Students!E778)","v":""},{"$f":"IF(Students!F778=\"\",\"\",Students!F778)","v":""},{"$f":"IF(Students!G778=\"\",\"\",Students!G778)","v":""},{"$f":"IF(Students!G778=\"\",\"\",DATEDIF(Students!G778,Settings!$A$2,\"y\"))","v":""},{"$f":"IF(Students!C778=\"\",\"\",RIGHT(Home!$B$11,5))","v":""}]
[null,null,null,null,null,null,777,{"$f":"IF(Students!C779=\"\",\"\",Students!C779)","v":""},{"$f":"IF(Students!D779=\"\",\"\",Students!D779)","v":""},{"$f":"IF(Students!C779=\"\",\"\",H778&\" \"&I778&\" \"&O778)","v":""},{"$f":"IF(Students!E779=\"\",\"\",Students!E779)","v":""},{"$f":"IF(Students!F779=\"\",\"\",Students!F779)","v":""},{"$f":"IF(Students!G779=\"\",\"\",Students!G779)","v":""},{"$f":"IF(Students!G779=\"\",\"\",DATEDIF(Students!G779,Settings!$A$2,\"y\"))","v":""},{"$f":"IF(Students!C779=\"\",\"\",RIGHT(Home!$B$11,5))","v":""}]
[null,null,null,null,null,null,778,{"$f":"IF(Students!C780=\"\",\"\",Students!C780)","v":""},{"$f":"IF(Students!D780=\"\",\"\",Students!D780)","v":""},{"$f":"IF(Students!C780=\"\",\"\",H779&\" \"&I779&\" \"&O779)","v":""},{"$f":"IF(Students!E780=\"\",\"\",Students!E780)","v":""},{"$f":"IF(Students!F780=\"\",\"\",Students!F780)","v":""},{"$f":"IF(Students!G780=\"\",\"\",Students!G780)","v":""},{"$f":"IF(Students!G780=\"\",\"\",DATEDIF(Students!G780,Settings!$A$2,\"y\"))","v":""},{"$f":"IF(Students!C780=\"\",\"\",RIGHT(Home!$B$11,5))","v":""}]
[null,null,null,null,null,null,779,{"$f":"IF(Students!C781=\"\",\"\",Students!C781)","v":""},{"$f":"IF(Students!D781=\"\",\"\",Students!D781)","v":""},{"$f":"IF(Students!C781=\"\",\"\",H780&\" \"&I780&\" \"&O780)","v":""},{"$f":"IF(Students!E781=\"\",\"\",Students!E781)","v":""},{"$f":"IF(Students!F781=\"\",\"\",Students!F781)","v":""},{"$f":"IF(Students!G781=\"\",\"\",Students!G781)","v":""},{"$f":"IF(Students!G781=\"\",\"\",DATEDIF(Students!G781,Settings!$A$2,\"y\"))","v":""},{"$f":"IF(Students!C781=\"\",\"\",RIGHT(Home!$B$11,5))","v":""}]
[null,null,null,null,null,null,780,{"$f":"IF(Students!C782=\"\",\"\",Students!C782)","v":""},{"$f":"IF(Students!D782=\"\",\"\",Students!D782)","v":""},{"$f":"IF(Students!C782=\"\",\"\",H781&\" \"&I781&\" \"&O781)","v":""},{"$f":"IF(Students!E782=\"\",\"\",Students!E782)","v":""},{"$f":"IF(Students!F782=\"\",\"\",Students!F782)","v":""},{"$f":"IF(Students!G782=\"\",\"\",Students!G782)","v":""},{"$f":"IF(Students!G782=\"\",\"\",DATEDIF(Students!G782,Settings!$A$2,\"y\"))","v":""},{"$f":"IF(Students!C782=\"\",\"\",RIGHT(Home!$B$11,5))","v":""}]
[null,null,null,null,null,null,781,{"$f":"IF(Students!C783=\"\",\"\",Students!C783)","v":""},{"$f":"IF(Students!D783=\"\",\"\",Students!D783)","v":""},{"$f":"IF(Students!C783=\"\",\"\",H782&\" \"&I782&\" \"&O782)","v":""},{"$f":"IF(Students!E783=\"\",\"\",Students!E783)","v":""},{"$f":"IF(Students!F783=\"\",\"\",Students!F783)","v":""},{"$f":"IF(Students!G783=\"\",\"\",Students!G783)","v":""},{"$f":"IF(Students!G783=\"\",\"\",DATEDIF(Students!G783,Settings!$A$2,\"y\"))","v":""},{"$f":"IF(Students!C783=\"\",\"\",RIGHT(Home!$B$11,5))","v":""}]
[null,null,null,null,null,null,782,{"$f":"IF(Students!C784=\"\",\"\",Students!C784)","v":""},{"$f":"IF(Students!D784=\"\",\"\",Students!D784)","v":""},{"$f":"IF(Students!C784=\"\",\"\",H783&\" \"&I783&\" \"&O783)","v":""},{"$f":"IF(Students!E784=\"\",\"\",Students!E784)","v":""},{"$f":"IF(Students!F784=\"\",\"\",Students!F784)","v":""},{"$f":"IF(Students!G784=\"\",\"\",Students!G784)","v":""},{"$f":"IF(Students!G784=\"\",\"\",DATEDIF(Students!G784,Settings!$A$2,\"y\"))","v":""},{"$f":"IF(Students!C784=\"\",\"\",RIGHT(Home!$B$11,5))","v":""}]
[null,null,null,null,null,null,783,{"$f":"IF(Students!C785=\"\",\"\",Students!C785)","v":""},{"$f":"IF(Students!D785=\"\",\"\",Students!D785)","v":""},{"$f":"IF(Students!C785=\"\",\"\",H784&\" \"&I784&\" \"&O784)","v":""},{"$f":"IF(Students!E785=\"\",\"\",Students!E785)","v":""},{"$f":"IF(Students!F785=\"\",\"\",Students!F785)","v":""},{"$f":"IF(Students!G785=\"\",\"\",Students!G785)","v":""},{"$f":"IF(Students!G785=\"\",\"\",DATEDIF(Students!G785,Settings!$A$2,\"y\"))","v":""},{"$f":"IF(Students!C785=\"\",\"\",RIGHT(Home!$B$11,5))","v":""}]
[null,null,null,null,null,null,784,{"$f":"IF(Students!C786=\"\",\"\",Students!C786)","v":""},{"$f":"IF(Students!D786=\"\",\"\",Students!D786)","v":""},{"$f":"IF(Students!C786=\"\",\"\",H785&\" \"&I785&\" \"&O785)","v":""},{"$f":"IF(Students!E786=\"\",\"\",Students!E786)","v":""},{"$f":"IF(Students!F786=\"\",\"\",Students!F786)","v":""},{"$f":"IF(Students!G786=\"\",\"\",Students!G786)","v":""},{"$f":"IF(Students!G786=\"\",\"\",DATEDIF(Students!G786,Settings!$A$2,\"y\"))","v":""},{"$f":"IF(Students!C786=\"\",\"\",RIGHT(Home!$B$11,5))","v":""}]
[null,null,null,null,null,null,785,{"$f":"IF(Students!C787=\"\",\"\",Students!C787)","v":""},{"$f":"IF(Students!D787=\"\",\"\",Students!D787)","v":""},{"$f":"IF(Students!C787=\"\",\"\",H786&\" \"&I786&\" \"&O786)","v":""},{"$f":"IF(Students!E787=\"\",\"\",Students!E787)","v":""},{"$f":"IF(Students!F787=\"\",\"\",Students!F787)","v":""},{"$f":"IF(Students!G787=\"\",\"\",Students!G787)","v":""},{"$f":"IF(Students!G787=\"\",\"\",DATEDIF(Students!G787,Settings!$A$2,\"y\"))","v":""},{"$f":"IF(Students!C787=\"\",\"\",RIGHT(Home!$B$11,5))","v":""}]
[null,null,null,null,null,null,786,{"$f":"IF(Students!C788=\"\",\"\",Students!C788)","v":""},{"$f":"IF(Students!D788=\"\",\"\",Students!D788)","v":""},{"$f":"IF(Students!C788=\"\",\"\",H787&\" \"&I787&\" \"&O787)","v":""},{"$f":"IF(Students!E788=\"\",\"\",Students!E788)","v":""},{"$f":"IF(Students!F788=\"\",\"\",Students!F788)","v":""},{"$f":"IF(Students!G788=\"\",\"\",Students!G788)","v":""},{"$f":"IF(Students!G788=\"\",\"\",DATEDIF(Students!G788,Settings!$A$2,\"y\"))","v":""},{"$f":"IF(Students!C788=\"\",\"\",RIGHT(Home!$B$11,5))","v":""}]
[null,null,null,null,null,null,787,{"$f":"IF(Students!C789=\"\",\"\",Students!C789)","v":""},{"$f":"IF(Students!D789=\"\",\"\",Students!D789)","v":""},{"$f":"IF(Students!C789=\"\",\"\",H788&\" \"&I788&\" \"&O788)","v":""},{"$f":"IF(Students!E789=\"\",\"\",Students!E789)","v":""},{"$f":"IF(Students!F789=\"\",\"\",Students!F789)","v":""},{"$f":"IF(Students!G789=\"\",\"\",Students!G789)","v":""},{"$f":"IF(Students!G789=\"\",\"\",DATEDIF(Students!G789,Settings!$A$2,\"y\"))","v":""},{"$f":"IF(Students!C789=\"\",\"\",RIGHT(Home!$B$11,5))","v":""}]
[null,null,null,null,null,null,788,{"$f":"IF(Students!C790=\"\",\"\",Students!C790)","v":""},{"$f":"IF(Students!D790=\"\",\"\",Students!D790)","v":""},{"$f":"IF(Students!C790=\"\",\"\",H789&\" \"&I789&\" \"&O789)","v":""},{"$f":"IF(Students!E790=\"\",\"\",Students!E790)","v":""},{"$f":"IF(Students!F790=\"\",\"\",Students!F790)","v":""},{"$f":"IF(Students!G790=\"\",\"\",Students!G790)","v":""},{"$f":"IF(Students!G790=\"\",\"\",DATEDIF(Students!G790,Settings!$A$2,\"y\"))","v":""},{"$f":"IF(Students!C790=\"\",\"\",RIGHT(Home!$B$11,5))","v":""}]
[null,null,null,null,null,null,789,{"$f":"IF(Students!C791=\"\",\"\",Students!C791)","v":""},{"$f":"IF(Students!D791=\"\",\"\",Students!D791)","v":""},{"$f":"IF(Students!C791=\"\",\"\",H790&\" \"&I790&\" \"&O790)","v":""},{"$f":"IF(Students!E791=\"\",\"\",Students!E791)","v":""},{"$f":"IF(Students!F791=\"\",\"\",Students!F791)","v":""},{"$f":"IF(Students!G791=\"\",\"\",Students!G791)","v":""},{"$f":"IF(Students!G791=\"\",\"\",DATEDIF(Students!G791,Settings!$A$2,\"y\"))","v":""},{"$f":"IF(Students!C791=\"\",\"\",RIGHT(Home!$B$11,5))","v":""}]
[null,null,null,null,null,null,790,{"$f":"IF(Students!C792=\"\",\"\",Students!C792)","v":""},{"$f":"IF(Students!D792=\"\",\"\",Students!D792)","v":""},{"$f":"IF(Students!C792=\"\",\"\",H791&\" \"&I791&\" \"&O791)","v":""},{"$f":"IF(Students!E792=\"\",\"\",Students!E792)","v":""},{"$f":"IF(Students!F792=\"\",\"\",Students!F792)","v":""},{"$f":"IF(Students!G792=\"\",\"\",Students!G792)","v":""},{"$f":"IF(Students!G792=\"\",\"\",DATEDIF(Students!G792,Settings!$A$2,\"y\"))","v":""},{"$f":"IF(Students!C792=\"\",\"\",RIGHT(Home!$B$11,5))","v":""}]
[null,null,null,null,null,null,791,{"$f":"IF(Students!C793=\"\",\"\",Students!C793)","v":""},{"$f":"IF(Students!D793=\"\",\"\",Students!D793)","v":""},{"$f":"IF(Students!C793=\"\",\"\",H792&\" \"&I792&\" \"&O792)","v":""},{"$f":"IF(Students!E793=\"\",\"\",Students!E793)","v":""},{"$f":"IF(Students!F793=\"\",\"\",Students!F793)","v":""},{"$f":"IF(Students!G793=\"\",\"\",Students!G793)","v":""},{"$f":"IF(Students!G793=\"\",\"\",DATEDIF(Students!G793,Settings!$A$2,\"y\"))","v":""},{"$f":"IF(Students!C793=\"\",\"\",RIGHT(Home!$B$11,5))","v":""}]
[null,null,null,null,null,null,792,{"$f":"IF(Students!C794=\"\",\"\",Students!C794)","v":""},{"$f":"IF(Students!D794=\"\",\"\",Students!D794)","v":""},{"$f":"IF(Students!C794=\"\",\"\",H793&\" \"&I793&\" \"&O793)","v":""},{"$f":"IF(Students!E794=\"\",\"\",Students!E794)","v":""},{"$f":"IF(Students!F794=\"\",\"\",Students!F794)","v":""},{"$f":"IF(Students!G794=\"\",\"\",Students!G794)","v":""},{"$f":"IF(Students!G794=\"\",\"\",DATEDIF(Students!G794,Settings!$A$2,\"y\"))","v":""},{"$f":"IF(Students!C794=\"\",\"\",RIGHT(Home!$B$11,5))","v":""}]
[null,null,null,null,null,null,793,{"$f":"IF(Students!C795=\"\",\"\",Students!C795)","v":""},{"$f":"IF(Students!D795=\"\",\"\",Students!D795)","v":""},{"$f":"IF(Students!C795=\"\",\"\",H794&\" \"&I794&\" \"&O794)","v":""},{"$f":"IF(Students!E795=\"\",\"\",Students!E795)","v":""},{"$f":"IF(Students!F795=\"\",\"\",Students!F795)","v":""},{"$f":"IF(Students!G795=\"\",\"\",Students!G795)","v":""},{"$f":"IF(Students!G795=\"\",\"\",DATEDIF(Students!G795,Settings!$A$2,\"y\"))","v":""},{"$f":"IF(Students!C795=\"\",\"\",RIGHT(Home!$B$11,5))","v":""}]
[null,null,null,null,null,null,794,{"$f":"IF(Students!C796=\"\",\"\",Students!C796)","v":""},{"$f":"IF(Students!D796=\"\",\"\",Students!D796)","v":""},{"$f":"IF(Students!C796=\"\",\"\",H795&\" \"&I795&\" \"&O795)","v":""},{"$f":"IF(Students!E796=\"\",\"\",Students!E796)","v":""},{"$f":"IF(Students!F796=\"\",\"\",Students!F796)","v":""},{"$f":"IF(Students!G796=\"\",\"\",Students!G796)","v":""},{"$f":"IF(Students!G796=\"\",\"\",DATEDIF(Students!G796,Settings!$A$2,\"y\"))","v":""},{"$f":"IF(Students!C796=\"\",\"\",RIGHT(Home!$B$11,5))","v":""}]
[null,null,null,null,null,null,795,{"$f":"IF(Students!C797=\"\",\"\",Students!C797)","v":""},{"$f":"IF(Students!D797=\"\",\"\",Students!D797)","v":""},{"$f":"IF(Students!C797=\"\",\"\",H796&\" \"&I796&\" \"&O796)","v":""},{"$f":"IF(Students!E797=\"\",\"\",Students!E797)","v":""},{"$f":"IF(Students!F797=\"\",\"\",Students!F797)","v":""},{"$f":"IF(Students!G797=\"\",\"\",Students!G797)","v":""},{"$f":"IF(Students!G797=\"\",\"\",DATEDIF(Students!G797,Settings!$A$2,\"y\"))","v":""},{"$f":"IF(Students!C797=\"\",\"\",RIGHT(Home!$B$11,5))","v":""}]
[null,null,null,null,null,null,796,{"$f":"IF(Students!C798=\"\",\"\",Students!C798)","v":""},{"$f":"IF(Students!D798=\"\",\"\",Students!D798)","v":""},{"$f":"IF(Students!C798=\"\",\"\",H797&\" \"&I797&\" \"&O797)","v":""},{"$f":"IF(Students!E798=\"\",\"\",Students!E798)","v":""},{"$f":"IF(Students!F798=\"\",\"\",Students!F798)","v":""},{"$f":"IF(Students!G798=\"\",\"\",Students!G798)","v":""},{"$f":"IF(Students!G798=\"\",\"\",DATEDIF(Students!G798,Settings!$A$2,\"y\"))","v":""},{"$f":"IF(Students!C798=\"\",\"\",RIGHT(Home!$B$11,5))","v":""}]
[null,null,null,null,null,null,797,{"$f":"IF(Students!C799=\"\",\"\",Students!C799)","v":""},{"$f":"IF(Students!D799=\"\",\"\",Students!D799)","v":""},{"$f":"IF(Students!C799=\"\",\"\",H798&\" \"&I798&\" \"&O798)","v":""},{"$f":"IF(Students!E799=\"\",\"\",Students!E799)","v":""},{"$f":"IF(Students!F799=\"\",\"\",Students!F799)","v":""},{"$f":"IF(Students!G799=\"\",\"\",Students!G799)","v":""},{"$f":"IF(Students!G799=\"\",\"\",DATEDIF(Students!G799,Settings!$A$2,\"y\"))","v":""},{"$f":"IF(Students!C799=\"\",\"\",RIGHT(Home!$B$11,5))","v":""}]
[null,null,null,null,null,null,798,{"$f":"IF(Students!C800=\"\",\"\",Students!C800)","v":""},{"$f":"IF(Students!D800=\"\",\"\",Students!D800)","v":""},{"$f":"IF(Students!C800=\"\",\"\",H799&\" \"&I799&\" \"&O799)","v":""},{"$f":"IF(Students!E800=\"\",\"\",Students!E800)","v":""},{"$f":"IF(Students!F800=\"\",\"\",Students!F800)","v":""},{"$f":"IF(Students!G800=\"\",\"\",Students!G800)","v":""},{"$f":"IF(Students!G800=\"\",\"\",DATEDIF(Students!G800,Settings!$A$2,\"y\"))","v":""},{"$f":"IF(Students!C800=\"\",\"\",RIGHT(Home!$B$11,5))","v":""}]
[null,null,null,null,null,null,799,{"$f":"IF(Students!C801=\"\",\"\",Students!C801)","v":""},{"$f":"IF(Students!D801=\"\",\"\",Students!D801)","v":""},{"$f":"IF(Students!C801=\"\",\"\",H800&\" \"&I800&\" \"&O800)","v":""},{"$f":"IF(Students!E801=\"\",\"\",Students!E801)","v":""},{"$f":"IF(Students!F801=\"\",\"\",Students!F801)","v":""},{"$f":"IF(Students!G801=\"\",\"\",Students!G801)","v":""},{"$f":"IF(Students!G801=\"\",\"\",DATEDIF(Students!G801,Settings!$A$2,\"y\"))","v":""},{"$f":"IF(Students!C801=\"\",\"\",RIGHT(Home!$B$11,5))","v":""}]
[null,null,null,null,null,null,800,{"$f":"IF(Students!C802=\"\",\"\",Students!C802)","v":""},{"$f":"IF(Students!D802=\"\",\"\",Students!D802)","v":""},{"$f":"IF(Students!C802=\"\",\"\",H801&\" \"&I801&\" \"&O801)","v":""},{"$f":"IF(Students!E802=\"\",\"\",Students!E802)","v":""},{"$f":"IF(Students!F802=\"\",\"\",Students!F802)","v":""},{"$f":"IF(Students!G802=\"\",\"\",Students!G802)","v":""},{"$f":"IF(Students!G802=\"\",\"\",DATEDIF(Students!G802,Settings!$A$2,\"y\"))","v":""},{"$f":"IF(Students!C802=\"\",\"\",RIGHT(Home!$B$11,5))","v":""}]
[null,null,null,null,null,null,801,{"$f":"IF(Students!C803=\"\",\"\",Students!C803)","v":""},{"$f":"IF(Students!D803=\"\",\"\",Students!D803)","v":""},{"$f":"IF(Students!C803=\"\",\"\",H802&\" \"&I802&\" \"&O802)","v":""},{"$f":"IF(Students!E803=\"\",\"\",Students!E803)","v":""},{"$f":"IF(Students!F803=\"\",\"\",Students!F803)","v":""},{"$f":"IF(Students!G803=\"\",\"\",Students!G803)","v":""},{"$f":"IF(Students!G803=\"\",\"\",DATEDIF(Students!G803,Settings!$A$2,\"y\"))","v":""},{"$f":"IF(Students!C803=\"\",\"\",RIGHT(Home!$B$11,5))","v":""}]
[null,null,null,null,null,null,802,{"$f":"IF(Students!C804=\"\",\"\",Students!C804)","v":""},{"$f":"IF(Students!D804=\"\",\"\",Students!D804)","v":""},{"$f":"IF(Students!C804=\"\",\"\",H803&\" \"&I803&\" \"&O803)","v":""},{"$f":"IF(Students!E804=\"\",\"\",Students!E804)","v":""},{"$f":"IF(Students!F804=\"\",\"\",Students!F804)","v":""},{"$f":"IF(Students!G804=\"\",\"\",Students!G804)","v":""},{"$f":"IF(Students!G804=\"\",\"\",DATEDIF(Students!G804,Settings!$A$2,\"y\"))","v":""},{"$f":"IF(Students!C804=\"\",\"\",RIGHT(Home!$B$11,5))","v":""}]
[null,null,null,null,null,null,803,{"$f":"IF(Students!C805=\"\",\"\",Students!C805)","v":""},{"$f":"IF(Students!D805=\"\",\"\",Students!D805)","v":""},{"$f":"IF(Students!C805=\"\",\"\",H804&\" \"&I804&\" \"&O804)","v":""},{"$f":"IF(Students!E805=\"\",\"\",Students!E805)","v":""},{"$f":"IF(Students!F805=\"\",\"\",Students!F805)","v":""},{"$f":"IF(Students!G805=\"\",\"\",Students!G805)","v":""},{"$f":"IF(Students!G805=\"\",\"\",DATEDIF(Students!G805,Settings!$A$2,\"y\"))","v":""},{"$f":"IF(Students!C805=\"\",\"\",RIGHT(Home!$B$11,5))","v":""}]
[null,null,null,null,null,null,804,{"$f":"IF(Students!C806=\"\",\"\",Students!C806)","v":""},{"$f":"IF(Students!D806=\"\",\"\",Students!D806)","v":""},{"$f":"IF(Students!C806=\"\",\"\",H805&\" \"&I805&\" \"&O805)","v":""},{"$f":"IF(Students!E806=\"\",\"\",Students!E806)","v":""},{"$f":"IF(Students!F806=\"\",\"\",Students!F806)","v":""},{"$f":"IF(Students!G806=\"\",\"\",Students!G806)","v":""},{"$f":"IF(Students!G806=\"\",\"\",DATEDIF(Students!G806,Settings!$A$2,\"y\"))","v":""},{"$f":"IF(Students!C806=\"\",\"\",RIGHT(Home!$B$11,5))","v":""}]
[null,null,null,null,null,null,805,{"$f":"IF(Students!C807=\"\",\"\",Students!C807)","v":""},{"$f":"IF(Students!D807=\"\",\"\",Students!D807)","v":""},{"$f":"IF(Students!C807=\"\",\"\",H806&\" \"&I806&\" \"&O806)","v":""},{"$f":"IF(Students!E807=\"\",\"\",Students!E807)","v":""},{"$f":"IF(Students!F807=\"\",\"\",Students!F807)","v":""},{"$f":"IF(Students!G807=\"\",\"\",Students!G807)","v":""},{"$f":"IF(Students!G807=\"\",\"\",DATEDIF(Students!G807,Settings!$A$2,\"y\"))","v":""},{"$f":"IF(Students!C807=\"\",\"\",RIGHT(Home!$B$11,5))","v":""}]
[null,null,null,null,null,null,806,{"$f":"IF(Students!C808=\"\",\"\",Students!C808)","v":""},{"$f":"IF(Students!D808=\"\",\"\",Students!D808)","v":""},{"$f":"IF(Students!C808=\"\",\"\",H807&\" \"&I807&\" \"&O807)","v":""},{"$f":"IF(Students!E808=\"\",\"\",Students!E808)","v":""},{"$f":"IF(Students!F808=\"\",\"\",Students!F808)","v":""},{"$f":"IF(Students!G808=\"\",\"\",Students!G808)","v":""},{"$f":"IF(Students!G808=\"\",\"\",DATEDIF(Students!G808,Settings!$A$2,\"y\"))","v":""},{"$f":"IF(Students!C808=\"\",\"\",RIGHT(Home!$B$11,5))","v":""}]
[null,null,null,null,null,null,807,{"$f":"IF(Students!C809=\"\",\"\",Students!C809)","v":""},{"$f":"IF(Students!D809=\"\",\"\",Students!D809)","v":""},{"$f":"IF(Students!C809=\"\",\"\",H808&\" \"&I808&\" \"&O808)","v":""},{"$f":"IF(Students!E809=\"\",\"\",Students!E809)","v":""},{"$f":"IF(Students!F809=\"\",\"\",Students!F809)","v":""},{"$f":"IF(Students!G809=\"\",\"\",Students!G809)","v":""},{"$f":"IF(Students!G809=\"\",\"\",DATEDIF(Students!G809,Settings!$A$2,\"y\"))","v":""},{"$f":"IF(Students!C809=\"\",\"\",RIGHT(Home!$B$11,5))","v":""}]
[null,null,null,null,null,null,808,{"$f":"IF(Students!C810=\"\",\"\",Students!C810)","v":""},{"$f":"IF(Students!D810=\"\",\"\",Students!D810)","v":""},{"$f":"IF(Students!C810=\"\",\"\",H809&\" \"&I809&\" \"&O809)","v":""},{"$f":"IF(Students!E810=\"\",\"\",Students!E810)","v":""},{"$f":"IF(Students!F810=\"\",\"\",Students!F810)","v":""},{"$f":"IF(Students!G810=\"\",\"\",Students!G810)","v":""},{"$f":"IF(Students!G810=\"\",\"\",DATEDIF(Students!G810,Settings!$A$2,\"y\"))","v":""},{"$f":"IF(Students!C810=\"\",\"\",RIGHT(Home!$B$11,5))","v":""}]
[null,null,null,null,null,null,809,{"$f":"IF(Students!C811=\"\",\"\",Students!C811)","v":""},{"$f":"IF(Students!D811=\"\",\"\",Students!D811)","v":""},{"$f":"IF(Students!C811=\"\",\"\",H810&\" \"&I810&\" \"&O810)","v":""},{"$f":"IF(Students!E811=\"\",\"\",Students!E811)","v":""},{"$f":"IF(Students!F811=\"\",\"\",Students!F811)","v":""},{"$f":"IF(Students!G811=\"\",\"\",Students!G811)","v":""},{"$f":"IF(Students!G811=\"\",\"\",DATEDIF(Students!G811,Settings!$A$2,\"y\"))","v":""},{"$f":"IF(Students!C811=\"\",\"\",RIGHT(Home!$B$11,5))","v":""}]
[null,null,null,null,null,null,810,{"$f":"IF(Students!C812=\"\",\"\",Students!C812)","v":""},{"$f":"IF(Students!D812=\"\",\"\",Students!D812)","v":""},{"$f":"IF(Students!C812=\"\",\"\",H811&\" \"&I811&\" \"&O811)","v":""},{"$f":"IF(Students!E812=\"\",\"\",Students!E812)","v":""},{"$f":"IF(Students!F812=\"\",\"\",Students!F812)","v":""},{"$f":"IF(Students!G812=\"\",\"\",Students!G812)","v":""},{"$f":"IF(Students!G812=\"\",\"\",DATEDIF(Students!G812,Settings!$A$2,\"y\"))","v":""},{"$f":"IF(Students!C812=\"\",\"\",RIGHT(Home!$B$11,5))","v":""}]
[null,null,null,null,null,null,811,{"$f":"IF(Students!C813=\"\",\"\",Students!C813)","v":""},{"$f":"IF(Students!D813=\"\",\"\",Students!D813)","v":""},{"$f":"IF(Students!C813=\"\",\"\",H812&\" \"&I812&\" \"&O812)","v":""},{"$f":"IF(Students!E813=\"\",\"\",Students!E813)","v":""},{"$f":"IF(Students!F813=\"\",\"\",Students!F813)","v":""},{"$f":"IF(Students!G813=\"\",\"\",Students!G813)","v":""},{"$f":"IF(Students!G813=\"\",\"\",DATEDIF(Students!G813,Settings!$A$2,\"y\"))","v":""},{"$f":"IF(Students!C813=\"\",\"\",RIGHT(Home!$B$11,5))","v":""}]
[null,null,null,null,null,null,812,{"$f":"IF(Students!C814=\"\",\"\",Students!C814)","v":""},{"$f":"IF(Students!D814=\"\",\"\",Students!D814)","v":""},{"$f":"IF(Students!C814=\"\",\"\",H813&\" \"&I813&\" \"&O813)","v":""},{"$f":"IF(Students!E814=\"\",\"\",Students!E814)","v":""},{"$f":"IF(Students!F814=\"\",\"\",Students!F814)","v":""},{"$f":"IF(Students!G814=\"\",\"\",Students!G814)","v":""},{"$f":"IF(Students!G814=\"\",\"\",DATEDIF(Students!G814,Settings!$A$2,\"y\"))","v":""},{"$f":"IF(Students!C814=\"\",\"\",RIGHT(Home!$B$11,5))","v":""}]
[null,null,null,null,null,null,813,{"$f":"IF(Students!C815=\"\",\"\",Students!C815)","v":""},{"$f":"IF(Students!D815=\"\",\"\",Students!D815)","v":""},{"$f":"IF(Students!C815=\"\",\"\",H814&\" \"&I814&\" \"&O814)","v":""},{"$f":"IF(Students!E815=\"\",\"\",Students!E815)","v":""},{"$f":"IF(Students!F815=\"\",\"\",Students!F815)","v":""},{"$f":"IF(Students!G815=\"\",\"\",Students!G815)","v":""},{"$f":"IF(Students!G815=\"\",\"\",DATEDIF(Students!G815,Settings!$A$2,\"y\"))","v":""},{"$f":"IF(Students!C815=\"\",\"\",RIGHT(Home!$B$11,5))","v":""}]
[null,null,null,null,null,null,814,{"$f":"IF(Students!C816=\"\",\"\",Students!C816)","v":""},{"$f":"IF(Students!D816=\"\",\"\",Students!D816)","v":""},{"$f":"IF(Students!C816=\"\",\"\",H815&\" \"&I815&\" \"&O815)","v":""},{"$f":"IF(Students!E816=\"\",\"\",Students!E816)","v":""},{"$f":"IF(Students!F816=\"\",\"\",Students!F816)","v":""},{"$f":"IF(Students!G816=\"\",\"\",Students!G816)","v":""},{"$f":"IF(Students!G816=\"\",\"\",DATEDIF(Students!G816,Settings!$A$2,\"y\"))","v":""},{"$f":"IF(Students!C816=\"\",\"\",RIGHT(Home!$B$11,5))","v":""}]
[null,null,null,null,null,null,815,{"$f":"IF(Students!C817=\"\",\"\",Students!C817)","v":""},{"$f":"IF(Students!D817=\"\",\"\",Students!D817)","v":""},{"$f":"IF(Students!C817=\"\",\"\",H816&\" \"&I816&\" \"&O816)","v":""},{"$f":"IF(Students!E817=\"\",\"\",Students!E817)","v":""},{"$f":"IF(Students!F817=\"\",\"\",Students!F817)","v":""},{"$f":"IF(Students!G817=\"\",\"\",Students!G817)","v":""},{"$f":"IF(Students!G817=\"\",\"\",DATEDIF(Students!G817,Settings!$A$2,\"y\"))","v":""},{"$f":"IF(Students!C817=\"\",\"\",RIGHT(Home!$B$11,5))","v":""}]
[null,null,null,null,null,null,816,{"$f":"IF(Students!C818=\"\",\"\",Students!C818)","v":""},{"$f":"IF(Students!D818=\"\",\"\",Students!D818)","v":""},{"$f":"IF(Students!C818=\"\",\"\",H817&\" \"&I817&\" \"&O817)","v":""},{"$f":"IF(Students!E818=\"\",\"\",Students!E818)","v":""},{"$f":"IF(Students!F818=\"\",\"\",Students!F818)","v":""},{"$f":"IF(Students!G818=\"\",\"\",Students!G818)","v":""},{"$f":"IF(Students!G818=\"\",\"\",DATEDIF(Students!G818,Settings!$A$2,\"y\"))","v":""},{"$f":"IF(Students!C818=\"\",\"\",RIGHT(Home!$B$11,5))","v":""}]
[null,null,null,null,null,null,817,{"$f":"IF(Students!C819=\"\",\"\",Students!C819)","v":""},{"$f":"IF(Students!D819=\"\",\"\",Students!D819)","v":""},{"$f":"IF(Students!C819=\"\",\"\",H818&\" \"&I818&\" \"&O818)","v":""},{"$f":"IF(Students!E819=\"\",\"\",Students!E819)","v":""},{"$f":"IF(Students!F819=\"\",\"\",Students!F819)","v":""},{"$f":"IF(Students!G819=\"\",\"\",Students!G819)","v":""},{"$f":"IF(Students!G819=\"\",\"\",DATEDIF(Students!G819,Settings!$A$2,\"y\"))","v":""},{"$f":"IF(Students!C819=\"\",\"\",RIGHT(Home!$B$11,5))","v":""}]
[null,null,null,null,null,null,818,{"$f":"IF(Students!C820=\"\",\"\",Students!C820)","v":""},{"$f":"IF(Students!D820=\"\",\"\",Students!D820)","v":""},{"$f":"IF(Students!C820=\"\",\"\",H819&\" \"&I819&\" \"&O819)","v":""},{"$f":"IF(Students!E820=\"\",\"\",Students!E820)","v":""},{"$f":"IF(Students!F820=\"\",\"\",Students!F820)","v":""},{"$f":"IF(Students!G820=\"\",\"\",Students!G820)","v":""},{"$f":"IF(Students!G820=\"\",\"\",DATEDIF(Students!G820,Settings!$A$2,\"y\"))","v":""},{"$f":"IF(Students!C820=\"\",\"\",RIGHT(Home!$B$11,5))","v":""}]
[null,null,null,null,null,null,819,{"$f":"IF(Students!C821=\"\",\"\",Students!C821)","v":""},{"$f":"IF(Students!D821=\"\",\"\",Students!D821)","v":""},{"$f":"IF(Students!C821=\"\",\"\",H820&\" \"&I820&\" \"&O820)","v":""},{"$f":"IF(Students!E821=\"\",\"\",Students!E821)","v":""},{"$f":"IF(Students!F821=\"\",\"\",Students!F821)","v":""},{"$f":"IF(Students!G821=\"\",\"\",Students!G821)","v":""},{"$f":"IF(Students!G821=\"\",\"\",DATEDIF(Students!G821,Settings!$A$2,\"y\"))","v":""},{"$f":"IF(Students!C821=\"\",\"\",RIGHT(Home!$B$11,5))","v":""}]
[null,null,null,null,null,null,820,{"$f":"IF(Students!C822=\"\",\"\",Students!C822)","v":""},{"$f":"IF(Students!D822=\"\",\"\",Students!D822)","v":""},{"$f":"IF(Students!C822=\"\",\"\",H821&\" \"&I821&\" \"&O821)","v":""},{"$f":"IF(Students!E822=\"\",\"\",Students!E822)","v":""},{"$f":"IF(Students!F822=\"\",\"\",Students!F822)","v":""},{"$f":"IF(Students!G822=\"\",\"\",Students!G822)","v":""},{"$f":"IF(Students!G822=\"\",\"\",DATEDIF(Students!G822,Settings!$A$2,\"y\"))","v":""},{"$f":"IF(Students!C822=\"\",\"\",RIGHT(Home!$B$11,5))","v":""}]
[null,null,null,null,null,null,821,{"$f":"IF(Students!C823=\"\",\"\",Students!C823)","v":""},{"$f":"IF(Students!D823=\"\",\"\",Students!D823)","v":""},{"$f":"IF(Students!C823=\"\",\"\",H822&\" \"&I822&\" \"&O822)","v":""},{"$f":"IF(Students!E823=\"\",\"\",Students!E823)","v":""},{"$f":"IF(Students!F823=\"\",\"\",Students!F823)","v":""},{"$f":"IF(Students!G823=\"\",\"\",Students!G823)","v":""},{"$f":"IF(Students!G823=\"\",\"\",DATEDIF(Students!G823,Settings!$A$2,\"y\"))","v":""},{"$f":"IF(Students!C823=\"\",\"\",RIGHT(Home!$B$11,5))","v":""}]
[null,null,null,null,null,null,822,{"$f":"IF(Students!C824=\"\",\"\",Students!C824)","v":""},{"$f":"IF(Students!D824=\"\",\"\",Students!D824)","v":""},{"$f":"IF(Students!C824=\"\",\"\",H823&\" \"&I823&\" \"&O823)","v":""},{"$f":"IF(Students!E824=\"\",\"\",Students!E824)","v":""},{"$f":"IF(Students!F824=\"\",\"\",Students!F824)","v":""},{"$f":"IF(Students!G824=\"\",\"\",Students!G824)","v":""},{"$f":"IF(Students!G824=\"\",\"\",DATEDIF(Students!G824,Settings!$A$2,\"y\"))","v":""},{"$f":"IF(Students!C824=\"\",\"\",RIGHT(Home!$B$11,5))","v":""}]
[null,null,null,null,null,null,823,{"$f":"IF(Students!C825=\"\",\"\",Students!C825)","v":""},{"$f":"IF(Students!D825=\"\",\"\",Students!D825)","v":""},{"$f":"IF(Students!C825=\"\",\"\",H824&\" \"&I824&\" \"&O824)","v":""},{"$f":"IF(Students!E825=\"\",\"\",Students!E825)","v":""},{"$f":"IF(Students!F825=\"\",\"\",Students!F825)","v":""},{"$f":"IF(Students!G825=\"\",\"\",Students!G825)","v":""},{"$f":"IF(Students!G825=\"\",\"\",DATEDIF(Students!G825,Settings!$A$2,\"y\"))","v":""},{"$f":"IF(Students!C825=\"\",\"\",RIGHT(Home!$B$11,5))","v":""}]
[null,null,null,null,null,null,824,{"$f":"IF(Students!C826=\"\",\"\",Students!C826)","v":""},{"$f":"IF(Students!D826=\"\",\"\",Students!D826)","v":""},{"$f":"IF(Students!C826=\"\",\"\",H825&\" \"&I825&\" \"&O825)","v":""},{"$f":"IF(Students!E826=\"\",\"\",Students!E826)","v":""},{"$f":"IF(Students!F826=\"\",\"\",Students!F826)","v":""},{"$f":"IF(Students!G826=\"\",\"\",Students!G826)","v":""},{"$f":"IF(Students!G826=\"\",\"\",DATEDIF(Students!G826,Settings!$A$2,\"y\"))","v":""},{"$f":"IF(Students!C826=\"\",\"\",RIGHT(Home!$B$11,5))","v":""}]
[null,null,null,null,null,null,825,{"$f":"IF(Students!C827=\"\",\"\",Students!C827)","v":""},{"$f":"IF(Students!D827=\"\",\"\",Students!D827)","v":""},{"$f":"IF(Students!C827=\"\",\"\",H826&\" \"&I826&\" \"&O826)","v":""},{"$f":"IF(Students!E827=\"\",\"\",Students!E827)","v":""},{"$f":"IF(Students!F827=\"\",\"\",Students!F827)","v":""},{"$f":"IF(Students!G827=\"\",\"\",Students!G827)","v":""},{"$f":"IF(Students!G827=\"\",\"\",DATEDIF(Students!G827,Settings!$A$2,\"y\"))","v":""},{"$f":"IF(Students!C827=\"\",\"\",RIGHT(Home!$B$11,5))","v":""}]
[null,null,null,null,null,null,826,{"$f":"IF(Students!C828=\"\",\"\",Students!C828)","v":""},{"$f":"IF(Students!D828=\"\",\"\",Students!D828)","v":""},{"$f":"IF(Students!C828=\"\",\"\",H827&\" \"&I827&\" \"&O827)","v":""},{"$f":"IF(Students!E828=\"\",\"\",Students!E828)","v":""},{"$f":"IF(Students!F828=\"\",\"\",Students!F828)","v":""},{"$f":"IF(Students!G828=\"\",\"\",Students!G828)","v":""},{"$f":"IF(Students!G828=\"\",\"\",DATEDIF(Students!G828,Settings!$A$2,\"y\"))","v":""},{"$f":"IF(Students!C828=\"\",\"\",RIGHT(Home!$B$11,5))","v":""}]
[null,null,null,null,null,null,827,{"$f":"IF(Students!C829=\"\",\"\",Students!C829)","v":""},{"$f":"IF(Students!D829=\"\",\"\",Students!D829)","v":""},{"$f":"IF(Students!C829=\"\",\"\",H828&\" \"&I828&\" \"&O828)","v":""},{"$f":"IF(Students!E829=\"\",\"\",Students!E829)","v":""},{"$f":"IF(Students!F829=\"\",\"\",Students!F829)","v":""},{"$f":"IF(Students!G829=\"\",\"\",Students!G829)","v":""},{"$f":"IF(Students!G829=\"\",\"\",DATEDIF(Students!G829,Settings!$A$2,\"y\"))","v":""},{"$f":"IF(Students!C829=\"\",\"\",RIGHT(Home!$B$11,5))","v":""}]
[null,null,null,null,null,null,828,{"$f":"IF(Students!C830=\"\",\"\",Students!C830)","v":""},{"$f":"IF(Students!D830=\"\",\"\",Students!D830)","v":""},{"$f":"IF(Students!C830=\"\",\"\",H829&\" \"&I829&\" \"&O829)","v":""},{"$f":"IF(Students!E830=\"\",\"\",Students!E830)","v":""},{"$f":"IF(Students!F830=\"\",\"\",Students!F830)","v":""},{"$f":"IF(Students!G830=\"\",\"\",Students!G830)","v":""},{"$f":"IF(Students!G830=\"\",\"\",DATEDIF(Students!G830,Settings!$A$2,\"y\"))","v":""},{"$f":"IF(Students!C830=\"\",\"\",RIGHT(Home!$B$11,5))","v":""}]
[null,null,null,null,null,null,829,{"$f":"IF(Students!C831=\"\",\"\",Students!C831)","v":""},{"$f":"IF(Students!D831=\"\",\"\",Students!D831)","v":""},{"$f":"IF(Students!C831=\"\",\"\",H830&\" \"&I830&\" \"&O830)","v":""},{"$f":"IF(Students!E831=\"\",\"\",Students!E831)","v":""},{"$f":"IF(Students!F831=\"\",\"\",Students!F831)","v":""},{"$f":"IF(Students!G831=\"\",\"\",Students!G831)","v":""},{"$f":"IF(Students!G831=\"\",\"\",DATEDIF(Students!G831,Settings!$A$2,\"y\"))","v":""},{"$f":"IF(Students!C831=\"\",\"\",RIGHT(Home!$B$11,5))","v":""}]
[null,null,null,null,null,null,830,{"$f":"IF(Students!C832=\"\",\"\",Students!C832)","v":""},{"$f":"IF(Students!D832=\"\",\"\",Students!D832)","v":""},{"$f":"IF(Students!C832=\"\",\"\",H831&\" \"&I831&\" \"&O831)","v":""},{"$f":"IF(Students!E832=\"\",\"\",Students!E832)","v":""},{"$f":"IF(Students!F832=\"\",\"\",Students!F832)","v":""},{"$f":"IF(Students!G832=\"\",\"\",Students!G832)","v":""},{"$f":"IF(Students!G832=\"\",\"\",DATEDIF(Students!G832,Settings!$A$2,\"y\"))","v":""},{"$f":"IF(Students!C832=\"\",\"\",RIGHT(Home!$B$11,5))","v":""}]
[null,null,null,null,null,null,831,{"$f":"IF(Students!C833=\"\",\"\",Students!C833)","v":""},{"$f":"IF(Students!D833=\"\",\"\",Students!D833)","v":""},{"$f":"IF(Students!C833=\"\",\"\",H832&\" \"&I832&\" \"&O832)","v":""},{"$f":"IF(Students!E833=\"\",\"\",Students!E833)","v":""},{"$f":"IF(Students!F833=\"\",\"\",Students!F833)","v":""},{"$f":"IF(Students!G833=\"\",\"\",Students!G833)","v":""},{"$f":"IF(Students!G833=\"\",\"\",DATEDIF(Students!G833,Settings!$A$2,\"y\"))","v":""},{"$f":"IF(Students!C833=\"\",\"\",RIGHT(Home!$B$11,5))","v":""}]
[null,null,null,null,null,null,832,{"$f":"IF(Students!C834=\"\",\"\",Students!C834)","v":""},{"$f":"IF(Students!D834=\"\",\"\",Students!D834)","v":""},{"$f":"IF(Students!C834=\"\",\"\",H833&\" \"&I833&\" \"&O833)","v":""},{"$f":"IF(Students!E834=\"\",\"\",Students!E834)","v":""},{"$f":"IF(Students!F834=\"\",\"\",Students!F834)","v":""},{"$f":"IF(Students!G834=\"\",\"\",Students!G834)","v":""},{"$f":"IF(Students!G834=\"\",\"\",DATEDIF(Students!G834,Settings!$A$2,\"y\"))","v":""},{"$f":"IF(Students!C834=\"\",\"\",RIGHT(Home!$B$11,5))","v":""}]
[null,null,null,null,null,null,833,{"$f":"IF(Students!C835=\"\",\"\",Students!C835)","v":""},{"$f":"IF(Students!D835=\"\",\"\",Students!D835)","v":""},{"$f":"IF(Students!C835=\"\",\"\",H834&\" \"&I834&\" \"&O834)","v":""},{"$f":"IF(Students!E835=\"\",\"\",Students!E835)","v":""},{"$f":"IF(Students!F835=\"\",\"\",Students!F835)","v":""},{"$f":"IF(Students!G835=\"\",\"\",Students!G835)","v":""},{"$f":"IF(Students!G835=\"\",\"\",DATEDIF(Students!G835,Settings!$A$2,\"y\"))","v":""},{"$f":"IF(Students!C835=\"\",\"\",RIGHT(Home!$B$11,5))","v":""}]
[null,null,null,null,null,null,{"$f":"ROW()-1","v":834},{"$f":"IF(Students!C836=\"\",\"\",Students!C836)","v":""},{"$f":"IF(Students!D836=\"\",\"\",Students!D836)","v":""},{"$f":"IF(Students!C836=\"\",\"\",H835&\" \"&I835&\" \"&O835)","v":""},{"$f":"IF(Students!E836=\"\",\"\",Students!E836)","v":""},{"$f":"IF(Students!F836=\"\",\"\",Students!F836)","v":""},{"$f":"IF(Students!G836=\"\",\"\",Students!G836)","v":""},{"$f":"IF(Students!G836=\"\",\"\",DATEDIF(Students!G836,Settings!$A$2,\"y\"))","v":""},{"$f":"IF(Students!C836=\"\",\"\",RIGHT(Home!$B$11,5))","v":""}]
[null,null,null,null,null,null,835,{"$f":"IF(Students!C837=\"\",\"\",Students!C837)","v":""},{"$f":"IF(Students!D837=\"\",\"\",Students!D837)","v":""},{"$f":"IF(Students!C837=\"\",\"\",H836&\" \"&I836&\" \"&O836)","v":""},{"$f":"IF(Students!E837=\"\",\"\",Students!E837)","v":""},{"$f":"IF(Students!F837=\"\",\"\",Students!F837)","v":""},{"$f":"IF(Students!G837=\"\",\"\",Students!G837)","v":""},{"$f":"IF(Students!G837=\"\",\"\",DATEDIF(Students!G837,Settings!$A$2,\"y\"))","v":""},{"$f":"IF(Students!C837=\"\",\"\",RIGHT(Home!$B$11,5))","v":""}]
[null,null,null,null,null,null,836,{"$f":"IF(Students!C838=\"\",\"\",Students!C838)","v":""},{"$f":"IF(Students!D838=\"\",\"\",Students!D838)","v":""},{"$f":"IF(Students!C838=\"\",\"\",H837&\" \"&I837&\" \"&O837)","v":""},{"$f":"IF(Students!E838=\"\",\"\",Students!E838)","v":""},{"$f":"IF(Students!F838=\"\",\"\",Students!F838)","v":""},{"$f":"IF(Students!G838=\"\",\"\",Students!G838)","v":""},{"$f":"IF(Students!G838=\"\",\"\",DATEDIF(Students!G838,Settings!$A$2,\"y\"))","v":""},{"$f":"IF(Students!C838=\"\",\"\",RIGHT(Home!$B$11,5))","v":""}]
[null,null,null,null,null,null,837,{"$f":"IF(Students!C839=\"\",\"\",Students!C839)","v":""},{"$f":"IF(Students!D839=\"\",\"\",Students!D839)","v":""},{"$f":"IF(Students!C839=\"\",\"\",H838&\" \"&I838&\" \"&O838)","v":""},{"$f":"IF(Students!E839=\"\",\"\",Students!E839)","v":""},{"$f":"IF(Students!F839=\"\",\"\",Students!F839)","v":""},{"$f":"IF(Students!G839=\"\",\"\",Students!G839)","v":""},{"$f":"IF(Students!G839=\"\",\"\",DATEDIF(Students!G839,Settings!$A$2,\"y\"))","v":""},{"$f":"IF(Students!C839=\"\",\"\",RIGHT(Home!$B$11,5))","v":""}]
[null,null,null,null,null,null,838,{"$f":"IF(Students!C840=\"\",\"\",Students!C840)","v":""},{"$f":"IF(Students!D840=\"\",\"\",Students!D840)","v":""},{"$f":"IF(Students!C840=\"\",\"\",H839&\" \"&I839&\" \"&O839)","v":""},{"$f":"IF(Students!E840=\"\",\"\",Students!E840)","v":""},{"$f":"IF(Students!F840=\"\",\"\",Students!F840)","v":""},{"$f":"IF(Students!G840=\"\",\"\",Students!G840)","v":""},{"$f":"IF(Students!G840=\"\",\"\",DATEDIF(Students!G840,Settings!$A$2,\"y\"))","v":""},{"$f":"IF(Students!C840=\"\",\"\",RIGHT(Home!$B$11,5))","v":""}]
[null,null,null,null,null,null,839,{"$f":"IF(Students!C841=\"\",\"\",Students!C841)","v":""},{"$f":"IF(Students!D841=\"\",\"\",Students!D841)","v":""},{"$f":"IF(Students!C841=\"\",\"\",H840&\" \"&I840&\" \"&O840)","v":""},{"$f":"IF(Students!E841=\"\",\"\",Students!E841)","v":""},{"$f":"IF(Students!F841=\"\",\"\",Students!F841)","v":""},{"$f":"IF(Students!G841=\"\",\"\",Students!G841)","v":""},{"$f":"IF(Students!G841=\"\",\"\",DATEDIF(Students!G841,Settings!$A$2,\"y\"))","v":""},{"$f":"IF(Students!C841=\"\",\"\",RIGHT(Home!$B$11,5))","v":""}]
[null,null,null,null,null,null,840,{"$f":"IF(Students!C842=\"\",\"\",Students!C842)","v":""},{"$f":"IF(Students!D842=\"\",\"\",Students!D842)","v":""},{"$f":"IF(Students!C842=\"\",\"\",H841&\" \"&I841&\" \"&O841)","v":""},{"$f":"IF(Students!E842=\"\",\"\",Students!E842)","v":""},{"$f":"IF(Students!F842=\"\",\"\",Students!F842)","v":""},{"$f":"IF(Students!G842=\"\",\"\",Students!G842)","v":""},{"$f":"IF(Students!G842=\"\",\"\",DATEDIF(Students!G842,Settings!$A$2,\"y\"))","v":""},{"$f":"IF(Students!C842=\"\",\"\",RIGHT(Home!$B$11,5))","v":""}]
[null,null,null,null,null,null,841,{"$f":"IF(Students!C843=\"\",\"\",Students!C843)","v":""},{"$f":"IF(Students!D843=\"\",\"\",Students!D843)","v":""},{"$f":"IF(Students!C843=\"\",\"\",H842&\" \"&I842&\" \"&O842)","v":""},{"$f":"IF(Students!E843=\"\",\"\",Students!E843)","v":""},{"$f":"IF(Students!F843=\"\",\"\",Students!F843)","v":""},{"$f":"IF(Students!G843=\"\",\"\",Students!G843)","v":""},{"$f":"IF(Students!G843=\"\",\"\",DATEDIF(Students!G843,Settings!$A$2,\"y\"))","v":""},{"$f":"IF(Students!C843=\"\",\"\",RIGHT(Home!$B$11,5))","v":""}]
[null,null,null,null,null,null,842,{"$f":"IF(Students!C844=\"\",\"\",Students!C844)","v":""},{"$f":"IF(Students!D844=\"\",\"\",Students!D844)","v":""},{"$f":"IF(Students!C844=\"\",\"\",H843&\" \"&I843&\" \"&O843)","v":""},{"$f":"IF(Students!E844=\"\",\"\",Students!E844)","v":""},{"$f":"IF(Students!F844=\"\",\"\",Students!F844)","v":""},{"$f":"IF(Students!G844=\"\",\"\",Students!G844)","v":""},{"$f":"IF(Students!G844=\"\",\"\",DATEDIF(Students!G844,Settings!$A$2,\"y\"))","v":""},{"$f":"IF(Students!C844=\"\",\"\",RIGHT(Home!$B$11,5))","v":""}]
[null,null,null,null,null,null,843,{"$f":"IF(Students!C845=\"\",\"\",Students!C845)","v":""},{"$f":"IF(Students!D845=\"\",\"\",Students!D845)","v":""},{"$f":"IF(Students!C845=\"\",\"\",H844&\" \"&I844&\" \"&O844)","v":""},{"$f":"IF(Students!E845=\"\",\"\",Students!E845)","v":""},{"$f":"IF(Students!F845=\"\",\"\",Students!F845)","v":""},{"$f":"IF(Students!G845=\"\",\"\",Students!G845)","v":""},{"$f":"IF(Students!G845=\"\",\"\",DATEDIF(Students!G845,Settings!$A$2,\"y\"))","v":""},{"$f":"IF(Students!C845=\"\",\"\",RIGHT(Home!$B$11,5))","v":""}]
[null,null,null,null,null,null,844,{"$f":"IF(Students!C846=\"\",\"\",Students!C846)","v":""},{"$f":"IF(Students!D846=\"\",\"\",Students!D846)","v":""},{"$f":"IF(Students!C846=\"\",\"\",H845&\" \"&I845&\" \"&O845)","v":""},{"$f":"IF(Students!E846=\"\",\"\",Students!E846)","v":""},{"$f":"IF(Students!F846=\"\",\"\",Students!F846)","v":""},{"$f":"IF(Students!G846=\"\",\"\",Students!G846)","v":""},{"$f":"IF(Students!G846=\"\",\"\",DATEDIF(Students!G846,Settings!$A$2,\"y\"))","v":""},{"$f":"IF(Students!C846=\"\",\"\",RIGHT(Home!$B$11,5))","v":""}]
[null,null,null,null,null,null,845,{"$f":"IF(Students!C847=\"\",\"\",Students!C847)","v":""},{"$f":"IF(Students!D847=\"\",\"\",Students!D847)","v":""},{"$f":"IF(Students!C847=\"\",\"\",H846&\" \"&I846&\" \"&O846)","v":""},{"$f":"IF(Students!E847=\"\",\"\",Students!E847)","v":""},{"$f":"IF(Students!F847=\"\",\"\",Students!F847)","v":""},{"$f":"IF(Students!G847=\"\",\"\",Students!G847)","v":""},{"$f":"IF(Students!G847=\"\",\"\",DATEDIF(Students!G847,Settings!$A$2,\"y\"))","v":""},{"$f":"IF(Students!C847=\"\",\"\",RIGHT(Home!$B$11,5))","v":""}]
[null,null,null,null,null,null,846,{"$f":"IF(Students!C848=\"\",\"\",Students!C848)","v":""},{"$f":"IF(Students!D848=\"\",\"\",Students!D848)","v":""},{"$f":"IF(Students!C848=\"\",\"\",H847&\" \"&I847&\" \"&O847)","v":""},{"$f":"IF(Students!E848=\"\",\"\",Students!E848)","v":""},{"$f":"IF(Students!F848=\"\",\"\",Students!F848)","v":""},{"$f":"IF(Students!G848=\"\",\"\",Students!G848)","v":""},{"$f":"IF(Students!G848=\"\",\"\",DATEDIF(Students!G848,Settings!$A$2,\"y\"))","v":""},{"$f":"IF(Students!C848=\"\",\"\",RIGHT(Home!$B$11,5))","v":""}]
[null,null,null,null,null,null,847,{"$f":"IF(Students!C849=\"\",\"\",Students!C849)","v":""},{"$f":"IF(Students!D849=\"\",\"\",Students!D849)","v":""},{"$f":"IF(Students!C849=\"\",\"\",H848&\" \"&I848&\" \"&O848)","v":""},{"$f":"IF(Students!E849=\"\",\"\",Students!E849)","v":""},{"$f":"IF(Students!F849=\"\",\"\",Students!F849)","v":""},{"$f":"IF(Students!G849=\"\",\"\",Students!G849)","v":""},{"$f":"IF(Students!G849=\"\",\"\",DATEDIF(Students!G849,Settings!$A$2,\"y\"))","v":""},{"$f":"IF(Students!C849=\"\",\"\",RIGHT(Home!$B$11,5))","v":""}]
[null,null,null,null,null,null,848,{"$f":"IF(Students!C850=\"\",\"\",Students!C850)","v":""},{"$f":"IF(Students!D850=\"\",\"\",Students!D850)","v":""},{"$f":"IF(Students!C850=\"\",\"\",H849&\" \"&I849&\" \"&O849)","v":""},{"$f":"IF(Students!E850=\"\",\"\",Students!E850)","v":""},{"$f":"IF(Students!F850=\"\",\"\",Students!F850)","v":""},{"$f":"IF(Students!G850=\"\",\"\",Students!G850)","v":""},{"$f":"IF(Students!G850=\"\",\"\",DATEDIF(Students!G850,Settings!$A$2,\"y\"))","v":""},{"$f":"IF(Students!C850=\"\",\"\",RIGHT(Home!$B$11,5))","v":""}]
[null,null,null,null,null,null,849,{"$f":"IF(Students!C851=\"\",\"\",Students!C851)","v":""},{"$f":"IF(Students!D851=\"\",\"\",Students!D851)","v":""},{"$f":"IF(Students!C851=\"\",\"\",H850&\" \"&I850&\" \"&O850)","v":""},{"$f":"IF(Students!E851=\"\",\"\",Students!E851)","v":""},{"$f":"IF(Students!F851=\"\",\"\",Students!F851)","v":""},{"$f":"IF(Students!G851=\"\",\"\",Students!G851)","v":""},{"$f":"IF(Students!G851=\"\",\"\",DATEDIF(Students!G851,Settings!$A$2,\"y\"))","v":""},{"$f":"IF(Students!C851=\"\",\"\",RIGHT(Home!$B$11,5))","v":""}]
[null,null,null,null,null,null,850,{"$f":"IF(Students!C852=\"\",\"\",Students!C852)","v":""},{"$f":"IF(Students!D852=\"\",\"\",Students!D852)","v":""},{"$f":"IF(Students!C852=\"\",\"\",H851&\" \"&I851&\" \"&O851)","v":""},{"$f":"IF(Students!E852=\"\",\"\",Students!E852)","v":""},{"$f":"IF(Students!F852=\"\",\"\",Students!F852)","v":""},{"$f":"IF(Students!G852=\"\",\"\",Students!G852)","v":""},{"$f":"IF(Students!G852=\"\",\"\",DATEDIF(Students!G852,Settings!$A$2,\"y\"))","v":""},{"$f":"IF(Students!C852=\"\",\"\",RIGHT(Home!$B$11,5))","v":""}]
[null,null,null,null,null,null,851,{"$f":"IF(Students!C853=\"\",\"\",Students!C853)","v":""},{"$f":"IF(Students!D853=\"\",\"\",Students!D853)","v":""},{"$f":"IF(Students!C853=\"\",\"\",H852&\" \"&I852&\" \"&O852)","v":""},{"$f":"IF(Students!E853=\"\",\"\",Students!E853)","v":""},{"$f":"IF(Students!F853=\"\",\"\",Students!F853)","v":""},{"$f":"IF(Students!G853=\"\",\"\",Students!G853)","v":""},{"$f":"IF(Students!G853=\"\",\"\",DATEDIF(Students!G853,Settings!$A$2,\"y\"))","v":""},{"$f":"IF(Students!C853=\"\",\"\",RIGHT(Home!$B$11,5))","v":""}]
[null,null,null,null,null,null,852,{"$f":"IF(Students!C854=\"\",\"\",Students!C854)","v":""},{"$f":"IF(Students!D854=\"\",\"\",Students!D854)","v":""},{"$f":"IF(Students!C854=\"\",\"\",H853&\" \"&I853&\" \"&O853)","v":""},{"$f":"IF(Students!E854=\"\",\"\",Students!E854)","v":""},{"$f":"IF(Students!F854=\"\",\"\",Students!F854)","v":""},{"$f":"IF(Students!G854=\"\",\"\",Students!G854)","v":""},{"$f":"IF(Students!G854=\"\",\"\",DATEDIF(Students!G854,Settings!$A$2,\"y\"))","v":""},{"$f":"IF(Students!C854=\"\",\"\",RIGHT(Home!$B$11,5))","v":""}]
[null,null,null,null,null,null,853,{"$f":"IF(Students!C855=\"\",\"\",Students!C855)","v":""},{"$f":"IF(Students!D855=\"\",\"\",Students!D855)","v":""},{"$f":"IF(Students!C855=\"\",\"\",H854&\" \"&I854&\" \"&O854)","v":""},{"$f":"IF(Students!E855=\"\",\"\",Students!E855)","v":""},{"$f":"IF(Students!F855=\"\",\"\",Students!F855)","v":""},{"$f":"IF(Students!G855=\"\",\"\",Students!G855)","v":""},{"$f":"IF(Students!G855=\"\",\"\",DATEDIF(Students!G855,Settings!$A$2,\"y\"))","v":""},{"$f":"IF(Students!C855=\"\",\"\",RIGHT(Home!$B$11,5))","v":""}]
[null,null,null,null,null,null,854,{"$f":"IF(Students!C856=\"\",\"\",Students!C856)","v":""},{"$f":"IF(Students!D856=\"\",\"\",Students!D856)","v":""},{"$f":"IF(Students!C856=\"\",\"\",H855&\" \"&I855&\" \"&O855)","v":""},{"$f":"IF(Students!E856=\"\",\"\",Students!E856)","v":""},{"$f":"IF(Students!F856=\"\",\"\",Students!F856)","v":""},{"$f":"IF(Students!G856=\"\",\"\",Students!G856)","v":""},{"$f":"IF(Students!G856=\"\",\"\",DATEDIF(Students!G856,Settings!$A$2,\"y\"))","v":""},{"$f":"IF(Students!C856=\"\",\"\",RIGHT(Home!$B$11,5))","v":""}]
[null,null,null,null,null,null,855,{"$f":"IF(Students!C857=\"\",\"\",Students!C857)","v":""},{"$f":"IF(Students!D857=\"\",\"\",Students!D857)","v":""},{"$f":"IF(Students!C857=\"\",\"\",H856&\" \"&I856&\" \"&O856)","v":""},{"$f":"IF(Students!E857=\"\",\"\",Students!E857)","v":""},{"$f":"IF(Students!F857=\"\",\"\",Students!F857)","v":""},{"$f":"IF(Students!G857=\"\",\"\",Students!G857)","v":""},{"$f":"IF(Students!G857=\"\",\"\",DATEDIF(Students!G857,Settings!$A$2,\"y\"))","v":""},{"$f":"IF(Students!C857=\"\",\"\",RIGHT(Home!$B$11,5))","v":""}]
[null,null,null,null,null,null,856,{"$f":"IF(Students!C858=\"\",\"\",Students!C858)","v":""},{"$f":"IF(Students!D858=\"\",\"\",Students!D858)","v":""},{"$f":"IF(Students!C858=\"\",\"\",H857&\" \"&I857&\" \"&O857)","v":""},{"$f":"IF(Students!E858=\"\",\"\",Students!E858)","v":""},{"$f":"IF(Students!F858=\"\",\"\",Students!F858)","v":""},{"$f":"IF(Students!G858=\"\",\"\",Students!G858)","v":""},{"$f":"IF(Students!G858=\"\",\"\",DATEDIF(Students!G858,Settings!$A$2,\"y\"))","v":""},{"$f":"IF(Students!C858=\"\",\"\",RIGHT(Home!$B$11,5))","v":""}]
[null,null,null,null,null,null,857,{"$f":"IF(Students!C859=\"\",\"\",Students!C859)","v":""},{"$f":"IF(Students!D859=\"\",\"\",Students!D859)","v":""},{"$f":"IF(Students!C859=\"\",\"\",H858&\" \"&I858&\" \"&O858)","v":""},{"$f":"IF(Students!E859=\"\",\"\",Students!E859)","v":""},{"$f":"IF(Students!F859=\"\",\"\",Students!F859)","v":""},{"$f":"IF(Students!G859=\"\",\"\",Students!G859)","v":""},{"$f":"IF(Students!G859=\"\",\"\",DATEDIF(Students!G859,Settings!$A$2,\"y\"))","v":""},{"$f":"IF(Students!C859=\"\",\"\",RIGHT(Home!$B$11,5))","v":""}]
[null,null,null,null,null,null,858,{"$f":"IF(Students!C860=\"\",\"\",Students!C860)","v":""},{"$f":"IF(Students!D860=\"\",\"\",Students!D860)","v":""},{"$f":"IF(Students!C860=\"\",\"\",H859&\" \"&I859&\" \"&O859)","v":""},{"$f":"IF(Students!E860=\"\",\"\",Students!E860)","v":""},{"$f":"IF(Students!F860=\"\",\"\",Students!F860)","v":""},{"$f":"IF(Students!G860=\"\",\"\",Students!G860)","v":""},{"$f":"IF(Students!G860=\"\",\"\",DATEDIF(Students!G860,Settings!$A$2,\"y\"))","v":""},{"$f":"IF(Students!C860=\"\",\"\",RIGHT(Home!$B$11,5))","v":""}]
[null,null,null,null,null,null,859,{"$f":"IF(Students!C861=\"\",\"\",Students!C861)","v":""},{"$f":"IF(Students!D861=\"\",\"\",Students!D861)","v":""},{"$f":"IF(Students!C861=\"\",\"\",H860&\" \"&I860&\" \"&O860)","v":""},{"$f":"IF(Students!E861=\"\",\"\",Students!E861)","v":""},{"$f":"IF(Students!F861=\"\",\"\",Students!F861)","v":""},{"$f":"IF(Students!G861=\"\",\"\",Students!G861)","v":""},{"$f":"IF(Students!G861=\"\",\"\",DATEDIF(Students!G861,Settings!$A$2,\"y\"))","v":""},{"$f":"IF(Students!C861=\"\",\"\",RIGHT(Home!$B$11,5))","v":""}]
[null,null,null,null,null,null,860,{"$f":"IF(Students!C862=\"\",\"\",Students!C862)","v":""},{"$f":"IF(Students!D862=\"\",\"\",Students!D862)","v":""},{"$f":"IF(Students!C862=\"\",\"\",H861&\" \"&I861&\" \"&O861)","v":""},{"$f":"IF(Students!E862=\"\",\"\",Students!E862)","v":""},{"$f":"IF(Students!F862=\"\",\"\",Students!F862)","v":""},{"$f":"IF(Students!G862=\"\",\"\",Students!G862)","v":""},{"$f":"IF(Students!G862=\"\",\"\",DATEDIF(Students!G862,Settings!$A$2,\"y\"))","v":""},{"$f":"IF(Students!C862=\"\",\"\",RIGHT(Home!$B$11,5))","v":""}]
[null,null,null,null,null,null,861,{"$f":"IF(Students!C863=\"\",\"\",Students!C863)","v":""},{"$f":"IF(Students!D863=\"\",\"\",Students!D863)","v":""},{"$f":"IF(Students!C863=\"\",\"\",H862&\" \"&I862&\" \"&O862)","v":""},{"$f":"IF(Students!E863=\"\",\"\",Students!E863)","v":""},{"$f":"IF(Students!F863=\"\",\"\",Students!F863)","v":""},{"$f":"IF(Students!G863=\"\",\"\",Students!G863)","v":""},{"$f":"IF(Students!G863=\"\",\"\",DATEDIF(Students!G863,Settings!$A$2,\"y\"))","v":""},{"$f":"IF(Students!C863=\"\",\"\",RIGHT(Home!$B$11,5))","v":""}]
[null,null,null,null,null,null,862,{"$f":"IF(Students!C864=\"\",\"\",Students!C864)","v":""},{"$f":"IF(Students!D864=\"\",\"\",Students!D864)","v":""},{"$f":"IF(Students!C864=\"\",\"\",H863&\" \"&I863&\" \"&O863)","v":""},{"$f":"IF(Students!E864=\"\",\"\",Students!E864)","v":""},{"$f":"IF(Students!F864=\"\",\"\",Students!F864)","v":""},{"$f":"IF(Students!G864=\"\",\"\",Students!G864)","v":""},{"$f":"IF(Students!G864=\"\",\"\",DATEDIF(Students!G864,Settings!$A$2,\"y\"))","v":""},{"$f":"IF(Students!C864=\"\",\"\",RIGHT(Home!$B$11,5))","v":""}]
[null,null,null,null,null,null,863,{"$f":"IF(Students!C865=\"\",\"\",Students!C865)","v":""},{"$f":"IF(Students!D865=\"\",\"\",Students!D865)","v":""},{"$f":"IF(Students!C865=\"\",\"\",H864&\" \"&I864&\" \"&O864)","v":""},{"$f":"IF(Students!E865=\"\",\"\",Students!E865)","v":""},{"$f":"IF(Students!F865=\"\",\"\",Students!F865)","v":""},{"$f":"IF(Students!G865=\"\",\"\",Students!G865)","v":""},{"$f":"IF(Students!G865=\"\",\"\",DATEDIF(Students!G865,Settings!$A$2,\"y\"))","v":""},{"$f":"IF(Students!C865=\"\",\"\",RIGHT(Home!$B$11,5))","v":""}]
[null,null,null,null,null,null,864,{"$f":"IF(Students!C866=\"\",\"\",Students!C866)","v":""},{"$f":"IF(Students!D866=\"\",\"\",Students!D866)","v":""},{"$f":"IF(Students!C866=\"\",\"\",H865&\" \"&I865&\" \"&O865)","v":""},{"$f":"IF(Students!E866=\"\",\"\",Students!E866)","v":""},{"$f":"IF(Students!F866=\"\",\"\",Students!F866)","v":""},{"$f":"IF(Students!G866=\"\",\"\",Students!G866)","v":""},{"$f":"IF(Students!G866=\"\",\"\",DATEDIF(Students!G866,Settings!$A$2,\"y\"))","v":""},{"$f":"IF(Students!C866=\"\",\"\",RIGHT(Home!$B$11,5))","v":""}]
[null,null,null,null,null,null,865,{"$f":"IF(Students!C867=\"\",\"\",Students!C867)","v":""},{"$f":"IF(Students!D867=\"\",\"\",Students!D867)","v":""},{"$f":"IF(Students!C867=\"\",\"\",H866&\" \"&I866&\" \"&O866)","v":""},{"$f":"IF(Students!E867=\"\",\"\",Students!E867)","v":""},{"$f":"IF(Students!F867=\"\",\"\",Students!F867)","v":""},{"$f":"IF(Students!G867=\"\",\"\",Students!G867)","v":""},{"$f":"IF(Students!G867=\"\",\"\",DATEDIF(Students!G867,Settings!$A$2,\"y\"))","v":""},{"$f":"IF(Students!C867=\"\",\"\",RIGHT(Home!$B$11,5))","v":""}]
[null,null,null,null,null,null,866,{"$f":"IF(Students!C868=\"\",\"\",Students!C868)","v":""},{"$f":"IF(Students!D868=\"\",\"\",Students!D868)","v":""},{"$f":"IF(Students!C868=\"\",\"\",H867&\" \"&I867&\" \"&O867)","v":""},{"$f":"IF(Students!E868=\"\",\"\",Students!E868)","v":""},{"$f":"IF(Students!F868=\"\",\"\",Students!F868)","v":""},{"$f":"IF(Students!G868=\"\",\"\",Students!G868)","v":""},{"$f":"IF(Students!G868=\"\",\"\",DATEDIF(Students!G868,Settings!$A$2,\"y\"))","v":""},{"$f":"IF(Students!C868=\"\",\"\",RIGHT(Home!$B$11,5))","v":""}]
[null,null,null,null,null,null,867,{"$f":"IF(Students!C869=\"\",\"\",Students!C869)","v":""},{"$f":"IF(Students!D869=\"\",\"\",Students!D869)","v":""},{"$f":"IF(Students!C869=\"\",\"\",H868&\" \"&I868&\" \"&O868)","v":""},{"$f":"IF(Students!E869=\"\",\"\",Students!E869)","v":""},{"$f":"IF(Students!F869=\"\",\"\",Students!F869)","v":""},{"$f":"IF(Students!G869=\"\",\"\",Students!G869)","v":""},{"$f":"IF(Students!G869=\"\",\"\",DATEDIF(Students!G869,Settings!$A$2,\"y\"))","v":""},{"$f":"IF(Students!C869=\"\",\"\",RIGHT(Home!$B$11,5))","v":""}]
[null,null,null,null,null,null,868,{"$f":"IF(Students!C870=\"\",\"\",Students!C870)","v":""},{"$f":"IF(Students!D870=\"\",\"\",Students!D870)","v":""},{"$f":"IF(Students!C870=\"\",\"\",H869&\" \"&I869&\" \"&O869)","v":""},{"$f":"IF(Students!E870=\"\",\"\",Students!E870)","v":""},{"$f":"IF(Students!F870=\"\",\"\",Students!F870)","v":""},{"$f":"IF(Students!G870=\"\",\"\",Students!G870)","v":""},{"$f":"IF(Students!G870=\"\",\"\",DATEDIF(Students!G870,Settings!$A$2,\"y\"))","v":""},{"$f":"IF(Students!C870=\"\",\"\",RIGHT(Home!$B$11,5))","v":""}]
[null,null,null,null,null,null,869,{"$f":"IF(Students!C871=\"\",\"\",Students!C871)","v":""},{"$f":"IF(Students!D871=\"\",\"\",Students!D871)","v":""},{"$f":"IF(Students!C871=\"\",\"\",H870&\" \"&I870&\" \"&O870)","v":""},{"$f":"IF(Students!E871=\"\",\"\",Students!E871)","v":""},{"$f":"IF(Students!F871=\"\",\"\",Students!F871)","v":""},{"$f":"IF(Students!G871=\"\",\"\",Students!G871)","v":""},{"$f":"IF(Students!G871=\"\",\"\",DATEDIF(Students!G871,Settings!$A$2,\"y\"))","v":""},{"$f":"IF(Students!C871=\"\",\"\",RIGHT(Home!$B$11,5))","v":""}]
[null,null,null,null,null,null,870,{"$f":"IF(Students!C872=\"\",\"\",Students!C872)","v":""},{"$f":"IF(Students!D872=\"\",\"\",Students!D872)","v":""},{"$f":"IF(Students!C872=\"\",\"\",H871&\" \"&I871&\" \"&O871)","v":""},{"$f":"IF(Students!E872=\"\",\"\",Students!E872)","v":""},{"$f":"IF(Students!F872=\"\",\"\",Students!F872)","v":""},{"$f":"IF(Students!G872=\"\",\"\",Students!G872)","v":""},{"$f":"IF(Students!G872=\"\",\"\",DATEDIF(Students!G872,Settings!$A$2,\"y\"))","v":""},{"$f":"IF(Students!C872=\"\",\"\",RIGHT(Home!$B$11,5))","v":""}]
[null,null,null,null,null,null,871,{"$f":"IF(Students!C873=\"\",\"\",Students!C873)","v":""},{"$f":"IF(Students!D873=\"\",\"\",Students!D873)","v":""},{"$f":"IF(Students!C873=\"\",\"\",H872&\" \"&I872&\" \"&O872)","v":""},{"$f":"IF(Students!E873=\"\",\"\",Students!E873)","v":""},{"$f":"IF(Students!F873=\"\",\"\",Students!F873)","v":""},{"$f":"IF(Students!G873=\"\",\"\",Students!G873)","v":""},{"$f":"IF(Students!G873=\"\",\"\",DATEDIF(Students!G873,Settings!$A$2,\"y\"))","v":""},{"$f":"IF(Students!C873=\"\",\"\",RIGHT(Home!$B$11,5))","v":""}]
[null,null,null,null,null,null,872,{"$f":"IF(Students!C874=\"\",\"\",Students!C874)","v":""},{"$f":"IF(Students!D874=\"\",\"\",Students!D874)","v":""},{"$f":"IF(Students!C874=\"\",\"\",H873&\" \"&I873&\" \"&O873)","v":""},{"$f":"IF(Students!E874=\"\",\"\",Students!E874)","v":""},{"$f":"IF(Students!F874=\"\",\"\",Students!F874)","v":""},{"$f":"IF(Students!G874=\"\",\"\",Students!G874)","v":""},{"$f":"IF(Students!G874=\"\",\"\",DATEDIF(Students!G874,Settings!$A$2,\"y\"))","v":""},{"$f":"IF(Students!C874=\"\",\"\",RIGHT(Home!$B$11,5))","v":""}]
[null,null,null,null,null,null,873,{"$f":"IF(Students!C875=\"\",\"\",Students!C875)","v":""},{"$f":"IF(Students!D875=\"\",\"\",Students!D875)","v":""},{"$f":"IF(Students!C875=\"\",\"\",H874&\" \"&I874&\" \"&O874)","v":""},{"$f":"IF(Students!E875=\"\",\"\",Students!E875)","v":""},{"$f":"IF(Students!F875=\"\",\"\",Students!F875)","v":""},{"$f":"IF(Students!G875=\"\",\"\",Students!G875)","v":""},{"$f":"IF(Students!G875=\"\",\"\",DATEDIF(Students!G875,Settings!$A$2,\"y\"))","v":""},{"$f":"IF(Students!C875=\"\",\"\",RIGHT(Home!$B$11,5))","v":""}]
[null,null,null,null,null,null,874,{"$f":"IF(Students!C876=\"\",\"\",Students!C876)","v":""},{"$f":"IF(Students!D876=\"\",\"\",Students!D876)","v":""},{"$f":"IF(Students!C876=\"\",\"\",H875&\" \"&I875&\" \"&O875)","v":""},{"$f":"IF(Students!E876=\"\",\"\",Students!E876)","v":""},{"$f":"IF(Students!F876=\"\",\"\",Students!F876)","v":""},{"$f":"IF(Students!G876=\"\",\"\",Students!G876)","v":""},{"$f":"IF(Students!G876=\"\",\"\",DATEDIF(Students!G876,Settings!$A$2,\"y\"))","v":""},{"$f":"IF(Students!C876=\"\",\"\",RIGHT(Home!$B$11,5))","v":""}]
[null,null,null,null,null,null,875,{"$f":"IF(Students!C877=\"\",\"\",Students!C877)","v":""},{"$f":"IF(Students!D877=\"\",\"\",Students!D877)","v":""},{"$f":"IF(Students!C877=\"\",\"\",H876&\" \"&I876&\" \"&O876)","v":""},{"$f":"IF(Students!E877=\"\",\"\",Students!E877)","v":""},{"$f":"IF(Students!F877=\"\",\"\",Students!F877)","v":""},{"$f":"IF(Students!G877=\"\",\"\",Students!G877)","v":""},{"$f":"IF(Students!G877=\"\",\"\",DATEDIF(Students!G877,Settings!$A$2,\"y\"))","v":""},{"$f":"IF(Students!C877=\"\",\"\",RIGHT(Home!$B$11,5))","v":""}]
[null,null,null,null,null,null,876,{"$f":"IF(Students!C878=\"\",\"\",Students!C878)","v":""},{"$f":"IF(Students!D878=\"\",\"\",Students!D878)","v":""},{"$f":"IF(Students!C878=\"\",\"\",H877&\" \"&I877&\" \"&O877)","v":""},{"$f":"IF(Students!E878=\"\",\"\",Students!E878)","v":""},{"$f":"IF(Students!F878=\"\",\"\",Students!F878)","v":""},{"$f":"IF(Students!G878=\"\",\"\",Students!G878)","v":""},{"$f":"IF(Students!G878=\"\",\"\",DATEDIF(Students!G878,Settings!$A$2,\"y\"))","v":""},{"$f":"IF(Students!C878=\"\",\"\",RIGHT(Home!$B$11,5))","v":""}]
[null,null,null,null,null,null,877,{"$f":"IF(Students!C879=\"\",\"\",Students!C879)","v":""},{"$f":"IF(Students!D879=\"\",\"\",Students!D879)","v":""},{"$f":"IF(Students!C879=\"\",\"\",H878&\" \"&I878&\" \"&O878)","v":""},{"$f":"IF(Students!E879=\"\",\"\",Students!E879)","v":""},{"$f":"IF(Students!F879=\"\",\"\",Students!F879)","v":""},{"$f":"IF(Students!G879=\"\",\"\",Students!G879)","v":""},{"$f":"IF(Students!G879=\"\",\"\",DATEDIF(Students!G879,Settings!$A$2,\"y\"))","v":""},{"$f":"IF(Students!C879=\"\",\"\",RIGHT(Home!$B$11,5))","v":""}]
[null,null,null,null,null,null,878,{"$f":"IF(Students!C880=\"\",\"\",Students!C880)","v":""},{"$f":"IF(Students!D880=\"\",\"\",Students!D880)","v":""},{"$f":"IF(Students!C880=\"\",\"\",H879&\" \"&I879&\" \"&O879)","v":""},{"$f":"IF(Students!E880=\"\",\"\",Students!E880)","v":""},{"$f":"IF(Students!F880=\"\",\"\",Students!F880)","v":""},{"$f":"IF(Students!G880=\"\",\"\",Students!G880)","v":""},{"$f":"IF(Students!G880=\"\",\"\",DATEDIF(Students!G880,Settings!$A$2,\"y\"))","v":""},{"$f":"IF(Students!C880=\"\",\"\",RIGHT(Home!$B$11,5))","v":""}]
[null,null,null,null,null,null,879,{"$f":"IF(Students!C881=\"\",\"\",Students!C881)","v":""},{"$f":"IF(Students!D881=\"\",\"\",Students!D881)","v":""},{"$f":"IF(Students!C881=\"\",\"\",H880&\" \"&I880&\" \"&O880)","v":""},{"$f":"IF(Students!E881=\"\",\"\",Students!E881)","v":""},{"$f":"IF(Students!F881=\"\",\"\",Students!F881)","v":""},{"$f":"IF(Students!G881=\"\",\"\",Students!G881)","v":""},{"$f":"IF(Students!G881=\"\",\"\",DATEDIF(Students!G881,Settings!$A$2,\"y\"))","v":""},{"$f":"IF(Students!C881=\"\",\"\",RIGHT(Home!$B$11,5))","v":""}]
[null,null,null,null,null,null,880,{"$f":"IF(Students!C882=\"\",\"\",Students!C882)","v":""},{"$f":"IF(Students!D882=\"\",\"\",Students!D882)","v":""},{"$f":"IF(Students!C882=\"\",\"\",H881&\" \"&I881&\" \"&O881)","v":""},{"$f":"IF(Students!E882=\"\",\"\",Students!E882)","v":""},{"$f":"IF(Students!F882=\"\",\"\",Students!F882)","v":""},{"$f":"IF(Students!G882=\"\",\"\",Students!G882)","v":""},{"$f":"IF(Students!G882=\"\",\"\",DATEDIF(Students!G882,Settings!$A$2,\"y\"))","v":""},{"$f":"IF(Students!C882=\"\",\"\",RIGHT(Home!$B$11,5))","v":""}]
[null,null,null,null,null,null,881,{"$f":"IF(Students!C883=\"\",\"\",Students!C883)","v":""},{"$f":"IF(Students!D883=\"\",\"\",Students!D883)","v":""},{"$f":"IF(Students!C883=\"\",\"\",H882&\" \"&I882&\" \"&O882)","v":""},{"$f":"IF(Students!E883=\"\",\"\",Students!E883)","v":""},{"$f":"IF(Students!F883=\"\",\"\",Students!F883)","v":""},{"$f":"IF(Students!G883=\"\",\"\",Students!G883)","v":""},{"$f":"IF(Students!G883=\"\",\"\",DATEDIF(Students!G883,Settings!$A$2,\"y\"))","v":""},{"$f":"IF(Students!C883=\"\",\"\",RIGHT(Home!$B$11,5))","v":""}]
[null,null,null,null,null,null,882,{"$f":"IF(Students!C884=\"\",\"\",Students!C884)","v":""},{"$f":"IF(Students!D884=\"\",\"\",Students!D884)","v":""},{"$f":"IF(Students!C884=\"\",\"\",H883&\" \"&I883&\" \"&O883)","v":""},{"$f":"IF(Students!E884=\"\",\"\",Students!E884)","v":""},{"$f":"IF(Students!F884=\"\",\"\",Students!F884)","v":""},{"$f":"IF(Students!G884=\"\",\"\",Students!G884)","v":""},{"$f":"IF(Students!G884=\"\",\"\",DATEDIF(Students!G884,Settings!$A$2,\"y\"))","v":""},{"$f":"IF(Students!C884=\"\",\"\",RIGHT(Home!$B$11,5))","v":""}]
[null,null,null,null,null,null,883,{"$f":"IF(Students!C885=\"\",\"\",Students!C885)","v":""},{"$f":"IF(Students!D885=\"\",\"\",Students!D885)","v":""},{"$f":"IF(Students!C885=\"\",\"\",H884&\" \"&I884&\" \"&O884)","v":""},{"$f":"IF(Students!E885=\"\",\"\",Students!E885)","v":""},{"$f":"IF(Students!F885=\"\",\"\",Students!F885)","v":""},{"$f":"IF(Students!G885=\"\",\"\",Students!G885)","v":""},{"$f":"IF(Students!G885=\"\",\"\",DATEDIF(Students!G885,Settings!$A$2,\"y\"))","v":""},{"$f":"IF(Students!C885=\"\",\"\",RIGHT(Home!$B$11,5))","v":""}]
[null,null,null,null,null,null,884,{"$f":"IF(Students!C886=\"\",\"\",Students!C886)","v":""},{"$f":"IF(Students!D886=\"\",\"\",Students!D886)","v":""},{"$f":"IF(Students!C886=\"\",\"\",H885&\" \"&I885&\" \"&O885)","v":""},{"$f":"IF(Students!E886=\"\",\"\",Students!E886)","v":""},{"$f":"IF(Students!F886=\"\",\"\",Students!F886)","v":""},{"$f":"IF(Students!G886=\"\",\"\",Students!G886)","v":""},{"$f":"IF(Students!G886=\"\",\"\",DATEDIF(Students!G886,Settings!$A$2,\"y\"))","v":""},{"$f":"IF(Students!C886=\"\",\"\",RIGHT(Home!$B$11,5))","v":""}]
[null,null,null,null,null,null,885,{"$f":"IF(Students!C887=\"\",\"\",Students!C887)","v":""},{"$f":"IF(Students!D887=\"\",\"\",Students!D887)","v":""},{"$f":"IF(Students!C887=\"\",\"\",H886&\" \"&I886&\" \"&O886)","v":""},{"$f":"IF(Students!E887=\"\",\"\",Students!E887)","v":""},{"$f":"IF(Students!F887=\"\",\"\",Students!F887)","v":""},{"$f":"IF(Students!G887=\"\",\"\",Students!G887)","v":""},{"$f":"IF(Students!G887=\"\",\"\",DATEDIF(Students!G887,Settings!$A$2,\"y\"))","v":""},{"$f":"IF(Students!C887=\"\",\"\",RIGHT(Home!$B$11,5))","v":""}]
[null,null,null,null,null,null,886,{"$f":"IF(Students!C888=\"\",\"\",Students!C888)","v":""},{"$f":"IF(Students!D888=\"\",\"\",Students!D888)","v":""},{"$f":"IF(Students!C888=\"\",\"\",H887&\" \"&I887&\" \"&O887)","v":""},{"$f":"IF(Students!E888=\"\",\"\",Students!E888)","v":""},{"$f":"IF(Students!F888=\"\",\"\",Students!F888)","v":""},{"$f":"IF(Students!G888=\"\",\"\",Students!G888)","v":""},{"$f":"IF(Students!G888=\"\",\"\",DATEDIF(Students!G888,Settings!$A$2,\"y\"))","v":""},{"$f":"IF(Students!C888=\"\",\"\",RIGHT(Home!$B$11,5))","v":""}]
[null,null,null,null,null,null,887,{"$f":"IF(Students!C889=\"\",\"\",Students!C889)","v":""},{"$f":"IF(Students!D889=\"\",\"\",Students!D889)","v":""},{"$f":"IF(Students!C889=\"\",\"\",H888&\" \"&I888&\" \"&O888)","v":""},{"$f":"IF(Students!E889=\"\",\"\",Students!E889)","v":""},{"$f":"IF(Students!F889=\"\",\"\",Students!F889)","v":""},{"$f":"IF(Students!G889=\"\",\"\",Students!G889)","v":""},{"$f":"IF(Students!G889=\"\",\"\",DATEDIF(Students!G889,Settings!$A$2,\"y\"))","v":""},{"$f":"IF(Students!C889=\"\",\"\",RIGHT(Home!$B$11,5))","v":""}]
[null,null,null,null,null,null,888,{"$f":"IF(Students!C890=\"\",\"\",Students!C890)","v":""},{"$f":"IF(Students!D890=\"\",\"\",Students!D890)","v":""},{"$f":"IF(Students!C890=\"\",\"\",H889&\" \"&I889&\" \"&O889)","v":""},{"$f":"IF(Students!E890=\"\",\"\",Students!E890)","v":""},{"$f":"IF(Students!F890=\"\",\"\",Students!F890)","v":""},{"$f":"IF(Students!G890=\"\",\"\",Students!G890)","v":""},{"$f":"IF(Students!G890=\"\",\"\",DATEDIF(Students!G890,Settings!$A$2,\"y\"))","v":""},{"$f":"IF(Students!C890=\"\",\"\",RIGHT(Home!$B$11,5))","v":""}]
[null,null,null,null,null,null,889,{"$f":"IF(Students!C891=\"\",\"\",Students!C891)","v":""},{"$f":"IF(Students!D891=\"\",\"\",Students!D891)","v":""},{"$f":"IF(Students!C891=\"\",\"\",H890&\" \"&I890&\" \"&O890)","v":""},{"$f":"IF(Students!E891=\"\",\"\",Students!E891)","v":""},{"$f":"IF(Students!F891=\"\",\"\",Students!F891)","v":""},{"$f":"IF(Students!G891=\"\",\"\",Students!G891)","v":""},{"$f":"IF(Students!G891=\"\",\"\",DATEDIF(Students!G891,Settings!$A$2,\"y\"))","v":""},{"$f":"IF(Students!C891=\"\",\"\",RIGHT(Home!$B$11,5))","v":""}]
[null,null,null,null,null,null,890,{"$f":"IF(Students!C892=\"\",\"\",Students!C892)","v":""},{"$f":"IF(Students!D892=\"\",\"\",Students!D892)","v":""},{"$f":"IF(Students!C892=\"\",\"\",H891&\" \"&I891&\" \"&O891)","v":""},{"$f":"IF(Students!E892=\"\",\"\",Students!E892)","v":""},{"$f":"IF(Students!F892=\"\",\"\",Students!F892)","v":""},{"$f":"IF(Students!G892=\"\",\"\",Students!G892)","v":""},{"$f":"IF(Students!G892=\"\",\"\",DATEDIF(Students!G892,Settings!$A$2,\"y\"))","v":""},{"$f":"IF(Students!C892=\"\",\"\",RIGHT(Home!$B$11,5))","v":""}]
[null,null,null,null,null,null,891,{"$f":"IF(Students!C893=\"\",\"\",Students!C893)","v":""},{"$f":"IF(Students!D893=\"\",\"\",Students!D893)","v":""},{"$f":"IF(Students!C893=\"\",\"\",H892&\" \"&I892&\" \"&O892)","v":""},{"$f":"IF(Students!E893=\"\",\"\",Students!E893)","v":""},{"$f":"IF(Students!F893=\"\",\"\",Students!F893)","v":""},{"$f":"IF(Students!G893=\"\",\"\",Students!G893)","v":""},{"$f":"IF(Students!G893=\"\",\"\",DATEDIF(Students!G893,Settings!$A$2,\"y\"))","v":""},{"$f":"IF(Students!C893=\"\",\"\",RIGHT(Home!$B$11,5))","v":""}]
[null,null,null,null,null,null,892,{"$f":"IF(Students!C894=\"\",\"\",Students!C894)","v":""},{"$f":"IF(Students!D894=\"\",\"\",Students!D894)","v":""},{"$f":"IF(Students!C894=\"\",\"\",H893&\" \"&I893&\" \"&O893)","v":""},{"$f":"IF(Students!E894=\"\",\"\",Students!E894)","v":""},{"$f":"IF(Students!F894=\"\",\"\",Students!F894)","v":""},{"$f":"IF(Students!G894=\"\",\"\",Students!G894)","v":""},{"$f":"IF(Students!G894=\"\",\"\",DATEDIF(Students!G894,Settings!$A$2,\"y\"))","v":""},{"$f":"IF(Students!C894=\"\",\"\",RIGHT(Home!$B$11,5))","v":""}]
[null,null,null,null,null,null,893,{"$f":"IF(Students!C895=\"\",\"\",Students!C895)","v":""},{"$f":"IF(Students!D895=\"\",\"\",Students!D895)","v":""},{"$f":"IF(Students!C895=\"\",\"\",H894&\" \"&I894&\" \"&O894)","v":""},{"$f":"IF(Students!E895=\"\",\"\",Students!E895)","v":""},{"$f":"IF(Students!F895=\"\",\"\",Students!F895)","v":""},{"$f":"IF(Students!G895=\"\",\"\",Students!G895)","v":""},{"$f":"IF(Students!G895=\"\",\"\",DATEDIF(Students!G895,Settings!$A$2,\"y\"))","v":""},{"$f":"IF(Students!C895=\"\",\"\",RIGHT(Home!$B$11,5))","v":""}]
[null,null,null,null,null,null,894,{"$f":"IF(Students!C896=\"\",\"\",Students!C896)","v":""},{"$f":"IF(Students!D896=\"\",\"\",Students!D896)","v":""},{"$f":"IF(Students!C896=\"\",\"\",H895&\" \"&I895&\" \"&O895)","v":""},{"$f":"IF(Students!E896=\"\",\"\",Students!E896)","v":""},{"$f":"IF(Students!F896=\"\",\"\",Students!F896)","v":""},{"$f":"IF(Students!G896=\"\",\"\",Students!G896)","v":""},{"$f":"IF(Students!G896=\"\",\"\",DATEDIF(Students!G896,Settings!$A$2,\"y\"))","v":""},{"$f":"IF(Students!C896=\"\",\"\",RIGHT(Home!$B$11,5))","v":""}]
[null,null,null,null,null,null,895,{"$f":"IF(Students!C897=\"\",\"\",Students!C897)","v":""},{"$f":"IF(Students!D897=\"\",\"\",Students!D897)","v":""},{"$f":"IF(Students!C897=\"\",\"\",H896&\" \"&I896&\" \"&O896)","v":""},{"$f":"IF(Students!E897=\"\",\"\",Students!E897)","v":""},{"$f":"IF(Students!F897=\"\",\"\",Students!F897)","v":""},{"$f":"IF(Students!G897=\"\",\"\",Students!G897)","v":""},{"$f":"IF(Students!G897=\"\",\"\",DATEDIF(Students!G897,Settings!$A$2,\"y\"))","v":""},{"$f":"IF(Students!C897=\"\",\"\",RIGHT(Home!$B$11,5))","v":""}]
[null,null,null,null,null,null,896,{"$f":"IF(Students!C898=\"\",\"\",Students!C898)","v":""},{"$f":"IF(Students!D898=\"\",\"\",Students!D898)","v":""},{"$f":"IF(Students!C898=\"\",\"\",H897&\" \"&I897&\" \"&O897)","v":""},{"$f":"IF(Students!E898=\"\",\"\",Students!E898)","v":""},{"$f":"IF(Students!F898=\"\",\"\",Students!F898)","v":""},{"$f":"IF(Students!G898=\"\",\"\",Students!G898)","v":""},{"$f":"IF(Students!G898=\"\",\"\",DATEDIF(Students!G898,Settings!$A$2,\"y\"))","v":""},{"$f":"IF(Students!C898=\"\",\"\",RIGHT(Home!$B$11,5))","v":""}]
[null,null,null,null,null,null,897,{"$f":"IF(Students!C899=\"\",\"\",Students!C899)","v":""},{"$f":"IF(Students!D899=\"\",\"\",Students!D899)","v":""},{"$f":"IF(Students!C899=\"\",\"\",H898&\" \"&I898&\" \"&O898)","v":""},{"$f":"IF(Students!E899=\"\",\"\",Students!E899)","v":""},{"$f":"IF(Students!F899=\"\",\"\",Students!F899)","v":""},{"$f":"IF(Students!G899=\"\",\"\",Students!G899)","v":""},{"$f":"IF(Students!G899=\"\",\"\",DATEDIF(Students!G899,Settings!$A$2,\"y\"))","v":""},{"$f":"IF(Students!C899=\"\",\"\",RIGHT(Home!$B$11,5))","v":""}]
[null,null,null,null,null,null,{"$f":"ROW()-1","v":898},{"$f":"IF(Students!C900=\"\",\"\",Students!C900)","v":""},{"$f":"IF(Students!D900=\"\",\"\",Students!D900)","v":""},{"$f":"IF(Students!C900=\"\",\"\",H899&\" \"&I899&\" \"&O899)","v":""},{"$f":"IF(Students!E900=\"\",\"\",Students!E900)","v":""},{"$f":"IF(Students!F900=\"\",\"\",Students!F900)","v":""},{"$f":"IF(Students!G900=\"\",\"\",Students!G900)","v":""},{"$f":"IF(Students!G900=\"\",\"\",DATEDIF(Students!G900,Settings!$A$2,\"y\"))","v":""},{"$f":"IF(Students!C900=\"\",\"\",RIGHT(Home!$B$11,5))","v":""}]
[null,null,null,null,null,null,899,{"$f":"IF(Students!C901=\"\",\"\",Students!C901)","v":""},{"$f":"IF(Students!D901=\"\",\"\",Students!D901)","v":""},{"$f":"IF(Students!C901=\"\",\"\",H900&\" \"&I900&\" \"&O900)","v":""},{"$f":"IF(Students!E901=\"\",\"\",Students!E901)","v":""},{"$f":"IF(Students!F901=\"\",\"\",Students!F901)","v":""},{"$f":"IF(Students!G901=\"\",\"\",Students!G901)","v":""},{"$f":"IF(Students!G901=\"\",\"\",DATEDIF(Students!G901,Settings!$A$2,\"y\"))","v":""},{"$f":"IF(Students!C901=\"\",\"\",RIGHT(Home!$B$11,5))","v":""}]
[null,null,null,null,null,null,900,{"$f":"IF(Students!C902=\"\",\"\",Students!C902)","v":""},{"$f":"IF(Students!D902=\"\",\"\",Students!D902)","v":""},{"$f":"IF(Students!C902=\"\",\"\",H901&\" \"&I901&\" \"&O901)","v":""},{"$f":"IF(Students!E902=\"\",\"\",Students!E902)","v":""},{"$f":"IF(Students!F902=\"\",\"\",Students!F902)","v":""},{"$f":"IF(Students!G902=\"\",\"\",Students!G902)","v":""},{"$f":"IF(Students!G902=\"\",\"\",DATEDIF(Students!G902,Settings!$A$2,\"y\"))","v":""},{"$f":"IF(Students!C902=\"\",\"\",RIGHT(Home!$B$11,5))","v":""}]
[null,null,null,null,null,null,901,{"$f":"IF(Students!C903=\"\",\"\",Students!C903)","v":""},{"$f":"IF(Students!D903=\"\",\"\",Students!D903)","v":""},{"$f":"IF(Students!C903=\"\",\"\",H902&\" \"&I902&\" \"&O902)","v":""},{"$f":"IF(Students!E903=\"\",\"\",Students!E903)","v":""},{"$f":"IF(Students!F903=\"\",\"\",Students!F903)","v":""},{"$f":"IF(Students!G903=\"\",\"\",Students!G903)","v":""},{"$f":"IF(Students!G903=\"\",\"\",DATEDIF(Students!G903,Settings!$A$2,\"y\"))","v":""},{"$f":"IF(Students!C903=\"\",\"\",RIGHT(Home!$B$11,5))","v":""}]
[null,null,null,null,null,null,902,{"$f":"IF(Students!C904=\"\",\"\",Students!C904)","v":""},{"$f":"IF(Students!D904=\"\",\"\",Students!D904)","v":""},{"$f":"IF(Students!C904=\"\",\"\",H903&\" \"&I903&\" \"&O903)","v":""},{"$f":"IF(Students!E904=\"\",\"\",Students!E904)","v":""},{"$f":"IF(Students!F904=\"\",\"\",Students!F904)","v":""},{"$f":"IF(Students!G904=\"\",\"\",Students!G904)","v":""},{"$f":"IF(Students!G904=\"\",\"\",DATEDIF(Students!G904,Settings!$A$2,\"y\"))","v":""},{"$f":"IF(Students!C904=\"\",\"\",RIGHT(Home!$B$11,5))","v":""}]
[null,null,null,null,null,null,903,{"$f":"IF(Students!C905=\"\",\"\",Students!C905)","v":""},{"$f":"IF(Students!D905=\"\",\"\",Students!D905)","v":""},{"$f":"IF(Students!C905=\"\",\"\",H904&\" \"&I904&\" \"&O904)","v":""},{"$f":"IF(Students!E905=\"\",\"\",Students!E905)","v":""},{"$f":"IF(Students!F905=\"\",\"\",Students!F905)","v":""},{"$f":"IF(Students!G905=\"\",\"\",Students!G905)","v":""},{"$f":"IF(Students!G905=\"\",\"\",DATEDIF(Students!G905,Settings!$A$2,\"y\"))","v":""},{"$f":"IF(Students!C905=\"\",\"\",RIGHT(Home!$B$11,5))","v":""}]
[null,null,null,null,null,null,904,{"$f":"IF(Students!C906=\"\",\"\",Students!C906)","v":""},{"$f":"IF(Students!D906=\"\",\"\",Students!D906)","v":""},{"$f":"IF(Students!C906=\"\",\"\",H905&\" \"&I905&\" \"&O905)","v":""},{"$f":"IF(Students!E906=\"\",\"\",Students!E906)","v":""},{"$f":"IF(Students!F906=\"\",\"\",Students!F906)","v":""},{"$f":"IF(Students!G906=\"\",\"\",Students!G906)","v":""},{"$f":"IF(Students!G906=\"\",\"\",DATEDIF(Students!G906,Settings!$A$2,\"y\"))","v":""},{"$f":"IF(Students!C906=\"\",\"\",RIGHT(Home!$B$11,5))","v":""}]
[null,null,null,null,null,null,905,{"$f":"IF(Students!C907=\"\",\"\",Students!C907)","v":""},{"$f":"IF(Students!D907=\"\",\"\",Students!D907)","v":""},{"$f":"IF(Students!C907=\"\",\"\",H906&\" \"&I906&\" \"&O906)","v":""},{"$f":"IF(Students!E907=\"\",\"\",Students!E907)","v":""},{"$f":"IF(Students!F907=\"\",\"\",Students!F907)","v":""},{"$f":"IF(Students!G907=\"\",\"\",Students!G907)","v":""},{"$f":"IF(Students!G907=\"\",\"\",DATEDIF(Students!G907,Settings!$A$2,\"y\"))","v":""},{"$f":"IF(Students!C907=\"\",\"\",RIGHT(Home!$B$11,5))","v":""}]
[null,null,null,null,null,null,906,{"$f":"IF(Students!C908=\"\",\"\",Students!C908)","v":""},{"$f":"IF(Students!D908=\"\",\"\",Students!D908)","v":""},{"$f":"IF(Students!C908=\"\",\"\",H907&\" \"&I907&\" \"&O907)","v":""},{"$f":"IF(Students!E908=\"\",\"\",Students!E908)","v":""},{"$f":"IF(Students!F908=\"\",\"\",Students!F908)","v":""},{"$f":"IF(Students!G908=\"\",\"\",Students!G908)","v":""},{"$f":"IF(Students!G908=\"\",\"\",DATEDIF(Students!G908,Settings!$A$2,\"y\"))","v":""},{"$f":"IF(Students!C908=\"\",\"\",RIGHT(Home!$B$11,5))","v":""}]
[null,null,null,null,null,null,907,{"$f":"IF(Students!C909=\"\",\"\",Students!C909)","v":""},{"$f":"IF(Students!D909=\"\",\"\",Students!D909)","v":""},{"$f":"IF(Students!C909=\"\",\"\",H908&\" \"&I908&\" \"&O908)","v":""},{"$f":"IF(Students!E909=\"\",\"\",Students!E909)","v":""},{"$f":"IF(Students!F909=\"\",\"\",Students!F909)","v":""},{"$f":"IF(Students!G909=\"\",\"\",Students!G909)","v":""},{"$f":"IF(Students!G909=\"\",\"\",DATEDIF(Students!G909,Settings!$A$2,\"y\"))","v":""},{"$f":"IF(Students!C909=\"\",\"\",RIGHT(Home!$B$11,5))","v":""}]
[null,null,null,null,null,null,908,{"$f":"IF(Students!C910=\"\",\"\",Students!C910)","v":""},{"$f":"IF(Students!D910=\"\",\"\",Students!D910)","v":""},{"$f":"IF(Students!C910=\"\",\"\",H909&\" \"&I909&\" \"&O909)","v":""},{"$f":"IF(Students!E910=\"\",\"\",Students!E910)","v":""},{"$f":"IF(Students!F910=\"\",\"\",Students!F910)","v":""},{"$f":"IF(Students!G910=\"\",\"\",Students!G910)","v":""},{"$f":"IF(Students!G910=\"\",\"\",DATEDIF(Students!G910,Settings!$A$2,\"y\"))","v":""},{"$f":"IF(Students!C910=\"\",\"\",RIGHT(Home!$B$11,5))","v":""}]
[null,null,null,null,null,null,909,{"$f":"IF(Students!C911=\"\",\"\",Students!C911)","v":""},{"$f":"IF(Students!D911=\"\",\"\",Students!D911)","v":""},{"$f":"IF(Students!C911=\"\",\"\",H910&\" \"&I910&\" \"&O910)","v":""},{"$f":"IF(Students!E911=\"\",\"\",Students!E911)","v":""},{"$f":"IF(Students!F911=\"\",\"\",Students!F911)","v":""},{"$f":"IF(Students!G911=\"\",\"\",Students!G911)","v":""},{"$f":"IF(Students!G911=\"\",\"\",DATEDIF(Students!G911,Settings!$A$2,\"y\"))","v":""},{"$f":"IF(Students!C911=\"\",\"\",RIGHT(Home!$B$11,5))","v":""}]
[null,null,null,null,null,null,910,{"$f":"IF(Students!C912=\"\",\"\",Students!C912)","v":""},{"$f":"IF(Students!D912=\"\",\"\",Students!D912)","v":""},{"$f":"IF(Students!C912=\"\",\"\",H911&\" \"&I911&\" \"&O911)","v":""},{"$f":"IF(Students!E912=\"\",\"\",Students!E912)","v":""},{"$f":"IF(Students!F912=\"\",\"\",Students!F912)","v":""},{"$f":"IF(Students!G912=\"\",\"\",Students!G912)","v":""},{"$f":"IF(Students!G912=\"\",\"\",DATEDIF(Students!G912,Settings!$A$2,\"y\"))","v":""},{"$f":"IF(Students!C912=\"\",\"\",RIGHT(Home!$B$11,5))","v":""}]
[null,null,null,null,null,null,911,{"$f":"IF(Students!C913=\"\",\"\",Students!C913)","v":""},{"$f":"IF(Students!D913=\"\",\"\",Students!D913)","v":""},{"$f":"IF(Students!C913=\"\",\"\",H912&\" \"&I912&\" \"&O912)","v":""},{"$f":"IF(Students!E913=\"\",\"\",Students!E913)","v":""},{"$f":"IF(Students!F913=\"\",\"\",Students!F913)","v":""},{"$f":"IF(Students!G913=\"\",\"\",Students!G913)","v":""},{"$f":"IF(Students!G913=\"\",\"\",DATEDIF(Students!G913,Settings!$A$2,\"y\"))","v":""},{"$f":"IF(Students!C913=\"\",\"\",RIGHT(Home!$B$11,5))","v":""}]
[null,null,null,null,null,null,912,{"$f":"IF(Students!C914=\"\",\"\",Students!C914)","v":""},{"$f":"IF(Students!D914=\"\",\"\",Students!D914)","v":""},{"$f":"IF(Students!C914=\"\",\"\",H913&\" \"&I913&\" \"&O913)","v":""},{"$f":"IF(Students!E914=\"\",\"\",Students!E914)","v":""},{"$f":"IF(Students!F914=\"\",\"\",Students!F914)","v":""},{"$f":"IF(Students!G914=\"\",\"\",Students!G914)","v":""},{"$f":"IF(Students!G914=\"\",\"\",DATEDIF(Students!G914,Settings!$A$2,\"y\"))","v":""},{"$f":"IF(Students!C914=\"\",\"\",RIGHT(Home!$B$11,5))","v":""}]
[null,null,null,null,null,null,913,{"$f":"IF(Students!C915=\"\",\"\",Students!C915)","v":""},{"$f":"IF(Students!D915=\"\",\"\",Students!D915)","v":""},{"$f":"IF(Students!C915=\"\",\"\",H914&\" \"&I914&\" \"&O914)","v":""},{"$f":"IF(Students!E915=\"\",\"\",Students!E915)","v":""},{"$f":"IF(Students!F915=\"\",\"\",Students!F915)","v":""},{"$f":"IF(Students!G915=\"\",\"\",Students!G915)","v":""},{"$f":"IF(Students!G915=\"\",\"\",DATEDIF(Students!G915,Settings!$A$2,\"y\"))","v":""},{"$f":"IF(Students!C915=\"\",\"\",RIGHT(Home!$B$11,5))","v":""}]
[null,null,null,null,null,null,914,{"$f":"IF(Students!C916=\"\",\"\",Students!C916)","v":""},{"$f":"IF(Students!D916=\"\",\"\",Students!D916)","v":""},{"$f":"IF(Students!C916=\"\",\"\",H915&\" \"&I915&\" \"&O915)","v":""},{"$f":"IF(Students!E916=\"\",\"\",Students!E916)","v":""},{"$f":"IF(Students!F916=\"\",\"\",Students!F916)","v":""},{"$f":"IF(Students!G916=\"\",\"\",Students!G916)","v":""},{"$f":"IF(Students!G916=\"\",\"\",DATEDIF(Students!G916,Settings!$A$2,\"y\"))","v":""},{"$f":"IF(Students!C916=\"\",\"\",RIGHT(Home!$B$11,5))","v":""}]
[null,null,null,null,null,null,915,{"$f":"IF(Students!C917=\"\",\"\",Students!C917)","v":""},{"$f":"IF(Students!D917=\"\",\"\",Students!D917)","v":""},{"$f":"IF(Students!C917=\"\",\"\",H916&\" \"&I916&\" \"&O916)","v":""},{"$f":"IF(Students!E917=\"\",\"\",Students!E917)","v":""},{"$f":"IF(Students!F917=\"\",\"\",Students!F917)","v":""},{"$f":"IF(Students!G917=\"\",\"\",Students!G917)","v":""},{"$f":"IF(Students!G917=\"\",\"\",DATEDIF(Students!G917,Settings!$A$2,\"y\"))","v":""},{"$f":"IF(Students!C917=\"\",\"\",RIGHT(Home!$B$11,5))","v":""}]
[null,null,null,null,null,null,916,{"$f":"IF(Students!C918=\"\",\"\",Students!C918)","v":""},{"$f":"IF(Students!D918=\"\",\"\",Students!D918)","v":""},{"$f":"IF(Students!C918=\"\",\"\",H917&\" \"&I917&\" \"&O917)","v":""},{"$f":"IF(Students!E918=\"\",\"\",Students!E918)","v":""},{"$f":"IF(Students!F918=\"\",\"\",Students!F918)","v":""},{"$f":"IF(Students!G918=\"\",\"\",Students!G918)","v":""},{"$f":"IF(Students!G918=\"\",\"\",DATEDIF(Students!G918,Settings!$A$2,\"y\"))","v":""},{"$f":"IF(Students!C918=\"\",\"\",RIGHT(Home!$B$11,5))","v":""}]
[null,null,null,null,null,null,917,{"$f":"IF(Students!C919=\"\",\"\",Students!C919)","v":""},{"$f":"IF(Students!D919=\"\",\"\",Students!D919)","v":""},{"$f":"IF(Students!C919=\"\",\"\",H918&\" \"&I918&\" \"&O918)","v":""},{"$f":"IF(Students!E919=\"\",\"\",Students!E919)","v":""},{"$f":"IF(Students!F919=\"\",\"\",Students!F919)","v":""},{"$f":"IF(Students!G919=\"\",\"\",Students!G919)","v":""},{"$f":"IF(Students!G919=\"\",\"\",DATEDIF(Students!G919,Settings!$A$2,\"y\"))","v":""},{"$f":"IF(Students!C919=\"\",\"\",RIGHT(Home!$B$11,5))","v":""}]
[null,null,null,null,null,null,918,{"$f":"IF(Students!C920=\"\",\"\",Students!C920)","v":""},{"$f":"IF(Students!D920=\"\",\"\",Students!D920)","v":""},{"$f":"IF(Students!C920=\"\",\"\",H919&\" \"&I919&\" \"&O919)","v":""},{"$f":"IF(Students!E920=\"\",\"\",Students!E920)","v":""},{"$f":"IF(Students!F920=\"\",\"\",Students!F920)","v":""},{"$f":"IF(Students!G920=\"\",\"\",Students!G920)","v":""},{"$f":"IF(Students!G920=\"\",\"\",DATEDIF(Students!G920,Settings!$A$2,\"y\"))","v":""},{"$f":"IF(Students!C920=\"\",\"\",RIGHT(Home!$B$11,5))","v":""}]
[null,null,null,null,null,null,919,{"$f":"IF(Students!C921=\"\",\"\",Students!C921)","v":""},{"$f":"IF(Students!D921=\"\",\"\",Students!D921)","v":""},{"$f":"IF(Students!C921=\"\",\"\",H920&\" \"&I920&\" \"&O920)","v":""},{"$f":"IF(Students!E921=\"\",\"\",Students!E921)","v":""},{"$f":"IF(Students!F921=\"\",\"\",Students!F921)","v":""},{"$f":"IF(Students!G921=\"\",\"\",Students!G921)","v":""},{"$f":"IF(Students!G921=\"\",\"\",DATEDIF(Students!G921,Settings!$A$2,\"y\"))","v":""},{"$f":"IF(Students!C921=\"\",\"\",RIGHT(Home!$B$11,5))","v":""}]
[null,null,null,null,null,null,920,{"$f":"IF(Students!C922=\"\",\"\",Students!C922)","v":""},{"$f":"IF(Students!D922=\"\",\"\",Students!D922)","v":""},{"$f":"IF(Students!C922=\"\",\"\",H921&\" \"&I921&\" \"&O921)","v":""},{"$f":"IF(Students!E922=\"\",\"\",Students!E922)","v":""},{"$f":"IF(Students!F922=\"\",\"\",Students!F922)","v":""},{"$f":"IF(Students!G922=\"\",\"\",Students!G922)","v":""},{"$f":"IF(Students!G922=\"\",\"\",DATEDIF(Students!G922,Settings!$A$2,\"y\"))","v":""},{"$f":"IF(Students!C922=\"\",\"\",RIGHT(Home!$B$11,5))","v":""}]
[null,null,null,null,null,null,921,{"$f":"IF(Students!C923=\"\",\"\",Students!C923)","v":""},{"$f":"IF(Students!D923=\"\",\"\",Students!D923)","v":""},{"$f":"IF(Students!C923=\"\",\"\",H922&\" \"&I922&\" \"&O922)","v":""},{"$f":"IF(Students!E923=\"\",\"\",Students!E923)","v":""},{"$f":"IF(Students!F923=\"\",\"\",Students!F923)","v":""},{"$f":"IF(Students!G923=\"\",\"\",Students!G923)","v":""},{"$f":"IF(Students!G923=\"\",\"\",DATEDIF(Students!G923,Settings!$A$2,\"y\"))","v":""},{"$f":"IF(Students!C923=\"\",\"\",RIGHT(Home!$B$11,5))","v":""}]
[null,null,null,null,null,null,922,{"$f":"IF(Students!C924=\"\",\"\",Students!C924)","v":""},{"$f":"IF(Students!D924=\"\",\"\",Students!D924)","v":""},{"$f":"IF(Students!C924=\"\",\"\",H923&\" \"&I923&\" \"&O923)","v":""},{"$f":"IF(Students!E924=\"\",\"\",Students!E924)","v":""},{"$f":"IF(Students!F924=\"\",\"\",Students!F924)","v":""},{"$f":"IF(Students!G924=\"\",\"\",Students!G924)","v":""},{"$f":"IF(Students!G924=\"\",\"\",DATEDIF(Students!G924,Settings!$A$2,\"y\"))","v":""},{"$f":"IF(Students!C924=\"\",\"\",RIGHT(Home!$B$11,5))","v":""}]
[null,null,null,null,null,null,923,{"$f":"IF(Students!C925=\"\",\"\",Students!C925)","v":""},{"$f":"IF(Students!D925=\"\",\"\",Students!D925)","v":""},{"$f":"IF(Students!C925=\"\",\"\",H924&\" \"&I924&\" \"&O924)","v":""},{"$f":"IF(Students!E925=\"\",\"\",Students!E925)","v":""},{"$f":"IF(Students!F925=\"\",\"\",Students!F925)","v":""},{"$f":"IF(Students!G925=\"\",\"\",Students!G925)","v":""},{"$f":"IF(Students!G925=\"\",\"\",DATEDIF(Students!G925,Settings!$A$2,\"y\"))","v":""},{"$f":"IF(Students!C925=\"\",\"\",RIGHT(Home!$B$11,5))","v":""}]
[null,null,null,null,null,null,924,{"$f":"IF(Students!C926=\"\",\"\",Students!C926)","v":""},{"$f":"IF(Students!D926=\"\",\"\",Students!D926)","v":""},{"$f":"IF(Students!C926=\"\",\"\",H925&\" \"&I925&\" \"&O925)","v":""},{"$f":"IF(Students!E926=\"\",\"\",Students!E926)","v":""},{"$f":"IF(Students!F926=\"\",\"\",Students!F926)","v":""},{"$f":"IF(Students!G926=\"\",\"\",Students!G926)","v":""},{"$f":"IF(Students!G926=\"\",\"\",DATEDIF(Students!G926,Settings!$A$2,\"y\"))","v":""},{"$f":"IF(Students!C926=\"\",\"\",RIGHT(Home!$B$11,5))","v":""}]
[null,null,null,null,null,null,925,{"$f":"IF(Students!C927=\"\",\"\",Students!C927)","v":""},{"$f":"IF(Students!D927=\"\",\"\",Students!D927)","v":""},{"$f":"IF(Students!C927=\"\",\"\",H926&\" \"&I926&\" \"&O926)","v":""},{"$f":"IF(Students!E927=\"\",\"\",Students!E927)","v":""},{"$f":"IF(Students!F927=\"\",\"\",Students!F927)","v":""},{"$f":"IF(Students!G927=\"\",\"\",Students!G927)","v":""},{"$f":"IF(Students!G927=\"\",\"\",DATEDIF(Students!G927,Settings!$A$2,\"y\"))","v":""},{"$f":"IF(Students!C927=\"\",\"\",RIGHT(Home!$B$11,5))","v":""}]
[null,null,null,null,null,null,926,{"$f":"IF(Students!C928=\"\",\"\",Students!C928)","v":""},{"$f":"IF(Students!D928=\"\",\"\",Students!D928)","v":""},{"$f":"IF(Students!C928=\"\",\"\",H927&\" \"&I927&\" \"&O927)","v":""},{"$f":"IF(Students!E928=\"\",\"\",Students!E928)","v":""},{"$f":"IF(Students!F928=\"\",\"\",Students!F928)","v":""},{"$f":"IF(Students!G928=\"\",\"\",Students!G928)","v":""},{"$f":"IF(Students!G928=\"\",\"\",DATEDIF(Students!G928,Settings!$A$2,\"y\"))","v":""},{"$f":"IF(Students!C928=\"\",\"\",RIGHT(Home!$B$11,5))","v":""}]
[null,null,null,null,null,null,927,{"$f":"IF(Students!C929=\"\",\"\",Students!C929)","v":""},{"$f":"IF(Students!D929=\"\",\"\",Students!D929)","v":""},{"$f":"IF(Students!C929=\"\",\"\",H928&\" \"&I928&\" \"&O928)","v":""},{"$f":"IF(Students!E929=\"\",\"\",Students!E929)","v":""},{"$f":"IF(Students!F929=\"\",\"\",Students!F929)","v":""},{"$f":"IF(Students!G929=\"\",\"\",Students!G929)","v":""},{"$f":"IF(Students!G929=\"\",\"\",DATEDIF(Students!G929,Settings!$A$2,\"y\"))","v":""},{"$f":"IF(Students!C929=\"\",\"\",RIGHT(Home!$B$11,5))","v":""}]
[null,null,null,null,null,null,928,{"$f":"IF(Students!C930=\"\",\"\",Students!C930)","v":""},{"$f":"IF(Students!D930=\"\",\"\",Students!D930)","v":""},{"$f":"IF(Students!C930=\"\",\"\",H929&\" \"&I929&\" \"&O929)","v":""},{"$f":"IF(Students!E930=\"\",\"\",Students!E930)","v":""},{"$f":"IF(Students!F930=\"\",\"\",Students!F930)","v":""},{"$f":"IF(Students!G930=\"\",\"\",Students!G930)","v":""},{"$f":"IF(Students!G930=\"\",\"\",DATEDIF(Students!G930,Settings!$A$2,\"y\"))","v":""},{"$f":"IF(Students!C930=\"\",\"\",RIGHT(Home!$B$11,5))","v":""}]
[null,null,null,null,null,null,929,{"$f":"IF(Students!C931=\"\",\"\",Students!C931)","v":""},{"$f":"IF(Students!D931=\"\",\"\",Students!D931)","v":""},{"$f":"IF(Students!C931=\"\",\"\",H930&\" \"&I930&\" \"&O930)","v":""},{"$f":"IF(Students!E931=\"\",\"\",Students!E931)","v":""},{"$f":"IF(Students!F931=\"\",\"\",Students!F931)","v":""},{"$f":"IF(Students!G931=\"\",\"\",Students!G931)","v":""},{"$f":"IF(Students!G931=\"\",\"\",DATEDIF(Students!G931,Settings!$A$2,\"y\"))","v":""},{"$f":"IF(Students!C931=\"\",\"\",RIGHT(Home!$B$11,5))","v":""}]
[null,null,null,null,null,null,930,{"$f":"IF(Students!C932=\"\",\"\",Students!C932)","v":""},{"$f":"IF(Students!D932=\"\",\"\",Students!D932)","v":""},{"$f":"IF(Students!C932=\"\",\"\",H931&\" \"&I931&\" \"&O931)","v":""},{"$f":"IF(Students!E932=\"\",\"\",Students!E932)","v":""},{"$f":"IF(Students!F932=\"\",\"\",Students!F932)","v":""},{"$f":"IF(Students!G932=\"\",\"\",Students!G932)","v":""},{"$f":"IF(Students!G932=\"\",\"\",DATEDIF(Students!G932,Settings!$A$2,\"y\"))","v":""},{"$f":"IF(Students!C932=\"\",\"\",RIGHT(Home!$B$11,5))","v":""}]
[null,null,null,null,null,null,931,{"$f":"IF(Students!C933=\"\",\"\",Students!C933)","v":""},{"$f":"IF(Students!D933=\"\",\"\",Students!D933)","v":""},{"$f":"IF(Students!C933=\"\",\"\",H932&\" \"&I932&\" \"&O932)","v":""},{"$f":"IF(Students!E933=\"\",\"\",Students!E933)","v":""},{"$f":"IF(Students!F933=\"\",\"\",Students!F933)","v":""},{"$f":"IF(Students!G933=\"\",\"\",Students!G933)","v":""},{"$f":"IF(Students!G933=\"\",\"\",DATEDIF(Students!G933,Settings!$A$2,\"y\"))","v":""},{"$f":"IF(Students!C933=\"\",\"\",RIGHT(Home!$B$11,5))","v":""}]
[null,null,null,null,null,null,932,{"$f":"IF(Students!C934=\"\",\"\",Students!C934)","v":""},{"$f":"IF(Students!D934=\"\",\"\",Students!D934)","v":""},{"$f":"IF(Students!C934=\"\",\"\",H933&\" \"&I933&\" \"&O933)","v":""},{"$f":"IF(Students!E934=\"\",\"\",Students!E934)","v":""},{"$f":"IF(Students!F934=\"\",\"\",Students!F934)","v":""},{"$f":"IF(Students!G934=\"\",\"\",Students!G934)","v":""},{"$f":"IF(Students!G934=\"\",\"\",DATEDIF(Students!G934,Settings!$A$2,\"y\"))","v":""},{"$f":"IF(Students!C934=\"\",\"\",RIGHT(Home!$B$11,5))","v":""}]
[null,null,null,null,null,null,933,{"$f":"IF(Students!C935=\"\",\"\",Students!C935)","v":""},{"$f":"IF(Students!D935=\"\",\"\",Students!D935)","v":""},{"$f":"IF(Students!C935=\"\",\"\",H934&\" \"&I934&\" \"&O934)","v":""},{"$f":"IF(Students!E935=\"\",\"\",Students!E935)","v":""},{"$f":"IF(Students!F935=\"\",\"\",Students!F935)","v":""},{"$f":"IF(Students!G935=\"\",\"\",Students!G935)","v":""},{"$f":"IF(Students!G935=\"\",\"\",DATEDIF(Students!G935,Settings!$A$2,\"y\"))","v":""},{"$f":"IF(Students!C935=\"\",\"\",RIGHT(Home!$B$11,5))","v":""}]
[null,null,null,null,null,null,934,{"$f":"IF(Students!C936=\"\",\"\",Students!C936)","v":""},{"$f":"IF(Students!D936=\"\",\"\",Students!D936)","v":""},{"$f":"IF(Students!C936=\"\",\"\",H935&\" \"&I935&\" \"&O935)","v":""},{"$f":"IF(Students!E936=\"\",\"\",Students!E936)","v":""},{"$f":"IF(Students!F936=\"\",\"\",Students!F936)","v":""},{"$f":"IF(Students!G936=\"\",\"\",Students!G936)","v":""},{"$f":"IF(Students!G936=\"\",\"\",DATEDIF(Students!G936,Settings!$A$2,\"y\"))","v":""},{"$f":"IF(Students!C936=\"\",\"\",RIGHT(Home!$B$11,5))","v":""}]
[null,null,null,null,null,null,935,{"$f":"IF(Students!C937=\"\",\"\",Students!C937)","v":""},{"$f":"IF(Students!D937=\"\",\"\",Students!D937)","v":""},{"$f":"IF(Students!C937=\"\",\"\",H936&\" \"&I936&\" \"&O936)","v":""},{"$f":"IF(Students!E937=\"\",\"\",Students!E937)","v":""},{"$f":"IF(Students!F937=\"\",\"\",Students!F937)","v":""},{"$f":"IF(Students!G937=\"\",\"\",Students!G937)","v":""},{"$f":"IF(Students!G937=\"\",\"\",DATEDIF(Students!G937,Settings!$A$2,\"y\"))","v":""},{"$f":"IF(Students!C937=\"\",\"\",RIGHT(Home!$B$11,5))","v":""}]
[null,null,null,null,null,null,936,{"$f":"IF(Students!C938=\"\",\"\",Students!C938)","v":""},{"$f":"IF(Students!D938=\"\",\"\",Students!D938)","v":""},{"$f":"IF(Students!C938=\"\",\"\",H937&\" \"&I937&\" \"&O937)","v":""},{"$f":"IF(Students!E938=\"\",\"\",Students!E938)","v":""},{"$f":"IF(Students!F938=\"\",\"\",Students!F938)","v":""},{"$f":"IF(Students!G938=\"\",\"\",Students!G938)","v":""},{"$f":"IF(Students!G938=\"\",\"\",DATEDIF(Students!G938,Settings!$A$2,\"y\"))","v":""},{"$f":"IF(Students!C938=\"\",\"\",RIGHT(Home!$B$11,5))","v":""}]
[null,null,null,null,null,null,937,{"$f":"IF(Students!C939=\"\",\"\",Students!C939)","v":""},{"$f":"IF(Students!D939=\"\",\"\",Students!D939)","v":""},{"$f":"IF(Students!C939=\"\",\"\",H938&\" \"&I938&\" \"&O938)","v":""},{"$f":"IF(Students!E939=\"\",\"\",Students!E939)","v":""},{"$f":"IF(Students!F939=\"\",\"\",Students!F939)","v":""},{"$f":"IF(Students!G939=\"\",\"\",Students!G939)","v":""},{"$f":"IF(Students!G939=\"\",\"\",DATEDIF(Students!G939,Settings!$A$2,\"y\"))","v":""},{"$f":"IF(Students!C939=\"\",\"\",RIGHT(Home!$B$11,5))","v":""}]
[null,null,null,null,null,null,938,{"$f":"IF(Students!C940=\"\",\"\",Students!C940)","v":""},{"$f":"IF(Students!D940=\"\",\"\",Students!D940)","v":""},{"$f":"IF(Students!C940=\"\",\"\",H939&\" \"&I939&\" \"&O939)","v":""},{"$f":"IF(Students!E940=\"\",\"\",Students!E940)","v":""},{"$f":"IF(Students!F940=\"\",\"\",Students!F940)","v":""},{"$f":"IF(Students!G940=\"\",\"\",Students!G940)","v":""},{"$f":"IF(Students!G940=\"\",\"\",DATEDIF(Students!G940,Settings!$A$2,\"y\"))","v":""},{"$f":"IF(Students!C940=\"\",\"\",RIGHT(Home!$B$11,5))","v":""}]
[null,null,null,null,null,null,939,{"$f":"IF(Students!C941=\"\",\"\",Students!C941)","v":""},{"$f":"IF(Students!D941=\"\",\"\",Students!D941)","v":""},{"$f":"IF(Students!C941=\"\",\"\",H940&\" \"&I940&\" \"&O940)","v":""},{"$f":"IF(Students!E941=\"\",\"\",Students!E941)","v":""},{"$f":"IF(Students!F941=\"\",\"\",Students!F941)","v":""},{"$f":"IF(Students!G941=\"\",\"\",Students!G941)","v":""},{"$f":"IF(Students!G941=\"\",\"\",DATEDIF(Students!G941,Settings!$A$2,\"y\"))","v":""},{"$f":"IF(Students!C941=\"\",\"\",RIGHT(Home!$B$11,5))","v":""}]
[null,null,null,null,null,null,940,{"$f":"IF(Students!C942=\"\",\"\",Students!C942)","v":""},{"$f":"IF(Students!D942=\"\",\"\",Students!D942)","v":""},{"$f":"IF(Students!C942=\"\",\"\",H941&\" \"&I941&\" \"&O941)","v":""},{"$f":"IF(Students!E942=\"\",\"\",Students!E942)","v":""},{"$f":"IF(Students!F942=\"\",\"\",Students!F942)","v":""},{"$f":"IF(Students!G942=\"\",\"\",Students!G942)","v":""},{"$f":"IF(Students!G942=\"\",\"\",DATEDIF(Students!G942,Settings!$A$2,\"y\"))","v":""},{"$f":"IF(Students!C942=\"\",\"\",RIGHT(Home!$B$11,5))","v":""}]
[null,null,null,null,null,null,941,{"$f":"IF(Students!C943=\"\",\"\",Students!C943)","v":""},{"$f":"IF(Students!D943=\"\",\"\",Students!D943)","v":""},{"$f":"IF(Students!C943=\"\",\"\",H942&\" \"&I942&\" \"&O942)","v":""},{"$f":"IF(Students!E943=\"\",\"\",Students!E943)","v":""},{"$f":"IF(Students!F943=\"\",\"\",Students!F943)","v":""},{"$f":"IF(Students!G943=\"\",\"\",Students!G943)","v":""},{"$f":"IF(Students!G943=\"\",\"\",DATEDIF(Students!G943,Settings!$A$2,\"y\"))","v":""},{"$f":"IF(Students!C943=\"\",\"\",RIGHT(Home!$B$11,5))","v":""}]
[null,null,null,null,null,null,942,{"$f":"IF(Students!C944=\"\",\"\",Students!C944)","v":""},{"$f":"IF(Students!D944=\"\",\"\",Students!D944)","v":""},{"$f":"IF(Students!C944=\"\",\"\",H943&\" \"&I943&\" \"&O943)","v":""},{"$f":"IF(Students!E944=\"\",\"\",Students!E944)","v":""},{"$f":"IF(Students!F944=\"\",\"\",Students!F944)","v":""},{"$f":"IF(Students!G944=\"\",\"\",Students!G944)","v":""},{"$f":"IF(Students!G944=\"\",\"\",DATEDIF(Students!G944,Settings!$A$2,\"y\"))","v":""},{"$f":"IF(Students!C944=\"\",\"\",RIGHT(Home!$B$11,5))","v":""}]
[null,null,null,null,null,null,943,{"$f":"IF(Students!C945=\"\",\"\",Students!C945)","v":""},{"$f":"IF(Students!D945=\"\",\"\",Students!D945)","v":""},{"$f":"IF(Students!C945=\"\",\"\",H944&\" \"&I944&\" \"&O944)","v":""},{"$f":"IF(Students!E945=\"\",\"\",Students!E945)","v":""},{"$f":"IF(Students!F945=\"\",\"\",Students!F945)","v":""},{"$f":"IF(Students!G945=\"\",\"\",Students!G945)","v":""},{"$f":"IF(Students!G945=\"\",\"\",DATEDIF(Students!G945,Settings!$A$2,\"y\"))","v":""},{"$f":"IF(Students!C945=\"\",\"\",RIGHT(Home!$B$11,5))","v":""}]
[null,null,null,null,null,null,944,{"$f":"IF(Students!C946=\"\",\"\",Students!C946)","v":""},{"$f":"IF(Students!D946=\"\",\"\",Students!D946)","v":""},{"$f":"IF(Students!C946=\"\",\"\",H945&\" \"&I945&\" \"&O945)","v":""},{"$f":"IF(Students!E946=\"\",\"\",Students!E946)","v":""},{"$f":"IF(Students!F946=\"\",\"\",Students!F946)","v":""},{"$f":"IF(Students!G946=\"\",\"\",Students!G946)","v":""},{"$f":"IF(Students!G946=\"\",\"\",DATEDIF(Students!G946,Settings!$A$2,\"y\"))","v":""},{"$f":"IF(Students!C946=\"\",\"\",RIGHT(Home!$B$11,5))","v":""}]
[null,null,null,null,null,null,945,{"$f":"IF(Students!C947=\"\",\"\",Students!C947)","v":""},{"$f":"IF(Students!D947=\"\",\"\",Students!D947)","v":""},{"$f":"IF(Students!C947=\"\",\"\",H946&\" \"&I946&\" \"&O946)","v":""},{"$f":"IF(Students!E947=\"\",\"\",Students!E947)","v":""},{"$f":"IF(Students!F947=\"\",\"\",Students!F947)","v":""},{"$f":"IF(Students!G947=\"\",\"\",Students!G947)","v":""},{"$f":"IF(Students!G947=\"\",\"\",DATEDIF(Students!G947,Settings!$A$2,\"y\"))","v":""},{"$f":"IF(Students!C947=\"\",\"\",RIGHT(Home!$B$11,5))","v":""}]
[null,null,null,null,null,null,946,{"$f":"IF(Students!C948=\"\",\"\",Students!C948)","v":""},{"$f":"IF(Students!D948=\"\",\"\",Students!D948)","v":""},{"$f":"IF(Students!C948=\"\",\"\",H947&\" \"&I947&\" \"&O947)","v":""},{"$f":"IF(Students!E948=\"\",\"\",Students!E948)","v":""},{"$f":"IF(Students!F948=\"\",\"\",Students!F948)","v":""},{"$f":"IF(Students!G948=\"\",\"\",Students!G948)","v":""},{"$f":"IF(Students!G948=\"\",\"\",DATEDIF(Students!G948,Settings!$A$2,\"y\"))","v":""},{"$f":"IF(Students!C948=\"\",\"\",RIGHT(Home!$B$11,5))","v":""}]
[null,null,null,null,null,null,947,{"$f":"IF(Students!C949=\"\",\"\",Students!C949)","v":""},{"$f":"IF(Students!D949=\"\",\"\",Students!D949)","v":""},{"$f":"IF(Students!C949=\"\",\"\",H948&\" \"&I948&\" \"&O948)","v":""},{"$f":"IF(Students!E949=\"\",\"\",Students!E949)","v":""},{"$f":"IF(Students!F949=\"\",\"\",Students!F949)","v":""},{"$f":"IF(Students!G949=\"\",\"\",Students!G949)","v":""},{"$f":"IF(Students!G949=\"\",\"\",DATEDIF(Students!G949,Settings!$A$2,\"y\"))","v":""},{"$f":"IF(Students!C949=\"\",\"\",RIGHT(Home!$B$11,5))","v":""}]
[null,null,null,null,null,null,948,{"$f":"IF(Students!C950=\"\",\"\",Students!C950)","v":""},{"$f":"IF(Students!D950=\"\",\"\",Students!D950)","v":""},{"$f":"IF(Students!C950=\"\",\"\",H949&\" \"&I949&\" \"&O949)","v":""},{"$f":"IF(Students!E950=\"\",\"\",Students!E950)","v":""},{"$f":"IF(Students!F950=\"\",\"\",Students!F950)","v":""},{"$f":"IF(Students!G950=\"\",\"\",Students!G950)","v":""},{"$f":"IF(Students!G950=\"\",\"\",DATEDIF(Students!G950,Settings!$A$2,\"y\"))","v":""},{"$f":"IF(Students!C950=\"\",\"\",RIGHT(Home!$B$11,5))","v":""}]
[null,null,null,null,null,null,949,{"$f":"IF(Students!C951=\"\",\"\",Students!C951)","v":""},{"$f":"IF(Students!D951=\"\",\"\",Students!D951)","v":""},{"$f":"IF(Students!C951=\"\",\"\",H950&\" \"&I950&\" \"&O950)","v":""},{"$f":"IF(Students!E951=\"\",\"\",Students!E951)","v":""},{"$f":"IF(Students!F951=\"\",\"\",Students!F951)","v":""},{"$f":"IF(Students!G951=\"\",\"\",Students!G951)","v":""},{"$f":"IF(Students!G951=\"\",\"\",DATEDIF(Students!G951,Settings!$A$2,\"y\"))","v":""},{"$f":"IF(Students!C951=\"\",\"\",RIGHT(Home!$B$11,5))","v":""}]
[null,null,null,null,null,null,950,{"$f":"IF(Students!C952=\"\",\"\",Students!C952)","v":""},{"$f":"IF(Students!D952=\"\",\"\",Students!D952)","v":""},{"$f":"IF(Students!C952=\"\",\"\",H951&\" \"&I951&\" \"&O951)","v":""},{"$f":"IF(Students!E952=\"\",\"\",Students!E952)","v":""},{"$f":"IF(Students!F952=\"\",\"\",Students!F952)","v":""},{"$f":"IF(Students!G952=\"\",\"\",Students!G952)","v":""},{"$f":"IF(Students!G952=\"\",\"\",DATEDIF(Students!G952,Settings!$A$2,\"y\"))","v":""},{"$f":"IF(Students!C952=\"\",\"\",RIGHT(Home!$B$11,5))","v":""}]
[null,null,null,null,null,null,951,{"$f":"IF(Students!C953=\"\",\"\",Students!C953)","v":""},{"$f":"IF(Students!D953=\"\",\"\",Students!D953)","v":""},{"$f":"IF(Students!C953=\"\",\"\",H952&\" \"&I952&\" \"&O952)","v":""},{"$f":"IF(Students!E953=\"\",\"\",Students!E953)","v":""},{"$f":"IF(Students!F953=\"\",\"\",Students!F953)","v":""},{"$f":"IF(Students!G953=\"\",\"\",Students!G953)","v":""},{"$f":"IF(Students!G953=\"\",\"\",DATEDIF(Students!G953,Settings!$A$2,\"y\"))","v":""},{"$f":"IF(Students!C953=\"\",\"\",RIGHT(Home!$B$11,5))","v":""}]
[null,null,null,null,null,null,952,{"$f":"IF(Students!C954=\"\",\"\",Students!C954)","v":""},{"$f":"IF(Students!D954=\"\",\"\",Students!D954)","v":""},{"$f":"IF(Students!C954=\"\",\"\",H953&\" \"&I953&\" \"&O953)","v":""},{"$f":"IF(Students!E954=\"\",\"\",Students!E954)","v":""},{"$f":"IF(Students!F954=\"\",\"\",Students!F954)","v":""},{"$f":"IF(Students!G954=\"\",\"\",Students!G954)","v":""},{"$f":"IF(Students!G954=\"\",\"\",DATEDIF(Students!G954,Settings!$A$2,\"y\"))","v":""},{"$f":"IF(Students!C954=\"\",\"\",RIGHT(Home!$B$11,5))","v":""}]
[null,null,null,null,null,null,953,{"$f":"IF(Students!C955=\"\",\"\",Students!C955)","v":""},{"$f":"IF(Students!D955=\"\",\"\",Students!D955)","v":""},{"$f":"IF(Students!C955=\"\",\"\",H954&\" \"&I954&\" \"&O954)","v":""},{"$f":"IF(Students!E955=\"\",\"\",Students!E955)","v":""},{"$f":"IF(Students!F955=\"\",\"\",Students!F955)","v":""},{"$f":"IF(Students!G955=\"\",\"\",Students!G955)","v":""},{"$f":"IF(Students!G955=\"\",\"\",DATEDIF(Students!G955,Settings!$A$2,\"y\"))","v":""},{"$f":"IF(Students!C955=\"\",\"\",RIGHT(Home!$B$11,5))","v":""}]
[null,null,null,null,null,null,954,{"$f":"IF(Students!C956=\"\",\"\",Students!C956)","v":""},{"$f":"IF(Students!D956=\"\",\"\",Students!D956)","v":""},{"$f":"IF(Students!C956=\"\",\"\",H955&\" \"&I955&\" \"&O955)","v":""},{"$f":"IF(Students!E956=\"\",\"\",Students!E956)","v":""},{"$f":"IF(Students!F956=\"\",\"\",Students!F956)","v":""},{"$f":"IF(Students!G956=\"\",\"\",Students!G956)","v":""},{"$f":"IF(Students!G956=\"\",\"\",DATEDIF(Students!G956,Settings!$A$2,\"y\"))","v":""},{"$f":"IF(Students!C956=\"\",\"\",RIGHT(Home!$B$11,5))","v":""}]
[null,null,null,null,null,null,955,{"$f":"IF(Students!C957=\"\",\"\",Students!C957)","v":""},{"$f":"IF(Students!D957=\"\",\"\",Students!D957)","v":""},{"$f":"IF(Students!C957=\"\",\"\",H956&\" \"&I956&\" \"&O956)","v":""},{"$f":"IF(Students!E957=\"\",\"\",Students!E957)","v":""},{"$f":"IF(Students!F957=\"\",\"\",Students!F957)","v":""},{"$f":"IF(Students!G957=\"\",\"\",Students!G957)","v":""},{"$f":"IF(Students!G957=\"\",\"\",DATEDIF(Students!G957,Settings!$A$2,\"y\"))","v":""},{"$f":"IF(Students!C957=\"\",\"\",RIGHT(Home!$B$11,5))","v":""}]
[null,null,null,null,null,null,956,{"$f":"IF(Students!C958=\"\",\"\",Students!C958)","v":""},{"$f":"IF(Students!D958=\"\",\"\",Students!D958)","v":""},{"$f":"IF(Students!C958=\"\",\"\",H957&\" \"&I957&\" \"&O957)","v":""},{"$f":"IF(Students!E958=\"\",\"\",Students!E958)","v":""},{"$f":"IF(Students!F958=\"\",\"\",Students!F958)","v":""},{"$f":"IF(Students!G958=\"\",\"\",Students!G958)","v":""},{"$f":"IF(Students!G958=\"\",\"\",DATEDIF(Students!G958,Settings!$A$2,\"y\"))","v":""},{"$f":"IF(Students!C958=\"\",\"\",RIGHT(Home!$B$11,5))","v":""}]
[null,null,null,null,null,null,957,{"$f":"IF(Students!C959=\"\",\"\",Students!C959)","v":""},{"$f":"IF(Students!D959=\"\",\"\",Students!D959)","v":""},{"$f":"IF(Students!C959=\"\",\"\",H958&\" \"&I958&\" \"&O958)","v":""},{"$f":"IF(Students!E959=\"\",\"\",Students!E959)","v":""},{"$f":"IF(Students!F959=\"\",\"\",Students!F959)","v":""},{"$f":"IF(Students!G959=\"\",\"\",Students!G959)","v":""},{"$f":"IF(Students!G959=\"\",\"\",DATEDIF(Students!G959,Settings!$A$2,\"y\"))","v":""},{"$f":"IF(Students!C959=\"\",\"\",RIGHT(Home!$B$11,5))","v":""}]
[null,null,null,null,null,null,958,{"$f":"IF(Students!C960=\"\",\"\",Students!C960)","v":""},{"$f":"IF(Students!D960=\"\",\"\",Students!D960)","v":""},{"$f":"IF(Students!C960=\"\",\"\",H959&\" \"&I959&\" \"&O959)","v":""},{"$f":"IF(Students!E960=\"\",\"\",Students!E960)","v":""},{"$f":"IF(Students!F960=\"\",\"\",Students!F960)","v":""},{"$f":"IF(Students!G960=\"\",\"\",Students!G960)","v":""},{"$f":"IF(Students!G960=\"\",\"\",DATEDIF(Students!G960,Settings!$A$2,\"y\"))","v":""},{"$f":"IF(Students!C960=\"\",\"\",RIGHT(Home!$B$11,5))","v":""}]
[null,null,null,null,null,null,959,{"$f":"IF(Students!C961=\"\",\"\",Students!C961)","v":""},{"$f":"IF(Students!D961=\"\",\"\",Students!D961)","v":""},{"$f":"IF(Students!C961=\"\",\"\",H960&\" \"&I960&\" \"&O960)","v":""},{"$f":"IF(Students!E961=\"\",\"\",Students!E961)","v":""},{"$f":"IF(Students!F961=\"\",\"\",Students!F961)","v":""},{"$f":"IF(Students!G961=\"\",\"\",Students!G961)","v":""},{"$f":"IF(Students!G961=\"\",\"\",DATEDIF(Students!G961,Settings!$A$2,\"y\"))","v":""},{"$f":"IF(Students!C961=\"\",\"\",RIGHT(Home!$B$11,5))","v":""}]
[null,null,null,null,null,null,960,{"$f":"IF(Students!C962=\"\",\"\",Students!C962)","v":""},{"$f":"IF(Students!D962=\"\",\"\",Students!D962)","v":""},{"$f":"IF(Students!C962=\"\",\"\",H961&\" \"&I961&\" \"&O961)","v":""},{"$f":"IF(Students!E962=\"\",\"\",Students!E962)","v":""},{"$f":"IF(Students!F962=\"\",\"\",Students!F962)","v":""},{"$f":"IF(Students!G962=\"\",\"\",Students!G962)","v":""},{"$f":"IF(Students!G962=\"\",\"\",DATEDIF(Students!G962,Settings!$A$2,\"y\"))","v":""},{"$f":"IF(Students!C962=\"\",\"\",RIGHT(Home!$B$11,5))","v":""}]
[null,null,null,null,null,null,961,{"$f":"IF(Students!C963=\"\",\"\",Students!C963)","v":""},{"$f":"IF(Students!D963=\"\",\"\",Students!D963)","v":""},{"$f":"IF(Students!C963=\"\",\"\",H962&\" \"&I962&\" \"&O962)","v":""},{"$f":"IF(Students!E963=\"\",\"\",Students!E963)","v":""},{"$f":"IF(Students!F963=\"\",\"\",Students!F963)","v":""},{"$f":"IF(Students!G963=\"\",\"\",Students!G963)","v":""},{"$f":"IF(Students!G963=\"\",\"\",DATEDIF(Students!G963,Settings!$A$2,\"y\"))","v":""},{"$f":"IF(Students!C963=\"\",\"\",RIGHT(Home!$B$11,5))","v":""}]
[null,null,null,null,null,null,{"$f":"ROW()-1","v":962},{"$f":"IF(Students!C964=\"\",\"\",Students!C964)","v":""},{"$f":"IF(Students!D964=\"\",\"\",Students!D964)","v":""},{"$f":"IF(Students!C964=\"\",\"\",H963&\" \"&I963&\" \"&O963)","v":""},{"$f":"IF(Students!E964=\"\",\"\",Students!E964)","v":""},{"$f":"IF(Students!F964=\"\",\"\",Students!F964)","v":""},{"$f":"IF(Students!G964=\"\",\"\",Students!G964)","v":""},{"$f":"IF(Students!G964=\"\",\"\",DATEDIF(Students!G964,Settings!$A$2,\"y\"))","v":""},{"$f":"IF(Students!C964=\"\",\"\",RIGHT(Home!$B$11,5))","v":""}]
[null,null,null,null,null,null,963,{"$f":"IF(Students!C965=\"\",\"\",Students!C965)","v":""},{"$f":"IF(Students!D965=\"\",\"\",Students!D965)","v":""},{"$f":"IF(Students!C965=\"\",\"\",H964&\" \"&I964&\" \"&O964)","v":""},{"$f":"IF(Students!E965=\"\",\"\",Students!E965)","v":""},{"$f":"IF(Students!F965=\"\",\"\",Students!F965)","v":""},{"$f":"IF(Students!G965=\"\",\"\",Students!G965)","v":""},{"$f":"IF(Students!G965=\"\",\"\",DATEDIF(Students!G965,Settings!$A$2,\"y\"))","v":""},{"$f":"IF(Students!C965=\"\",\"\",RIGHT(Home!$B$11,5))","v":""}]
[null,null,null,null,null,null,964,{"$f":"IF(Students!C966=\"\",\"\",Students!C966)","v":""},{"$f":"IF(Students!D966=\"\",\"\",Students!D966)","v":""},{"$f":"IF(Students!C966=\"\",\"\",H965&\" \"&I965&\" \"&O965)","v":""},{"$f":"IF(Students!E966=\"\",\"\",Students!E966)","v":""},{"$f":"IF(Students!F966=\"\",\"\",Students!F966)","v":""},{"$f":"IF(Students!G966=\"\",\"\",Students!G966)","v":""},{"$f":"IF(Students!G966=\"\",\"\",DATEDIF(Students!G966,Settings!$A$2,\"y\"))","v":""},{"$f":"IF(Students!C966=\"\",\"\",RIGHT(Home!$B$11,5))","v":""}]
[null,null,null,null,null,null,965,{"$f":"IF(Students!C967=\"\",\"\",Students!C967)","v":""},{"$f":"IF(Students!D967=\"\",\"\",Students!D967)","v":""},{"$f":"IF(Students!C967=\"\",\"\",H966&\" \"&I966&\" \"&O966)","v":""},{"$f":"IF(Students!E967=\"\",\"\",Students!E967)","v":""},{"$f":"IF(Students!F967=\"\",\"\",Students!F967)","v":""},{"$f":"IF(Students!G967=\"\",\"\",Students!G967)","v":""},{"$f":"IF(Students!G967=\"\",\"\",DATEDIF(Students!G967,Settings!$A$2,\"y\"))","v":""},{"$f":"IF(Students!C967=\"\",\"\",RIGHT(Home!$B$11,5))","v":""}]
[null,null,null,null,null,null,966,{"$f":"IF(Students!C968=\"\",\"\",Students!C968)","v":""},{"$f":"IF(Students!D968=\"\",\"\",Students!D968)","v":""},{"$f":"IF(Students!C968=\"\",\"\",H967&\" \"&I967&\" \"&O967)","v":""},{"$f":"IF(Students!E968=\"\",\"\",Students!E968)","v":""},{"$f":"IF(Students!F968=\"\",\"\",Students!F968)","v":""},{"$f":"IF(Students!G968=\"\",\"\",Students!G968)","v":""},{"$f":"IF(Students!G968=\"\",\"\",DATEDIF(Students!G968,Settings!$A$2,\"y\"))","v":""},{"$f":"IF(Students!C968=\"\",\"\",RIGHT(Home!$B$11,5))","v":""}]
[null,null,null,null,null,null,967,{"$f":"IF(Students!C969=\"\",\"\",Students!C969)","v":""},{"$f":"IF(Students!D969=\"\",\"\",Students!D969)","v":""},{"$f":"IF(Students!C969=\"\",\"\",H968&\" \"&I968&\" \"&O968)","v":""},{"$f":"IF(Students!E969=\"\",\"\",Students!E969)","v":""},{"$f":"IF(Students!F969=\"\",\"\",Students!F969)","v":""},{"$f":"IF(Students!G969=\"\",\"\",Students!G969)","v":""},{"$f":"IF(Students!G969=\"\",\"\",DATEDIF(Students!G969,Settings!$A$2,\"y\"))","v":""},{"$f":"IF(Students!C969=\"\",\"\",RIGHT(Home!$B$11,5))","v":""}]
[null,null,null,null,null,null,968,{"$f":"IF(Students!C970=\"\",\"\",Students!C970)","v":""},{"$f":"IF(Students!D970=\"\",\"\",Students!D970)","v":""},{"$f":"IF(Students!C970=\"\",\"\",H969&\" \"&I969&\" \"&O969)","v":""},{"$f":"IF(Students!E970=\"\",\"\",Students!E970)","v":""},{"$f":"IF(Students!F970=\"\",\"\",Students!F970)","v":""},{"$f":"IF(Students!G970=\"\",\"\",Students!G970)","v":""},{"$f":"IF(Students!G970=\"\",\"\",DATEDIF(Students!G970,Settings!$A$2,\"y\"))","v":""},{"$f":"IF(Students!C970=\"\",\"\",RIGHT(Home!$B$11,5))","v":""}]
[null,null,null,null,null,null,969,{"$f":"IF(Students!C971=\"\",\"\",Students!C971)","v":""},{"$f":"IF(Students!D971=\"\",\"\",Students!D971)","v":""},{"$f":"IF(Students!C971=\"\",\"\",H970&\" \"&I970&\" \"&O970)","v":""},{"$f":"IF(Students!E971=\"\",\"\",Students!E971)","v":""},{"$f":"IF(Students!F971=\"\",\"\",Students!F971)","v":""},{"$f":"IF(Students!G971=\"\",\"\",Students!G971)","v":""},{"$f":"IF(Students!G971=\"\",\"\",DATEDIF(Students!G971,Settings!$A$2,\"y\"))","v":""},{"$f":"IF(Students!C971=\"\",\"\",RIGHT(Home!$B$11,5))","v":""}]
[null,null,null,null,null,null,970,{"$f":"IF(Students!C972=\"\",\"\",Students!C972)","v":""},{"$f":"IF(Students!D972=\"\",\"\",Students!D972)","v":""},{"$f":"IF(Students!C972=\"\",\"\",H971&\" \"&I971&\" \"&O971)","v":""},{"$f":"IF(Students!E972=\"\",\"\",Students!E972)","v":""},{"$f":"IF(Students!F972=\"\",\"\",Students!F972)","v":""},{"$f":"IF(Students!G972=\"\",\"\",Students!G972)","v":""},{"$f":"IF(Students!G972=\"\",\"\",DATEDIF(Students!G972,Settings!$A$2,\"y\"))","v":""},{"$f":"IF(Students!C972=\"\",\"\",RIGHT(Home!$B$11,5))","v":""}]
[null,null,null,null,null,null,971,{"$f":"IF(Students!C973=\"\",\"\",Students!C973)","v":""},{"$f":"IF(Students!D973=\"\",\"\",Students!D973)","v":""},{"$f":"IF(Students!C973=\"\",\"\",H972&\" \"&I972&\" \"&O972)","v":""},{"$f":"IF(Students!E973=\"\",\"\",Students!E973)","v":""},{"$f":"IF(Students!F973=\"\",\"\",Students!F973)","v":""},{"$f":"IF(Students!G973=\"\",\"\",Students!G973)","v":""},{"$f":"IF(Students!G973=\"\",\"\",DATEDIF(Students!G973,Settings!$A$2,\"y\"))","v":""},{"$f":"IF(Students!C973=\"\",\"\",RIGHT(Home!$B$11,5))","v":""}]
[null,null,null,null,null,null,972,{"$f":"IF(Students!C974=\"\",\"\",Students!C974)","v":""},{"$f":"IF(Students!D974=\"\",\"\",Students!D974)","v":""},{"$f":"IF(Students!C974=\"\",\"\",H973&\" \"&I973&\" \"&O973)","v":""},{"$f":"IF(Students!E974=\"\",\"\",Students!E974)","v":""},{"$f":"IF(Students!F974=\"\",\"\",Students!F974)","v":""},{"$f":"IF(Students!G974=\"\",\"\",Students!G974)","v":""},{"$f":"IF(Students!G974=\"\",\"\",DATEDIF(Students!G974,Settings!$A$2,\"y\"))","v":""},{"$f":"IF(Students!C974=\"\",\"\",RIGHT(Home!$B$11,5))","v":""}]
[null,null,null,null,null,null,973,{"$f":"IF(Students!C975=\"\",\"\",Students!C975)","v":""},{"$f":"IF(Students!D975=\"\",\"\",Students!D975)","v":""},{"$f":"IF(Students!C975=\"\",\"\",H974&\" \"&I974&\" \"&O974)","v":""},{"$f":"IF(Students!E975=\"\",\"\",Students!E975)","v":""},{"$f":"IF(Students!F975=\"\",\"\",Students!F975)","v":""},{"$f":"IF(Students!G975=\"\",\"\",Students!G975)","v":""},{"$f":"IF(Students!G975=\"\",\"\",DATEDIF(Students!G975,Settings!$A$2,\"y\"))","v":""},{"$f":"IF(Students!C975=\"\",\"\",RIGHT(Home!$B$11,5))","v":""}]
[null,null,null,null,null,null,974,{"$f":"IF(Students!C976=\"\",\"\",Students!C976)","v":""},{"$f":"IF(Students!D976=\"\",\"\",Students!D976)","v":""},{"$f":"IF(Students!C976=\"\",\"\",H975&\" \"&I975&\" \"&O975)","v":""},{"$f":"IF(Students!E976=\"\",\"\",Students!E976)","v":""},{"$f":"IF(Students!F976=\"\",\"\",Students!F976)","v":""},{"$f":"IF(Students!G976=\"\",\"\",Students!G976)","v":""},{"$f":"IF(Students!G976=\"\",\"\",DATEDIF(Students!G976,Settings!$A$2,\"y\"))","v":""},{"$f":"IF(Students!C976=\"\",\"\",RIGHT(Home!$B$11,5))","v":""}]
[null,null,null,null,null,null,975,{"$f":"IF(Students!C977=\"\",\"\",Students!C977)","v":"Z-Girl-Age-6"},{"$f":"IF(Students!D977=\"\",\"\",Students!D977)","v":"Placeholder"},{"$f":"IF(Students!C977=\"\",\"\",H976&\" \"&I976&\" \"&O976)","v":"Z-Girl-Age-6 Placeholder re **"},{"$f":"IF(Students!E977=\"\",\"\",Students!E977)","v":"G"},{"$f":"IF(Students!F977=\"\",\"\",Students!F977)","v":4},{"$f":"IF(Students!G977=\"\",\"\",Students!G977)","v":"01/01/2019"},{"$f":"IF(Students!G977=\"\",\"\",DATEDIF(Students!G977,Settings!$A$2,\"y\"))","v":6},{"$f":"IF(Students!C977=\"\",\"\",RIGHT(Home!$B$11,5))","v":"re **"}]
[null,null,null,null,null,null,976,{"$f":"IF(Students!C978=\"\",\"\",Students!C978)","v":"Z-Girl-Age-7"},{"$f":"IF(Students!D978=\"\",\"\",Students!D978)","v":"Placeholder"},{"$f":"IF(Students!C978=\"\",\"\",H977&\" \"&I977&\" \"&O977)","v":"Z-Girl-Age-7 Placeholder re **"},{"$f":"IF(Students!E978=\"\",\"\",Students!E978)","v":"G"},{"$f":"IF(Students!F978=\"\",\"\",Students!F978)","v":4},{"$f":"IF(Students!G978=\"\",\"\",Students!G978)","v":"01/01/2018"},{"$f":"IF(Students!G978=\"\",\"\",DATEDIF(Students!G978,Settings!$A$2,\"y\"))","v":7},{"$f":"IF(Students!C978=\"\",\"\",RIGHT(Home!$B$11,5))","v":"re **"}]
[null,null,null,null,null,null,977,{"$f":"IF(Students!C979=\"\",\"\",Students!C979)","v":"Z-Girl-Age-8"},{"$f":"IF(Students!D979=\"\",\"\",Students!D979)","v":"Placeholder"},{"$f":"IF(Students!C979=\"\",\"\",H978&\" \"&I978&\" \"&O978)","v":"Z-Girl-Age-8 Placeholder re **"},{"$f":"IF(Students!E979=\"\",\"\",Students!E979)","v":"G"},{"$f":"IF(Students!F979=\"\",\"\",Students!F979)","v":4},{"$f":"IF(Students!G979=\"\",\"\",Students!G979)","v":"01/01/2017"},{"$f":"IF(Students!G979=\"\",\"\",DATEDIF(Students!G979,Settings!$A$2,\"y\"))","v":8},{"$f":"IF(Students!C979=\"\",\"\",RIGHT(Home!$B$11,5))","v":"re **"}]
[null,null,null,null,null,null,978,{"$f":"IF(Students!C980=\"\",\"\",Students!C980)","v":"Z-Girl-Age-9-Y5"},{"$f":"IF(Students!D980=\"\",\"\",Students!D980)","v":"Placeholder"},{"$f":"IF(Students!C980=\"\",\"\",H979&\" \"&I979&\" \"&O979)","v":"Z-Girl-Age-9-Y5 Placeholder re **"},{"$f":"IF(Students!E980=\"\",\"\",Students!E980)","v":"G"},{"$f":"IF(Students!F980=\"\",\"\",Students!F980)","v":5},{"$f":"IF(Students!G980=\"\",\"\",Students!G980)","v":"01/01/2016"},{"$f":"IF(Students!G980=\"\",\"\",DATEDIF(Students!G980,Settings!$A$2,\"y\"))","v":9},{"$f":"IF(Students!C980=\"\",\"\",RIGHT(Home!$B$11,5))","v":"re **"}]
[null,null,null,null,null,null,979,{"$f":"IF(Students!C981=\"\",\"\",Students!C981)","v":"Z-Girl-Age-10-Y6"},{"$f":"IF(Students!D981=\"\",\"\",Students!D981)","v":"Placeholder"},{"$f":"IF(Students!C981=\"\",\"\",H980&\" \"&I980&\" \"&O980)","v":"Z-Girl-Age-10-Y6 Placeholder re **"},{"$f":"IF(Students!E981=\"\",\"\",Students!E981)","v":"G"},{"$f":"IF(Students!F981=\"\",\"\",Students!F981)","v":6},{"$f":"IF(Students!G981=\"\",\"\",Students!G981)","v":"01/01/2015"},{"$f":"IF(Students!G981=\"\",\"\",DATEDIF(Students!G981,Settings!$A$2,\"y\"))","v":10},{"$f":"IF(Students!C981=\"\",\"\",RIGHT(Home!$B$11,5))","v":"re **"}]
[null,null,null,null,null,null,980,{"$f":"IF(Students!C982=\"\",\"\",Students!C982)","v":"Z-Girl-Age-11-Y7"},{"$f":"IF(Students!D982=\"\",\"\",Students!D982)","v":"Placeholder"},{"$f":"IF(Students!C982=\"\",\"\",H981&\" \"&I981&\" \"&O981)","v":"Z-Girl-Age-11-Y7 Placeholder re **"},{"$f":"IF(Students!E982=\"\",\"\",Students!E982)","v":"G"},{"$f":"IF(Students!F982=\"\",\"\",Students!F982)","v":7},{"$f":"IF(Students!G982=\"\",\"\",Students!G982)","v":"01/01/2014"},{"$f":"IF(Students!G982=\"\",\"\",DATEDIF(Students!G982,Settings!$A$2,\"y\"))","v":11},{"$f":"IF(Students!C982=\"\",\"\",RIGHT(Home!$B$11,5))","v":"re **"}]
[null,null,null,null,null,null,981,{"$f":"IF(Students!C983=\"\",\"\",Students!C983)","v":"Z-Girl-Age-12-Y8"},{"$f":"IF(Students!D983=\"\",\"\",Students!D983)","v":"Placeholder"},{"$f":"IF(Students!C983=\"\",\"\",H982&\" \"&I982&\" \"&O982)","v":"Z-Girl-Age-12-Y8 Placeholder re **"},{"$f":"IF(Students!E983=\"\",\"\",Students!E983)","v":"G"},{"$f":"IF(Students!F983=\"\",\"\",Students!F983)","v":8},{"$f":"IF(Students!G983=\"\",\"\",Students!G983)","v":"01/01/2013"},{"$f":"IF(Students!G983=\"\",\"\",DATEDIF(Students!G983,Settings!$A$2,\"y\"))","v":12},{"$f":"IF(Students!C983=\"\",\"\",RIGHT(Home!$B$11,5))","v":"re **"}]
[null,null,null,null,null,null,982,{"$f":"IF(Students!C984=\"\",\"\",Students!C984)","v":"Z-Girl-Age-13"},{"$f":"IF(Students!D984=\"\",\"\",Students!D984)","v":"Placeholder"},{"$f":"IF(Students!C984=\"\",\"\",H983&\" \"&I983&\" \"&O983)","v":"Z-Girl-Age-13 Placeholder re **"},{"$f":"IF(Students!E984=\"\",\"\",Students!E984)","v":"G"},{"$f":"IF(Students!F984=\"\",\"\",Students!F984)","v":4},{"$f":"IF(Students!G984=\"\",\"\",Students!G984)","v":"01/01/2012"},{"$f":"IF(Students!G984=\"\",\"\",DATEDIF(Students!G984,Settings!$A$2,\"y\"))","v":13},{"$f":"IF(Students!C984=\"\",\"\",RIGHT(Home!$B$11,5))","v":"re **"}]
[null,null,null,null,null,null,983,{"$f":"IF(Students!C985=\"\",\"\",Students!C985)","v":"Z-Girl-Age-14"},{"$f":"IF(Students!D985=\"\",\"\",Students!D985)","v":"Placeholder"},{"$f":"IF(Students!C985=\"\",\"\",H984&\" \"&I984&\" \"&O984)","v":"Z-Girl-Age-14 Placeholder re **"},{"$f":"IF(Students!E985=\"\",\"\",Students!E985)","v":"G"},{"$f":"IF(Students!F985=\"\",\"\",Students!F985)","v":4},{"$f":"IF(Students!G985=\"\",\"\",Students!G985)","v":"01/01/2011"},{"$f":"IF(Students!G985=\"\",\"\",DATEDIF(Students!G985,Settings!$A$2,\"y\"))","v":14},{"$f":"IF(Students!C985=\"\",\"\",RIGHT(Home!$B$11,5))","v":"re **"}]
[null,null,null,null,null,null,984,{"$f":"IF(Students!C986=\"\",\"\",Students!C986)","v":"Z-Girl-Age-15"},{"$f":"IF(Students!D986=\"\",\"\",Students!D986)","v":"Placeholder"},{"$f":"IF(Students!C986=\"\",\"\",H985&\" \"&I985&\" \"&O985)","v":"Z-Girl-Age-15 Placeholder re **"},{"$f":"IF(Students!E986=\"\",\"\",Students!E986)","v":"G"},{"$f":"IF(Students!F986=\"\",\"\",Students!F986)","v":4},{"$f":"IF(Students!G986=\"\",\"\",Students!G986)","v":"01/01/2010"},{"$f":"IF(Students!G986=\"\",\"\",DATEDIF(Students!G986,Settings!$A$2,\"y\"))","v":15},{"$f":"IF(Students!C986=\"\",\"\",RIGHT(Home!$B$11,5))","v":"re **"}]
[null,null,null,null,null,null,985,{"$f":"IF(Students!C987=\"\",\"\",Students!C987)","v":"Z-Girl-Age-16"},{"$f":"IF(Students!D987=\"\",\"\",Students!D987)","v":"Placeholder"},{"$f":"IF(Students!C987=\"\",\"\",H986&\" \"&I986&\" \"&O986)","v":"Z-Girl-Age-16 Placeholder re **"},{"$f":"IF(Students!E987=\"\",\"\",Students!E987)","v":"G"},{"$f":"IF(Students!F987=\"\",\"\",Students!F987)","v":4},{"$f":"IF(Students!G987=\"\",\"\",Students!G987)","v":"01/01/2009"},{"$f":"IF(Students!G987=\"\",\"\",DATEDIF(Students!G987,Settings!$A$2,\"y\"))","v":16},{"$f":"IF(Students!C987=\"\",\"\",RIGHT(Home!$B$11,5))","v":"re **"}]
[null,null,null,null,null,null,986,{"$f":"IF(Students!C988=\"\",\"\",Students!C988)","v":"Z-Boy-Age-6"},{"$f":"IF(Students!D988=\"\",\"\",Students!D988)","v":"Placeholder"},{"$f":"IF(Students!C988=\"\",\"\",H987&\" \"&I987&\" \"&O987)","v":"Z-Boy-Age-6 Placeholder re **"},{"$f":"IF(Students!E988=\"\",\"\",Students!E988)","v":"B"},{"$f":"IF(Students!F988=\"\",\"\",Students!F988)","v":4},{"$f":"IF(Students!G988=\"\",\"\",Students!G988)","v":"01/01/2019"},{"$f":"IF(Students!G988=\"\",\"\",DATEDIF(Students!G988,Settings!$A$2,\"y\"))","v":6},{"$f":"IF(Students!C988=\"\",\"\",RIGHT(Home!$B$11,5))","v":"re **"}]
[null,null,null,null,null,null,987,{"$f":"IF(Students!C989=\"\",\"\",Students!C989)","v":"Z-Boy-Age-7"},{"$f":"IF(Students!D989=\"\",\"\",Students!D989)","v":"Placeholder"},{"$f":"IF(Students!C989=\"\",\"\",H988&\" \"&I988&\" \"&O988)","v":"Z-Boy-Age-7 Placeholder re **"},{"$f":"IF(Students!E989=\"\",\"\",Students!E989)","v":"B"},{"$f":"IF(Students!F989=\"\",\"\",Students!F989)","v":4},{"$f":"IF(Students!G989=\"\",\"\",Students!G989)","v":"01/01/2018"},{"$f":"IF(Students!G989=\"\",\"\",DATEDIF(Students!G989,Settings!$A$2,\"y\"))","v":7},{"$f":"IF(Students!C989=\"\",\"\",RIGHT(Home!$B$11,5))","v":"re **"}]
[null,null,null,null,null,null,988,{"$f":"IF(Students!C990=\"\",\"\",Students!C990)","v":"Z-Boy-Age-8"},{"$f":"IF(Students!D990=\"\",\"\",Students!D990)","v":"Placeholder"},{"$f":"IF(Students!C990=\"\",\"\",H989&\" \"&I989&\" \"&O989)","v":"Z-Boy-Age-8 Placeholder re **"},{"$f":"IF(Students!E990=\"\",\"\",Students!E990)","v":"B"},{"$f":"IF(Students!F990=\"\",\"\",Students!F990)","v":4},{"$f":"IF(Students!G990=\"\",\"\",Students!G990)","v":"01/01/2017"},{"$f":"IF(Students!G990=\"\",\"\",DATEDIF(Students!G990,Settings!$A$2,\"y\"))","v":8},{"$f":"IF(Students!C990=\"\",\"\",RIGHT(Home!$B$11,5))","v":"re **"}]
[null,null,null,null,null,null,989,{"$f":"IF(Students!C991=\"\",\"\",Students!C991)","v":"Z-Boy-Age-9-Y5"},{"$f":"IF(Students!D991=\"\",\"\",Students!D991)","v":"Placeholder"},{"$f":"IF(Students!C991=\"\",\"\",H990&\" \"&I990&\" \"&O990)","v":"Z-Boy-Age-9-Y5 Placeholder re **"},{"$f":"IF(Students!E991=\"\",\"\",Students!E991)","v":"B"},{"$f":"IF(Students!F991=\"\",\"\",Students!F991)","v":5},{"$f":"IF(Students!G991=\"\",\"\",Students!G991)","v":"01/01/2016"},{"$f":"IF(Students!G991=\"\",\"\",DATEDIF(Students!G991,Settings!$A$2,\"y\"))","v":9},{"$f":"IF(Students!C991=\"\",\"\",RIGHT(Home!$B$11,5))","v":"re **"}]
[null,null,null,null,null,null,990,{"$f":"IF(Students!C992=\"\",\"\",Students!C992)","v":"Z-Boy-Age-10-Y6"},{"$f":"IF(Students!D992=\"\",\"\",Students!D992)","v":"Placeholder"},{"$f":"IF(Students!C992=\"\",\"\",H991&\" \"&I991&\" \"&O991)","v":"Z-Boy-Age-10-Y6 Placeholder re **"},{"$f":"IF(Students!E992=\"\",\"\",Students!E992)","v":"B"},{"$f":"IF(Students!F992=\"\",\"\",Students!F992)","v":6},{"$f":"IF(Students!G992=\"\",\"\",Students!G992)","v":"01/01/2015"},{"$f":"IF(Students!G992=\"\",\"\",DATEDIF(Students!G992,Settings!$A$2,\"y\"))","v":10},{"$f":"IF(Students!C992=\"\",\"\",RIGHT(Home!$B$11,5))","v":"re **"}]
[null,null,null,null,null,null,991,{"$f":"IF(Students!C993=\"\",\"\",Students!C993)","v":"Z-Boy-Age-11-Y7"},{"$f":"IF(Students!D993=\"\",\"\",Students!D993)","v":"Placeholder"},{"$f":"IF(Students!C993=\"\",\"\",H992&\" \"&I992&\" \"&O992)","v":"Z-Boy-Age-11-Y7 Placeholder re **"},{"$f":"IF(Students!E993=\"\",\"\",Students!E993)","v":"B"},{"$f":"IF(Students!F993=\"\",\"\",Students!F993)","v":7},{"$f":"IF(Students!G993=\"\",\"\",Students!G993)","v":"01/01/2014"},{"$f":"IF(Students!G993=\"\",\"\",DATEDIF(Students!G993,Settings!$A$2,\"y\"))","v":11},{"$f":"IF(Students!C993=\"\",\"\",RIGHT(Home!$B$11,5))","v":"re **"}]
[null,null,null,null,null,null,992,{"$f":"IF(Students!C994=\"\",\"\",Students!C994)","v":"Z-Boy-Age-12-Y8"},{"$f":"IF(Students!D994=\"\",\"\",Students!D994)","v":"Placeholder"},{"$f":"IF(Students!C994=\"\",\"\",H993&\" \"&I993&\" \"&O993)","v":"Z-Boy-Age-12-Y8 Placeholder re **"},{"$f":"IF(Students!E994=\"\",\"\",Students!E994)","v":"B"},{"$f":"IF(Students!F994=\"\",\"\",Students!F994)","v":8},{"$f":"IF(Students!G994=\"\",\"\",Students!G994)","v":"01/01/2013"},{"$f":"IF(Students!G994=\"\",\"\",DATEDIF(Students!G994,Settings!$A$2,\"y\"))","v":12},{"$f":"IF(Students!C994=\"\",\"\",RIGHT(Home!$B$11,5))","v":"re **"}]
[null,null,null,null,null,null,993,{"$f":"IF(Students!C995=\"\",\"\",Students!C995)","v":"Z-Boy-Age-13"},{"$f":"IF(Students!D995=\"\",\"\",Students!D995)","v":"Placeholder"},{"$f":"IF(Students!C995=\"\",\"\",H994&\" \"&I994&\" \"&O994)","v":"Z-Boy-Age-13 Placeholder re **"},{"$f":"IF(Students!E995=\"\",\"\",Students!E995)","v":"B"},{"$f":"IF(Students!F995=\"\",\"\",Students!F995)","v":4},{"$f":"IF(Students!G995=\"\",\"\",Students!G995)","v":"01/01/2012"},{"$f":"IF(Students!G995=\"\",\"\",DATEDIF(Students!G995,Settings!$A$2,\"y\"))","v":13},{"$f":"IF(Students!C995=\"\",\"\",RIGHT(Home!$B$11,5))","v":"re **"}]
[null,null,null,null,null,null,994,{"$f":"IF(Students!C996=\"\",\"\",Students!C996)","v":"Z-Boy-Age-14"},{"$f":"IF(Students!D996=\"\",\"\",Students!D996)","v":"Placeholder"},{"$f":"IF(Students!C996=\"\",\"\",H995&\" \"&I995&\" \"&O995)","v":"Z-Boy-Age-14 Placeholder re **"},{"$f":"IF(Students!E996=\"\",\"\",Students!E996)","v":"B"},{"$f":"IF(Students!F996=\"\",\"\",Students!F996)","v":4},{"$f":"IF(Students!G996=\"\",\"\",Students!G996)","v":"01/01/2011"},{"$f":"IF(Students!G996=\"\",\"\",DATEDIF(Students!G996,Settings!$A$2,\"y\"))","v":14},{"$f":"IF(Students!C996=\"\",\"\",RIGHT(Home!$B$11,5))","v":"re **"}]
[null,null,null,null,null,null,995,{"$f":"IF(Students!C997=\"\",\"\",Students!C997)","v":"Z-Boy-Age-15"},{"$f":"IF(Students!D997=\"\",\"\",Students!D997)","v":"Placeholder"},{"$f":"IF(Students!C997=\"\",\"\",H996&\" \"&I996&\" \"&O996)","v":"Z-Boy-Age-15 Placeholder re **"},{"$f":"IF(Students!E997=\"\",\"\",Students!E997)","v":"B"},{"$f":"IF(Students!F997=\"\",\"\",Students!F997)","v":4},{"$f":"IF(Students!G997=\"\",\"\",Students!G997)","v":"01/01/2010"},{"$f":"IF(Students!G997=\"\",\"\",DATEDIF(Students!G997,Settings!$A$2,\"y\"))","v":15},{"$f":"IF(Students!C997=\"\",\"\",RIGHT(Home!$B$11,5))","v":"re **"}]
[null,null,null,null,null,null,996,{"$f":"IF(Students!C998=\"\",\"\",Students!C998)","v":"Z-Boy-Age-16"},{"$f":"IF(Students!D998=\"\",\"\",Students!D998)","v":"Placeholder"},{"$f":"IF(Students!C998=\"\",\"\",H997&\" \"&I997&\" \"&O997)","v":"Z-Boy-Age-16 Placeholder re **"},{"$f":"IF(Students!E998=\"\",\"\",Students!E998)","v":"B"},{"$f":"IF(Students!F998=\"\",\"\",Students!F998)","v":4},{"$f":"IF(Students!G998=\"\",\"\",Students!G998)","v":"01/01/2009"},{"$f":"IF(Students!G998=\"\",\"\",DATEDIF(Students!G998,Settings!$A$2,\"y\"))","v":16},{"$f":"IF(Students!C998=\"\",\"\",RIGHT(Home!$B$11,5))","v":"re **"}]
[null,null,null,null,null,null,997,{"$f":"IF(Students!C999=\"\",\"\",Students!C999)","v":""},{"$f":"IF(Students!D999=\"\",\"\",Students!D999)","v":""},{"$f":"IF(Students!C999=\"\",\"\",H998&\" \"&I998&\" \"&O998)","v":""},{"$f":"IF(Students!E999=\"\",\"\",Students!E999)","v":""},{"$f":"IF(Students!F999=\"\",\"\",Students!F999)","v":""},{"$f":"IF(Students!G999=\"\",\"\",Students!G999)","v":""},{"$f":"IF(Students!G999=\"\",\"\",DATEDIF(Students!G999,Settings!$A$2,\"y\"))","v":""},{"$f":"IF(Students!C999=\"\",\"\",RIGHT(Home!$B$11,5))","v":""}]
[null,null,null,null,null,null,998,{"$f":"IF(Students!C1000=\"\",\"\",Students!C1000)","v":""},{"$f":"IF(Students!D1000=\"\",\"\",Students!D1000)","v":""},{"$f":"IF(Students!C1000=\"\",\"\",H999&\" \"&I999&\" \"&O999)","v":""},{"$f":"IF(Students!E1000=\"\",\"\",Students!E1000)","v":""},{"$f":"IF(Students!F1000=\"\",\"\",Students!F1000)","v":""},{"$f":"IF(Students!G1000=\"\",\"\",Students!G1000)","v":""},{"$f":"IF(Students!G1000=\"\",\"\",DATEDIF(Students!G1000,Settings!$A$2,\"y\"))","v":""},{"$f":"IF(Students!C1000=\"\",\"\",RIGHT(Home!$B$11,5))","v":""}]
[null,null,null,null,null,null,999,{"$f":"IF(Students!C1001=\"\",\"\",Students!C1001)","v":""},{"$f":"IF(Students!D1001=\"\",\"\",Students!D1001)","v":""},{"$f":"IF(Students!C1001=\"\",\"\",H1000&\" \"&I1000&\" \"&O1000)","v":""},{"$f":"IF(Students!E1001=\"\",\"\",Students!E1001)","v":""},{"$f":"IF(Students!F1001=\"\",\"\",Students!F1001)","v":""},{"$f":"IF(Students!G1001=\"\",\"\",Students!G1001)","v":""},{"$f":"IF(Students!G1001=\"\",\"\",DATEDIF(Students!G1001,Settings!$A$2,\"y\"))","v":""},{"$f":"IF(Students!C1001=\"\",\"\",RIGHT(Home!$B$11,5))","v":""}]

{"sheet":"Students","index":2,"n_rows":1001,"n_cols":7,"rows_kept":1001,"cut":false,"hidden":false,"merged":[]}
[null,null,"First Name","Last Name","Gender\nG or B","Year Number","Date of Birth\ndd/mm/yyyy"]
[]
[null,{"$f":"ROW()-2","v":1}]
[null,2]
[null,3]
[null,4]
[null,5]
[null,6]
[null,7]
[null,8]
[null,9]
[null,10]
[null,11]
[null,12]
[null,13]
[null,14]
[null,15]
[null,16]
[null,17]
[null,18]
[null,19]
[null,20]
[null,21]
[null,22]
[null,23]
[null,24]
[null,25]
[null,26]
[null,27]
[null,28]
[null,29]
[null,30]
[null,31]
[null,32]
[null,33]
[null,34]
[null,35]
[null,36]
[null,37]
[null,38]
[null,39]
[null,40]
[null,41]
[null,42]
[null,43]
[null,44]
[null,45]
[null,46]
[null,47]
[null,48]
[null,49]
[null,50]
[null,51]
[null,52]
[null,53]
[null,54]
[null,55]
[null,56]
[null,57]
[null,58]
[null,59]
[null,60]
[null,61]
[null,62]
[null,63]
[null,64]
[null,65]
[null,66]
[null,67]
[null,68]
[null,69]
[null,70]
[null,71]
[null,72]
[null,73]
[null,74]
[null,75]
[null,76]
[null,77]
[null,78]
[null,79]
[null,80]
[null,81]
[null,82]
[null,83]
[null,84]
[null,85]
[null,86]
[null,87]
[null,88]
[null,89]
[null,90]
[null,91]
[null,92]
[null,93]
[null,94]
[null,95]
[null,96]
[null,97]
[null,98]
[null,99]
[null,100]
[null,101]
[null,102]
[null,103]
[null,104]
[null,105]
[null,106]
[null,107]
[null,108]
[null,109]
[null,110]
[null,111]
[null,112]
[null,113]
[null,114]
[null,115]
[null,116]
[null,117]
[null,118]
[null,119]
[null,120]
[null,121]
[null,122]
[null,123]
[null,124]
[null,125]
[null,126]
[null,127]
[null,128]
[null,129]
[null,130]
[null,131]
[null,132]
[null,133]
[null,134]
[null,135]
[null,136]
[null,137]
[null,138]
[null,139]
[null,140]
[null,141]
[null,142]
[null,143]
[null,144]
[null,145]
[null,146]
[null,147]
[null,148]
[null,149]
[null,150]
[null,151]
[null,152]
[null,153]
[null,154]
[null,155]
[null,156]
[null,157]
[null,158]
[null,159]
[null,160]
[null,161]
[null,162]
[null,163]
[null,164]
[null,165]
[null,166]
[null,167]
[null,168]
[null,169]
[null,170]
[null,171]
[null,172]
[null,173]
[null,174]
[null,175]
[null,176]
[null,177]
[null,178]
[null,179]
[null,180]
[null,181]
[null,182]
[null,183]
[null,184]
[null,185]
[null,186]
[null,187]
[null,188]
[null,189]
[null,190]
[null,191]
[null,192]
[null,193]
[null,194]
[null,195]
[null,196]
[null,197]
[null,198]
[null,199]
[null,200]
[null,201]
[null,202]
[null,203]
[null,204]
[null,205]
[null,206]
[null,207]
[null,208]
[null,209]
[null,210]
[null,211]
[null,212]
[null,213]
[null,214]
[null,215]
[null,216]
[null,{"$f":"ROW()-2","v":217}]
[null,{"$f":"ROW()-2","v":218}]
[null,{"$f":"ROW()-2","v":219}]
[null,220]
[null,221]
[null,222]
[null,223]
[null,224]
[null,225]
[null,226]
[null,227]
[null,228]
[null,229]
[null,230]
[null,231]
[null,232]
[null,233]
[null,234]
[null,235]
[null,236]
[null,237]
[null,238]
[null,239]
[null,240]
[null,241]
[null,242]
[null,243]
[null,244]
[null,245]
[null,246]
[null,247]
[null,248]
[null,249]
[null,250]
[null,251]
[null,252]
[null,253]
[null,254]
[null,255]
[null,256]
[null,257]
[null,258]
[null,259]
[null,260]
[null,261]
[null,262]
[null,263]
[null,264]
[null,265]
[null,266]
[null,267]
[null,268]
[null,269]
[null,270]
[null,271]
[null,272]
[null,273]
[null,274]
[null,275]
[null,276]
[null,277]
[null,278]
[null,279]
[null,280]
[null,281]
[null,282]
[null,{"$f":"ROW()-2","v":283}]
[null,284]
[null,285]
[null,286]
[null,287]
[null,288]
[null,289]
[null,290]
[null,291]
[null,292]
[null,293]
[null,294]
[null,295]
[null,296]
[null,297]
[null,298]
[null,299]
[null,300]
[null,301]
[null,302]
[null,303]
[null,304]
[null,305]
[null,306]
[null,307]
[null,308]
[null,309]
[null,310]
[null,311]
[null,312]
[null,313]
[null,314]
[null,315]
[null,316]
[null,317]
[null,318]
[null,319]
[null,320]
[null,321]
[null,322]
[null,323]
[null,324]
[null,325]
[null,326]
[null,327]
[null,328]
[null,329]
[null,330]
[null,331]
[null,332]
[null,333]
[null,334]
[null,335]
[null,336]
[null,337]
[null,338]
[null,339]
[null,340]
[null,341]
[null,342]
[null,343]
[null,344]
[null,345]
[null,346]
[null,{"$f":"ROW()-2","v":347}]
[null,348]
[null,349]
[null,350]
[null,351]
[null,352]
[null,353]
[null,354]
[null,355]
[null,356]
[null,357]
[null,358]
[null,359]
[null,360]
[null,361]
[null,362]
[null,363]
[null,364]
[null,365]
[null,366]
[null,367]
[null,368]
[null,369]
[null,370]
[null,371]
[null,372]
[null,373]
[null,374]
[null,375]
[null,376]
[null,377]
[null,378]
[null,379]
[null,380]
[null,381]
[null,382]
[null,383]
[null,384]
[null,385]
[null,386]
[null,387]
[null,388]
[null,389]
[null,390]
[null,391]
[null,392]
[null,393]
[null,394]
[null,395]
[null,396]
[null,397]
[null,398]
[null,399]
[null,400]
[null,401]
[null,402]
[null,403]
[null,404]
[null,405]
[null,406]
[null,407]
[null,408]
[null,409]
[null,410]
[null,{"$f":"ROW()-2","v":411}]
[null,412]
[null,413]
[null,414]
[null,415]
[null,416]
[null,417]
[null,418]
[null,419]
[null,420]
[null,421]
[null,422]
[null,423]
[null,424]
[null,425]
[null,426]
[null,427]
[null,428]
[null,429]
[null,430]
[null,431]
[null,432]
[null,433]
[null,434]
[null,435]
[null,436]
[null,437]
[null,438]
[null,439]
[null,440]
[null,441]
[null,442]
[null,443]
[null,444]
[null,445]
[null,446]
[null,447]
[null,448]
[null,449]
[null,450]
[null,451]
[null,452]
[null,453]
[null,454]
[null,455]
[null,456]
[null,457]
[null,458]
[null,459]
[null,460]
[null,461]
[null,462]
[null,463]
[null,464]
[null,465]
[null,466]
[null,467]
[null,468]
[null,469]
[null,470]
[null,471]
[null,472]
[null,473]
[null,474]
[null,{"$f":"ROW()-2","v":475}]
[null,476]
[null,477]
[null,478]
[null,479]
[null,480]
[null,481]
[null,482]
[null,483]
[null,484]
[null,485]
[null,486]
[null,487]
[null,488]
[null,489]
[null,490]
[null,491]
[null,492]
[null,493]
[null,494]
[null,495]
[null,496]
[null,497]
[null,498]
[null,499]
[null,500]
[null,501]
[null,502]
[null,503]
[null,504]
[null,505]
[null,506]
[null,507]
[null,508]
[null,509]
[null,510]
[null,511]
[null,512]
[null,513]
[null,514]
[null,515]
[null,516]
[null,517]
[null,518]
[null,519]
[null,520]
[null,521]
[null,522]
[null,523]
[null,524]
[null,525]
[null,526]
[null,527]
[null,528]
[null,529]
[null,530]
[null,531]
[null,532]
[null,533]
[null,534]
[null,535]
[null,536]
[null,537]
[null,538]
[null,{"$f":"ROW()-2","v":539}]
[null,540]
[null,541]
[null,542]
[null,543]
[null,544]
[null,545]
[null,546]
[null,547]
[null,548]
[null,549]
[null,550]
[null,551]
[null,552]
[null,553]
[null,554]
[null,555]
[null,556]
[null,557]
[null,558]
[null,559]
[null,560]
[null,561]
[null,562]
[null,563]
[null,564]
[null,565]
[null,566]
[null,567]
[null,568]
[null,569]
[null,570]
[null,571]
[null,572]
[null,573]
[null,574]
[null,575]
[null,576]
[null,577]
[null,578]
[null,579]
[null,580]
[null,581]
[null,582]
[null,583]
[null,584]
[null,585]
[null,586]
[null,587]
[null,588]
[null,589]
[null,590]
[null,591]
[null,592]
[null,593]
[null,594]
[null,595]
[null,596]
[null,597]
[null,598]
[null,599]
[null,600]
[null,601]
[null,602]
[null,{"$f":"ROW()-2","v":603}]
[null,604]
[null,605]
[null,606]
[null,607]
[null,608]
[null,609]
[null,610]
[null,611]
[null,612]
[null,613]
[null,614]
[null,615]
[null,616]
[null,617]
[null,618]
[null,619]
[null,620]
[null,621]
[null,622]
[null,623]
[null,624]
[null,625]
[null,626]
[null,627]
[null,628]
[null,629]
[null,630]
[null,631]
[null,632]
[null,633]
[null,634]
[null,635]
[null,636]
[null,637]
[null,638]
[null,639]
[null,640]
[null,641]
[null,642]
[null,643]
[null,644]
[null,645]
[null,646]
[null,647]
[null,648]
[null,649]
[null,650]
[null,651]
[null,652]
[null,653]
[null,654]
[null,655]
[null,656]
[null,657]
[null,658]
[null,659]
[null,660]
[null,661]
[null,662]
[null,663]
[null,664]
[null,665]
[null,666]
[null,{"$f":"ROW()-2","v":667}]
[null,668]
[null,669]
[null,670]
[null,671]
[null,672]
[null,673]
[null,674]
[null,675]
[null,676]
[null,677]
[null,678]
[null,679]
[null,680]
[null,681]
[null,682]
[null,683]
[null,684]
[null,685]
[null,686]
[null,687]
[null,688]
[null,689]
[null,690]
[null,691]
[null,692]
[null,693]
[null,694]
[null,695]
[null,696]
[null,697]
[null,698]
[null,699]
[null,700]
[null,701]
[null,702]
[null,703]
[null,704]
[null,705]
[null,706]
[null,707]
[null,708]
[null,709]
[null,710]
[null,711]
[null,712]
[null,713]
[null,714]
[null,715]
[null,716]
[null,717]
[null,718]
[null,719]
[null,720]
[null,721]
[null,722]
[null,723]
[null,724]
[null,725]
[null,726]
[null,727]
[null,728]
[null,729]
[null,730]
[null,{"$f":"ROW()-2","v":731}]
[null,732]
[null,733]
[null,734]
[null,735]
[null,736]
[null,737]
[null,738]
[null,739]
[null,740]
[null,741]
[null,742]
[null,743]
[null,744]
[null,745]
[null,746]
[null,747]
[null,748]
[null,749]
[null,750]
[null,751]
[null,752]
[null,753]
[null,754]
[null,755]
[null,756]
[null,757]
[null,758]
[null,759]
[null,760]
[null,761]
[null,762]
[null,763]
[null,764]
[null,765]
[null,766]
[null,767]
[null,768]
[null,769]
[null,770]
[null,771]
[null,772]
[null,773]
[null,774]
[null,775]
[null,776]
[null,777]
[null,778]
[null,779]
[null,780]
[null,781]
[null,782]
[null,783]
[null,784]
[null,785]
[null,786]
[null,787]
[null,788]
[null,789]
[null,790]
[null,791]
[null,792]
[null,793]
[null,794]
[null,{"$f":"ROW()-2","v":795}]
[null,796]
[null,797]
[null,798]
[null,799]
[null,800]
[null,801]
[null,802]
[null,803]
[null,804]
[null,805]
[null,806]
[null,807]
[null,808]
[null,809]
[null,810]
[null,811]
[null,812]
[null,813]
[null,814]
[null,815]
[null,816]
[null,817]
[null,818]
[null,819]
[null,820]
[null,821]
[null,822]
[null,823]
[null,824]
[null,825]
[null,826]
[null,827]
[null,828]
[null,829]
[null,830]
[null,831]
[null,832]
[null,833]
[null,834]
[null,835]
[null,836]
[null,837]
[null,838]
[null,839]
[null,840]
[null,841]
[null,842]
[null,843]
[null,844]
[null,845]
[null,846]
[null,847]
[null,848]
[null,849]
[null,850]
[null,851]
[null,852]
[null,853]
[null,854]
[null,855]
[null,856]
[null,857]
[null,858]
[null,{"$f":"ROW()-2","v":859}]
[null,860]
[null,861]
[null,862]
[null,863]
[null,864]
[null,865]
[null,866]
[null,867]
[null,868]
[null,869]
[null,870]
[null,871]
[null,872]
[null,873]
[null,874]
[null,875]
[null,876]
[null,877]
[null,878]
[null,879]
[null,880]
[null,881]
[null,882]
[null,883]
[null,884]
[null,885]
[null,886]
[null,887]
[null,888]
[null,889]
[null,890]
[null,891]
[null,892]
[null,893]
[null,894]
[null,895]
[null,896]
[null,897]
[null,898]
[null,899]
[null,900]
[null,901]
[null,902]
[null,903]
[null,904]
[null,905]
[null,906]
[null,907]
[null,908]
[null,909]
[null,910]
[null,911]
[null,912]
[null,913]
[null,914]
[null,915]
[null,916]
[null,917]
[null,918]
[null,919]
[null,920]
[null,921]
[null,922]
[null,{"$f":"ROW()-2","v":923}]
[null,924]
[null,925]
[null,926]
[null,927]
[null,928]
[null,929]
[null,930]
[null,931]
[null,932]
[null,933]
[null,934]
[null,935]
[null,936]
[null,937]
[null,938]
[null,939]
[null,940]
[null,941]
[null,942]
[null,943]
[null,944]
[null,945]
[null,946]
[null,947]
[null,948]
[null,949]
[null,950]
[null,951]
[null,952]
[null,953]
[null,954]
[null,955]
[null,956]
[null,957]
[null,958]
[null,959]
[null,960]
[null,961]
[null,962]
[null,963]
[null,964]
[null,965]
[null,966]
[null,967]
[null,968]
[null,969]
[null,970]
[null,971]
[null,972]
[null,973]
[null,974]
[null,975,"Z-Girl-Age-6","Placeholder","G",4,{"$f":"\"01/01/\"& (YEAR(Settings!$A$2)-6)","v":"01/01/2019"}]
[null,976,"Z-Girl-Age-7","Placeholder","G",4,{"$f":"\"01/01/\"& (YEAR(Settings!$A$2)-7)","v":"01/01/2018"}]
[null,977,"Z-Girl-Age-8","Placeholder","G",4,{"$f":"\"01/01/\"& (YEAR(Settings!$A$2)-8)","v":"01/01/2017"}]
[null,978,"Z-Girl-Age-9-Y5","Placeholder","G",5,{"$f":"\"01/01/\"& (YEAR(Settings!$A$2)-9)","v":"01/01/2016"}]
[null,979,"Z-Girl-Age-10-Y6","Placeholder","G",6,{"$f":"\"01/01/\"& (YEAR(Settings!$A$2)-10)","v":"01/01/2015"}]
[null,980,"Z-Girl-Age-11-Y7","Placeholder","G",7,{"$f":"\"01/01/\"& (YEAR(Settings!$A$2)-11)","v":"01/01/2014"}]
[null,981,"Z-Girl-Age-12-Y8","Placeholder","G",8,{"$f":"\"01/01/\"& (YEAR(Settings!$A$2)-12)","v":"01/01/2013"}]
[null,982,"Z-Girl-Age-13","Placeholder","G",4,{"$f":"\"01/01/\"& (YEAR(Settings!$A$2)-13)","v":"01/01/2012"}]
[null,983,"Z-Girl-Age-14","Placeholder","G",4,{"$f":"\"01/01/\"& (YEAR(Settings!$A$2)-14)","v":"01/01/2011"}]
[null,984,"Z-Girl-Age-15","Placeholder","G",4,{"$f":"\"01/01/\"& (YEAR(Settings!$A$2)-15)","v":"01/01/2010"}]
[null,985,"Z-Girl-Age-16","Placeholder","G",4,{"$f":"\"01/01/\"& (YEAR(Settings!$A$2)-16)","v":"01/01/2009"}]
[null,986,"Z-Boy-Age-6","Placeholder","B",4,{"$f":"\"01/01/\"& (YEAR(Settings!$A$2)-6)","v":"01/01/2019"}]
[null,{"$f":"ROW()-2","v":987},"Z-Boy-Age-7","Placeholder","B",4,{"$f":"\"01/01/\"& (YEAR(Settings!$A$2)-7)","v":"01/01/2018"}]
[null,988,"Z-Boy-Age-8","Placeholder","B",4,{"$f":"\"01/01/\"& (YEAR(Settings!$A$2)-8)","v":"01/01/2017"}]
[null,989,"Z-Boy-Age-9-Y5","Placeholder","B",5,{"$f":"\"01/01/\"& (YEAR(Settings!$A$2)-9)","v":"01/01/2016"}]
[null,990,"Z-Boy-Age-10-Y6","Placeholder","B",6,{"$f":"\"01/01/\"& (YEAR(Settings!$A$2)-10)","v":"01/01/2015"}]
[null,991,"Z-Boy-Age-11-Y7","Placeholder","B",7,{"$f":"\"01/01/\"& (YEAR(Settings!$A$2)-11)","v":"01/01/2014"}]
[null,992,"Z-Boy-Age-12-Y8","Placeholder","B",8,{"$f":"\"01/01/\"& (YEAR(Settings!$A$2)-12)","v":"01/01/2013"}]
[null,993,"Z-Boy-Age-13","Placeholder","B",4,{"$f":"\"01/01/\"& (YEAR(Settings!$A$2)-13)","v":"01/01/2012"}]
[null,994,"Z-Boy-Age-14","Placeholder","B",4,{"$f":"\"01/01/\"& (YEAR(Settings!$A$2)-14)","v":"01/01/2011"}]
[null,995,"Z-Boy-Age-15","Placeholder","B",4,{"$f":"\"01/01/\"& (YEAR(Settings!$A$2)-15)","v":"01/01/2010"}]
[null,996,"Z-Boy-Age-16","Placeholder","B",4,{"$f":"\"01/01/\"& (YEAR(Settings!$A$2)-16)","v":"01/01/2009"}]
[null,997]
[null,998]
[null,999]

{"sheet":"Track","index":3,"n_rows":50,"n_cols":9,"rows_kept":50,"cut":false,"hidden":false,"merged":[]}
[]
[]
[null,1,"Girls Under 10 60m Sprint","1st",null,null,2,"Boys Under 10 60m Sprint","1st"]
[null,1,"Girls Under 10 60m Sprint","2nd",null,null,2,"Boys Under 10 60m Sprint","2nd"]
[null,1,"Girls Under 10 60m Sprint","3rd",null,null,2,"Boys Under 10 60m Sprint","3rd"]
[null,1,"Girls Under 10 60m Sprint","4th",null,null,2,"Boys Under 10 60m Sprint","4th"]
[]
[null,9,"Girls Under 11 80m Sprint","1st",null,null,10,"Boys Under 11 80m Sprint","1st"]
[null,9,"Girls Under 11 80m Sprint","2nd",null,null,10,"Boys Under 11 80m Sprint","2nd"]
[null,9,"Girls Under 11 80m Sprint","3rd",null,null,10,"Boys Under 11 80m Sprint","3rd"]
[null,9,"Girls Under 11 80m Sprint","4th",null,null,10,"Boys Under 11 80m Sprint","4th"]
[]
[null,11,"Girls Under 12 80m Sprint","1st",null,null,12,"Boys Under 12 80m Sprint","1st"]
[null,11,"Girls Under 12 80m Sprint","2nd",null,null,12,"Boys Under 12 80m Sprint","2nd"]
[null,11,"Girls Under 12 80m Sprint","3rd",null,null,12,"Boys Under 12 80m Sprint","3rd"]
[null,11,"Girls Under 12 80m Sprint","4th",null,null,12,"Boys Under 12 80m Sprint","4th"]
[]
[null,15,"Girls Under 13 80m Sprint","1st",null,null,16,"Boys Under 13 80m Sprint","1st"]
[null,15,"Girls Under 13 80m Sprint","2nd",null,null,16,"Boys Under 13 80m Sprint","2nd"]
[null,15,"Girls Under 13 80m Sprint","3rd",null,null,16,"Boys Under 13 80m Sprint","3rd"]
[null,15,"Girls Under 13 80m Sprint","4th",null,null,16,"Boys Under 13 80m Sprint","4th"]
[]
[null,19,"Girls 13 & Over 100m Sprint","1st",null,null,20,"Boys 13 & Over 100m Sprint","1st"]
[null,19,"Girls 13 & Over 100m Sprint","2nd",null,null,20,"Boys 13 & Over 100m Sprint","2nd"]
[null,19,"Girls 13 & Over 100m Sprint","3rd",null,null,20,"Boys 13 & Over 100m Sprint","3rd"]
[null,19,"Girls 13 & Over 100m Sprint","4th",null,null,20,"Boys 13 & Over 100m Sprint","4th"]
[]
[null,27,"Girls Under 11 70m Hurdles","1st",null,null,28,"Boys Under 11 70m Hurdles","1st"]
[null,27,"Girls Under 11 70m Hurdles","2nd",null,null,28,"Boys Under 11 70m Hurdles","2nd"]
[null,27,"Girls Under 11 70m Hurdles","3rd",null,null,28,"Boys Under 11 70m Hurdles","3rd"]
[]
[null,29,"Girls Under 12 70m Hurdles","1st",null,null,30,"Boys Under 12 70m Hurdles","1st"]
[null,29,"Girls Under 12 70m Hurdles","2nd",null,null,30,"Boys Under 12 70m Hurdles","2nd"]
[null,29,"Girls Under 12 70m Hurdles","3rd",null,null,30,"Boys Under 12 70m Hurdles","3rd"]
[]
[null,35,"Girls Under 13 70m Hurdles","1st",null,null,36,"Boys Under 13 70m Hurdles","1st"]
[null,35,"Girls Under 13 70m Hurdles","2nd",null,null,36,"Boys Under 13 70m Hurdles","2nd"]
[null,35,"Girls Under 13 70m Hurdles","3rd",null,null,36,"Boys Under 13 70m Hurdles","3rd"]
[]
[null,39,"Girls 13 & Over 70m Hurdles","1st",null,null,40,"Boys 13 & Over 70m Hurdles","1st"]
[null,39,"Girls 13 & Over 70m Hurdles","2nd",null,null,40,"Boys 13 & Over 70m Hurdles","2nd"]
[null,39,"Girls 13 & Over 70m Hurdles","3rd",null,null,40,"Boys 13 & Over 70m Hurdles","3rd"]
[]
[null,91,"Girls Year 5 & 6 800m","1st",null,null,92,"Boys Year 5 & 6 800m","1st"]
[null,91,"Girls Year 5 & 6 800m","2nd",null,null,92,"Boys Year 5 & 6 800m","2nd"]
[null,91,"Girls Year 5 & 6 800m","3rd",null,null,92,"Boys Year 5 & 6 800m","3rd"]
[]
[null,93,"Girls Year 7 & 8 800m","1st",null,null,94,"Boys Year 7 & 8 800m","1st"]
[null,93,"Girls Year 7 & 8 800m","2nd",null,null,94,"Boys Year 7 & 8 800m","2nd"]
[null,93,"Girls Year 7 & 8 800m","3rd",null,null,94,"Boys Year 7 & 8 800m","3rd"]

{"sheet":"Field","index":4,"n_rows":69,"n_cols":9,"rows_kept":69,"cut":false,"hidden":false,"merged":[]}
[]
[]
[null,55,"Girls Under 11 High Jump","1st",null,null,56,"Boys Under 11 High Jump","1st"]
[null,55,"Girls Under 11 High Jump","2nd",null,null,56,"Boys Under 11 High Jump","2nd"]
[null,55,"Girls Under 11 High Jump","3rd",null,null,56,"Boys Under 11 High Jump","3rd"]
[]
[null,17,"Girls Under 12 High Jump","1st",null,null,18,"Boys Under 12 High Jump","1st"]
[null,17,"Girls Under 12 High Jump","2nd",null,null,18,"Boys Under 12 High Jump","2nd"]
[null,17,"Girls Under 12 High Jump","3rd",null,null,18,"Boys Under 12 High Jump","3rd"]
[]
[null,41,"Girls Under 13 High Jump","1st",null,null,42,"Boys Under 13 High Jump","1st"]
[null,41,"Girls Under 13 High Jump","2nd",null,null,42,"Boys Under 13 High Jump","2nd"]
[null,41,"Girls Under 13 High Jump","3rd",null,null,42,"Boys Under 13 High Jump","3rd"]
[]
[null,7,"Girls 13 & Over High Jump","1st",null,null,8,"Boys 13 & Over High Jump","1st"]
[null,7,"Girls 13 & Over High Jump","2nd",null,null,8,"Boys 13 & Over High Jump","2nd"]
[null,7,"Girls 13 & Over High Jump","3rd",null,null,8,"Boys 13 & Over High Jump","3rd"]
[]
[null,51,"Girls Under 10 Long Jump","1st",null,null,52,"Boys Under 10 Long Jump","1st"]
[null,51,"Girls Under 10 Long Jump","2nd",null,null,52,"Boys Under 10 Long Jump","2nd"]
[null,51,"Girls Under 10 Long Jump","3rd",null,null,52,"Boys Under 10 Long Jump","3rd"]
[]
[null,13,"Girls Under 11 Long Jump","1st",null,null,14,"Boys Under 11 Long Jump","1st"]
[null,13,"Girls Under 11 Long Jump","2nd",null,null,14,"Boys Under 11 Long Jump","2nd"]
[null,13,"Girls Under 11 Long Jump","3rd",null,null,14,"Boys Under 11 Long Jump","3rd"]
[]
[null,37,"Girls Under 12 Long Jump","1st",null,null,38,"Boys Under 12 Long Jump","1st"]
[null,37,"Girls Under 12 Long Jump","2nd",null,null,38,"Boys Under 12 Long Jump","2nd"]
[null,37,"Girls Under 12 Long Jump","3rd",null,null,38,"Boys Under 12 Long Jump","3rd"]
[]
[null,3,"Girls Under 13 Long Jump","1st",null,null,4,"Boys Under 13 Long Jump","1st"]
[null,3,"Girls Under 13 Long Jump","2nd",null,null,4,"Boys Under 13 Long Jump","2nd"]
[null,3,"Girls Under 13 Long Jump","3rd",null,null,4,"Boys Under 13 Long Jump","3rd"]
[]
[null,25,"Girls 13 & Over Long Jump","1st",null,null,26,"Boys 13 & Over Long Jump","1st"]
[null,25,"Girls 13 & Over Long Jump","2nd",null,null,26,"Boys 13 & Over Long Jump","2nd"]
[null,25,"Girls 13 & Over Long Jump","3rd",null,null,26,"Boys 13 & Over Long Jump","3rd"]
[]
[null,31,"Girls Under 11 Discus","1st",null,null,32,"Boys Under 11 Discus","1st"]
[null,31,"Girls Under 11 Discus","2nd",null,null,32,"Boys Under 11 Discus","2nd"]
[null,31,"Girls Under 11 Discus","3rd",null,null,32,"Boys Under 11 Discus","3rd"]
[]
[null,59,"Girls Under 12 Discus","1st",null,null,60,"Boys Under 12 Discus","1st"]
[null,59,"Girls Under 12 Discus","2nd",null,null,60,"Boys Under 12 Discus","2nd"]
[null,59,"Girls Under 12 Discus","3rd",null,null,60,"Boys Under 12 Discus","3rd"]
[]
[null,21,"Girls Under 13 Discus","1st",null,null,22,"Boys Under 13 Discus","1st"]
[null,21,"Girls Under 13 Discus","2nd",null,null,22,"Boys Under 13 Discus","2nd"]
[null,21,"Girls Under 13 Discus","3rd",null,null,22,"Boys Under 13 Discus","3rd"]
[]
[null,45,"Girls 13 & Over Discus","1st",null,null,46,"Boys 13 & Over Discus","1st"]
[null,45,"Girls 13 & Over Discus","2nd",null,null,46,"Boys 13 & Over Discus","2nd"]
[null,45,"Girls 13 & Over Discus","3rd",null,null,46,"Boys 13 & Over Discus","3rd"]
[]
[null,23,"Girls Under 11 Shot Put","1st",null,null,24,"Boys Under 11 Shot Put","1st"]
[null,23,"Girls Under 11 Shot Put","2nd",null,null,24,"Boys Under 11 Shot Put","2nd"]
[null,23,"Girls Under 11 Shot Put","3rd",null,null,24,"Boys Under 11 Shot Put","3rd"]
[]
[null,5,"Girls Under 12 Shot Put","1st",null,null,6,"Boys Under 12 Shot Put","1st"]
[null,5,"Girls Under 12 Shot Put","2nd",null,null,6,"Boys Under 12 Shot Put","2nd"]
[null,5,"Girls Under 12 Shot Put","3rd",null,null,6,"Boys Under 12 Shot Put","3rd"]
[]
[null,47,"Girls Under 13 Shot Put","1st",null,null,48,"Boys Under 13 Shot Put","1st"]
[null,47,"Girls Under 13 Shot Put","2nd",null,null,48,"Boys Under 13 Shot Put","2nd"]
[null,47,"Girls Under 13 Shot Put","3rd",null,null,48,"Boys Under 13 Shot Put","3rd"]
[]
[null,33,"Girls 13 & Over Shot Put","1st",null,null,34,"Boys 13 & Over Shot Put","1st"]
[null,33,"Girls 13 & Over Shot Put","2nd",null,null,34,"Boys 13 & Over Shot Put","2nd"]
[null,33,"Girls 13 & Over Shot Put","3rd",null,null,34,"Boys 13 & Over Shot Put","3rd"]

{"sheet":"Relays","index":5,"n_rows":41,"n_cols":11,"rows_kept":41,"cut":false,"hidden":false,"merged":[]}
[null,null,"Event Title","Team","Select 1st Runner",null,"Select 2nd Runner",null,"Select 3rd Runner",null,"Select 4th Runner"]
[]
[null,43,"Girls Under 10 200m Relay","A"]
[null,43,"Girls Under 10 200m Relay","B"]
[null,43,"Girls Under 10 200m Relay","C"]
[]
[null,49,"Girls Under 11 200m Relay","A"]
[null,49,"Girls Under 11 200m Relay","B"]
[null,49,"Girls Under 11 200m Relay","C"]
[]
[null,53,"Girls Under 12 200m Relay","A"]
[null,53,"Girls Under 12 200m Relay","B"]
[null,53,"Girls Under 12 200m Relay","C"]
[]
[null,57,"Girls Under 13 200m Relay","A"]
[null,57,{"$f":"C15","v":"Girls Under 13 200m Relay"},"B"]
[null,57,{"$f":"C16","v":"Girls Under 13 200m Relay"},"C"]
[]
[null,61,"Girls 13 & Over 200m Relay","A"]
[null,61,"Girls 13 & Over 200m Relay","B"]
[null,61,"Girls 13 & Over 200m Relay","C"]
[]
[null,44,"Boys Under 10 200m Relay","A"]
[null,44,"Boys Under 10 200m Relay","B"]
[null,44,"Boys Under 10 200m Relay","C"]
[]
[null,50,"Boys Under 11 200m Relay","A"]
[null,50,"Boys Under 11 200m Relay","B"]
[null,50,"Boys Under 11 200m Relay","C"]
[]
[null,54,"Boys Under 12 200m Relay","A"]
[null,54,"Boys Under 12 200m Relay","B"]
[null,54,"Boys Under 12 200m Relay","C"]
[]
[null,58,"Boys Under 13 200m Relay","A"]
[null,58,"Boys Under 13 200m Relay","B"]
[null,58,"Boys Under 13 200m Relay","C"]
[]
[null,62,"Boys 13 & Over 200m Relay","A"]
[null,62,"Boys 13 & Over 200m Relay","B"]
[null,62,"Boys 13 & Over 200m Relay","C"]

{"sheet":"Lists","index":6,"n_rows":5,"n_cols":140,"rows_kept":5,"cut":false,"hidden":false,"merged":[]}
[null,"Settings Student ID","Settings\nFirst Name","Settings\nLast Name","Settings\nFull Name","Settings\nGender","Settings\nYear Level","Settings\nDate of Birth","Settings Age as of 1 October 2025","Settings\nSchool Code",null,"Settings Student ID","Settings\nFirst Name","Settings\nLast Name","Settings\nFull Name","Settings\nGender","Settings\nYear Level","Settings\nDate of Birth","Settings Age as of 1 October 2025","Settings\nSchool Code",null,"Settings Student ID","Settings\nFirst Name","Settings\nLast Name","Settings\nFull Name","Settings\nGender","Settings\nYear Level","Settings\nDate of Birth","Settings Age as of 1 October 2025","Settings\nSchool Code",null,"Settings Student ID","Settings\nFirst Name","Settings\nLast Name","Settings\nFull Name","Settings\nGender","Settings\nYear Level","Settings\nDate of Birth","Settings Age as of 1 October 2025","Settings\nSchool Code",null,"Settings Student ID","Settings\nFirst Name","Settings\nLast Name","Settings\nFull Name","Settings\nGender","Settings\nYear Level","Settings\nDate of Birth","Settings Age as of 1 October 2025","Settings\nSchool Code",null,"Settings Student ID","Settings\nFirst Name","Settings\nLast Name","Settings\nFull Name","Settings\nGender","Settings\nYear Level","Settings\nDate of Birth","Settings Age as of 1 October 2025","Settings\nSchool Code",null,"Settings Student ID","Settings\nFirst Name","Settings\nLast Name","Settings\nFull Name","Settings\nGender","Settings\nYear Level","Settings\nDate of Birth","Settings Age as of 1 October 2025","Settings\nSchool Code",null,"Settings Student ID","Settings\nFirst Name","Settings\nLast Name","Settings\nFull Name","Settings\nGender","Settings\nYear Level","Settings\nDate of Birth","Settings Age as of 1 October 2025","Settings\nSchool Code",null,"Settings Student ID","Settings\nFirst Name","Settings\nLast Name","Settings\nFull Name","Settings\nGender","Settings\nYear Level","Settings\nDate of Birth","Settings Age as of 1 October 2025","Settings\nSchool Code",null,"Settings Student ID","Settings\nFirst Name","Settings\nLast Name","Settings\nFull Name","Settings\nGender","Settings\nYear Level","Settings\nDate of Birth","Settings Age as of 1 October 2025","Settings\nSchool Code",null,"Settings Student ID","Settings\nFirst Name","Settings\nLast Name","Settings\nFull Name","Settings\nGender","Settings\nYear Level","Settings\nDate of Birth","Settings Age as of 1 October 2025","Settings\nSchool Code",null,"Settings Student ID","Settings\nFirst Name","Settings\nLast Name","Settings\nFull Name","Settings\nGender","Settings\nYear Level","Settings\nDate of Birth","Settings Age as of 1 October 2025","Settings\nSchool Code",null,"Settings Student ID","Settings\nFirst Name","Settings\nLast Name","Settings\nFull Name","Settings\nGender","Settings\nYear Level","Settings\nDate of Birth","Settings Age as of 1 October 2025","Settings\nSchool Code",null,"Settings Student ID","Settings\nFirst Name","Settings\nLast Name","Settings\nFull Name","Settings\nGender","Settings\nYear Level","Settings\nDate of Birth","Settings Age as of 1 October 2025","Settings\nSchool Code"]
[null,975,"Z-Girl-Age-6","Placeholder","Z-Girl-Age-6 Placeholder (ACS)","G",4,"01/01/2019",6,"(ACS)",null,979,"Z-Girl-Age-10-Y6","Placeholder","Z-Girl-Age-10-Y6 Placeholder (ACS)","G",6,"01/01/2015",10,"(ACS)",null,980,"Z-Girl-Age-11-Y7","Placeholder","Z-Girl-Age-11-Y7 Placeholder (ACS)","G",7,"01/01/2014",11,"(ACS)",null,981,"Z-Girl-Age-12-Y8","Placeholder","Z-Girl-Age-12-Y8 Placeholder (ACS)","G",8,"01/01/2013",12,"(ACS)",null,982,"Z-Girl-Age-13","Placeholder","Z-Girl-Age-13 Placeholder (ACS)","G",4,"01/01/2012",13,"(ACS)",null,986,"Z-Boy-Age-6","Placeholder","Z-Boy-Age-6 Placeholder (ACS)","B",4,"01/01/2019",6,"(ACS)",null,990,"Z-Boy-Age-10-Y6","Placeholder","Z-Boy-Age-10-Y6 Placeholder (ACS)","B",6,"01/01/2015",10,"(ACS)",null,991,"Z-Boy-Age-11-Y7","Placeholder","Z-Boy-Age-11-Y7 Placeholder (ACS)","B",7,"01/01/2014",11,"(ACS)",null,992,"Z-Boy-Age-12-Y8","Placeholder","Z-Boy-Age-12-Y8 Placeholder (ACS)","B",8,"01/01/2013",12,"(ACS)",null,993,"Z-Boy-Age-13","Placeholder","Z-Boy-Age-13 Placeholder (ACS)","B",4,"01/01/2012",13,"(ACS)",null,979,"Z-Girl-Age-10-Y6","Placeholder","Z-Girl-Age-10-Y6 Placeholder (ACS)","G",6,"01/01/2015",10,"(ACS)",null,980,"Z-Girl-Age-11-Y7","Placeholder","Z-Girl-Age-11-Y7 Placeholder (ACS)","G",7,"01/01/2014",11,"(ACS)",null,990,"Z-Boy-Age-10-Y6","Placeholder","Z-Boy-Age-10-Y6 Placeholder (ACS)","B",6,"01/01/2015",10,"(ACS)",null,991,"Z-Boy-Age-11-Y7","Placeholder","Z-Boy-Age-11-Y7 Placeholder (ACS)","B",7,"01/01/2014",11,"(ACS)"]
[null,976,"Z-Girl-Age-7","Placeholder","Z-Girl-Age-7 Placeholder (ACS)","G",4,"01/01/2018",7,"(ACS)",null,null,null,null,null,null,null,null,null,null,null,null,null,null,null,null,null,null,null,null,null,null,null,null,null,null,null,null,null,null,null,983,"Z-Girl-Age-14","Placeholder","Z-Girl-Age-14 Placeholder (ACS)","G",4,"01/01/2011",14,"(ACS)",null,987,"Z-Boy-Age-7","Placeholder","Z-Boy-Age-7 Placeholder (ACS)","B",4,"01/01/2018",7,"(ACS)",null,null,null,null,null,null,null,null,null,null,null,null,null,null,null,null,null,null,null,null,null,null,null,null,null,null,null,null,null,null,null,994,"Z-Boy-Age-14","Placeholder","Z-Boy-Age-14 Placeholder (ACS)","B",4,"01/01/2011",14,"(ACS)",null,978,"Z-Girl-Age-9-Y5","Placeholder","Z-Girl-Age-9-Y5 Placeholder (ACS)","G",5,"01/01/2016",9,"(ACS)",null,981,"Z-Girl-Age-12-Y8","Placeholder","Z-Girl-Age-12-Y8 Placeholder (ACS)","G",8,"01/01/2013",12,"(ACS)",null,989,"Z-Boy-Age-9-Y5","Placeholder","Z-Boy-Age-9-Y5 Placeholder (ACS)","B",5,"01/01/2016",9,"(ACS)",null,992,"Z-Boy-Age-12-Y8","Placeholder","Z-Boy-Age-12-Y8 Placeholder (ACS)","B",8,"01/01/2013",12,"(ACS)"]
[null,977,"Z-Girl-Age-8","Placeholder","Z-Girl-Age-8 Placeholder (ACS)","G",4,"01/01/2017",8,"(ACS)",null,null,null,null,null,null,null,null,null,null,null,null,null,null,null,null,null,null,null,null,null,null,null,null,null,null,null,null,null,null,null,984,"Z-Girl-Age-15","Placeholder","Z-Girl-Age-15 Placeholder (ACS)","G",4,"01/01/2010",15,"(ACS)",null,988,"Z-Boy-Age-8","Placeholder","Z-Boy-Age-8 Placeholder (ACS)","B",4,"01/01/2017",8,"(ACS)",null,null,null,null,null,null,null,null,null,null,null,null,null,null,null,null,null,null,null,null,null,null,null,null,null,null,null,null,null,null,null,995,"Z-Boy-Age-15","Placeholder","Z-Boy-Age-15 Placeholder (ACS)","B",4,"01/01/2010",15,"(ACS)"]
[null,978,"Z-Girl-Age-9-Y5","Placeholder","Z-Girl-Age-9-Y5 Placeholder (ACS)","G",5,"01/01/2016",9,"(ACS)",null,null,null,null,null,null,null,null,null,null,null,null,null,null,null,null,null,null,null,null,null,null,null,null,null,null,null,null,null,null,null,985,"Z-Girl-Age-16","Placeholder","Z-Girl-Age-16 Placeholder (ACS)","G",4,"01/01/2009",16,"(ACS)",null,989,"Z-Boy-Age-9-Y5","Placeholder","Z-Boy-Age-9-Y5 Placeholder (ACS)","B",5,"01/01/2016",9,"(ACS)",null,null,null,null,null,null,null,null,null,null,null,null,null,null,null,null,null,null,null,null,null,null,null,null,null,null,null,null,null,null,null,996,"Z-Boy-Age-16","Placeholder","Z-Boy-Age-16 Placeholder (ACS)","B",4,"01/01/2009",16,"(ACS)"]

{"sheet":"Summary","index":7,"n_rows":188,"n_cols":27,"rows_kept":188,"cut":false,"hidden":false,"merged":[[164,8,164,10],[54,3,54,4],[54,7,54,8],[54,10,54,11],[124,4,124,7],[125,4,125,7],[124,8,124,10],[125,8,125,10],[158,8,158,10],[159,8,159,10],[160,8,160,10],[161,8,161,10],[162,8,162,10],[163,8,163,10],[152,8,152,10],[153,8,153,10],[154,8,154,10],[155,8,155,10],[156,8,156,10],[157,8,157,10],[146,8,146,10],[147,8,147,10],[148,8,148,10],[149,8,149,10],[150,8,150,10],[151,8,151,10],[140,8,140,10],[141,8,141,10],[142,8,142,10],[143,8,143,10],[144,8,144,10],[145,8,145,10],[134,8,134,10],[135,8,135,10],[136,8,136,10],[137,8,137,10],[138,8,138,10],[139,8,139,10],[163,4,163,7],[164,4,164,7],[126,8,126,10],[127,8,127,10],[128,8,128,10],[129,8,129,10],[130,8,130,10],[131,8,131,10],[132,8,132,10],[133,8,133,10],[157,4,157,7],[158,4,158,7],[159,4,159,7],[160,4,160,7],[161,4,161,7],[162,4,162,7],[151,4,151,7],[152,4,152,7],[153,4,153,7],[154,4,154,7],[155,4,155,7],[156,4,156,7],[145,4,145,7],[146,4,146,7],[147,4,147,7],[148,4,148,7],[149,4,149,7],[150,4,150,7],[139,4,139,7],[140,4,140,7],[141,4,141,7],[142,4,142,7],[143,4,143,7],[144,4,144,7],[133,4,133,7],[134,4,134,7],[135,4,135,7],[136,4,136,7],[137,4,137,7],[138,4,138,7],[127,4,127,7],[128,4,128,7],[129,4,129,7],[130,4,130,7],[131,4,131,7],[132,4,132,7],[118,10,118,11],[119,10,119,11],[120,10,120,11],[121,10,121,11],[122,10,122,11],[126,4,126,7],[112,10,112,11],[113,10,113,11],[114,10,114,11],[115,10,115,11],[116,10,116,11],[117,10,117,11],[118,3,118,4],[119,3,119,4],[120,3,120,4],[121,3,121,4],[122,3,122,4],[116,3,116,4],[117,3,117,4],[106,10,106,11],[107,10,107,11],[108,10,108,11],[109,10,109,11],[110,10,110,11],[111,10,111,11],[100,10,100,11],[101,10,101,11],[102,10,102,11],[103,10,103,11],[104,10,104,11],[105,10,105,11],[94,10,94,11],[95,10,95,11],[96,10,96,11],[97,10,97,11],[98,10,98,11],[99,10,99,11],[88,10,88,11],[89,10,89,11],[90,10,90,11],[91,10,91,11],[92,10,92,11],[93,10,93,11],[82,10,82,11],[83,10,83,11],[84,10,84,11],[85,10,85,11],[86,10,86,11],[87,10,87,11],[76,10,76,11],[77,10,77,11],[78,10,78,11],[79,10,79,11],[80,10,80,11],[81,10,81,11],[70,10,70,11],[71,10,71,11],[72,10,72,11],[73,10,73,11],[74,10,74,11],[75,10,75,11],[64,10,64,11],[65,10,65,11],[66,10,66,11],[67,10,67,11],[68,10,68,11],[69,10,69,11],[58,10,58,11],[59,10,59,11],[60,10,60,11],[61,10,61,11],[62,10,62,11],[63,10,63,11],[50,10,50,11],[51,10,51,11],[52,10,52,11],[55,10,55,11],[56,10,56,11],[57,10,57,11],[44,10,44,11],[45,10,45,11],[46,10,46,11],[47,10,47,11],[48,10,48,11],[49,10,49,11],[38,10,38,11],[39,10,39,11],[40,10,40,11],[41,10,41,11],[42,10,42,11],[43,10,43,11],[32,10,32,11],[33,10,33,11],[34,10,34,11],[35,10,35,11],[36,10,36,11],[37,10,37,11],[26,10,26,11],[27,10,27,11],[28,10,28,11],[29,10,29,11],[30,10,30,11],[31,10,31,11],[20,10,20,11],[21,10,21,11],[22,10,22,11],[23,10,23,11],[24,10,24,11],[25,10,25,11],[14,10,14,11],[15,10,15,11],[16,10,16,11],[17,10,17,11],[18,10,18,11],[19,10,19,11],[8,10,8,11],[9,10,9,11],[10,10,10,11],[11,10,11,11],[12,10,12,11],[13,10,13,11],[121,7,121,8],[122,7,122,8],[0,10,0,11],[1,10,1,11],[2,10,2,11],[3,10,3,11],[4,10,4,11],[5,10,5,11],[6,10,6,11],[7,10,7,11],[115,7,115,8],[116,7,116,8],[117,7,117,8],[118,7,118,8],[119,7,119,8],[120,7,120,8],[109,7,109,8],[110,7,110,8],[111,7,111,8],[112,7,112,8],[113,7,113,8],[114,7,114,8],[103,7,103,8],[104,7,104,8],[105,7,105,8],[106,7,106,8],[107,7,107,8],[108,7,108,8],[97,7,97,8],[98,7,98,8],[99,7,99,8],[100,7,100,8],[101,7,101,8],[102,7,102,8],[91,7,91,8],[92,7,92,8],[93,7,93,8],[94,7,94,8],[95,7,95,8],[96,7,96,8],[85,7,85,8],[86,7,86,8],[87,7,87,8],[88,7,88,8],[89,7,89,8],[90,7,90,8],[79,7,79,8],[80,7,80,8],[81,7,81,8],[82,7,82,8],[83,7,83,8],[84,7,84,8],[73,7,73,8],[74,7,74,8],[75,7,75,8],[76,7,76,8],[77,7,77,8],[78,7,78,8],[67,7,67,8],[68,7,68,8],[69,7,69,8],[70,7,70,8],[71,7,71,8],[72,7,72,8],[61,7,61,8],[62,7,62,8],[63,7,63,8],[64,7,64,8],[65,7,65,8],[66,7,66,8],[55,7,55,8],[56,7,56,8],[57,7,57,8],[58,7,58,8],[59,7,59,8],[60,7,60,8],[47,7,47,8],[48,7,48,8],[49,7,49,8],[50,7,50,8],[51,7,51,8],[52,7,52,8],[41,7,41,8],[42,7,42,8],[43,7,43,8],[44,7,44,8],[45,7,45,8],[46,7,46,8],[35,7,35,8],[36,7,36,8],[37,7,37,8],[38,7,38,8],[39,7,39,8],[40,7,40,8],[29,7,29,8],[30,7,30,8],[31,7,31,8],[32,7,32,8],[33,7,33,8],[34,7,34,8],[23,7,23,8],[24,7,24,8],[25,7,25,8],[26,7,26,8],[27,7,27,8],[28,7,28,8],[17,7,17,8],[18,7,18,8],[19,7,19,8],[20,7,20,8],[21,7,21,8],[22,7,22,8],[11,7,11,8],[12,7,12,8],[13,7,13,8],[14,7,14,8],[15,7,15,8],[16,7,16,8],[5,7,5,8],[6,7,6,8],[7,7,7,8],[8,7,8,8],[9,7,9,8],[10,7,10,8],[0,7,0,8],[1,7,1,8],[2,7,2,8],[3,7,3,8],[4,7,4,8],[112,3,112,4],[113,3,113,4],[114,3,114,4],[115,3,115,4],[106,3,106,4],[107,3,107,4],[108,3,108,4],[109,3,109,4],[110,3,110,4],[111,3,111,4],[100,3,100,4],[101,3,101,4],[102,3,102,4],[103,3,103,4],[104,3,104,4],[105,3,105,4],[94,3,94,4],[95,3,95,4],[96,3,96,4],[97,3,97,4],[98,3,98,4],[99,3,99,4],[88,3,88,4],[89,3,89,4],[90,3,90,4],[91,3,91,4],[92,3,92,4],[93,3,93,4],[82,3,82,4],[83,3,83,4],[84,3,84,4],[85,3,85,4],[86,3,86,4],[87,3,87,4],[76,3,76,4],[77,3,77,4],[78,3,78,4],[79,3,79,4],[80,3,80,4],[81,3,81,4],[67,3,67,4],[68,3,68,4],[69,3,69,4],[70,3,70,4],[71,3,71,4],[60,3,60,4],[61,3,61,4],[62,3,62,4],[63,3,63,4],[64,3,64,4],[65,3,65,4],[24,3,24,4],[25,3,25,4],[26,3,26,4],[27,3,27,4],[28,3,28,4],[29,3,29,4],[50,3,50,4],[51,3,51,4],[52,3,52,4],[40,3,40,4],[41,3,41,4],[42,3,42,4],[43,3,43,4],[44,3,44,4],[45,3,45,4],[18,3,18,4],[19,3,19,4],[20,3,20,4],[21,3,21,4],[22,3,22,4],[23,3,23,4],[12,3,12,4],[13,3,13,4],[14,3,14,4],[15,3,15,4],[16,3,16,4],[17,3,17,4],[6,3,6,4],[7,3,7,4],[8,3,8,4],[9,3,9,4],[10,3,10,4],[11,3,11,4],[0,3,0,4],[1,3,1,4],[2,3,2,4],[3,3,3,4],[4,3,4,4],[5,3,5,4],[58,3,58,4],[59,3,59,4],[72,3,72,4],[73,3,73,4],[74,3,74,4],[75,3,75,4],[30,3,30,4],[31,3,31,4],[32,3,32,4],[33,3,33,4],[46,3,46,4],[47,3,47,4],[48,3,48,4],[49,3,49,4],[34,3,34,4],[35,3,35,4],[36,3,36,4],[37,3,37,4],[38,3,38,4],[39,3,39,4],[55,3,55,4],[56,3,56,4],[57,3,57,4],[66,3,66,4]]}
[null,null,"Athletics Meet:",{"$f":"Home!$B$9","v":"** Select your Athletics Meet here **"}]
[null,null,"School Name:",{"$f":"Home!$B$11","v":"** Select your School Name here **"}]
[]
["Event","Event Title","Order","Name",null,null,"Event","Event Title",null,"Order","Name",null,null,null,"Evt#","Event","#","First","Last","Formated"]
[]
[1,"Girls Under 10",1,{"$f":"IF(Track!$E3=\"\",\"\",INDEX(Lists!$E:$E, MATCH(Track!$E3, Lists!$E:$E, 0)))","v":""},null,null,2,"Boys Under 10",null,1,{"$f":"IF(Track!$J3=\"\",\"\",INDEX(Lists!$BC:$BC, MATCH(Track!$J3, Lists!$BC:$BC, 0)))","v":""},null,null,null,1,"Girls Under 10 60m Sprint",1,{"$f":"IF(Track!$E3=\"\",\"\",INDEX(Lists!$C:$C, MATCH(Track!$E3, Lists!$E:$E, 0)))","v":""},{"$f":"IF(Track!$E3=\"\",\"\",INDEX(Lists!$D:$D, MATCH(Track!$E3, Lists!$E:$E, 0)))","v":""},{"$f":"IF(Track!$E3=\"\",\"\",INDEX(Lists!$E:$E, MATCH(Track!$E3, Lists!$E:$E, 0)))","v":""},null,2,"Boys Under 10 60m Sprint",1,{"$f":"IF(Track!$J3=\"\",\"\",INDEX(Lists!$BA:$BA, MATCH(Track!$J3, Lists!$BC:$BC, 0)))","v":""},{"$f":"IF(Track!$J3=\"\",\"\",INDEX(Lists!$BB:$BB, MATCH(Track!$J3, Lists!$BC:$BC, 0)))","v":""},{"$f":"IF(Track!$J3=\"\",\"\",INDEX(Lists!$BC:$BC, MATCH(Track!$J3, Lists!$BC:$BC, 0)))","v":""}]
[null,"60m Sprint",2,{"$f":"IF(Track!$E4=\"\",\"\",INDEX(Lists!$E:$E, MATCH(Track!$E4, Lists!$E:$E, 0)))","v":""},null,null,null,"60m Sprint",null,2,{"$f":"IF(Track!$J4=\"\",\"\",INDEX(Lists!$BC:$BC, MATCH(Track!$J4, Lists!$BC:$BC, 0)))","v":""},null,null,null,1,"Girls Under 10 60m Sprint",2,{"$f":"IF(Track!$E4=\"\",\"\",INDEX(Lists!$C:$C, MATCH(Track!$E4, Lists!$E:$E, 0)))","v":""},{"$f":"IF(Track!$E4=\"\",\"\",INDEX(Lists!$D:$D, MATCH(Track!$E4, Lists!$E:$E, 0)))","v":""},{"$f":"IF(Track!$E4=\"\",\"\",INDEX(Lists!$E:$E, MATCH(Track!$E4, Lists!$E:$E, 0)))","v":""},null,2,"Boys Under 10 60m Sprint",2,{"$f":"IF(Track!$J4=\"\",\"\",INDEX(Lists!$BA:$BA, MATCH(Track!$J4, Lists!$BC:$BC, 0)))","v":""},{"$f":"IF(Track!$J4=\"\",\"\",INDEX(Lists!$BB:$BB, MATCH(Track!$J4, Lists!$BC:$BC, 0)))","v":""},{"$f":"IF(Track!$J4=\"\",\"\",INDEX(Lists!$BC:$BC, MATCH(Track!$J4, Lists!$BC:$BC, 0)))","v":""}]
[null,null,3,{"$f":"IF(Track!$E5=\"\",\"\",INDEX(Lists!$E:$E, MATCH(Track!$E5, Lists!$E:$E, 0)))","v":""},null,null,null,null,null,3,{"$f":"IF(Track!$J5=\"\",\"\",INDEX(Lists!$BC:$BC, MATCH(Track!$J5, Lists!$BC:$BC, 0)))","v":""},null,null,null,1,"Girls Under 10 60m Sprint",3,{"$f":"IF(Track!$E5=\"\",\"\",INDEX(Lists!$C:$C, MATCH(Track!$E5, Lists!$E:$E, 0)))","v":""},{"$f":"IF(Track!$E5=\"\",\"\",INDEX(Lists!$D:$D, MATCH(Track!$E5, Lists!$E:$E, 0)))","v":""},{"$f":"IF(Track!$E5=\"\",\"\",INDEX(Lists!$E:$E, MATCH(Track!$E5, Lists!$E:$E, 0)))","v":""},null,2,"Boys Under 10 60m Sprint",3,{"$f":"IF(Track!$J5=\"\",\"\",INDEX(Lists!$BA:$BA, MATCH(Track!$J5, Lists!$BC:$BC, 0)))","v":""},{"$f":"IF(Track!$J5=\"\",\"\",INDEX(Lists!$BB:$BB, MATCH(Track!$J5, Lists!$BC:$BC, 0)))","v":""},{"$f":"IF(Track!$J5=\"\",\"\",INDEX(Lists!$BC:$BC, MATCH(Track!$J5, Lists!$BC:$BC, 0)))","v":""}]
[null,null,4,{"$f":"IF(Track!$E6=\"\",\"\",INDEX(Lists!$E:$E, MATCH(Track!$E6, Lists!$E:$E, 0)))","v":""},null,null,null,null,null,4,{"$f":"IF(Track!$J6=\"\",\"\",INDEX(Lists!$BC:$BC, MATCH(Track!$J6, Lists!$BC:$BC, 0)))","v":""},null,null,null,1,"Girls Under 10 60m Sprint",4,{"$f":"IF(Track!$E6=\"\",\"\",INDEX(Lists!$C:$C, MATCH(Track!$E6, Lists!$E:$E, 0)))","v":""},{"$f":"IF(Track!$E6=\"\",\"\",INDEX(Lists!$D:$D, MATCH(Track!$E6, Lists!$E:$E, 0)))","v":""},{"$f":"IF(Track!$E6=\"\",\"\",INDEX(Lists!$E:$E, MATCH(Track!$E6, Lists!$E:$E, 0)))","v":""},null,2,"Boys Under 10 60m Sprint",4,{"$f":"IF(Track!$J6=\"\",\"\",INDEX(Lists!$BA:$BA, MATCH(Track!$J6, Lists!$BC:$BC, 0)))","v":""},{"$f":"IF(Track!$J6=\"\",\"\",INDEX(Lists!$BB:$BB, MATCH(Track!$J6, Lists!$BC:$BC, 0)))","v":""},{"$f":"IF(Track!$J6=\"\",\"\",INDEX(Lists!$BC:$BC, MATCH(Track!$J6, Lists!$BC:$BC, 0)))","v":""}]
[]
[9,"Girls Under 11",1,{"$f":"IF(Track!$E8=\"\",\"\",INDEX(Lists!$O:$O, MATCH(Track!$E8, Lists!$O:$O, 0)))","v":""},null,null,10,"Boys Under 11",null,1,{"$f":"IF(Track!$J8=\"\",\"\",INDEX(Lists!$BM:$BM, MATCH(Track!$J8, Lists!$BM:$BM, 0)))","v":""},null,null,null,9,"Girls Under 11 80m Sprint",1,{"$f":"IF(Track!$E8=\"\",\"\",INDEX(Lists!$M:$M, MATCH(Track!$E8, Lists!$O:$O, 0)))","v":""},{"$f":"IF(Track!$E8=\"\",\"\",INDEX(Lists!$N:$N, MATCH(Track!$E8, Lists!$O:$O, 0)))","v":""},{"$f":"IF(Track!$E8=\"\",\"\",INDEX(Lists!$O:$O, MATCH(Track!$E8, Lists!$O:$O, 0)))","v":""},null,10,"Boys Under 11 80m Sprint",1,{"$f":"IF(Track!$J8=\"\",\"\",INDEX(Lists!$BK:$BK, MATCH(Track!$J8, Lists!$BM:$BM, 0)))","v":""},{"$f":"IF(Track!$J8=\"\",\"\",INDEX(Lists!$BL:$BL, MATCH(Track!$J8, Lists!$BM:$BM, 0)))","v":""},{"$f":"IF(Track!$J8=\"\",\"\",INDEX(Lists!$BM:$BM, MATCH(Track!$J8, Lists!$BM:$BM, 0)))","v":""}]
[null,"80m Sprint",2,{"$f":"IF(Track!$E9=\"\",\"\",INDEX(Lists!$O:$O, MATCH(Track!$E9, Lists!$O:$O, 0)))","v":""},null,null,null,"80m Sprint",null,2,{"$f":"IF(Track!$J9=\"\",\"\",INDEX(Lists!$BM:$BM, MATCH(Track!$J9, Lists!$BM:$BM, 0)))","v":""},null,null,null,9,"Girls Under 11 80m Sprint",2,{"$f":"IF(Track!$E9=\"\",\"\",INDEX(Lists!$M:$M, MATCH(Track!$E9, Lists!$O:$O, 0)))","v":""},{"$f":"IF(Track!$E9=\"\",\"\",INDEX(Lists!$N:$N, MATCH(Track!$E9, Lists!$O:$O, 0)))","v":""},{"$f":"IF(Track!$E9=\"\",\"\",INDEX(Lists!$O:$O, MATCH(Track!$E9, Lists!$O:$O, 0)))","v":""},null,10,"Boys Under 11 80m Sprint",2,{"$f":"IF(Track!$J9=\"\",\"\",INDEX(Lists!$BK:$BK, MATCH(Track!$J9, Lists!$BM:$BM, 0)))","v":""},{"$f":"IF(Track!$J9=\"\",\"\",INDEX(Lists!$BL:$BL, MATCH(Track!$J9, Lists!$BM:$BM, 0)))","v":""},{"$f":"IF(Track!$J9=\"\",\"\",INDEX(Lists!$BM:$BM, MATCH(Track!$J9, Lists!$BM:$BM, 0)))","v":""}]
[null,null,3,{"$f":"IF(Track!$E10=\"\",\"\",INDEX(Lists!$O:$O, MATCH(Track!$E10, Lists!$O:$O, 0)))","v":""},null,null,null,null,null,3,{"$f":"IF(Track!$J10=\"\",\"\",INDEX(Lists!$BM:$BM, MATCH(Track!$J10, Lists!$BM:$BM, 0)))","v":""},null,null,null,9,"Girls Under 11 80m Sprint",3,{"$f":"IF(Track!$E10=\"\",\"\",INDEX(Lists!$M:$M, MATCH(Track!$E10, Lists!$O:$O, 0)))","v":""},{"$f":"IF(Track!$E10=\"\",\"\",INDEX(Lists!$N:$N, MATCH(Track!$E10, Lists!$O:$O, 0)))","v":""},{"$f":"IF(Track!$E10=\"\",\"\",INDEX(Lists!$O:$O, MATCH(Track!$E10, Lists!$O:$O, 0)))","v":""},null,10,"Boys Under 11 80m Sprint",3,{"$f":"IF(Track!$J10=\"\",\"\",INDEX(Lists!$BK:$BK, MATCH(Track!$J10, Lists!$BM:$BM, 0)))","v":""},{"$f":"IF(Track!$J10=\"\",\"\",INDEX(Lists!$BL:$BL, MATCH(Track!$J10, Lists!$BM:$BM, 0)))","v":""},{"$f":"IF(Track!$J10=\"\",\"\",INDEX(Lists!$BM:$BM, MATCH(Track!$J10, Lists!$BM:$BM, 0)))","v":""}]
[null,null,4,{"$f":"IF(Track!$E11=\"\",\"\",INDEX(Lists!$O:$O, MATCH(Track!$E11, Lists!$O:$O, 0)))","v":""},null,null,null,null,null,4,{"$f":"IF(Track!$J11=\"\",\"\",INDEX(Lists!$BM:$BM, MATCH(Track!$J11, Lists!$BM:$BM, 0)))","v":""},null,null,null,9,"Girls Under 11 80m Sprint",4,{"$f":"IF(Track!$E11=\"\",\"\",INDEX(Lists!$M:$M, MATCH(Track!$E11, Lists!$O:$O, 0)))","v":""},{"$f":"IF(Track!$E11=\"\",\"\",INDEX(Lists!$N:$N, MATCH(Track!$E11, Lists!$O:$O, 0)))","v":""},{"$f":"IF(Track!$E11=\"\",\"\",INDEX(Lists!$O:$O, MATCH(Track!$E11, Lists!$O:$O, 0)))","v":""},null,10,"Boys Under 11 80m Sprint",4,{"$f":"IF(Track!$J11=\"\",\"\",INDEX(Lists!$BK:$BK, MATCH(Track!$J11, Lists!$BM:$BM, 0)))","v":""},{"$f":"IF(Track!$J11=\"\",\"\",INDEX(Lists!$BL:$BL, MATCH(Track!$J11, Lists!$BM:$BM, 0)))","v":""},{"$f":"IF(Track!$J11=\"\",\"\",INDEX(Lists!$BM:$BM, MATCH(Track!$J11, Lists!$BM:$BM, 0)))","v":""}]
[]
[11,"Girls Under 12",1,{"$f":"IF(Track!$E13=\"\",\"\",INDEX(Lists!$Y:$Y, MATCH(Track!$E13, Lists!$Y:$Y, 0)))","v":""},null,null,12,"Boys Under 12",null,1,{"$f":"IF(Track!$J13=\"\",\"\",INDEX(Lists!$BW:$BW, MATCH(Track!$J13, Lists!$BW:$BW, 0)))","v":""},null,null,null,11,"Girls Under 12 80m Sprint",1,{"$f":"IF(Track!$E13=\"\",\"\",INDEX(Lists!$W:$W, MATCH(Track!$E13, Lists!$Y:$Y, 0)))","v":""},{"$f":"IF(Track!$E13=\"\",\"\",INDEX(Lists!$X:$X, MATCH(Track!$E13, Lists!$Y:$Y, 0)))","v":""},{"$f":"IF(Track!$E13=\"\",\"\",INDEX(Lists!$Y:$Y, MATCH(Track!$E13, Lists!$Y:$Y, 0)))","v":""},null,12,"Boys Under 12 80m Sprint",1,{"$f":"IF(Track!$J13=\"\",\"\",INDEX(Lists!$BU:$BU, MATCH(Track!$J13, Lists!$BW:$BW, 0)))","v":""},{"$f":"IF(Track!$J13=\"\",\"\",INDEX(Lists!$BV:$BV, MATCH(Track!$J13, Lists!$BW:$BW, 0)))","v":""},{"$f":"IF(Track!$J13=\"\",\"\",INDEX(Lists!$BW:$BW, MATCH(Track!$J13, Lists!$BW:$BW, 0)))","v":""}]
[null,"80m Sprint",2,{"$f":"IF(Track!$E14=\"\",\"\",INDEX(Lists!$Y:$Y, MATCH(Track!$E14, Lists!$Y:$Y, 0)))","v":""},null,null,null,"80m Sprint",null,2,{"$f":"IF(Track!$J14=\"\",\"\",INDEX(Lists!$BW:$BW, MATCH(Track!$J14, Lists!$BW:$BW, 0)))","v":""},null,null,null,11,"Girls Under 12 80m Sprint",2,{"$f":"IF(Track!$E14=\"\",\"\",INDEX(Lists!$W:$W, MATCH(Track!$E14, Lists!$Y:$Y, 0)))","v":""},{"$f":"IF(Track!$E14=\"\",\"\",INDEX(Lists!$X:$X, MATCH(Track!$E14, Lists!$Y:$Y, 0)))","v":""},{"$f":"IF(Track!$E14=\"\",\"\",INDEX(Lists!$Y:$Y, MATCH(Track!$E14, Lists!$Y:$Y, 0)))","v":""},null,12,"Boys Under 12 80m Sprint",2,{"$f":"IF(Track!$J14=\"\",\"\",INDEX(Lists!$BU:$BU, MATCH(Track!$J14, Lists!$BW:$BW, 0)))","v":""},{"$f":"IF(Track!$J14=\"\",\"\",INDEX(Lists!$BV:$BV, MATCH(Track!$J14, Lists!$BW:$BW, 0)))","v":""},{"$f":"IF(Track!$J14=\"\",\"\",INDEX(Lists!$BW:$BW, MATCH(Track!$J14, Lists!$BW:$BW, 0)))","v":""}]
[null,null,3,{"$f":"IF(Track!$E15=\"\",\"\",INDEX(Lists!$Y:$Y, MATCH(Track!$E15, Lists!$Y:$Y, 0)))","v":""},null,null,null,null,null,3,{"$f":"IF(Track!$J15=\"\",\"\",INDEX(Lists!$BW:$BW, MATCH(Track!$J15, Lists!$BW:$BW, 0)))","v":""},null,null,null,11,"Girls Under 12 80m Sprint",3,{"$f":"IF(Track!$E15=\"\",\"\",INDEX(Lists!$W:$W, MATCH(Track!$E15, Lists!$Y:$Y, 0)))","v":""},{"$f":"IF(Track!$E15=\"\",\"\",INDEX(Lists!$X:$X, MATCH(Track!$E15, Lists!$Y:$Y, 0)))","v":""},{"$f":"IF(Track!$E15=\"\",\"\",INDEX(Lists!$Y:$Y, MATCH(Track!$E15, Lists!$Y:$Y, 0)))","v":""},null,12,"Boys Under 12 80m Sprint",3,{"$f":"IF(Track!$J15=\"\",\"\",INDEX(Lists!$BU:$BU, MATCH(Track!$J15, Lists!$BW:$BW, 0)))","v":""},{"$f":"IF(Track!$J15=\"\",\"\",INDEX(Lists!$BV:$BV, MATCH(Track!$J15, Lists!$BW:$BW, 0)))","v":""},{"$f":"IF(Track!$J15=\"\",\"\",INDEX(Lists!$BW:$BW, MATCH(Track!$J15, Lists!$BW:$BW, 0)))","v":""}]
[null,null,4,{"$f":"IF(Track!$E16=\"\",\"\",INDEX(Lists!$Y:$Y, MATCH(Track!$E16, Lists!$Y:$Y, 0)))","v":""},null,null,null,null,null,4,{"$f":"IF(Track!$J16=\"\",\"\",INDEX(Lists!$BW:$BW, MATCH(Track!$J16, Lists!$BW:$BW, 0)))","v":""},null,null,null,11,"Girls Under 12 80m Sprint",4,{"$f":"IF(Track!$E16=\"\",\"\",INDEX(Lists!$W:$W, MATCH(Track!$E16, Lists!$Y:$Y, 0)))","v":""},{"$f":"IF(Track!$E16=\"\",\"\",INDEX(Lists!$X:$X, MATCH(Track!$E16, Lists!$Y:$Y, 0)))","v":""},{"$f":"IF(Track!$E16=\"\",\"\",INDEX(Lists!$Y:$Y, MATCH(Track!$E16, Lists!$Y:$Y, 0)))","v":""},null,12,"Boys Under 12 80m Sprint",4,{"$f":"IF(Track!$J16=\"\",\"\",INDEX(Lists!$BU:$BU, MATCH(Track!$J16, Lists!$BW:$BW, 0)))","v":""},{"$f":"IF(Track!$J16=\"\",\"\",INDEX(Lists!$BV:$BV, MATCH(Track!$J16, Lists!$BW:$BW, 0)))","v":""},{"$f":"IF(Track!$J16=\"\",\"\",INDEX(Lists!$BW:$BW, MATCH(Track!$J16, Lists!$BW:$BW, 0)))","v":""}]
[]
[15,"Girls Under 13",1,{"$f":"IF(Track!$E18=\"\",\"\",INDEX(Lists!$AI:$AI, MATCH(Track!$E18, Lists!$AI:$AI, 0)))","v":""},null,null,16,"Boys Under 13",null,1,{"$f":"IF(Track!$J18=\"\",\"\",INDEX(Lists!$CG:$CG, MATCH(Track!$J18, Lists!$CG:$CG, 0)))","v":""},null,null,null,15,"Girls Under 13 80m Sprint",1,{"$f":"IF(Track!$E18=\"\",\"\",INDEX(Lists!$AG:$AG, MATCH(Track!$E18, Lists!$AI:$AI, 0)))","v":""},{"$f":"IF(Track!$E18=\"\",\"\",INDEX(Lists!$AH:$AH, MATCH(Track!$E18, Lists!$AI:$AI, 0)))","v":""},{"$f":"IF(Track!$E18=\"\",\"\",INDEX(Lists!$AI:$AI, MATCH(Track!$E18, Lists!$AI:$AI, 0)))","v":""},null,16,"Boys Under 13 80m Sprint",1,{"$f":"IF(Track!$J18=\"\",\"\",INDEX(Lists!$CE:$CE, MATCH(Track!$J18, Lists!$CG:$CG, 0)))","v":""},{"$f":"IF(Track!$J18=\"\",\"\",INDEX(Lists!$CF:$CF, MATCH(Track!$J18, Lists!$CG:$CG, 0)))","v":""},{"$f":"IF(Track!$J18=\"\",\"\",INDEX(Lists!$CG:$CG, MATCH(Track!$J18, Lists!$CG:$CG, 0)))","v":""}]
[null,"80m Sprint",2,{"$f":"IF(Track!$E19=\"\",\"\",INDEX(Lists!$AI:$AI, MATCH(Track!$E19, Lists!$AI:$AI, 0)))","v":""},null,null,null,"80m Sprint",null,2,{"$f":"IF(Track!$J19=\"\",\"\",INDEX(Lists!$CG:$CG, MATCH(Track!$J19, Lists!$CG:$CG, 0)))","v":""},null,null,null,15,"Girls Under 13 80m Sprint",2,{"$f":"IF(Track!$E19=\"\",\"\",INDEX(Lists!$AG:$AG, MATCH(Track!$E19, Lists!$AI:$AI, 0)))","v":""},{"$f":"IF(Track!$E19=\"\",\"\",INDEX(Lists!$AH:$AH, MATCH(Track!$E19, Lists!$AI:$AI, 0)))","v":""},{"$f":"IF(Track!$E19=\"\",\"\",INDEX(Lists!$AI:$AI, MATCH(Track!$E19, Lists!$AI:$AI, 0)))","v":""},null,16,"Boys Under 13 80m Sprint",2,{"$f":"IF(Track!$J19=\"\",\"\",INDEX(Lists!$CE:$CE, MATCH(Track!$J19, Lists!$CG:$CG, 0)))","v":""},{"$f":"IF(Track!$J19=\"\",\"\",INDEX(Lists!$CF:$CF, MATCH(Track!$J19, Lists!$CG:$CG, 0)))","v":""},{"$f":"IF(Track!$J19=\"\",\"\",INDEX(Lists!$CG:$CG, MATCH(Track!$J19, Lists!$CG:$CG, 0)))","v":""}]
[null,null,3,{"$f":"IF(Track!$E20=\"\",\"\",INDEX(Lists!$AI:$AI, MATCH(Track!$E20, Lists!$AI:$AI, 0)))","v":""},null,null,null,null,null,3,{"$f":"IF(Track!$J20=\"\",\"\",INDEX(Lists!$CG:$CG, MATCH(Track!$J20, Lists!$CG:$CG, 0)))","v":""},null,null,null,15,"Girls Under 13 80m Sprint",3,{"$f":"IF(Track!$E20=\"\",\"\",INDEX(Lists!$AG:$AG, MATCH(Track!$E20, Lists!$AI:$AI, 0)))","v":""},{"$f":"IF(Track!$E20=\"\",\"\",INDEX(Lists!$AH:$AH, MATCH(Track!$E20, Lists!$AI:$AI, 0)))","v":""},{"$f":"IF(Track!$E20=\"\",\"\",INDEX(Lists!$AI:$AI, MATCH(Track!$E20, Lists!$AI:$AI, 0)))","v":""},null,16,"Boys Under 13 80m Sprint",3,{"$f":"IF(Track!$J20=\"\",\"\",INDEX(Lists!$CE:$CE, MATCH(Track!$J20, Lists!$CG:$CG, 0)))","v":""},{"$f":"IF(Track!$J20=\"\",\"\",INDEX(Lists!$CF:$CF, MATCH(Track!$J20, Lists!$CG:$CG, 0)))","v":""},{"$f":"IF(Track!$J20=\"\",\"\",INDEX(Lists!$CG:$CG, MATCH(Track!$J20, Lists!$CG:$CG, 0)))","v":""}]
[null,null,4,{"$f":"IF(Track!$E21=\"\",\"\",INDEX(Lists!$AI:$AI, MATCH(Track!$E21, Lists!$AI:$AI, 0)))","v":""},null,null,null,null,null,4,{"$f":"IF(Track!$J21=\"\",\"\",INDEX(Lists!$CG:$CG, MATCH(Track!$J21, Lists!$CG:$CG, 0)))","v":""},null,null,null,15,"Girls Under 13 80m Sprint",4,{"$f":"IF(Track!$E21=\"\",\"\",INDEX(Lists!$AG:$AG, MATCH(Track!$E21, Lists!$AI:$AI, 0)))","v":""},{"$f":"IF(Track!$E21=\"\",\"\",INDEX(Lists!$AH:$AH, MATCH(Track!$E21, Lists!$AI:$AI, 0)))","v":""},{"$f":"IF(Track!$E21=\"\",\"\",INDEX(Lists!$AI:$AI, MATCH(Track!$E21, Lists!$AI:$AI, 0)))","v":""},null,16,"Boys Under 13 80m Sprint",4,{"$f":"IF(Track!$J21=\"\",\"\",INDEX(Lists!$CE:$CE, MATCH(Track!$J21, Lists!$CG:$CG, 0)))","v":""},{"$f":"IF(Track!$J21=\"\",\"\",INDEX(Lists!$CF:$CF, MATCH(Track!$J21, Lists!$CG:$CG, 0)))","v":""},{"$f":"IF(Track!$J21=\"\",\"\",INDEX(Lists!$CG:$CG, MATCH(Track!$J21, Lists!$CG:$CG, 0)))","v":""}]
[]
[19,"Girls 13 & Over",1,{"$f":"IF(Track!$E23=\"\",\"\",INDEX(Lists!$AS:$AS, MATCH(Track!$E23, Lists!$AS:$AS, 0)))","v":""},null,null,20,"Boys 13 & Over",null,1,{"$f":"IF(Track!$J23=\"\",\"\",INDEX(Lists!$CQ:$CQ, MATCH(Track!$J23, Lists!$CQ:$CQ, 0)))","v":""},null,null,null,19,"Girls 13 & Over 100m Sprint",1,{"$f":"IF(Track!$E23=\"\",\"\",INDEX(Lists!$AQ:$AQ, MATCH(Track!$E23, Lists!$AS:$AS, 0)))","v":""},{"$f":"IF(Track!$E23=\"\",\"\",INDEX(Lists!$AR:$AR, MATCH(Track!$E23, Lists!$AS:$AS, 0)))","v":""},{"$f":"IF(Track!$E23=\"\",\"\",INDEX(Lists!$AS:$AS, MATCH(Track!$E23, Lists!$AS:$AS, 0)))","v":""},null,20,"Boys 13 & Over 100m Sprint",1,{"$f":"IF(Track!$J23=\"\",\"\",INDEX(Lists!$CO:$CO, MATCH(Track!$J23, Lists!$CQ:$CQ, 0)))","v":""},{"$f":"IF(Track!$J23=\"\",\"\",INDEX(Lists!$CP:$CP, MATCH(Track!$J23, Lists!$CQ:$CQ, 0)))","v":""},{"$f":"IF(Track!$J23=\"\",\"\",INDEX(Lists!$CQ:$CQ, MATCH(Track!$J23, Lists!$CQ:$CQ, 0)))","v":""}]
[null,"100m Sprint",2,{"$f":"IF(Track!$E24=\"\",\"\",INDEX(Lists!$AS:$AS, MATCH(Track!$E24, Lists!$AS:$AS, 0)))","v":""},null,null,null,"100m Sprint",null,2,{"$f":"IF(Track!$J24=\"\",\"\",INDEX(Lists!$CQ:$CQ, MATCH(Track!$J24, Lists!$CQ:$CQ, 0)))","v":""},null,null,null,19,"Girls 13 & Over 100m Sprint",2,{"$f":"IF(Track!$E24=\"\",\"\",INDEX(Lists!$AQ:$AQ, MATCH(Track!$E24, Lists!$AS:$AS, 0)))","v":""},{"$f":"IF(Track!$E24=\"\",\"\",INDEX(Lists!$AR:$AR, MATCH(Track!$E24, Lists!$AS:$AS, 0)))","v":""},{"$f":"IF(Track!$E24=\"\",\"\",INDEX(Lists!$AS:$AS, MATCH(Track!$E24, Lists!$AS:$AS, 0)))","v":""},null,20,"Boys 13 & Over 100m Sprint",2,{"$f":"IF(Track!$J24=\"\",\"\",INDEX(Lists!$CO:$CO, MATCH(Track!$J24, Lists!$CQ:$CQ, 0)))","v":""},{"$f":"IF(Track!$J24=\"\",\"\",INDEX(Lists!$CP:$CP, MATCH(Track!$J24, Lists!$CQ:$CQ, 0)))","v":""},{"$f":"IF(Track!$J24=\"\",\"\",INDEX(Lists!$CQ:$CQ, MATCH(Track!$J24, Lists!$CQ:$CQ, 0)))","v":""}]
[null,null,3,{"$f":"IF(Track!$E25=\"\",\"\",INDEX(Lists!$AS:$AS, MATCH(Track!$E25, Lists!$AS:$AS, 0)))","v":""},null,null,null,null,null,3,{"$f":"IF(Track!$J25=\"\",\"\",INDEX(Lists!$CQ:$CQ, MATCH(Track!$J25, Lists!$CQ:$CQ, 0)))","v":""},null,null,null,19,"Girls 13 & Over 100m Sprint",3,{"$f":"IF(Track!$E25=\"\",\"\",INDEX(Lists!$AQ:$AQ, MATCH(Track!$E25, Lists!$AS:$AS, 0)))","v":""},{"$f":"IF(Track!$E25=\"\",\"\",INDEX(Lists!$AR:$AR, MATCH(Track!$E25, Lists!$AS:$AS, 0)))","v":""},{"$f":"IF(Track!$E25=\"\",\"\",INDEX(Lists!$AS:$AS, MATCH(Track!$E25, Lists!$AS:$AS, 0)))","v":""},null,20,"Boys 13 & Over 100m Sprint",3,{"$f":"IF(Track!$J25=\"\",\"\",INDEX(Lists!$CO:$CO, MATCH(Track!$J25, Lists!$CQ:$CQ, 0)))","v":""},{"$f":"IF(Track!$J25=\"\",\"\",INDEX(Lists!$CP:$CP, MATCH(Track!$J25, Lists!$CQ:$CQ, 0)))","v":""},{"$f":"IF(Track!$J25=\"\",\"\",INDEX(Lists!$CQ:$CQ, MATCH(Track!$J25, Lists!$CQ:$CQ, 0)))","v":""}]
[null,null,4,{"$f":"IF(Track!$E26=\"\",\"\",INDEX(Lists!$AS:$AS, MATCH(Track!$E26, Lists!$AS:$AS, 0)))","v":""},null,null,null,null,null,4,{"$f":"IF(Track!$J26=\"\",\"\",INDEX(Lists!$CQ:$CQ, MATCH(Track!$J26, Lists!$CQ:$CQ, 0)))","v":""},null,null,null,19,"Girls 13 & Over 100m Sprint",4,{"$f":"IF(Track!$E26=\"\",\"\",INDEX(Lists!$AQ:$AQ, MATCH(Track!$E26, Lists!$AS:$AS, 0)))","v":""},{"$f":"IF(Track!$E26=\"\",\"\",INDEX(Lists!$AR:$AR, MATCH(Track!$E26, Lists!$AS:$AS, 0)))","v":""},{"$f":"IF(Track!$E26=\"\",\"\",INDEX(Lists!$AS:$AS, MATCH(Track!$E26, Lists!$AS:$AS, 0)))","v":""},null,20,"Boys 13 & Over 100m Sprint",4,{"$f":"IF(Track!$J26=\"\",\"\",INDEX(Lists!$CO:$CO, MATCH(Track!$J26, Lists!$CQ:$CQ, 0)))","v":""},{"$f":"IF(Track!$J26=\"\",\"\",INDEX(Lists!$CP:$CP, MATCH(Track!$J26, Lists!$CQ:$CQ, 0)))","v":""},{"$f":"IF(Track!$J26=\"\",\"\",INDEX(Lists!$CQ:$CQ, MATCH(Track!$J26, Lists!$CQ:$CQ, 0)))","v":""}]
[]
[27,"Girls Under 11",1,{"$f":"IF(Track!$E28=\"\",\"\",INDEX(Lists!$O:$O, MATCH(Track!$E28, Lists!$O:$O, 0)))","v":""},null,null,28,"Boys Under 11",null,1,{"$f":"IF(Track!$J28=\"\",\"\",INDEX(Lists!$BM:$BM, MATCH(Track!$J28, Lists!$BM:$BM, 0)))","v":""},null,null,null,27,"Girls Under 11 70m Hurdles",1,{"$f":"IF(Track!$E28=\"\",\"\",INDEX(Lists!$M:$M, MATCH(Track!$E28, Lists!$O:$O, 0)))","v":""},{"$f":"IF(Track!$E28=\"\",\"\",INDEX(Lists!$N:$N, MATCH(Track!$E28, Lists!$O:$O, 0)))","v":""},{"$f":"IF(Track!$E28=\"\",\"\",INDEX(Lists!$O:$O, MATCH(Track!$E28, Lists!$O:$O, 0)))","v":""},null,28,"Boys Under 11 70m Hurdles",1,{"$f":"IF(Track!$J28=\"\",\"\",INDEX(Lists!$BK:$BK, MATCH(Track!$J28, Lists!$BM:$BM, 0)))","v":""},{"$f":"IF(Track!$J28=\"\",\"\",INDEX(Lists!$BL:$BL, MATCH(Track!$J28, Lists!$BM:$BM, 0)))","v":""},{"$f":"IF(Track!$J28=\"\",\"\",INDEX(Lists!$BM:$BM, MATCH(Track!$J28, Lists!$BM:$BM, 0)))","v":""}]
[null,"70m Hurdles",2,{"$f":"IF(Track!$E29=\"\",\"\",INDEX(Lists!$O:$O, MATCH(Track!$E29, Lists!$O:$O, 0)))","v":""},null,null,null,"70m Hurdles",null,2,{"$f":"IF(Track!$J29=\"\",\"\",INDEX(Lists!$BM:$BM, MATCH(Track!$J29, Lists!$BM:$BM, 0)))","v":""},null,null,null,27,"Girls Under 11 70m Hurdles",2,{"$f":"IF(Track!$E29=\"\",\"\",INDEX(Lists!$M:$M, MATCH(Track!$E29, Lists!$O:$O, 0)))","v":""},{"$f":"IF(Track!$E29=\"\",\"\",INDEX(Lists!$N:$N, MATCH(Track!$E29, Lists!$O:$O, 0)))","v":""},{"$f":"IF(Track!$E29=\"\",\"\",INDEX(Lists!$O:$O, MATCH(Track!$E29, Lists!$O:$O, 0)))","v":""},null,28,"Boys Under 11 70m Hurdles",2,{"$f":"IF(Track!$J29=\"\",\"\",INDEX(Lists!$BK:$BK, MATCH(Track!$J29, Lists!$BM:$BM, 0)))","v":""},{"$f":"IF(Track!$J29=\"\",\"\",INDEX(Lists!$BL:$BL, MATCH(Track!$J29, Lists!$BM:$BM, 0)))","v":""},{"$f":"IF(Track!$J29=\"\",\"\",INDEX(Lists!$BM:$BM, MATCH(Track!$J29, Lists!$BM:$BM, 0)))","v":""}]
[null,null,3,{"$f":"IF(Track!$E30=\"\",\"\",INDEX(Lists!$O:$O, MATCH(Track!$E30, Lists!$O:$O, 0)))","v":""},null,null,null,null,null,3,{"$f":"IF(Track!$J30=\"\",\"\",INDEX(Lists!$BM:$BM, MATCH(Track!$J30, Lists!$BM:$BM, 0)))","v":""},null,null,null,27,"Girls Under 11 70m Hurdles",3,{"$f":"IF(Track!$E30=\"\",\"\",INDEX(Lists!$M:$M, MATCH(Track!$E30, Lists!$O:$O, 0)))","v":""},{"$f":"IF(Track!$E30=\"\",\"\",INDEX(Lists!$N:$N, MATCH(Track!$E30, Lists!$O:$O, 0)))","v":""},{"$f":"IF(Track!$E30=\"\",\"\",INDEX(Lists!$O:$O, MATCH(Track!$E30, Lists!$O:$O, 0)))","v":""},null,28,"Boys Under 11 70m Hurdles",3,{"$f":"IF(Track!$J30=\"\",\"\",INDEX(Lists!$BK:$BK, MATCH(Track!$J30, Lists!$BM:$BM, 0)))","v":""},{"$f":"IF(Track!$J30=\"\",\"\",INDEX(Lists!$BL:$BL, MATCH(Track!$J30, Lists!$BM:$BM, 0)))","v":""},{"$f":"IF(Track!$J30=\"\",\"\",INDEX(Lists!$BM:$BM, MATCH(Track!$J30, Lists!$BM:$BM, 0)))","v":""}]
[]
[29,"Girls Under 12",1,{"$f":"IF(Track!$E32=\"\",\"\",INDEX(Lists!$Y:$Y, MATCH(Track!$E32, Lists!$Y:$Y, 0)))","v":""},null,null,30,"Boys Under 12",null,1,{"$f":"IF(Track!$J32=\"\",\"\",INDEX(Lists!$BW:$BW, MATCH(Track!$J32, Lists!$BW:$BW, 0)))","v":""},null,null,null,29,"Girls Under 12 70m Hurdles",1,{"$f":"IF(Track!$E32=\"\",\"\",INDEX(Lists!$W:$W, MATCH(Track!$E32, Lists!$Y:$Y, 0)))","v":""},{"$f":"IF(Track!$E32=\"\",\"\",INDEX(Lists!$X:$X, MATCH(Track!$E32, Lists!$Y:$Y, 0)))","v":""},{"$f":"IF(Track!$E32=\"\",\"\",INDEX(Lists!$Y:$Y, MATCH(Track!$E32, Lists!$Y:$Y, 0)))","v":""},null,30,"Boys Under 12 70m Hurdles",1,{"$f":"IF(Track!$J32=\"\",\"\",INDEX(Lists!$BU:$BU, MATCH(Track!$J32, Lists!$BW:$BW, 0)))","v":""},{"$f":"IF(Track!$J32=\"\",\"\",INDEX(Lists!$BV:$BV, MATCH(Track!$J32, Lists!$BW:$BW, 0)))","v":""},{"$f":"IF(Track!$J32=\"\",\"\",INDEX(Lists!$BW:$BW, MATCH(Track!$J32, Lists!$BW:$BW, 0)))","v":""}]
[null,"70m Hurdles",2,{"$f":"IF(Track!$E33=\"\",\"\",INDEX(Lists!$Y:$Y, MATCH(Track!$E33, Lists!$Y:$Y, 0)))","v":""},null,null,null,"70m Hurdles",null,2,{"$f":"IF(Track!$J33=\"\",\"\",INDEX(Lists!$BW:$BW, MATCH(Track!$J33, Lists!$BW:$BW, 0)))","v":""},null,null,null,29,"Girls Under 12 70m Hurdles",2,{"$f":"IF(Track!$E33=\"\",\"\",INDEX(Lists!$W:$W, MATCH(Track!$E33, Lists!$Y:$Y, 0)))","v":""},{"$f":"IF(Track!$E33=\"\",\"\",INDEX(Lists!$X:$X, MATCH(Track!$E33, Lists!$Y:$Y, 0)))","v":""},{"$f":"IF(Track!$E33=\"\",\"\",INDEX(Lists!$Y:$Y, MATCH(Track!$E33, Lists!$Y:$Y, 0)))","v":""},null,30,"Boys Under 12 70m Hurdles",2,{"$f":"IF(Track!$J33=\"\",\"\",INDEX(Lists!$BU:$BU, MATCH(Track!$J33, Lists!$BW:$BW, 0)))","v":""},{"$f":"IF(Track!$J33=\"\",\"\",INDEX(Lists!$BV:$BV, MATCH(Track!$J33, Lists!$BW:$BW, 0)))","v":""},{"$f":"IF(Track!$J33=\"\",\"\",INDEX(Lists!$BW:$BW, MATCH(Track!$J33, Lists!$BW:$BW, 0)))","v":""}]
[null,null,3,{"$f":"IF(Track!$E34=\"\",\"\",INDEX(Lists!$Y:$Y, MATCH(Track!$E34, Lists!$Y:$Y, 0)))","v":""},null,null,null,null,null,3,{"$f":"IF(Track!$J34=\"\",\"\",INDEX(Lists!$BW:$BW, MATCH(Track!$J34, Lists!$BW:$BW, 0)))","v":""},null,null,null,29,"Girls Under 12 70m Hurdles",3,{"$f":"IF(Track!$E34=\"\",\"\",INDEX(Lists!$W:$W, MATCH(Track!$E34, Lists!$Y:$Y, 0)))","v":""},{"$f":"IF(Track!$E34=\"\",\"\",INDEX(Lists!$X:$X, MATCH(Track!$E34, Lists!$Y:$Y, 0)))","v":""},{"$f":"IF(Track!$E34=\"\",\"\",INDEX(Lists!$Y:$Y, MATCH(Track!$E34, Lists!$Y:$Y, 0)))","v":""},null,30,"Boys Under 12 70m Hurdles",3,{"$f":"IF(Track!$J34=\"\",\"\",INDEX(Lists!$BU:$BU, MATCH(Track!$J34, Lists!$BW:$BW, 0)))","v":""},{"$f":"IF(Track!$J34=\"\",\"\",INDEX(Lists!$BV:$BV, MATCH(Track!$J34, Lists!$BW:$BW, 0)))","v":""},{"$f":"IF(Track!$J34=\"\",\"\",INDEX(Lists!$BW:$BW, MATCH(Track!$J34, Lists!$BW:$BW, 0)))","v":""}]
[]
[35,"Girls Under 13",1,{"$f":"IF(Track!$E36=\"\",\"\",INDEX(Lists!$AI:$AI, MATCH(Track!$E36, Lists!$AI:$AI, 0)))","v":""},null,null,36,"Boys Under 13",null,1,{"$f":"IF(Track!$J36=\"\",\"\",INDEX(Lists!$CG:$CG, MATCH(Track!$J36, Lists!$CG:$CG, 0)))","v":""},null,null,null,35,"Girls Under 13 70m Hurdles",1,{"$f":"IF(Track!$E36=\"\",\"\",INDEX(Lists!$AG:$AG, MATCH(Track!$E36, Lists!$AI:$AI, 0)))","v":""},{"$f":"IF(Track!$E36=\"\",\"\",INDEX(Lists!$AH:$AH, MATCH(Track!$E36, Lists!$AI:$AI, 0)))","v":""},{"$f":"IF(Track!$E36=\"\",\"\",INDEX(Lists!$AI:$AI, MATCH(Track!$E36, Lists!$AI:$AI, 0)))","v":""},null,36,"Boys Under 13 70m Hurdles",1,{"$f":"IF(Track!$J36=\"\",\"\",INDEX(Lists!$CE:$CE, MATCH(Track!$J36, Lists!$CG:$CG, 0)))","v":""},{"$f":"IF(Track!$J36=\"\",\"\",INDEX(Lists!$CF:$CF, MATCH(Track!$J36, Lists!$CG:$CG, 0)))","v":""},{"$f":"IF(Track!$J36=\"\",\"\",INDEX(Lists!$CG:$CG, MATCH(Track!$J36, Lists!$CG:$CG, 0)))","v":""}]
[null,"70m Hurdles",2,{"$f":"IF(Track!$E37=\"\",\"\",INDEX(Lists!$AI:$AI, MATCH(Track!$E37, Lists!$AI:$AI, 0)))","v":""},null,null,null,"70m Hurdles",null,2,{"$f":"IF(Track!$J37=\"\",\"\",INDEX(Lists!$CG:$CG, MATCH(Track!$J37, Lists!$CG:$CG, 0)))","v":""},null,null,null,35,"Girls Under 13 70m Hurdles",2,{"$f":"IF(Track!$E37=\"\",\"\",INDEX(Lists!$AG:$AG, MATCH(Track!$E37, Lists!$AI:$AI, 0)))","v":""},{"$f":"IF(Track!$E37=\"\",\"\",INDEX(Lists!$AH:$AH, MATCH(Track!$E37, Lists!$AI:$AI, 0)))","v":""},{"$f":"IF(Track!$E37=\"\",\"\",INDEX(Lists!$AI:$AI, MATCH(Track!$E37, Lists!$AI:$AI, 0)))","v":""},null,36,"Boys Under 13 70m Hurdles",2,{"$f":"IF(Track!$J37=\"\",\"\",INDEX(Lists!$CE:$CE, MATCH(Track!$J37, Lists!$CG:$CG, 0)))","v":""},{"$f":"IF(Track!$J37=\"\",\"\",INDEX(Lists!$CF:$CF, MATCH(Track!$J37, Lists!$CG:$CG, 0)))","v":""},{"$f":"IF(Track!$J37=\"\",\"\",INDEX(Lists!$CG:$CG, MATCH(Track!$J37, Lists!$CG:$CG, 0)))","v":""}]
[null,null,3,{"$f":"IF(Track!$E38=\"\",\"\",INDEX(Lists!$AI:$AI, MATCH(Track!$E38, Lists!$AI:$AI, 0)))","v":""},null,null,null,null,null,3,{"$f":"IF(Track!$J38=\"\",\"\",INDEX(Lists!$CG:$CG, MATCH(Track!$J38, Lists!$CG:$CG, 0)))","v":""},null,null,null,35,"Girls Under 13 70m Hurdles",3,{"$f":"IF(Track!$E38=\"\",\"\",INDEX(Lists!$AG:$AG, MATCH(Track!$E38, Lists!$AI:$AI, 0)))","v":""},{"$f":"IF(Track!$E38=\"\",\"\",INDEX(Lists!$AH:$AH, MATCH(Track!$E38, Lists!$AI:$AI, 0)))","v":""},{"$f":"IF(Track!$E38=\"\",\"\",INDEX(Lists!$AI:$AI, MATCH(Track!$E38, Lists!$AI:$AI, 0)))","v":""},null,36,"Boys Under 13 70m Hurdles",3,{"$f":"IF(Track!$J38=\"\",\"\",INDEX(Lists!$CE:$CE, MATCH(Track!$J38, Lists!$CG:$CG, 0)))","v":""},{"$f":"IF(Track!$J38=\"\",\"\",INDEX(Lists!$CF:$CF, MATCH(Track!$J38, Lists!$CG:$CG, 0)))","v":""},{"$f":"IF(Track!$J38=\"\",\"\",INDEX(Lists!$CG:$CG, MATCH(Track!$J38, Lists!$CG:$CG, 0)))","v":""}]
[]
[39,"Girls 13 & Over",1,{"$f":"IF(Track!$E40=\"\",\"\",INDEX(Lists!$AS:$AS, MATCH(Track!$E40, Lists!$AS:$AS, 0)))","v":""},null,null,40,"Boys 13 & Over",null,1,{"$f":"IF(Track!$J40=\"\",\"\",INDEX(Lists!$CQ:$CQ, MATCH(Track!$J40, Lists!$CQ:$CQ, 0)))","v":""},null,null,null,39,"Girls 13 & Over 70m Hurdles",1,{"$f":"IF(Track!$E40=\"\",\"\",INDEX(Lists!$AQ:$AQ, MATCH(Track!$E40, Lists!$AS:$AS, 0)))","v":""},{"$f":"IF(Track!$E40=\"\",\"\",INDEX(Lists!$AR:$AR, MATCH(Track!$E40, Lists!$AS:$AS, 0)))","v":""},{"$f":"IF(Track!$E40=\"\",\"\",INDEX(Lists!$AS:$AS, MATCH(Track!$E40, Lists!$AS:$AS, 0)))","v":""},null,40,"Boys 13 & Over 70m Hurdles",1,{"$f":"IF(Track!$J40=\"\",\"\",INDEX(Lists!$CO:$CO, MATCH(Track!$J40, Lists!$CQ:$CQ, 0)))","v":""},{"$f":"IF(Track!$J40=\"\",\"\",INDEX(Lists!$CP:$CP, MATCH(Track!$J40, Lists!$CQ:$CQ, 0)))","v":""},{"$f":"IF(Track!$J40=\"\",\"\",INDEX(Lists!$CQ:$CQ, MATCH(Track!$J40, Lists!$CQ:$CQ, 0)))","v":""}]
[null,"70m Hurdles",2,{"$f":"IF(Track!$E41=\"\",\"\",INDEX(Lists!$AS:$AS, MATCH(Track!$E41, Lists!$AS:$AS, 0)))","v":""},null,null,null,"70m Hurdles",null,2,{"$f":"IF(Track!$J41=\"\",\"\",INDEX(Lists!$CQ:$CQ, MATCH(Track!$J41, Lists!$CQ:$CQ, 0)))","v":""},null,null,null,39,"Girls 13 & Over 70m Hurdles",2,{"$f":"IF(Track!$E41=\"\",\"\",INDEX(Lists!$AQ:$AQ, MATCH(Track!$E41, Lists!$AS:$AS, 0)))","v":""},{"$f":"IF(Track!$E41=\"\",\"\",INDEX(Lists!$AR:$AR, MATCH(Track!$E41, Lists!$AS:$AS, 0)))","v":""},{"$f":"IF(Track!$E41=\"\",\"\",INDEX(Lists!$AS:$AS, MATCH(Track!$E41, Lists!$AS:$AS, 0)))","v":""},null,40,"Boys 13 & Over 70m Hurdles",2,{"$f":"IF(Track!$J41=\"\",\"\",INDEX(Lists!$CO:$CO, MATCH(Track!$J41, Lists!$CQ:$CQ, 0)))","v":""},{"$f":"IF(Track!$J41=\"\",\"\",INDEX(Lists!$CP:$CP, MATCH(Track!$J41, Lists!$CQ:$CQ, 0)))","v":""},{"$f":"IF(Track!$J41=\"\",\"\",INDEX(Lists!$CQ:$CQ, MATCH(Track!$J41, Lists!$CQ:$CQ, 0)))","v":""}]
[null,null,3,{"$f":"IF(Track!$E42=\"\",\"\",INDEX(Lists!$AS:$AS, MATCH(Track!$E42, Lists!$AS:$AS, 0)))","v":""},null,null,null,null,null,3,{"$f":"IF(Track!$J42=\"\",\"\",INDEX(Lists!$CQ:$CQ, MATCH(Track!$J42, Lists!$CQ:$CQ, 0)))","v":""},null,null,null,39,"Girls 13 & Over 70m Hurdles",3,{"$f":"IF(Track!$E42=\"\",\"\",INDEX(Lists!$AQ:$AQ, MATCH(Track!$E42, Lists!$AS:$AS, 0)))","v":""},{"$f":"IF(Track!$E42=\"\",\"\",INDEX(Lists!$AR:$AR, MATCH(Track!$E42, Lists!$AS:$AS, 0)))","v":""},{"$f":"IF(Track!$E42=\"\",\"\",INDEX(Lists!$AS:$AS, MATCH(Track!$E42, Lists!$AS:$AS, 0)))","v":""},null,40,"Boys 13 & Over 70m Hurdles",3,{"$f":"IF(Track!$J42=\"\",\"\",INDEX(Lists!$CO:$CO, MATCH(Track!$J42, Lists!$CQ:$CQ, 0)))","v":""},{"$f":"IF(Track!$J42=\"\",\"\",INDEX(Lists!$CP:$CP, MATCH(Track!$J42, Lists!$CQ:$CQ, 0)))","v":""},{"$f":"IF(Track!$J42=\"\",\"\",INDEX(Lists!$CQ:$CQ, MATCH(Track!$J42, Lists!$CQ:$CQ, 0)))","v":""}]
[]
[91,"Girls Year 5 & 6",1,{"$f":"IF(Track!$E44=\"\",\"\",INDEX(Lists!$DA:$DA, MATCH(Track!$E44, Lists!$DA:$DA, 0)))","v":""},null,null,92,"Boys Year 5 & 6",null,1,{"$f":"IF(Track!$J44=\"\",\"\",INDEX(Lists!$DU:$DU, MATCH(Track!$J44, Lists!$DU:$DU, 0)))","v":""},null,null,null,91,"Girls Year 5 & 6 800m",1,{"$f":"IF(Track!$E44=\"\",\"\",INDEX(Lists!$CY:$CY, MATCH(Track!$E44, Lists!$DA:$DA, 0)))","v":""},{"$f":"IF(Track!$E44=\"\",\"\",INDEX(Lists!$CZ:$CZ, MATCH(Track!$E44, Lists!$DA:$DA, 0)))","v":""},{"$f":"IF(Track!$E44=\"\",\"\",INDEX(Lists!$DA:$DA, MATCH(Track!$E44, Lists!$DA:$DA, 0)))","v":""},null,92,"Boys Year 5 & 6 800m",1,{"$f":"IF(Track!$J44=\"\",\"\",INDEX(Lists!$DS:$DS, MATCH(Track!$J44, Lists!$DU:$DU, 0)))","v":""},{"$f":"IF(Track!$J44=\"\",\"\",INDEX(Lists!$DT:$DT, MATCH(Track!$J44, Lists!$DU:$DU, 0)))","v":""},{"$f":"IF(Track!$J44=\"\",\"\",INDEX(Lists!$DU:$DU, MATCH(Track!$J44, Lists!$DU:$DU, 0)))","v":""}]
[null,"800m",2,{"$f":"IF(Track!$E45=\"\",\"\",INDEX(Lists!$DA:$DA, MATCH(Track!$E45, Lists!$DA:$DA, 0)))","v":""},null,null,null,"800m",null,2,{"$f":"IF(Track!$J45=\"\",\"\",INDEX(Lists!$DU:$DU, MATCH(Track!$J45, Lists!$DU:$DU, 0)))","v":""},null,null,null,91,"Girls Year 5 & 6 800m",2,{"$f":"IF(Track!$E45=\"\",\"\",INDEX(Lists!$CY:$CY, MATCH(Track!$E45, Lists!$DA:$DA, 0)))","v":""},{"$f":"IF(Track!$E45=\"\",\"\",INDEX(Lists!$CZ:$CZ, MATCH(Track!$E45, Lists!$DA:$DA, 0)))","v":""},{"$f":"IF(Track!$E45=\"\",\"\",INDEX(Lists!$DA:$DA, MATCH(Track!$E45, Lists!$DA:$DA, 0)))","v":""},null,92,"Boys Year 5 & 6 800m",2,{"$f":"IF(Track!$J45=\"\",\"\",INDEX(Lists!$DS:$DS, MATCH(Track!$J45, Lists!$DU:$DU, 0)))","v":""},{"$f":"IF(Track!$J45=\"\",\"\",INDEX(Lists!$DT:$DT, MATCH(Track!$J45, Lists!$DU:$DU, 0)))","v":""},{"$f":"IF(Track!$J45=\"\",\"\",INDEX(Lists!$DU:$DU, MATCH(Track!$J45, Lists!$DU:$DU, 0)))","v":""}]
[null,null,3,{"$f":"IF(Track!$E46=\"\",\"\",INDEX(Lists!$DA:$DA, MATCH(Track!$E46, Lists!$DA:$DA, 0)))","v":""},null,null,null,null,null,3,{"$f":"IF(Track!$J46=\"\",\"\",INDEX(Lists!$DU:$DU, MATCH(Track!$J46, Lists!$DU:$DU, 0)))","v":""},null,null,null,91,"Girls Year 5 & 6 800m",3,{"$f":"IF(Track!$E46=\"\",\"\",INDEX(Lists!$CY:$CY, MATCH(Track!$E46, Lists!$DA:$DA, 0)))","v":""},{"$f":"IF(Track!$E46=\"\",\"\",INDEX(Lists!$CZ:$CZ, MATCH(Track!$E46, Lists!$DA:$DA, 0)))","v":""},{"$f":"IF(Track!$E46=\"\",\"\",INDEX(Lists!$DA:$DA, MATCH(Track!$E46, Lists!$DA:$DA, 0)))","v":""},null,92,"Boys Year 5 & 6 800m",3,{"$f":"IF(Track!$J46=\"\",\"\",INDEX(Lists!$DS:$DS, MATCH(Track!$J46, Lists!$DU:$DU, 0)))","v":""},{"$f":"IF(Track!$J46=\"\",\"\",INDEX(Lists!$DT:$DT, MATCH(Track!$J46, Lists!$DU:$DU, 0)))","v":""},{"$f":"IF(Track!$J46=\"\",\"\",INDEX(Lists!$DU:$DU, MATCH(Track!$J46, Lists!$DU:$DU, 0)))","v":""}]
[]
[93,"Girls Year 7 & 8",1,{"$f":"IF(Track!$E48=\"\",\"\",INDEX(Lists!$DK:$DK, MATCH(Track!$E48, Lists!$DK:$DK, 0)))","v":""},null,null,94,"Boys Year 7 & 8",null,1,{"$f":"IF(Track!$J48=\"\",\"\",INDEX(Lists!$EE:$EE, MATCH(Track!$J48, Lists!$EE:$EE, 0)))","v":""},null,null,null,93,"Girls Year 7 & 8 800m",1,{"$f":"IF(Track!$E48=\"\",\"\",INDEX(Lists!$DI:$DI, MATCH(Track!$E48, Lists!$DK:$DK, 0)))","v":""},{"$f":"IF(Track!$E48=\"\",\"\",INDEX(Lists!$DJ:$DJ, MATCH(Track!$E48, Lists!$DK:$DK, 0)))","v":""},{"$f":"IF(Track!$E48=\"\",\"\",INDEX(Lists!$DK:$DK, MATCH(Track!$E48, Lists!$DK:$DK, 0)))","v":""},null,94,"Boys Year 7 & 8 800m",1,{"$f":"IF(Track!$J48=\"\",\"\",INDEX(Lists!$EC:$EC, MATCH(Track!$J48, Lists!$EE:$EE, 0)))","v":""},{"$f":"IF(Track!$J48=\"\",\"\",INDEX(Lists!$ED:$ED, MATCH(Track!$J48, Lists!$EE:$EE, 0)))","v":""},{"$f":"IF(Track!$J48=\"\",\"\",INDEX(Lists!$EE:$EE, MATCH(Track!$J48, Lists!$EE:$EE, 0)))","v":""}]
[null,"800m",2,{"$f":"IF(Track!$E49=\"\",\"\",INDEX(Lists!$DK:$DK, MATCH(Track!$E49, Lists!$DK:$DK, 0)))","v":""},null,null,null,"800m",null,2,{"$f":"IF(Track!$J49=\"\",\"\",INDEX(Lists!$EE:$EE, MATCH(Track!$J49, Lists!$EE:$EE, 0)))","v":""},null,null,null,93,"Girls Year 7 & 8 800m",2,{"$f":"IF(Track!$E49=\"\",\"\",INDEX(Lists!$DI:$DI, MATCH(Track!$E49, Lists!$DK:$DK, 0)))","v":""},{"$f":"IF(Track!$E49=\"\",\"\",INDEX(Lists!$DJ:$DJ, MATCH(Track!$E49, Lists!$DK:$DK, 0)))","v":""},{"$f":"IF(Track!$E49=\"\",\"\",INDEX(Lists!$DK:$DK, MATCH(Track!$E49, Lists!$DK:$DK, 0)))","v":""},null,94,"Boys Year 7 & 8 800m",2,{"$f":"IF(Track!$J49=\"\",\"\",INDEX(Lists!$EC:$EC, MATCH(Track!$J49, Lists!$EE:$EE, 0)))","v":""},{"$f":"IF(Track!$J49=\"\",\"\",INDEX(Lists!$ED:$ED, MATCH(Track!$J49, Lists!$EE:$EE, 0)))","v":""},{"$f":"IF(Track!$J49=\"\",\"\",INDEX(Lists!$EE:$EE, MATCH(Track!$J49, Lists!$EE:$EE, 0)))","v":""}]
[null,null,3,{"$f":"IF(Track!$E50=\"\",\"\",INDEX(Lists!$DK:$DK, MATCH(Track!$E50, Lists!$DK:$DK, 0)))","v":""},null,null,null,null,null,3,{"$f":"IF(Track!$J50=\"\",\"\",INDEX(Lists!$EE:$EE, MATCH(Track!$J50, Lists!$EE:$EE, 0)))","v":""},null,null,null,93,"Girls Year 7 & 8 800m",3,{"$f":"IF(Track!$E50=\"\",\"\",INDEX(Lists!$DI:$DI, MATCH(Track!$E50, Lists!$DK:$DK, 0)))","v":""},{"$f":"IF(Track!$E50=\"\",\"\",INDEX(Lists!$DJ:$DJ, MATCH(Track!$E50, Lists!$DK:$DK, 0)))","v":""},{"$f":"IF(Track!$E50=\"\",\"\",INDEX(Lists!$DK:$DK, MATCH(Track!$E50, Lists!$DK:$DK, 0)))","v":""},null,94,"Boys Year 7 & 8 800m",3,{"$f":"IF(Track!$J50=\"\",\"\",INDEX(Lists!$EC:$EC, MATCH(Track!$J50, Lists!$EE:$EE, 0)))","v":""},{"$f":"IF(Track!$J50=\"\",\"\",INDEX(Lists!$ED:$ED, MATCH(Track!$J50, Lists!$EE:$EE, 0)))","v":""},{"$f":"IF(Track!$J50=\"\",\"\",INDEX(Lists!$EE:$EE, MATCH(Track!$J50, Lists!$EE:$EE, 0)))","v":""}]
[]
["Event","Event Title","Order","Name",null,null,"Event","Event Title",null,"Order","Name"]
[]
[55,"Girls Under 11",1,{"$f":"IF(Field!$E3=\"\",\"\",INDEX(Lists!$O:$O, MATCH(Field!$E3, Lists!$O:$O, 0)))","v":""},null,null,56,"Boys Under 11",null,1,{"$f":"IF(Field!$J3=\"\",\"\",INDEX(Lists!$BM:$BM, MATCH(Field!$J3, Lists!$BM:$BM, 0)))","v":""},null,null,null,55,"Girls Under 11 High Jump",1,{"$f":"IF(Field!$E3=\"\",\"\",INDEX(Lists!$M:$M, MATCH(Field!$E3, Lists!$O:$O, 0)))","v":""},{"$f":"IF(Field!$E3=\"\",\"\",INDEX(Lists!$N:$N, MATCH(Field!$E3, Lists!$O:$O, 0)))","v":""},{"$f":"IF(Field!$E3=\"\",\"\",INDEX(Lists!$O:$O, MATCH(Field!$E3, Lists!$O:$O, 0)))","v":""},null,56,"Boys Under 11 High Jump",1,{"$f":"IF(Field!$J3=\"\",\"\",INDEX(Lists!$BK:$BK, MATCH(Field!$J3, Lists!$BM:$BM, 0)))","v":""},{"$f":"IF(Field!$J3=\"\",\"\",INDEX(Lists!$BL:$BL, MATCH(Field!$J3, Lists!$BM:$BM, 0)))","v":""},{"$f":"IF(Field!$J3=\"\",\"\",INDEX(Lists!$BM:$BM, MATCH(Field!$J3, Lists!$BM:$BM, 0)))","v":""}]
[null,"High Jump",2,{"$f":"IF(Field!$E4=\"\",\"\",INDEX(Lists!$O:$O, MATCH(Field!$E4, Lists!$O:$O, 0)))","v":""},null,null,null,"High Jump",null,2,{"$f":"IF(Field!$J4=\"\",\"\",INDEX(Lists!$BM:$BM, MATCH(Field!$J4, Lists!$BM:$BM, 0)))","v":""},null,null,null,55,"Girls Under 11 High Jump",2,{"$f":"IF(Field!$E4=\"\",\"\",INDEX(Lists!$M:$M, MATCH(Field!$E4, Lists!$O:$O, 0)))","v":""},{"$f":"IF(Field!$E4=\"\",\"\",INDEX(Lists!$N:$N, MATCH(Field!$E4, Lists!$O:$O, 0)))","v":""},{"$f":"IF(Field!$E4=\"\",\"\",INDEX(Lists!$O:$O, MATCH(Field!$E4, Lists!$O:$O, 0)))","v":""},null,56,"Boys Under 11 High Jump",2,{"$f":"IF(Field!$J4=\"\",\"\",INDEX(Lists!$BK:$BK, MATCH(Field!$J4, Lists!$BM:$BM, 0)))","v":""},{"$f":"IF(Field!$J4=\"\",\"\",INDEX(Lists!$BL:$BL, MATCH(Field!$J4, Lists!$BM:$BM, 0)))","v":""},{"$f":"IF(Field!$J4=\"\",\"\",INDEX(Lists!$BM:$BM, MATCH(Field!$J4, Lists!$BM:$BM, 0)))","v":""}]
[null,null,3,{"$f":"IF(Field!$E5=\"\",\"\",INDEX(Lists!$O:$O, MATCH(Field!$E5, Lists!$O:$O, 0)))","v":""},null,null,null,null,null,3,{"$f":"IF(Field!$J5=\"\",\"\",INDEX(Lists!$BM:$BM, MATCH(Field!$J5, Lists!$BM:$BM, 0)))","v":""},null,null,null,55,"Girls Under 11 High Jump",3,{"$f":"IF(Field!$E5=\"\",\"\",INDEX(Lists!$M:$M, MATCH(Field!$E5, Lists!$O:$O, 0)))","v":""},{"$f":"IF(Field!$E5=\"\",\"\",INDEX(Lists!$N:$N, MATCH(Field!$E5, Lists!$O:$O, 0)))","v":""},{"$f":"IF(Field!$E5=\"\",\"\",INDEX(Lists!$O:$O, MATCH(Field!$E5, Lists!$O:$O, 0)))","v":""},null,56,"Boys Under 11 High Jump",3,{"$f":"IF(Field!$J5=\"\",\"\",INDEX(Lists!$BK:$BK, MATCH(Field!$J5, Lists!$BM:$BM, 0)))","v":""},{"$f":"IF(Field!$J5=\"\",\"\",INDEX(Lists!$BL:$BL, MATCH(Field!$J5, Lists!$BM:$BM, 0)))","v":""},{"$f":"IF(Field!$J5=\"\",\"\",INDEX(Lists!$BM:$BM, MATCH(Field!$J5, Lists!$BM:$BM, 0)))","v":""}]
[]
[17,"Girls Under 12",1,{"$f":"IF(Field!$E7=\"\",\"\",INDEX(Lists!$Y:$Y, MATCH(Field!$E7, Lists!$Y:$Y, 0)))","v":""},null,null,18,"Boys Under 12",null,1,{"$f":"IF(Field!$J7=\"\",\"\",INDEX(Lists!$BW:$BW, MATCH(Field!$J7, Lists!$BW:$BW, 0)))","v":""},null,null,null,17,"Girls Under 12 High Jump",1,{"$f":"IF(Field!$E7=\"\",\"\",INDEX(Lists!$W:$W, MATCH(Field!$E7, Lists!$Y:$Y, 0)))","v":""},{"$f":"IF(Field!$E7=\"\",\"\",INDEX(Lists!$X:$X, MATCH(Field!$E7, Lists!$Y:$Y, 0)))","v":""},{"$f":"IF(Field!$E7=\"\",\"\",INDEX(Lists!$Y:$Y, MATCH(Field!$E7, Lists!$Y:$Y, 0)))","v":""},null,18,"Boys Under 12 High Jump",1,{"$f":"IF(Field!$J7=\"\",\"\",INDEX(Lists!$BU:$BU, MATCH(Field!$J7, Lists!$BW:$BW, 0)))","v":""},{"$f":"IF(Field!$J7=\"\",\"\",INDEX(Lists!$BV:$BV, MATCH(Field!$J7, Lists!$BW:$BW, 0)))","v":""},{"$f":"IF(Field!$J7=\"\",\"\",INDEX(Lists!$BW:$BW, MATCH(Field!$J7, Lists!$BW:$BW, 0)))","v":""}]
[null,"High Jump",2,{"$f":"IF(Field!$E8=\"\",\"\",INDEX(Lists!$Y:$Y, MATCH(Field!$E8, Lists!$Y:$Y, 0)))","v":""},null,null,null,"High Jump",null,2,{"$f":"IF(Field!$J8=\"\",\"\",INDEX(Lists!$BW:$BW, MATCH(Field!$J8, Lists!$BW:$BW, 0)))","v":""},null,null,null,17,"Girls Under 12 High Jump",2,{"$f":"IF(Field!$E8=\"\",\"\",INDEX(Lists!$W:$W, MATCH(Field!$E8, Lists!$Y:$Y, 0)))","v":""},{"$f":"IF(Field!$E8=\"\",\"\",INDEX(Lists!$X:$X, MATCH(Field!$E8, Lists!$Y:$Y, 0)))","v":""},{"$f":"IF(Field!$E8=\"\",\"\",INDEX(Lists!$Y:$Y, MATCH(Field!$E8, Lists!$Y:$Y, 0)))","v":""},null,18,"Boys Under 12 High Jump",2,{"$f":"IF(Field!$J8=\"\",\"\",INDEX(Lists!$BU:$BU, MATCH(Field!$J8, Lists!$BW:$BW, 0)))","v":""},{"$f":"IF(Field!$J8=\"\",\"\",INDEX(Lists!$BV:$BV, MATCH(Field!$J8, Lists!$BW:$BW, 0)))","v":""},{"$f":"IF(Field!$J8=\"\",\"\",INDEX(Lists!$BW:$BW, MATCH(Field!$J8, Lists!$BW:$BW, 0)))","v":""}]
[null,null,3,{"$f":"IF(Field!$E9=\"\",\"\",INDEX(Lists!$Y:$Y, MATCH(Field!$E9, Lists!$Y:$Y, 0)))","v":""},null,null,null,null,null,3,{"$f":"IF(Field!$J9=\"\",\"\",INDEX(Lists!$BW:$BW, MATCH(Field!$J9, Lists!$BW:$BW, 0)))","v":""},null,null,null,17,"Girls Under 12 High Jump",3,{"$f":"IF(Field!$E9=\"\",\"\",INDEX(Lists!$W:$W, MATCH(Field!$E9, Lists!$Y:$Y, 0)))","v":""},{"$f":"IF(Field!$E9=\"\",\"\",INDEX(Lists!$X:$X, MATCH(Field!$E9, Lists!$Y:$Y, 0)))","v":""},{"$f":"IF(Field!$E9=\"\",\"\",INDEX(Lists!$Y:$Y, MATCH(Field!$E9, Lists!$Y:$Y, 0)))","v":""},null,18,"Boys Under 12 High Jump",3,{"$f":"IF(Field!$J9=\"\",\"\",INDEX(Lists!$BU:$BU, MATCH(Field!$J9, Lists!$BW:$BW, 0)))","v":""},{"$f":"IF(Field!$J9=\"\",\"\",INDEX(Lists!$BV:$BV, MATCH(Field!$J9, Lists!$BW:$BW, 0)))","v":""},{"$f":"IF(Field!$J9=\"\",\"\",INDEX(Lists!$BW:$BW, MATCH(Field!$J9, Lists!$BW:$BW, 0)))","v":""}]
[]
[41,"Girls Under 13",1,{"$f":"IF(Field!$E11=\"\",\"\",INDEX(Lists!$AI:$AI, MATCH(Field!$E11, Lists!$AI:$AI, 0)))","v":""},null,null,43,"Boys Under 13",null,1,{"$f":"IF(Field!$J11=\"\",\"\",INDEX(Lists!$CG:$CG, MATCH(Field!$J11, Lists!$CG:$CG, 0)))","v":""},null,null,null,41,"Girls Under 13 High Jump",1,{"$f":"IF(Field!$E11=\"\",\"\",INDEX(Lists!$AG:$AG, MATCH(Field!$E11, Lists!$AI:$AI, 0)))","v":""},{"$f":"IF(Field!$E11=\"\",\"\",INDEX(Lists!$AH:$AH, MATCH(Field!$E11, Lists!$AI:$AI, 0)))","v":""},{"$f":"IF(Field!$E11=\"\",\"\",INDEX(Lists!$AI:$AI, MATCH(Field!$E11, Lists!$AI:$AI, 0)))","v":""},null,42,"Boys Under 13 High Jump",1,{"$f":"IF(Field!$J11=\"\",\"\",INDEX(Lists!$CE:$CE, MATCH(Field!$J11, Lists!$CG:$CG, 0)))","v":""},{"$f":"IF(Field!$J11=\"\",\"\",INDEX(Lists!$CF:$CF, MATCH(Field!$J11, Lists!$CG:$CG, 0)))","v":""},{"$f":"IF(Field!$J11=\"\",\"\",INDEX(Lists!$CG:$CG, MATCH(Field!$J11, Lists!$CG:$CG, 0)))","v":""}]
[null,"High Jump",2,{"$f":"IF(Field!$E12=\"\",\"\",INDEX(Lists!$AI:$AI, MATCH(Field!$E12, Lists!$AI:$AI, 0)))","v":""},null,null,null,"High Jump",null,2,{"$f":"IF(Field!$J12=\"\",\"\",INDEX(Lists!$CG:$CG, MATCH(Field!$J12, Lists!$CG:$CG, 0)))","v":""},null,null,null,41,"Girls Under 13 High Jump",2,{"$f":"IF(Field!$E12=\"\",\"\",INDEX(Lists!$AG:$AG, MATCH(Field!$E12, Lists!$AI:$AI, 0)))","v":""},{"$f":"IF(Field!$E12=\"\",\"\",INDEX(Lists!$AH:$AH, MATCH(Field!$E12, Lists!$AI:$AI, 0)))","v":""},{"$f":"IF(Field!$E12=\"\",\"\",INDEX(Lists!$AI:$AI, MATCH(Field!$E12, Lists!$AI:$AI, 0)))","v":""},null,42,"Boys Under 13 High Jump",2,{"$f":"IF(Field!$J12=\"\",\"\",INDEX(Lists!$CE:$CE, MATCH(Field!$J12, Lists!$CG:$CG, 0)))","v":""},{"$f":"IF(Field!$J12=\"\",\"\",INDEX(Lists!$CF:$CF, MATCH(Field!$J12, Lists!$CG:$CG, 0)))","v":""},{"$f":"IF(Field!$J12=\"\",\"\",INDEX(Lists!$CG:$CG, MATCH(Field!$J12, Lists!$CG:$CG, 0)))","v":""}]
[null,null,3,{"$f":"IF(Field!$E13=\"\",\"\",INDEX(Lists!$AI:$AI, MATCH(Field!$E13, Lists!$AI:$AI, 0)))","v":""},null,null,null,null,null,3,{"$f":"IF(Field!$J13=\"\",\"\",INDEX(Lists!$CG:$CG, MATCH(Field!$J13, Lists!$CG:$CG, 0)))","v":""},null,null,null,41,"Girls Under 13 High Jump",3,{"$f":"IF(Field!$E13=\"\",\"\",INDEX(Lists!$AG:$AG, MATCH(Field!$E13, Lists!$AI:$AI, 0)))","v":""},{"$f":"IF(Field!$E13=\"\",\"\",INDEX(Lists!$AH:$AH, MATCH(Field!$E13, Lists!$AI:$AI, 0)))","v":""},{"$f":"IF(Field!$E13=\"\",\"\",INDEX(Lists!$AI:$AI, MATCH(Field!$E13, Lists!$AI:$AI, 0)))","v":""},null,42,"Boys Under 13 High Jump",3,{"$f":"IF(Field!$J13=\"\",\"\",INDEX(Lists!$CE:$CE, MATCH(Field!$J13, Lists!$CG:$CG, 0)))","v":""},{"$f":"IF(Field!$J13=\"\",\"\",INDEX(Lists!$CF:$CF, MATCH(Field!$J13, Lists!$CG:$CG, 0)))","v":""},{"$f":"IF(Field!$J13=\"\",\"\",INDEX(Lists!$CG:$CG, MATCH(Field!$J13, Lists!$CG:$CG, 0)))","v":""}]
[]
[7,"Girls 13 & Over",1,{"$f":"IF(Field!$E15=\"\",\"\",INDEX(Lists!$AS:$AS, MATCH(Field!$E15, Lists!$AS:$AS, 0)))","v":""},null,null,8,"Boys 13 & Over",null,1,{"$f":"IF(Field!$J15=\"\",\"\",INDEX(Lists!$CQ:$CQ, MATCH(Field!$J15, Lists!$CQ:$CQ, 0)))","v":""},null,null,null,7,"Girls 13 & Over High Jump",1,{"$f":"IF(Field!$E15=\"\",\"\",INDEX(Lists!$AQ:$AQ, MATCH(Field!$E15, Lists!$AS:$AS, 0)))","v":""},{"$f":"IF(Field!$E15=\"\",\"\",INDEX(Lists!$AR:$AR, MATCH(Field!$E15, Lists!$AS:$AS, 0)))","v":""},{"$f":"IF(Field!$E15=\"\",\"\",INDEX(Lists!$AS:$AS, MATCH(Field!$E15, Lists!$AS:$AS, 0)))","v":""},null,8,"Boys 13 & Over High Jump",1,{"$f":"IF(Field!$J15=\"\",\"\",INDEX(Lists!$CO:$CO, MATCH(Field!$J15, Lists!$CQ:$CQ, 0)))","v":""},{"$f":"IF(Field!$J15=\"\",\"\",INDEX(Lists!$CP:$CP, MATCH(Field!$J15, Lists!$CQ:$CQ, 0)))","v":""},{"$f":"IF(Field!$J15=\"\",\"\",INDEX(Lists!$CQ:$CQ, MATCH(Field!$J15, Lists!$CQ:$CQ, 0)))","v":""}]
[null,"High Jump",2,{"$f":"IF(Field!$E16=\"\",\"\",INDEX(Lists!$AS:$AS, MATCH(Field!$E16, Lists!$AS:$AS, 0)))","v":""},null,null,null,"High Jump",null,2,{"$f":"IF(Field!$J16=\"\",\"\",INDEX(Lists!$CQ:$CQ, MATCH(Field!$J16, Lists!$CQ:$CQ, 0)))","v":""},null,null,null,7,"Girls 13 & Over High Jump",2,{"$f":"IF(Field!$E16=\"\",\"\",INDEX(Lists!$AQ:$AQ, MATCH(Field!$E16, Lists!$AS:$AS, 0)))","v":""},{"$f":"IF(Field!$E16=\"\",\"\",INDEX(Lists!$AR:$AR, MATCH(Field!$E16, Lists!$AS:$AS, 0)))","v":""},{"$f":"IF(Field!$E16=\"\",\"\",INDEX(Lists!$AS:$AS, MATCH(Field!$E16, Lists!$AS:$AS, 0)))","v":""},null,8,"Boys 13 & Over High Jump",2,{"$f":"IF(Field!$J16=\"\",\"\",INDEX(Lists!$CO:$CO, MATCH(Field!$J16, Lists!$CQ:$CQ, 0)))","v":""},{"$f":"IF(Field!$J16=\"\",\"\",INDEX(Lists!$CP:$CP, MATCH(Field!$J16, Lists!$CQ:$CQ, 0)))","v":""},{"$f":"IF(Field!$J16=\"\",\"\",INDEX(Lists!$CQ:$CQ, MATCH(Field!$J16, Lists!$CQ:$CQ, 0)))","v":""}]
[null,null,3,{"$f":"IF(Field!$E17=\"\",\"\",INDEX(Lists!$AS:$AS, MATCH(Field!$E17, Lists!$AS:$AS, 0)))","v":""},null,null,null,null,null,3,{"$f":"IF(Field!$J17=\"\",\"\",INDEX(Lists!$CQ:$CQ, MATCH(Field!$J17, Lists!$CQ:$CQ, 0)))","v":""},null,null,null,7,"Girls 13 & Over High Jump",3,{"$f":"IF(Field!$E17=\"\",\"\",INDEX(Lists!$AQ:$AQ, MATCH(Field!$E17, Lists!$AS:$AS, 0)))","v":""},{"$f":"IF(Field!$E17=\"\",\"\",INDEX(Lists!$AR:$AR, MATCH(Field!$E17, Lists!$AS:$AS, 0)))","v":""},{"$f":"IF(Field!$E17=\"\",\"\",INDEX(Lists!$AS:$AS, MATCH(Field!$E17, Lists!$AS:$AS, 0)))","v":""},null,8,"Boys 13 & Over High Jump",3,{"$f":"IF(Field!$J17=\"\",\"\",INDEX(Lists!$CO:$CO, MATCH(Field!$J17, Lists!$CQ:$CQ, 0)))","v":""},{"$f":"IF(Field!$J17=\"\",\"\",INDEX(Lists!$CP:$CP, MATCH(Field!$J17, Lists!$CQ:$CQ, 0)))","v":""},{"$f":"IF(Field!$J17=\"\",\"\",INDEX(Lists!$CQ:$CQ, MATCH(Field!$J17, Lists!$CQ:$CQ, 0)))","v":""}]
[]
[51,"Girls Under 10",1,{"$f":"IF(Field!$E19=\"\",\"\",INDEX(Lists!$E:$E, MATCH(Field!$E19, Lists!$E:$E, 0)))","v":""},null,null,52,"Boys Under 10",null,1,{"$f":"IF(Field!$J19=\"\",\"\",INDEX(Lists!$BC:$BC, MATCH(Field!$J19, Lists!$BC:$BC, 0)))","v":""},null,null,null,51,"Girls Under 10 Long Jump",1,{"$f":"IF(Field!$E19=\"\",\"\",INDEX(Lists!$C:$C, MATCH(Field!$E19, Lists!$E:$E, 0)))","v":""},{"$f":"IF(Field!$E19=\"\",\"\",INDEX(Lists!$D:$D, MATCH(Field!$E19, Lists!$E:$E, 0)))","v":""},{"$f":"IF(Field!$E19=\"\",\"\",INDEX(Lists!$E:$E, MATCH(Field!$E19, Lists!$E:$E, 0)))","v":""},null,52,"Boys Under 10 Long Jump",1,{"$f":"IF(Field!$J19=\"\",\"\",INDEX(Lists!$BA:$BA, MATCH(Field!$J19, Lists!$BC:$BC, 0)))","v":""},{"$f":"IF(Field!$J19=\"\",\"\",INDEX(Lists!$BB:$BB, MATCH(Field!$J19, Lists!$BC:$BC, 0)))","v":""},{"$f":"IF(Field!$J19=\"\",\"\",INDEX(Lists!$BC:$BC, MATCH(Field!$J19, Lists!$BC:$BC, 0)))","v":""}]
[null,"Long Jump",2,{"$f":"IF(Field!$E20=\"\",\"\",INDEX(Lists!$E:$E, MATCH(Field!$E20, Lists!$E:$E, 0)))","v":""},null,null,null,"Long Jump",null,2,{"$f":"IF(Field!$J20=\"\",\"\",INDEX(Lists!$BC:$BC, MATCH(Field!$J20, Lists!$BC:$BC, 0)))","v":""},null,null,null,51,"Girls Under 10 Long Jump",2,{"$f":"IF(Field!$E20=\"\",\"\",INDEX(Lists!$C:$C, MATCH(Field!$E20, Lists!$E:$E, 0)))","v":""},{"$f":"IF(Field!$E20=\"\",\"\",INDEX(Lists!$D:$D, MATCH(Field!$E20, Lists!$E:$E, 0)))","v":""},{"$f":"IF(Field!$E20=\"\",\"\",INDEX(Lists!$E:$E, MATCH(Field!$E20, Lists!$E:$E, 0)))","v":""},null,52,"Boys Under 10 Long Jump",2,{"$f":"IF(Field!$J20=\"\",\"\",INDEX(Lists!$BA:$BA, MATCH(Field!$J20, Lists!$BC:$BC, 0)))","v":""},{"$f":"IF(Field!$J20=\"\",\"\",INDEX(Lists!$BB:$BB, MATCH(Field!$J20, Lists!$BC:$BC, 0)))","v":""},{"$f":"IF(Field!$J20=\"\",\"\",INDEX(Lists!$BC:$BC, MATCH(Field!$J20, Lists!$BC:$BC, 0)))","v":""}]
[null,null,3,{"$f":"IF(Field!$E21=\"\",\"\",INDEX(Lists!$E:$E, MATCH(Field!$E21, Lists!$E:$E, 0)))","v":""},null,null,null,null,null,3,{"$f":"IF(Field!$J21=\"\",\"\",INDEX(Lists!$BC:$BC, MATCH(Field!$J21, Lists!$BC:$BC, 0)))","v":""},null,null,null,51,"Girls Under 10 Long Jump",3,{"$f":"IF(Field!$E21=\"\",\"\",INDEX(Lists!$C:$C, MATCH(Field!$E21, Lists!$E:$E, 0)))","v":""},{"$f":"IF(Field!$E21=\"\",\"\",INDEX(Lists!$D:$D, MATCH(Field!$E21, Lists!$E:$E, 0)))","v":""},{"$f":"IF(Field!$E21=\"\",\"\",INDEX(Lists!$E:$E, MATCH(Field!$E21, Lists!$E:$E, 0)))","v":""},null,52,"Boys Under 10 Long Jump",3,{"$f":"IF(Field!$J21=\"\",\"\",INDEX(Lists!$BA:$BA, MATCH(Field!$J21, Lists!$BC:$BC, 0)))","v":""},{"$f":"IF(Field!$J21=\"\",\"\",INDEX(Lists!$BB:$BB, MATCH(Field!$J21, Lists!$BC:$BC, 0)))","v":""},{"$f":"IF(Field!$J21=\"\",\"\",INDEX(Lists!$BC:$BC, MATCH(Field!$J21, Lists!$BC:$BC, 0)))","v":""}]
[]
[13,"Girls Under 11",1,{"$f":"IF(Field!$E23=\"\",\"\",INDEX(Lists!$O:$O, MATCH(Field!$E23, Lists!$O:$O, 0)))","v":""},null,null,14,"Boys Under 11",null,1,{"$f":"IF(Field!$J23=\"\",\"\",INDEX(Lists!$BM:$BM, MATCH(Field!$J23, Lists!$BM:$BM, 0)))","v":""},null,null,null,13,"Girls Under 11 Long Jump",1,{"$f":"IF(Field!$E23=\"\",\"\",INDEX(Lists!$M:$M, MATCH(Field!$E23, Lists!$O:$O, 0)))","v":""},{"$f":"IF(Field!$E23=\"\",\"\",INDEX(Lists!$N:$N, MATCH(Field!$E23, Lists!$O:$O, 0)))","v":""},{"$f":"IF(Field!$E23=\"\",\"\",INDEX(Lists!$O:$O, MATCH(Field!$E23, Lists!$O:$O, 0)))","v":""},null,14,"Boys Under 11 Long Jump",1,{"$f":"IF(Field!$J23=\"\",\"\",INDEX(Lists!$BK:$BK, MATCH(Field!$J23, Lists!$BM:$BM, 0)))","v":""},{"$f":"IF(Field!$J23=\"\",\"\",INDEX(Lists!$BL:$BL, MATCH(Field!$J23, Lists!$BM:$BM, 0)))","v":""},{"$f":"IF(Field!$J23=\"\",\"\",INDEX(Lists!$BM:$BM, MATCH(Field!$J23, Lists!$BM:$BM, 0)))","v":""}]
[null,"Long Jump",2,{"$f":"IF(Field!$E24=\"\",\"\",INDEX(Lists!$O:$O, MATCH(Field!$E24, Lists!$O:$O, 0)))","v":""},null,null,null,"Long Jump",null,2,{"$f":"IF(Field!$J24=\"\",\"\",INDEX(Lists!$BM:$BM, MATCH(Field!$J24, Lists!$BM:$BM, 0)))","v":""},null,null,null,13,"Girls Under 11 Long Jump",2,{"$f":"IF(Field!$E24=\"\",\"\",INDEX(Lists!$M:$M, MATCH(Field!$E24, Lists!$O:$O, 0)))","v":""},{"$f":"IF(Field!$E24=\"\",\"\",INDEX(Lists!$N:$N, MATCH(Field!$E24, Lists!$O:$O, 0)))","v":""},{"$f":"IF(Field!$E24=\"\",\"\",INDEX(Lists!$O:$O, MATCH(Field!$E24, Lists!$O:$O, 0)))","v":""},null,14,"Boys Under 11 Long Jump",2,{"$f":"IF(Field!$J24=\"\",\"\",INDEX(Lists!$BK:$BK, MATCH(Field!$J24, Lists!$BM:$BM, 0)))","v":""},{"$f":"IF(Field!$J24=\"\",\"\",INDEX(Lists!$BL:$BL, MATCH(Field!$J24, Lists!$BM:$BM, 0)))","v":""},{"$f":"IF(Field!$J24=\"\",\"\",INDEX(Lists!$BM:$BM, MATCH(Field!$J24, Lists!$BM:$BM, 0)))","v":""}]
[null,null,3,{"$f":"IF(Field!$E25=\"\",\"\",INDEX(Lists!$O:$O, MATCH(Field!$E25, Lists!$O:$O, 0)))","v":""},null,null,null,null,null,3,{"$f":"IF(Field!$J25=\"\",\"\",INDEX(Lists!$BM:$BM, MATCH(Field!$J25, Lists!$BM:$BM, 0)))","v":""},null,null,null,13,"Girls Under 11 Long Jump",3,{"$f":"IF(Field!$E25=\"\",\"\",INDEX(Lists!$M:$M, MATCH(Field!$E25, Lists!$O:$O, 0)))","v":""},{"$f":"IF(Field!$E25=\"\",\"\",INDEX(Lists!$N:$N, MATCH(Field!$E25, Lists!$O:$O, 0)))","v":""},{"$f":"IF(Field!$E25=\"\",\"\",INDEX(Lists!$O:$O, MATCH(Field!$E25, Lists!$O:$O, 0)))","v":""},null,14,"Boys Under 11 Long Jump",3,{"$f":"IF(Field!$J25=\"\",\"\",INDEX(Lists!$BK:$BK, MATCH(Field!$J25, Lists!$BM:$BM, 0)))","v":""},{"$f":"IF(Field!$J25=\"\",\"\",INDEX(Lists!$BL:$BL, MATCH(Field!$J25, Lists!$BM:$BM, 0)))","v":""},{"$f":"IF(Field!$J25=\"\",\"\",INDEX(Lists!$BM:$BM, MATCH(Field!$J25, Lists!$BM:$BM, 0)))","v":""}]
[]
[37,"Girls Under 12",1,{"$f":"IF(Field!$E27=\"\",\"\",INDEX(Lists!$Y:$Y, MATCH(Field!$E27, Lists!$Y:$Y, 0)))","v":""},null,null,38,"Boys Under 12",null,1,{"$f":"IF(Field!$J27=\"\",\"\",INDEX(Lists!$BW:$BW, MATCH(Field!$J27, Lists!$BW:$BW, 0)))","v":""},null,null,null,37,"Girls Under 12 Long Jump",1,{"$f":"IF(Field!$E27=\"\",\"\",INDEX(Lists!$W:$W, MATCH(Field!$E27, Lists!$Y:$Y, 0)))","v":""},{"$f":"IF(Field!$E27=\"\",\"\",INDEX(Lists!$X:$X, MATCH(Field!$E27, Lists!$Y:$Y, 0)))","v":""},{"$f":"IF(Field!$E27=\"\",\"\",INDEX(Lists!$Y:$Y, MATCH(Field!$E27, Lists!$Y:$Y, 0)))","v":""},null,38,"Boys Under 12 Long Jump",1,{"$f":"IF(Field!$J27=\"\",\"\",INDEX(Lists!$BU:$BU, MATCH(Field!$J27, Lists!$BW:$BW, 0)))","v":""},{"$f":"IF(Field!$J27=\"\",\"\",INDEX(Lists!$BV:$BV, MATCH(Field!$J27, Lists!$BW:$BW, 0)))","v":""},{"$f":"IF(Field!$J27=\"\",\"\",INDEX(Lists!$BW:$BW, MATCH(Field!$J27, Lists!$BW:$BW, 0)))","v":""}]
[null,"Long Jump",2,{"$f":"IF(Field!$E28=\"\",\"\",INDEX(Lists!$Y:$Y, MATCH(Field!$E28, Lists!$Y:$Y, 0)))","v":""},null,null,null,"Long Jump",null,2,{"$f":"IF(Field!$J28=\"\",\"\",INDEX(Lists!$BW:$BW, MATCH(Field!$J28, Lists!$BW:$BW, 0)))","v":""},null,null,null,37,"Girls Under 12 Long Jump",2,{"$f":"IF(Field!$E28=\"\",\"\",INDEX(Lists!$W:$W, MATCH(Field!$E28, Lists!$Y:$Y, 0)))","v":""},{"$f":"IF(Field!$E28=\"\",\"\",INDEX(Lists!$X:$X, MATCH(Field!$E28, Lists!$Y:$Y, 0)))","v":""},{"$f":"IF(Field!$E28=\"\",\"\",INDEX(Lists!$Y:$Y, MATCH(Field!$E28, Lists!$Y:$Y, 0)))","v":""},null,38,"Boys Under 12 Long Jump",2,{"$f":"IF(Field!$J28=\"\",\"\",INDEX(Lists!$BU:$BU, MATCH(Field!$J28, Lists!$BW:$BW, 0)))","v":""},{"$f":"IF(Field!$J28=\"\",\"\",INDEX(Lists!$BV:$BV, MATCH(Field!$J28, Lists!$BW:$BW, 0)))","v":""},{"$f":"IF(Field!$J28=\"\",\"\",INDEX(Lists!$BW:$BW, MATCH(Field!$J28, Lists!$BW:$BW, 0)))","v":""}]
[null,null,3,{"$f":"IF(Field!$E29=\"\",\"\",INDEX(Lists!$Y:$Y, MATCH(Field!$E29, Lists!$Y:$Y, 0)))","v":""},null,null,null,null,null,3,{"$f":"IF(Field!$J29=\"\",\"\",INDEX(Lists!$BW:$BW, MATCH(Field!$J29, Lists!$BW:$BW, 0)))","v":""},null,null,null,37,"Girls Under 12 Long Jump",3,{"$f":"IF(Field!$E29=\"\",\"\",INDEX(Lists!$W:$W, MATCH(Field!$E29, Lists!$Y:$Y, 0)))","v":""},{"$f":"IF(Field!$E29=\"\",\"\",INDEX(Lists!$X:$X, MATCH(Field!$E29, Lists!$Y:$Y, 0)))","v":""},{"$f":"IF(Field!$E29=\"\",\"\",INDEX(Lists!$Y:$Y, MATCH(Field!$E29, Lists!$Y:$Y, 0)))","v":""},null,38,"Boys Under 12 Long Jump",3,{"$f":"IF(Field!$J29=\"\",\"\",INDEX(Lists!$BU:$BU, MATCH(Field!$J29, Lists!$BW:$BW, 0)))","v":""},{"$f":"IF(Field!$J29=\"\",\"\",INDEX(Lists!$BV:$BV, MATCH(Field!$J29, Lists!$BW:$BW, 0)))","v":""},{"$f":"IF(Field!$J29=\"\",\"\",INDEX(Lists!$BW:$BW, MATCH(Field!$J29, Lists!$BW:$BW, 0)))","v":""}]
[]
[3,"Girls Under 13",1,{"$f":"IF(Field!$E31=\"\",\"\",INDEX(Lists!$AI:$AI, MATCH(Field!$E31, Lists!$AI:$AI, 0)))","v":""},null,null,4,"Boys Under 13",null,1,{"$f":"IF(Field!$J31=\"\",\"\",INDEX(Lists!$CG:$CG, MATCH(Field!$J31, Lists!$CG:$CG, 0)))","v":""},null,null,null,3,"Girls Under 13 Long Jump",1,{"$f":"IF(Field!$E31=\"\",\"\",INDEX(Lists!$AG:$AG, MATCH(Field!$E31, Lists!$AI:$AI, 0)))","v":""},{"$f":"IF(Field!$E31=\"\",\"\",INDEX(Lists!$AH:$AH, MATCH(Field!$E31, Lists!$AI:$AI, 0)))","v":""},{"$f":"IF(Field!$E31=\"\",\"\",INDEX(Lists!$AI:$AI, MATCH(Field!$E31, Lists!$AI:$AI, 0)))","v":""},null,4,"Boys Under 13 Long Jump",1,{"$f":"IF(Field!$J31=\"\",\"\",INDEX(Lists!$CE:$CE, MATCH(Field!$J31, Lists!$CG:$CG, 0)))","v":""},{"$f":"IF(Field!$J31=\"\",\"\",INDEX(Lists!$CF:$CF, MATCH(Field!$J31, Lists!$CG:$CG, 0)))","v":""},{"$f":"IF(Field!$J31=\"\",\"\",INDEX(Lists!$CG:$CG, MATCH(Field!$J31, Lists!$CG:$CG, 0)))","v":""}]
[null,"Long Jump",2,{"$f":"IF(Field!$E32=\"\",\"\",INDEX(Lists!$AI:$AI, MATCH(Field!$E32, Lists!$AI:$AI, 0)))","v":""},null,null,null,"Long Jump",null,2,{"$f":"IF(Field!$J32=\"\",\"\",INDEX(Lists!$CG:$CG, MATCH(Field!$J32, Lists!$CG:$CG, 0)))","v":""},null,null,null,3,"Girls Under 13 Long Jump",2,{"$f":"IF(Field!$E32=\"\",\"\",INDEX(Lists!$AG:$AG, MATCH(Field!$E32, Lists!$AI:$AI, 0)))","v":""},{"$f":"IF(Field!$E32=\"\",\"\",INDEX(Lists!$AH:$AH, MATCH(Field!$E32, Lists!$AI:$AI, 0)))","v":""},{"$f":"IF(Field!$E32=\"\",\"\",INDEX(Lists!$AI:$AI, MATCH(Field!$E32, Lists!$AI:$AI, 0)))","v":""},null,4,"Boys Under 13 Long Jump",2,{"$f":"IF(Field!$J32=\"\",\"\",INDEX(Lists!$CE:$CE, MATCH(Field!$J32, Lists!$CG:$CG, 0)))","v":""},{"$f":"IF(Field!$J32=\"\",\"\",INDEX(Lists!$CF:$CF, MATCH(Field!$J32, Lists!$CG:$CG, 0)))","v":""},{"$f":"IF(Field!$J32=\"\",\"\",INDEX(Lists!$CG:$CG, MATCH(Field!$J32, Lists!$CG:$CG, 0)))","v":""}]
[null,null,3,{"$f":"IF(Field!$E33=\"\",\"\",INDEX(Lists!$AI:$AI, MATCH(Field!$E33, Lists!$AI:$AI, 0)))","v":""},null,null,null,null,null,3,{"$f":"IF(Field!$J33=\"\",\"\",INDEX(Lists!$CG:$CG, MATCH(Field!$J33, Lists!$CG:$CG, 0)))","v":""},null,null,null,3,"Girls Under 13 Long Jump",3,{"$f":"IF(Field!$E33=\"\",\"\",INDEX(Lists!$AG:$AG, MATCH(Field!$E33, Lists!$AI:$AI, 0)))","v":""},{"$f":"IF(Field!$E33=\"\",\"\",INDEX(Lists!$AH:$AH, MATCH(Field!$E33, Lists!$AI:$AI, 0)))","v":""},{"$f":"IF(Field!$E33=\"\",\"\",INDEX(Lists!$AI:$AI, MATCH(Field!$E33, Lists!$AI:$AI, 0)))","v":""},null,4,"Boys Under 13 Long Jump",3,{"$f":"IF(Field!$J33=\"\",\"\",INDEX(Lists!$CE:$CE, MATCH(Field!$J33, Lists!$CG:$CG, 0)))","v":""},{"$f":"IF(Field!$J33=\"\",\"\",INDEX(Lists!$CF:$CF, MATCH(Field!$J33, Lists!$CG:$CG, 0)))","v":""},{"$f":"IF(Field!$J33=\"\",\"\",INDEX(Lists!$CG:$CG, MATCH(Field!$J33, Lists!$CG:$CG, 0)))","v":""}]
[]
[25,"Girls 13 & Over",1,{"$f":"IF(Field!$E35=\"\",\"\",INDEX(Lists!$AS:$AS, MATCH(Field!$E35, Lists!$AS:$AS, 0)))","v":""},null,null,26,"Boys 13 & Over",null,1,{"$f":"IF(Field!$J35=\"\",\"\",INDEX(Lists!$CQ:$CQ, MATCH(Field!$J35, Lists!$CQ:$CQ, 0)))","v":""},null,null,null,25,"Girls 13 & Over Long Jump",1,{"$f":"IF(Field!$E35=\"\",\"\",INDEX(Lists!$AQ:$AQ, MATCH(Field!$E35, Lists!$AS:$AS, 0)))","v":""},{"$f":"IF(Field!$E35=\"\",\"\",INDEX(Lists!$AR:$AR, MATCH(Field!$E35, Lists!$AS:$AS, 0)))","v":""},{"$f":"IF(Field!$E35=\"\",\"\",INDEX(Lists!$AS:$AS, MATCH(Field!$E35, Lists!$AS:$AS, 0)))","v":""},null,26,"Boys 13 & Over Long Jump",1,{"$f":"IF(Field!$J35=\"\",\"\",INDEX(Lists!$CO:$CO, MATCH(Field!$J35, Lists!$CQ:$CQ, 0)))","v":""},{"$f":"IF(Field!$J35=\"\",\"\",INDEX(Lists!$CP:$CP, MATCH(Field!$J35, Lists!$CQ:$CQ, 0)))","v":""},{"$f":"IF(Field!$J35=\"\",\"\",INDEX(Lists!$CQ:$CQ, MATCH(Field!$J35, Lists!$CQ:$CQ, 0)))","v":""}]
[null,"Long Jump",2,{"$f":"IF(Field!$E36=\"\",\"\",INDEX(Lists!$AS:$AS, MATCH(Field!$E36, Lists!$AS:$AS, 0)))","v":""},null,null,null,"Long Jump",null,2,{"$f":"IF(Field!$J36=\"\",\"\",INDEX(Lists!$CQ:$CQ, MATCH(Field!$J36, Lists!$CQ:$CQ, 0)))","v":""},null,null,null,25,"Girls 13 & Over Long Jump",2,{"$f":"IF(Field!$E36=\"\",\"\",INDEX(Lists!$AQ:$AQ, MATCH(Field!$E36, Lists!$AS:$AS, 0)))","v":""},{"$f":"IF(Field!$E36=\"\",\"\",INDEX(Lists!$AR:$AR, MATCH(Field!$E36, Lists!$AS:$AS, 0)))","v":""},{"$f":"IF(Field!$E36=\"\",\"\",INDEX(Lists!$AS:$AS, MATCH(Field!$E36, Lists!$AS:$AS, 0)))","v":""},null,26,"Boys 13 & Over Long Jump",2,{"$f":"IF(Field!$J36=\"\",\"\",INDEX(Lists!$CO:$CO, MATCH(Field!$J36, Lists!$CQ:$CQ, 0)))","v":""},{"$f":"IF(Field!$J36=\"\",\"\",INDEX(Lists!$CP:$CP, MATCH(Field!$J36, Lists!$CQ:$CQ, 0)))","v":""},{"$f":"IF(Field!$J36=\"\",\"\",INDEX(Lists!$CQ:$CQ, MATCH(Field!$J36, Lists!$CQ:$CQ, 0)))","v":""}]
[null,null,3,{"$f":"IF(Field!$E37=\"\",\"\",INDEX(Lists!$AS:$AS, MATCH(Field!$E37, Lists!$AS:$AS, 0)))","v":""},null,null,null,null,null,3,{"$f":"IF(Field!$J37=\"\",\"\",INDEX(Lists!$CQ:$CQ, MATCH(Field!$J37, Lists!$CQ:$CQ, 0)))","v":""},null,null,null,25,"Girls 13 & Over Long Jump",3,{"$f":"IF(Field!$E37=\"\",\"\",INDEX(Lists!$AQ:$AQ, MATCH(Field!$E37, Lists!$AS:$AS, 0)))","v":""},{"$f":"IF(Field!$E37=\"\",\"\",INDEX(Lists!$AR:$AR, MATCH(Field!$E37, Lists!$AS:$AS, 0)))","v":""},{"$f":"IF(Field!$E37=\"\",\"\",INDEX(Lists!$AS:$AS, MATCH(Field!$E37, Lists!$AS:$AS, 0)))","v":""},null,26,"Boys 13 & Over Long Jump",3,{"$f":"IF(Field!$J37=\"\",\"\",INDEX(Lists!$CO:$CO, MATCH(Field!$J37, Lists!$CQ:$CQ, 0)))","v":""},{"$f":"IF(Field!$J37=\"\",\"\",INDEX(Lists!$CP:$CP, MATCH(Field!$J37, Lists!$CQ:$CQ, 0)))","v":""},{"$f":"IF(Field!$J37=\"\",\"\",INDEX(Lists!$CQ:$CQ, MATCH(Field!$J37, Lists!$CQ:$CQ, 0)))","v":""}]
[]
[31,"Girls Under 11",1,{"$f":"IF(Field!$E39=\"\",\"\",INDEX(Lists!$O:$O, MATCH(Field!$E39, Lists!$O:$O, 0)))","v":""},null,null,32,"Boys Under 11",null,1,{"$f":"IF(Field!$J39=\"\",\"\",INDEX(Lists!$BM:$BM, MATCH(Field!$J39, Lists!$BM:$BM, 0)))","v":""},null,null,null,31,"Girls Under 11 Discus",1,{"$f":"IF(Field!$E39=\"\",\"\",INDEX(Lists!$M:$M, MATCH(Field!$E39, Lists!$O:$O, 0)))","v":""},{"$f":"IF(Field!$E39=\"\",\"\",INDEX(Lists!$N:$N, MATCH(Field!$E39, Lists!$O:$O, 0)))","v":""},{"$f":"IF(Field!$E39=\"\",\"\",INDEX(Lists!$O:$O, MATCH(Field!$E39, Lists!$O:$O, 0)))","v":""},null,32,"Boys Under 11 Discus",1,{"$f":"IF(Field!$J39=\"\",\"\",INDEX(Lists!$BK:$BK, MATCH(Field!$J39, Lists!$BM:$BM, 0)))","v":""},{"$f":"IF(Field!$J39=\"\",\"\",INDEX(Lists!$BL:$BL, MATCH(Field!$J39, Lists!$BM:$BM, 0)))","v":""},{"$f":"IF(Field!$J39=\"\",\"\",INDEX(Lists!$BM:$BM, MATCH(Field!$J39, Lists!$BM:$BM, 0)))","v":""}]
[null,"Discus",2,{"$f":"IF(Field!$E40=\"\",\"\",INDEX(Lists!$O:$O, MATCH(Field!$E40, Lists!$O:$O, 0)))","v":""},null,null,null,"Discus",null,2,{"$f":"IF(Field!$J40=\"\",\"\",INDEX(Lists!$BM:$BM, MATCH(Field!$J40, Lists!$BM:$BM, 0)))","v":""},null,null,null,31,"Girls Under 11 Discus",2,{"$f":"IF(Field!$E40=\"\",\"\",INDEX(Lists!$M:$M, MATCH(Field!$E40, Lists!$O:$O, 0)))","v":""},{"$f":"IF(Field!$E40=\"\",\"\",INDEX(Lists!$N:$N, MATCH(Field!$E40, Lists!$O:$O, 0)))","v":""},{"$f":"IF(Field!$E40=\"\",\"\",INDEX(Lists!$O:$O, MATCH(Field!$E40, Lists!$O:$O, 0)))","v":""},null,32,"Boys Under 11 Discus",2,{"$f":"IF(Field!$J40=\"\",\"\",INDEX(Lists!$BK:$BK, MATCH(Field!$J40, Lists!$BM:$BM, 0)))","v":""},{"$f":"IF(Field!$J40=\"\",\"\",INDEX(Lists!$BL:$BL, MATCH(Field!$J40, Lists!$BM:$BM, 0)))","v":""},{"$f":"IF(Field!$J40=\"\",\"\",INDEX(Lists!$BM:$BM, MATCH(Field!$J40, Lists!$BM:$BM, 0)))","v":""}]
[null,null,3,{"$f":"IF(Field!$E41=\"\",\"\",INDEX(Lists!$O:$O, MATCH(Field!$E41, Lists!$O:$O, 0)))","v":""},null,null,null,null,null,3,{"$f":"IF(Field!$J41=\"\",\"\",INDEX(Lists!$BM:$BM, MATCH(Field!$J41, Lists!$BM:$BM, 0)))","v":""},null,null,null,31,"Girls Under 11 Discus",3,{"$f":"IF(Field!$E41=\"\",\"\",INDEX(Lists!$M:$M, MATCH(Field!$E41, Lists!$O:$O, 0)))","v":""},{"$f":"IF(Field!$E41=\"\",\"\",INDEX(Lists!$N:$N, MATCH(Field!$E41, Lists!$O:$O, 0)))","v":""},{"$f":"IF(Field!$E41=\"\",\"\",INDEX(Lists!$O:$O, MATCH(Field!$E41, Lists!$O:$O, 0)))","v":""},null,32,"Boys Under 11 Discus",3,{"$f":"IF(Field!$J41=\"\",\"\",INDEX(Lists!$BK:$BK, MATCH(Field!$J41, Lists!$BM:$BM, 0)))","v":""},{"$f":"IF(Field!$J41=\"\",\"\",INDEX(Lists!$BL:$BL, MATCH(Field!$J41, Lists!$BM:$BM, 0)))","v":""},{"$f":"IF(Field!$J41=\"\",\"\",INDEX(Lists!$BM:$BM, MATCH(Field!$J41, Lists!$BM:$BM, 0)))","v":""}]
[]
[59,"Girls Under 12",1,{"$f":"IF(Field!$E43=\"\",\"\",INDEX(Lists!$Y:$Y, MATCH(Field!$E43, Lists!$Y:$Y, 0)))","v":""},null,null,60,"Boys Under 12",null,1,{"$f":"IF(Field!$J43=\"\",\"\",INDEX(Lists!$BW:$BW, MATCH(Field!$J43, Lists!$BW:$BW, 0)))","v":""},null,null,null,59,"Girls Under 12 Discus",1,{"$f":"IF(Field!$E43=\"\",\"\",INDEX(Lists!$W:$W, MATCH(Field!$E43, Lists!$Y:$Y, 0)))","v":""},{"$f":"IF(Field!$E43=\"\",\"\",INDEX(Lists!$X:$X, MATCH(Field!$E43, Lists!$Y:$Y, 0)))","v":""},{"$f":"IF(Field!$E43=\"\",\"\",INDEX(Lists!$Y:$Y, MATCH(Field!$E43, Lists!$Y:$Y, 0)))","v":""},null,60,"Boys Under 12 Discus",1,{"$f":"IF(Field!$J43=\"\",\"\",INDEX(Lists!$BU:$BU, MATCH(Field!$J43, Lists!$BW:$BW, 0)))","v":""},{"$f":"IF(Field!$J43=\"\",\"\",INDEX(Lists!$BV:$BV, MATCH(Field!$J43, Lists!$BW:$BW, 0)))","v":""},{"$f":"IF(Field!$J43=\"\",\"\",INDEX(Lists!$BW:$BW, MATCH(Field!$J43, Lists!$BW:$BW, 0)))","v":""}]
[null,"Discus",2,{"$f":"IF(Field!$E44=\"\",\"\",INDEX(Lists!$Y:$Y, MATCH(Field!$E44, Lists!$Y:$Y, 0)))","v":""},null,null,null,"Discus",null,2,{"$f":"IF(Field!$J44=\"\",\"\",INDEX(Lists!$BW:$BW, MATCH(Field!$J44, Lists!$BW:$BW, 0)))","v":""},null,null,null,59,"Girls Under 12 Discus",2,{"$f":"IF(Field!$E44=\"\",\"\",INDEX(Lists!$W:$W, MATCH(Field!$E44, Lists!$Y:$Y, 0)))","v":""},{"$f":"IF(Field!$E44=\"\",\"\",INDEX(Lists!$X:$X, MATCH(Field!$E44, Lists!$Y:$Y, 0)))","v":""},{"$f":"IF(Field!$E44=\"\",\"\",INDEX(Lists!$Y:$Y, MATCH(Field!$E44, Lists!$Y:$Y, 0)))","v":""},null,60,"Boys Under 12 Discus",2,{"$f":"IF(Field!$J44=\"\",\"\",INDEX(Lists!$BU:$BU, MATCH(Field!$J44, Lists!$BW:$BW, 0)))","v":""},{"$f":"IF(Field!$J44=\"\",\"\",INDEX(Lists!$BV:$BV, MATCH(Field!$J44, Lists!$BW:$BW, 0)))","v":""},{"$f":"IF(Field!$J44=\"\",\"\",INDEX(Lists!$BW:$BW, MATCH(Field!$J44, Lists!$BW:$BW, 0)))","v":""}]
[null,null,3,{"$f":"IF(Field!$E45=\"\",\"\",INDEX(Lists!$Y:$Y, MATCH(Field!$E45, Lists!$Y:$Y, 0)))","v":""},null,null,null,null,null,3,{"$f":"IF(Field!$J45=\"\",\"\",INDEX(Lists!$BW:$BW, MATCH(Field!$J45, Lists!$BW:$BW, 0)))","v":""},null,null,null,59,"Girls Under 12 Discus",3,{"$f":"IF(Field!$E45=\"\",\"\",INDEX(Lists!$W:$W, MATCH(Field!$E45, Lists!$Y:$Y, 0)))","v":""},{"$f":"IF(Field!$E45=\"\",\"\",INDEX(Lists!$X:$X, MATCH(Field!$E45, Lists!$Y:$Y, 0)))","v":""},{"$f":"IF(Field!$E45=\"\",\"\",INDEX(Lists!$Y:$Y, MATCH(Field!$E45, Lists!$Y:$Y, 0)))","v":""},null,60,"Boys Under 12 Discus",3,{"$f":"IF(Field!$J45=\"\",\"\",INDEX(Lists!$BU:$BU, MATCH(Field!$J45, Lists!$BW:$BW, 0)))","v":""},{"$f":"IF(Field!$J45=\"\",\"\",INDEX(Lists!$BV:$BV, MATCH(Field!$J45, Lists!$BW:$BW, 0)))","v":""},{"$f":"IF(Field!$J45=\"\",\"\",INDEX(Lists!$BW:$BW, MATCH(Field!$J45, Lists!$BW:$BW, 0)))","v":""}]
[]
[21,"Girls Under 13",1,{"$f":"IF(Field!$E47=\"\",\"\",INDEX(Lists!$AI:$AI, MATCH(Field!$E47, Lists!$AI:$AI, 0)))","v":""},null,null,22,"Boys Under 13",null,1,{"$f":"IF(Field!$J47=\"\",\"\",INDEX(Lists!$CG:$CG, MATCH(Field!$J47, Lists!$CG:$CG, 0)))","v":""},null,null,null,21,"Girls Under 13 Discus",1,{"$f":"IF(Field!$E47=\"\",\"\",INDEX(Lists!$AG:$AG, MATCH(Field!$E47, Lists!$AI:$AI, 0)))","v":""},{"$f":"IF(Field!$E47=\"\",\"\",INDEX(Lists!$AH:$AH, MATCH(Field!$E47, Lists!$AI:$AI, 0)))","v":""},{"$f":"IF(Field!$E47=\"\",\"\",INDEX(Lists!$AI:$AI, MATCH(Field!$E47, Lists!$AI:$AI, 0)))","v":""},null,22,"Boys Under 13 Discus",1,{"$f":"IF(Field!$J47=\"\",\"\",INDEX(Lists!$CE:$CE, MATCH(Field!$J47, Lists!$CG:$CG, 0)))","v":""},{"$f":"IF(Field!$J47=\"\",\"\",INDEX(Lists!$CF:$CF, MATCH(Field!$J47, Lists!$CG:$CG, 0)))","v":""},{"$f":"IF(Field!$J47=\"\",\"\",INDEX(Lists!$CG:$CG, MATCH(Field!$J47, Lists!$CG:$CG, 0)))","v":""}]
[null,"Discus",2,{"$f":"IF(Field!$E48=\"\",\"\",INDEX(Lists!$AI:$AI, MATCH(Field!$E48, Lists!$AI:$AI, 0)))","v":""},null,null,null,"Discus",null,2,{"$f":"IF(Field!$J48=\"\",\"\",INDEX(Lists!$CG:$CG, MATCH(Field!$J48, Lists!$CG:$CG, 0)))","v":""},null,null,null,21,"Girls Under 13 Discus",2,{"$f":"IF(Field!$E48=\"\",\"\",INDEX(Lists!$AG:$AG, MATCH(Field!$E48, Lists!$AI:$AI, 0)))","v":""},{"$f":"IF(Field!$E48=\"\",\"\",INDEX(Lists!$AH:$AH, MATCH(Field!$E48, Lists!$AI:$AI, 0)))","v":""},{"$f":"IF(Field!$E48=\"\",\"\",INDEX(Lists!$AI:$AI, MATCH(Field!$E48, Lists!$AI:$AI, 0)))","v":""},null,22,"Boys Under 13 Discus",2,{"$f":"IF(Field!$J48=\"\",\"\",INDEX(Lists!$CE:$CE, MATCH(Field!$J48, Lists!$CG:$CG, 0)))","v":""},{"$f":"IF(Field!$J48=\"\",\"\",INDEX(Lists!$CF:$CF, MATCH(Field!$J48, Lists!$CG:$CG, 0)))","v":""},{"$f":"IF(Field!$J48=\"\",\"\",INDEX(Lists!$CG:$CG, MATCH(Field!$J48, Lists!$CG:$CG, 0)))","v":""}]
[null,null,3,{"$f":"IF(Field!$E49=\"\",\"\",INDEX(Lists!$AI:$AI, MATCH(Field!$E49, Lists!$AI:$AI, 0)))","v":""},null,null,null,null,null,3,{"$f":"IF(Field!$J49=\"\",\"\",INDEX(Lists!$CG:$CG, MATCH(Field!$J49, Lists!$CG:$CG, 0)))","v":""},null,null,null,21,"Girls Under 13 Discus",3,{"$f":"IF(Field!$E49=\"\",\"\",INDEX(Lists!$AG:$AG, MATCH(Field!$E49, Lists!$AI:$AI, 0)))","v":""},{"$f":"IF(Field!$E49=\"\",\"\",INDEX(Lists!$AH:$AH, MATCH(Field!$E49, Lists!$AI:$AI, 0)))","v":""},{"$f":"IF(Field!$E49=\"\",\"\",INDEX(Lists!$AI:$AI, MATCH(Field!$E49, Lists!$AI:$AI, 0)))","v":""},null,22,"Boys Under 13 Discus",3,{"$f":"IF(Field!$J49=\"\",\"\",INDEX(Lists!$CE:$CE, MATCH(Field!$J49, Lists!$CG:$CG, 0)))","v":""},{"$f":"IF(Field!$J49=\"\",\"\",INDEX(Lists!$CF:$CF, MATCH(Field!$J49, Lists!$CG:$CG, 0)))","v":""},{"$f":"IF(Field!$J49=\"\",\"\",INDEX(Lists!$CG:$CG, MATCH(Field!$J49, Lists!$CG:$CG, 0)))","v":""}]
[]
[45,"Girls 13 & Over",1,{"$f":"IF(Field!$E51=\"\",\"\",INDEX(Lists!$AS:$AS, MATCH(Field!$E51, Lists!$AS:$AS, 0)))","v":""},null,null,46,"Boys 13 & Over",null,1,{"$f":"IF(Field!$J51=\"\",\"\",INDEX(Lists!$CQ:$CQ, MATCH(Field!$J51, Lists!$CQ:$CQ, 0)))","v":""},null,null,null,45,"Girls 13 & Over Discus",1,{"$f":"IF(Field!$E51=\"\",\"\",INDEX(Lists!$AQ:$AQ, MATCH(Field!$E51, Lists!$AS:$AS, 0)))","v":""},{"$f":"IF(Field!$E51=\"\",\"\",INDEX(Lists!$AR:$AR, MATCH(Field!$E51, Lists!$AS:$AS, 0)))","v":""},{"$f":"IF(Field!$E51=\"\",\"\",INDEX(Lists!$AS:$AS, MATCH(Field!$E51, Lists!$AS:$AS, 0)))","v":""},null,46,"Boys 13 & Over Discus",1,{"$f":"IF(Field!$J51=\"\",\"\",INDEX(Lists!$CO:$CO, MATCH(Field!$J51, Lists!$CQ:$CQ, 0)))","v":""},{"$f":"IF(Field!$J51=\"\",\"\",INDEX(Lists!$CP:$CP, MATCH(Field!$J51, Lists!$CQ:$CQ, 0)))","v":""},{"$f":"IF(Field!$J51=\"\",\"\",INDEX(Lists!$CQ:$CQ, MATCH(Field!$J51, Lists!$CQ:$CQ, 0)))","v":""}]
[null,"Discus",2,{"$f":"IF(Field!$E52=\"\",\"\",INDEX(Lists!$AS:$AS, MATCH(Field!$E52, Lists!$AS:$AS, 0)))","v":""},null,null,null,"Discus",null,2,{"$f":"IF(Field!$J52=\"\",\"\",INDEX(Lists!$CQ:$CQ, MATCH(Field!$J52, Lists!$CQ:$CQ, 0)))","v":""},null,null,null,45,"Girls 13 & Over Discus",2,{"$f":"IF(Field!$E52=\"\",\"\",INDEX(Lists!$AQ:$AQ, MATCH(Field!$E52, Lists!$AS:$AS, 0)))","v":""},{"$f":"IF(Field!$E52=\"\",\"\",INDEX(Lists!$AR:$AR, MATCH(Field!$E52, Lists!$AS:$AS, 0)))","v":""},{"$f":"IF(Field!$E52=\"\",\"\",INDEX(Lists!$AS:$AS, MATCH(Field!$E52, Lists!$AS:$AS, 0)))","v":""},null,46,"Boys 13 & Over Discus",2,{"$f":"IF(Field!$J52=\"\",\"\",INDEX(Lists!$CO:$CO, MATCH(Field!$J52, Lists!$CQ:$CQ, 0)))","v":""},{"$f":"IF(Field!$J52=\"\",\"\",INDEX(Lists!$CP:$CP, MATCH(Field!$J52, Lists!$CQ:$CQ, 0)))","v":""},{"$f":"IF(Field!$J52=\"\",\"\",INDEX(Lists!$CQ:$CQ, MATCH(Field!$J52, Lists!$CQ:$CQ, 0)))","v":""}]
[null,null,3,{"$f":"IF(Field!$E53=\"\",\"\",INDEX(Lists!$AS:$AS, MATCH(Field!$E53, Lists!$AS:$AS, 0)))","v":""},null,null,null,null,null,3,{"$f":"IF(Field!$J53=\"\",\"\",INDEX(Lists!$CQ:$CQ, MATCH(Field!$J53, Lists!$CQ:$CQ, 0)))","v":""},null,null,null,45,"Girls 13 & Over Discus",3,{"$f":"IF(Field!$E53=\"\",\"\",INDEX(Lists!$AQ:$AQ, MATCH(Field!$E53, Lists!$AS:$AS, 0)))","v":""},{"$f":"IF(Field!$E53=\"\",\"\",INDEX(Lists!$AR:$AR, MATCH(Field!$E53, Lists!$AS:$AS, 0)))","v":""},{"$f":"IF(Field!$E53=\"\",\"\",INDEX(Lists!$AS:$AS, MATCH(Field!$E53, Lists!$AS:$AS, 0)))","v":""},null,46,"Boys 13 & Over Discus",3,{"$f":"IF(Field!$J53=\"\",\"\",INDEX(Lists!$CO:$CO, MATCH(Field!$J53, Lists!$CQ:$CQ, 0)))","v":""},{"$f":"IF(Field!$J53=\"\",\"\",INDEX(Lists!$CP:$CP, MATCH(Field!$J53, Lists!$CQ:$CQ, 0)))","v":""},{"$f":"IF(Field!$J53=\"\",\"\",INDEX(Lists!$CQ:$CQ, MATCH(Field!$J53, Lists!$CQ:$CQ, 0)))","v":""}]
[]
[23,"Girls Under 11",1,{"$f":"IF(Field!$E55=\"\",\"\",INDEX(Lists!$O:$O, MATCH(Field!$E55, Lists!$O:$O, 0)))","v":""},null,null,24,"Boys Under 11",null,1,{"$f":"IF(Field!$J55=\"\",\"\",INDEX(Lists!$BM:$BM, MATCH(Field!$J55, Lists!$BM:$BM, 0)))","v":""},null,null,null,23,"Girls Under 11 Shot Put",1,{"$f":"IF(Field!$E55=\"\",\"\",INDEX(Lists!$M:$M, MATCH(Field!$E55, Lists!$O:$O, 0)))","v":""},{"$f":"IF(Field!$E55=\"\",\"\",INDEX(Lists!$N:$N, MATCH(Field!$E55, Lists!$O:$O, 0)))","v":""},{"$f":"IF(Field!$E55=\"\",\"\",INDEX(Lists!$O:$O, MATCH(Field!$E55, Lists!$O:$O, 0)))","v":""},null,24,"Boys Under 11 Shot Put",1,{"$f":"IF(Field!$J55=\"\",\"\",INDEX(Lists!$BK:$BK, MATCH(Field!$J55, Lists!$BM:$BM, 0)))","v":""},{"$f":"IF(Field!$J55=\"\",\"\",INDEX(Lists!$BL:$BL, MATCH(Field!$J55, Lists!$BM:$BM, 0)))","v":""},{"$f":"IF(Field!$J55=\"\",\"\",INDEX(Lists!$BM:$BM, MATCH(Field!$J55, Lists!$BM:$BM, 0)))","v":""}]
[null,"Shot Put",2,{"$f":"IF(Field!$E56=\"\",\"\",INDEX(Lists!$O:$O, MATCH(Field!$E56, Lists!$O:$O, 0)))","v":""},null,null,null,"Shot Put",null,2,{"$f":"IF(Field!$J56=\"\",\"\",INDEX(Lists!$BM:$BM, MATCH(Field!$J56, Lists!$BM:$BM, 0)))","v":""},null,null,null,23,"Girls Under 11 Shot Put",2,{"$f":"IF(Field!$E56=\"\",\"\",INDEX(Lists!$M:$M, MATCH(Field!$E56, Lists!$O:$O, 0)))","v":""},{"$f":"IF(Field!$E56=\"\",\"\",INDEX(Lists!$N:$N, MATCH(Field!$E56, Lists!$O:$O, 0)))","v":""},{"$f":"IF(Field!$E56=\"\",\"\",INDEX(Lists!$O:$O, MATCH(Field!$E56, Lists!$O:$O, 0)))","v":""},null,24,"Boys Under 11 Shot Put",2,{"$f":"IF(Field!$J56=\"\",\"\",INDEX(Lists!$BK:$BK, MATCH(Field!$J56, Lists!$BM:$BM, 0)))","v":""},{"$f":"IF(Field!$J56=\"\",\"\",INDEX(Lists!$BL:$BL, MATCH(Field!$J56, Lists!$BM:$BM, 0)))","v":""},{"$f":"IF(Field!$J56=\"\",\"\",INDEX(Lists!$BM:$BM, MATCH(Field!$J56, Lists!$BM:$BM, 0)))","v":""}]
[null,null,3,{"$f":"IF(Field!$E57=\"\",\"\",INDEX(Lists!$O:$O, MATCH(Field!$E57, Lists!$O:$O, 0)))","v":""},null,null,null,null,null,3,{"$f":"IF(Field!$J57=\"\",\"\",INDEX(Lists!$BM:$BM, MATCH(Field!$J57, Lists!$BM:$BM, 0)))","v":""},null,null,null,23,"Girls Under 11 Shot Put",3,{"$f":"IF(Field!$E57=\"\",\"\",INDEX(Lists!$M:$M, MATCH(Field!$E57, Lists!$O:$O, 0)))","v":""},{"$f":"IF(Field!$E57=\"\",\"\",INDEX(Lists!$N:$N, MATCH(Field!$E57, Lists!$O:$O, 0)))","v":""},{"$f":"IF(Field!$E57=\"\",\"\",INDEX(Lists!$O:$O, MATCH(Field!$E57, Lists!$O:$O, 0)))","v":""},null,24,"Boys Under 11 Shot Put",3,{"$f":"IF(Field!$J57=\"\",\"\",INDEX(Lists!$BK:$BK, MATCH(Field!$J57, Lists!$BM:$BM, 0)))","v":""},{"$f":"IF(Field!$J57=\"\",\"\",INDEX(Lists!$BL:$BL, MATCH(Field!$J57, Lists!$BM:$BM, 0)))","v":""},{"$f":"IF(Field!$J57=\"\",\"\",INDEX(Lists!$BM:$BM, MATCH(Field!$J57, Lists!$BM:$BM, 0)))","v":""}]
[]
[5,"Girls Under 12",1,{"$f":"IF(Field!$E59=\"\",\"\",INDEX(Lists!$Y:$Y, MATCH(Field!$E59, Lists!$Y:$Y, 0)))","v":""},null,null,6,"Boys Under 12",null,1,{"$f":"IF(Field!$J59=\"\",\"\",INDEX(Lists!$BW:$BW, MATCH(Field!$J59, Lists!$BW:$BW, 0)))","v":""},null,null,null,5,"Girls Under 12 Shot Put",1,{"$f":"IF(Field!$E59=\"\",\"\",INDEX(Lists!$W:$W, MATCH(Field!$E59, Lists!$Y:$Y, 0)))","v":""},{"$f":"IF(Field!$E59=\"\",\"\",INDEX(Lists!$X:$X, MATCH(Field!$E59, Lists!$Y:$Y, 0)))","v":""},{"$f":"IF(Field!$E59=\"\",\"\",INDEX(Lists!$Y:$Y, MATCH(Field!$E59, Lists!$Y:$Y, 0)))","v":""},null,6,"Boys Under 12 Shot Put",1,{"$f":"IF(Field!$J59=\"\",\"\",INDEX(Lists!$BU:$BU, MATCH(Field!$J59, Lists!$BW:$BW, 0)))","v":""},{"$f":"IF(Field!$J59=\"\",\"\",INDEX(Lists!$BV:$BV, MATCH(Field!$J59, Lists!$BW:$BW, 0)))","v":""},{"$f":"IF(Field!$J59=\"\",\"\",INDEX(Lists!$BW:$BW, MATCH(Field!$J59, Lists!$BW:$BW, 0)))","v":""}]
[null,"Shot Put",2,{"$f":"IF(Field!$E60=\"\",\"\",INDEX(Lists!$Y:$Y, MATCH(Field!$E60, Lists!$Y:$Y, 0)))","v":""},null,null,null,"Shot Put",null,2,{"$f":"IF(Field!$J60=\"\",\"\",INDEX(Lists!$BW:$BW, MATCH(Field!$J60, Lists!$BW:$BW, 0)))","v":""},null,null,null,5,"Girls Under 12 Shot Put",2,{"$f":"IF(Field!$E60=\"\",\"\",INDEX(Lists!$W:$W, MATCH(Field!$E60, Lists!$Y:$Y, 0)))","v":""},{"$f":"IF(Field!$E60=\"\",\"\",INDEX(Lists!$X:$X, MATCH(Field!$E60, Lists!$Y:$Y, 0)))","v":""},{"$f":"IF(Field!$E60=\"\",\"\",INDEX(Lists!$Y:$Y, MATCH(Field!$E60, Lists!$Y:$Y, 0)))","v":""},null,6,"Boys Under 12 Shot Put",2,{"$f":"IF(Field!$J60=\"\",\"\",INDEX(Lists!$BU:$BU, MATCH(Field!$J60, Lists!$BW:$BW, 0)))","v":""},{"$f":"IF(Field!$J60=\"\",\"\",INDEX(Lists!$BV:$BV, MATCH(Field!$J60, Lists!$BW:$BW, 0)))","v":""},{"$f":"IF(Field!$J60=\"\",\"\",INDEX(Lists!$BW:$BW, MATCH(Field!$J60, Lists!$BW:$BW, 0)))","v":""}]
[null,null,3,{"$f":"IF(Field!$E61=\"\",\"\",INDEX(Lists!$Y:$Y, MATCH(Field!$E61, Lists!$Y:$Y, 0)))","v":""},null,null,null,null,null,3,{"$f":"IF(Field!$J61=\"\",\"\",INDEX(Lists!$BW:$BW, MATCH(Field!$J61, Lists!$BW:$BW, 0)))","v":""},null,null,null,5,"Girls Under 12 Shot Put",3,{"$f":"IF(Field!$E61=\"\",\"\",INDEX(Lists!$W:$W, MATCH(Field!$E61, Lists!$Y:$Y, 0)))","v":""},{"$f":"IF(Field!$E61=\"\",\"\",INDEX(Lists!$X:$X, MATCH(Field!$E61, Lists!$Y:$Y, 0)))","v":""},{"$f":"IF(Field!$E61=\"\",\"\",INDEX(Lists!$Y:$Y, MATCH(Field!$E61, Lists!$Y:$Y, 0)))","v":""},null,6,"Boys Under 12 Shot Put",3,{"$f":"IF(Field!$J61=\"\",\"\",INDEX(Lists!$BU:$BU, MATCH(Field!$J61, Lists!$BW:$BW, 0)))","v":""},{"$f":"IF(Field!$J61=\"\",\"\",INDEX(Lists!$BV:$BV, MATCH(Field!$J61, Lists!$BW:$BW, 0)))","v":""},{"$f":"IF(Field!$J61=\"\",\"\",INDEX(Lists!$BW:$BW, MATCH(Field!$J61, Lists!$BW:$BW, 0)))","v":""}]
[]
[47,"Girls Under 13",1,{"$f":"IF(Field!$E63=\"\",\"\",INDEX(Lists!$AI:$AI, MATCH(Field!$E63, Lists!$AI:$AI, 0)))","v":""},null,null,48,"Boys Under 13",null,1,{"$f":"IF(Field!$J63=\"\",\"\",INDEX(Lists!$CG:$CG, MATCH(Field!$J63, Lists!$CG:$CG, 0)))","v":""},null,null,null,47,"Girls Under 13 Shot Put",1,{"$f":"IF(Field!$E63=\"\",\"\",INDEX(Lists!$AG:$AG, MATCH(Field!$E63, Lists!$AI:$AI, 0)))","v":""},{"$f":"IF(Field!$E63=\"\",\"\",INDEX(Lists!$AH:$AH, MATCH(Field!$E63, Lists!$AI:$AI, 0)))","v":""},{"$f":"IF(Field!$E63=\"\",\"\",INDEX(Lists!$AI:$AI, MATCH(Field!$E63, Lists!$AI:$AI, 0)))","v":""},null,48,"Boys Under 13 Shot Put",1,{"$f":"IF(Field!$J63=\"\",\"\",INDEX(Lists!$CE:$CE, MATCH(Field!$J63, Lists!$CG:$CG, 0)))","v":""},{"$f":"IF(Field!$J63=\"\",\"\",INDEX(Lists!$CF:$CF, MATCH(Field!$J63, Lists!$CG:$CG, 0)))","v":""},{"$f":"IF(Field!$J63=\"\",\"\",INDEX(Lists!$CG:$CG, MATCH(Field!$J63, Lists!$CG:$CG, 0)))","v":""}]
[null,"Shot Put",2,{"$f":"IF(Field!$E64=\"\",\"\",INDEX(Lists!$AI:$AI, MATCH(Field!$E64, Lists!$AI:$AI, 0)))","v":""},null,null,null,"Shot Put",null,2,{"$f":"IF(Field!$J64=\"\",\"\",INDEX(Lists!$CG:$CG, MATCH(Field!$J64, Lists!$CG:$CG, 0)))","v":""},null,null,null,47,"Girls Under 13 Shot Put",2,{"$f":"IF(Field!$E64=\"\",\"\",INDEX(Lists!$AG:$AG, MATCH(Field!$E64, Lists!$AI:$AI, 0)))","v":""},{"$f":"IF(Field!$E64=\"\",\"\",INDEX(Lists!$AH:$AH, MATCH(Field!$E64, Lists!$AI:$AI, 0)))","v":""},{"$f":"IF(Field!$E64=\"\",\"\",INDEX(Lists!$AI:$AI, MATCH(Field!$E64, Lists!$AI:$AI, 0)))","v":""},null,48,"Boys Under 13 Shot Put",2,{"$f":"IF(Field!$J64=\"\",\"\",INDEX(Lists!$CE:$CE, MATCH(Field!$J64, Lists!$CG:$CG, 0)))","v":""},{"$f":"IF(Field!$J64=\"\",\"\",INDEX(Lists!$CF:$CF, MATCH(Field!$J64, Lists!$CG:$CG, 0)))","v":""},{"$f":"IF(Field!$J64=\"\",\"\",INDEX(Lists!$CG:$CG, MATCH(Field!$J64, Lists!$CG:$CG, 0)))","v":""}]
[null,null,3,{"$f":"IF(Field!$E65=\"\",\"\",INDEX(Lists!$AI:$AI, MATCH(Field!$E65, Lists!$AI:$AI, 0)))","v":""},null,null,null,null,null,3,{"$f":"IF(Field!$J65=\"\",\"\",INDEX(Lists!$CG:$CG, MATCH(Field!$J65, Lists!$CG:$CG, 0)))","v":""},null,null,null,47,"Girls Under 13 Shot Put",3,{"$f":"IF(Field!$E65=\"\",\"\",INDEX(Lists!$AG:$AG, MATCH(Field!$E65, Lists!$AI:$AI, 0)))","v":""},{"$f":"IF(Field!$E65=\"\",\"\",INDEX(Lists!$AH:$AH, MATCH(Field!$E65, Lists!$AI:$AI, 0)))","v":""},{"$f":"IF(Field!$E65=\"\",\"\",INDEX(Lists!$AI:$AI, MATCH(Field!$E65, Lists!$AI:$AI, 0)))","v":""},null,48,"Boys Under 13 Shot Put",3,{"$f":"IF(Field!$J65=\"\",\"\",INDEX(Lists!$CE:$CE, MATCH(Field!$J65, Lists!$CG:$CG, 0)))","v":""},{"$f":"IF(Field!$J65=\"\",\"\",INDEX(Lists!$CF:$CF, MATCH(Field!$J65, Lists!$CG:$CG, 0)))","v":""},{"$f":"IF(Field!$J65=\"\",\"\",INDEX(Lists!$CG:$CG, MATCH(Field!$J65, Lists!$CG:$CG, 0)))","v":""}]
[]
[33,"Girls 13 & Over",1,{"$f":"IF(Field!$E67=\"\",\"\",INDEX(Lists!$AS:$AS, MATCH(Field!$E67, Lists!$AS:$AS, 0)))","v":""},null,null,34,"Boys 13 & Over",null,1,{"$f":"IF(Field!$J67=\"\",\"\",INDEX(Lists!$CQ:$CQ, MATCH(Field!$J67, Lists!$CQ:$CQ, 0)))","v":""},null,null,null,33,"Girls 13 & Over Shot Put",1,{"$f":"IF(Field!$E67=\"\",\"\",INDEX(Lists!$AQ:$AQ, MATCH(Field!$E67, Lists!$AS:$AS, 0)))","v":""},{"$f":"IF(Field!$E67=\"\",\"\",INDEX(Lists!$AR:$AR, MATCH(Field!$E67, Lists!$AS:$AS, 0)))","v":""},{"$f":"IF(Field!$E67=\"\",\"\",INDEX(Lists!$AS:$AS, MATCH(Field!$E67, Lists!$AS:$AS, 0)))","v":""},null,34,"Boys 13 & Over Shot Put",1,{"$f":"IF(Field!$J67=\"\",\"\",INDEX(Lists!$CO:$CO, MATCH(Field!$J67, Lists!$CQ:$CQ, 0)))","v":""},{"$f":"IF(Field!$J67=\"\",\"\",INDEX(Lists!$CP:$CP, MATCH(Field!$J67, Lists!$CQ:$CQ, 0)))","v":""},{"$f":"IF(Field!$J67=\"\",\"\",INDEX(Lists!$CQ:$CQ, MATCH(Field!$J67, Lists!$CQ:$CQ, 0)))","v":""}]
[null,"Shot Put",2,{"$f":"IF(Field!$E68=\"\",\"\",INDEX(Lists!$AS:$AS, MATCH(Field!$E68, Lists!$AS:$AS, 0)))","v":""},null,null,null,"Shot Put",null,2,{"$f":"IF(Field!$J68=\"\",\"\",INDEX(Lists!$CQ:$CQ, MATCH(Field!$J68, Lists!$CQ:$CQ, 0)))","v":""},null,null,null,33,"Girls 13 & Over Shot Put",2,{"$f":"IF(Field!$E68=\"\",\"\",INDEX(Lists!$AQ:$AQ, MATCH(Field!$E68, Lists!$AS:$AS, 0)))","v":""},{"$f":"IF(Field!$E68=\"\",\"\",INDEX(Lists!$AR:$AR, MATCH(Field!$E68, Lists!$AS:$AS, 0)))","v":""},{"$f":"IF(Field!$E68=\"\",\"\",INDEX(Lists!$AS:$AS, MATCH(Field!$E68, Lists!$AS:$AS, 0)))","v":""},null,34,"Boys 13 & Over Shot Put",2,{"$f":"IF(Field!$J68=\"\",\"\",INDEX(Lists!$CO:$CO, MATCH(Field!$J68, Lists!$CQ:$CQ, 0)))","v":""},{"$f":"IF(Field!$J68=\"\",\"\",INDEX(Lists!$CP:$CP, MATCH(Field!$J68, Lists!$CQ:$CQ, 0)))","v":""},{"$f":"IF(Field!$J68=\"\",\"\",INDEX(Lists!$CQ:$CQ, MATCH(Field!$J68, Lists!$CQ:$CQ, 0)))","v":""}]
[null,null,3,{"$f":"IF(Field!$E69=\"\",\"\",INDEX(Lists!$AS:$AS, MATCH(Field!$E69, Lists!$AS:$AS, 0)))","v":""},null,null,null,null,null,3,{"$f":"IF(Field!$J69=\"\",\"\",INDEX(Lists!$CQ:$CQ, MATCH(Field!$J69, Lists!$CQ:$CQ, 0)))","v":""},null,null,null,33,"Girls 13 & Over Shot Put",3,{"$f":"IF(Field!$E69=\"\",\"\",INDEX(Lists!$AQ:$AQ, MATCH(Field!$E69, Lists!$AS:$AS, 0)))","v":""},{"$f":"IF(Field!$E69=\"\",\"\",INDEX(Lists!$AR:$AR, MATCH(Field!$E69, Lists!$AS:$AS, 0)))","v":""},{"$f":"IF(Field!$E69=\"\",\"\",INDEX(Lists!$AS:$AS, MATCH(Field!$E69, Lists!$AS:$AS, 0)))","v":""},null,34,"Boys 13 & Over Shot Put",3,{"$f":"IF(Field!$J69=\"\",\"\",INDEX(Lists!$CO:$CO, MATCH(Field!$J69, Lists!$CQ:$CQ, 0)))","v":""},{"$f":"IF(Field!$J69=\"\",\"\",INDEX(Lists!$CP:$CP, MATCH(Field!$J69, Lists!$CQ:$CQ, 0)))","v":""},{"$f":"IF(Field!$J69=\"\",\"\",INDEX(Lists!$CQ:$CQ, MATCH(Field!$J69, Lists!$CQ:$CQ, 0)))","v":""}]
[]
["Event","Event Title","Order","First Runner","Second Runner",null,null,null,"Third Runner",null,null,"Fourth Runner",null,null,43,"Girls Under 10 200m Relay","A1",{"$f":"IF(Relays!$E3=\"\",\"\",INDEX(Lists!$C:$C, MATCH(Relays!$E3, Lists!$E:$E, 0)))","v":""},{"$f":"IF(Relays!$E3=\"\",\"\",INDEX(Lists!$D:$D, MATCH(Relays!$E3, Lists!$E:$E, 0)))","v":""},{"$f":"IF(Relays!$E3=\"\",\"\",INDEX(Lists!$E:$E, MATCH(Relays!$E3, Lists!$E:$E, 0)))","v":""},null,44,"Boys Under 10 200m Relay","A1",{"$f":"IF(Relays!$E23=\"\",\"\",INDEX(Lists!$BA:$BA, MATCH(Relays!$E23, Lists!$BC:$BC, 0)))","v":""},{"$f":"IF(Relays!$E23=\"\",\"\",INDEX(Lists!$BB:$BB, MATCH(Relays!$E23, Lists!$BC:$BC, 0)))","v":""},{"$f":"IF(Relays!$E23=\"\",\"\",INDEX(Lists!$BC:$BC, MATCH(Relays!$E23, Lists!$BC:$BC, 0)))","v":""}]
[null,null,null,null,null,null,null,null,null,null,null,null,null,null,43,"Girls Under 10 200m Relay","A2",{"$f":"IF(Relays!$G3=\"\",\"\",INDEX(Lists!$C:$C, MATCH(Relays!$G3, Lists!$E:$E, 0)))","v":""},{"$f":"IF(Relays!$G3=\"\",\"\",INDEX(Lists!$D:$D, MATCH(Relays!$G3, Lists!$E:$E, 0)))","v":""},{"$f":"IF(Relays!$G3=\"\",\"\",INDEX(Lists!$E:$E, MATCH(Relays!$G3, Lists!$E:$E, 0)))","v":""},null,44,"Boys Under 10 200m Relay","A2",{"$f":"IF(Relays!$G23=\"\",\"\",INDEX(Lists!$BA:$BA, MATCH(Relays!$G23, Lists!$BC:$BC, 0)))","v":""},{"$f":"IF(Relays!$G23=\"\",\"\",INDEX(Lists!$BB:$BB, MATCH(Relays!$G23, Lists!$BC:$BC, 0)))","v":""},{"$f":"IF(Relays!$G23=\"\",\"\",INDEX(Lists!$BC:$BC, MATCH(Relays!$G23, Lists!$BC:$BC, 0)))","v":""}]
[43,"Girls Under 10","A",{"$f":"IF(Relays!$E3=\"\",\"\",INDEX(Lists!$E:$E, MATCH(Relays!$E3, Lists!$E:$E, 0)))","v":""},{"$f":"IF(Relays!$G3=\"\",\"\",INDEX(Lists!$E:$E, MATCH(Relays!$G3, Lists!$E:$E, 0)))","v":""},null,null,null,{"$f":"IF(Relays!$I3=\"\",\"\",INDEX(Lists!$E:$E, MATCH(Relays!$I3, Lists!$E:$E, 0)))","v":""},null,null,{"$f":"IF(Relays!$K3=\"\",\"\",INDEX(Lists!$E:$E, MATCH(Relays!$K3, Lists!$E:$E, 0)))","v":""},null,null,43,"Girls Under 10 200m Relay","A3",{"$f":"IF(Relays!$I3=\"\",\"\",INDEX(Lists!$C:$C, MATCH(Relays!$I3, Lists!$E:$E, 0)))","v":""},{"$f":"IF(Relays!$I3=\"\",\"\",INDEX(Lists!$D:$D, MATCH(Relays!$I3, Lists!$E:$E, 0)))","v":""},{"$f":"IF(Relays!$I3=\"\",\"\",INDEX(Lists!$E:$E, MATCH(Relays!$I3, Lists!$E:$E, 0)))","v":""},null,44,"Boys Under 10 200m Relay","A3",{"$f":"IF(Relays!$I23=\"\",\"\",INDEX(Lists!$BA:$BA, MATCH(Relays!$I23, Lists!$BC:$BC, 0)))","v":""},{"$f":"IF(Relays!$I23=\"\",\"\",INDEX(Lists!$BB:$BB, MATCH(Relays!$I23, Lists!$BC:$BC, 0)))","v":""},{"$f":"IF(Relays!$I23=\"\",\"\",INDEX(Lists!$BC:$BC, MATCH(Relays!$I23, Lists!$BC:$BC, 0)))","v":""}]
[null,"200m Relay","B",{"$f":"IF(Relays!$E4=\"\",\"\",INDEX(Lists!$E:$E, MATCH(Relays!$E4, Lists!$E:$E, 0)))","v":""},{"$f":"IF(Relays!$G4=\"\",\"\",INDEX(Lists!$E:$E, MATCH(Relays!$G4, Lists!$E:$E, 0)))","v":""},null,null,null,{"$f":"IF(Relays!$I4=\"\",\"\",INDEX(Lists!$E:$E, MATCH(Relays!$I4, Lists!$E:$E, 0)))","v":""},null,null,{"$f":"IF(Relays!$K4=\"\",\"\",INDEX(Lists!$E:$E, MATCH(Relays!$K4, Lists!$E:$E, 0)))","v":""},null,null,43,"Girls Under 10 200m Relay","A4",{"$f":"IF(Relays!$K3=\"\",\"\",INDEX(Lists!$C:$C, MATCH(Relays!$K3, Lists!$E:$E, 0)))","v":""},{"$f":"IF(Relays!$K3=\"\",\"\",INDEX(Lists!$D:$D, MATCH(Relays!$K3, Lists!$E:$E, 0)))","v":""},{"$f":"IF(Relays!$K3=\"\",\"\",INDEX(Lists!$E:$E, MATCH(Relays!$K3, Lists!$E:$E, 0)))","v":""},null,44,"Boys Under 10 200m Relay","A4",{"$f":"IF(Relays!$K23=\"\",\"\",INDEX(Lists!$BA:$BA, MATCH(Relays!$K23, Lists!$BC:$BC, 0)))","v":""},{"$f":"IF(Relays!$K23=\"\",\"\",INDEX(Lists!$BB:$BB, MATCH(Relays!$K23, Lists!$BC:$BC, 0)))","v":""},{"$f":"IF(Relays!$K23=\"\",\"\",INDEX(Lists!$BC:$BC, MATCH(Relays!$K23, Lists!$BC:$BC, 0)))","v":""}]
[null," ","C",{"$f":"IF(Relays!$E5=\"\",\"\",INDEX(Lists!$E:$E, MATCH(Relays!$E5, Lists!$E:$E, 0)))","v":""},{"$f":"IF(Relays!$G5=\"\",\"\",INDEX(Lists!$E:$E, MATCH(Relays!$G5, Lists!$E:$E, 0)))","v":""},null,null,null,{"$f":"IF(Relays!$I5=\"\",\"\",INDEX(Lists!$E:$E, MATCH(Relays!$I5, Lists!$E:$E, 0)))","v":""},null,null,{"$f":"IF(Relays!$K5=\"\",\"\",INDEX(Lists!$E:$E, MATCH(Relays!$K5, Lists!$E:$E, 0)))","v":""},null,null,43,"Girls Under 10 200m Relay","B1",{"$f":"IF(Relays!$E4=\"\",\"\",INDEX(Lists!$C:$C, MATCH(Relays!$E4, Lists!$E:$E, 0)))","v":""},{"$f":"IF(Relays!$E4=\"\",\"\",INDEX(Lists!$D:$D, MATCH(Relays!$E4, Lists!$E:$E, 0)))","v":""},{"$f":"IF(Relays!$E4=\"\",\"\",INDEX(Lists!$E:$E, MATCH(Relays!$E4, Lists!$E:$E, 0)))","v":""},null,44,"Boys Under 10 200m Relay","B1",{"$f":"IF(Relays!$E24=\"\",\"\",INDEX(Lists!$BA:$BA, MATCH(Relays!$E24, Lists!$BC:$BC, 0)))","v":""},{"$f":"IF(Relays!$E24=\"\",\"\",INDEX(Lists!$BB:$BB, MATCH(Relays!$E24, Lists!$BC:$BC, 0)))","v":""},{"$f":"IF(Relays!$E24=\"\",\"\",INDEX(Lists!$BC:$BC, MATCH(Relays!$E24, Lists!$BC:$BC, 0)))","v":""}]
[null,null,null,null,null,null,null,null,null,null,null,null,null,null,43,"Girls Under 10 200m Relay","B2",{"$f":"IF(Relays!$G4=\"\",\"\",INDEX(Lists!$C:$C, MATCH(Relays!$G4, Lists!$E:$E, 0)))","v":""},{"$f":"IF(Relays!$G4=\"\",\"\",INDEX(Lists!$D:$D, MATCH(Relays!$G4, Lists!$E:$E, 0)))","v":""},{"$f":"IF(Relays!$G4=\"\",\"\",INDEX(Lists!$E:$E, MATCH(Relays!$G4, Lists!$E:$E, 0)))","v":""},null,44,"Boys Under 10 200m Relay","B2",{"$f":"IF(Relays!$G24=\"\",\"\",INDEX(Lists!$BA:$BA, MATCH(Relays!$G24, Lists!$BC:$BC, 0)))","v":""},{"$f":"IF(Relays!$G24=\"\",\"\",INDEX(Lists!$BB:$BB, MATCH(Relays!$G24, Lists!$BC:$BC, 0)))","v":""},{"$f":"IF(Relays!$G24=\"\",\"\",INDEX(Lists!$BC:$BC, MATCH(Relays!$G24, Lists!$BC:$BC, 0)))","v":""}]
[49,"Girls Under 11","A",{"$f":"IF(Relays!$E7=\"\",\"\",INDEX(Lists!$O:$O, MATCH(Relays!$E7, Lists!$O:$O, 0)))","v":""},{"$f":"IF(Relays!$G7=\"\",\"\",INDEX(Lists!$O:$O, MATCH(Relays!$G7, Lists!$O:$O, 0)))","v":""},null,null,null,{"$f":"IF(Relays!$I7=\"\",\"\",INDEX(Lists!$O:$O, MATCH(Relays!$I7, Lists!$O:$O, 0)))","v":""},null,null,{"$f":"IF(Relays!$K7=\"\",\"\",INDEX(Lists!$O:$O, MATCH(Relays!$K7, Lists!$O:$O, 0)))","v":""},null,null,43,"Girls Under 10 200m Relay","B3",{"$f":"IF(Relays!$I4=\"\",\"\",INDEX(Lists!$C:$C, MATCH(Relays!$I4, Lists!$E:$E, 0)))","v":""},{"$f":"IF(Relays!$I4=\"\",\"\",INDEX(Lists!$D:$D, MATCH(Relays!$I4, Lists!$E:$E, 0)))","v":""},{"$f":"IF(Relays!$I4=\"\",\"\",INDEX(Lists!$E:$E, MATCH(Relays!$I4, Lists!$E:$E, 0)))","v":""},null,44,"Boys Under 10 200m Relay","B3",{"$f":"IF(Relays!$I24=\"\",\"\",INDEX(Lists!$BA:$BA, MATCH(Relays!$I24, Lists!$BC:$BC, 0)))","v":""},{"$f":"IF(Relays!$I24=\"\",\"\",INDEX(Lists!$BB:$BB, MATCH(Relays!$I24, Lists!$BC:$BC, 0)))","v":""},{"$f":"IF(Relays!$I24=\"\",\"\",INDEX(Lists!$BC:$BC, MATCH(Relays!$I24, Lists!$BC:$BC, 0)))","v":""}]
[null,"200m Relay","B",{"$f":"IF(Relays!$E8=\"\",\"\",INDEX(Lists!$O:$O, MATCH(Relays!$E8, Lists!$O:$O, 0)))","v":""},{"$f":"IF(Relays!$G8=\"\",\"\",INDEX(Lists!$O:$O, MATCH(Relays!$G8, Lists!$O:$O, 0)))","v":""},null,null,null,{"$f":"IF(Relays!$I8=\"\",\"\",INDEX(Lists!$O:$O, MATCH(Relays!$I8, Lists!$O:$O, 0)))","v":""},null,null,{"$f":"IF(Relays!$K8=\"\",\"\",INDEX(Lists!$O:$O, MATCH(Relays!$K8, Lists!$O:$O, 0)))","v":""},null,null,43,"Girls Under 10 200m Relay","B4",{"$f":"IF(Relays!$K4=\"\",\"\",INDEX(Lists!$C:$C, MATCH(Relays!$K4, Lists!$E:$E, 0)))","v":""},{"$f":"IF(Relays!$K4=\"\",\"\",INDEX(Lists!$D:$D, MATCH(Relays!$K4, Lists!$E:$E, 0)))","v":""},{"$f":"IF(Relays!$K4=\"\",\"\",INDEX(Lists!$E:$E, MATCH(Relays!$K4, Lists!$E:$E, 0)))","v":""},null,44,"Boys Under 10 200m Relay","B4",{"$f":"IF(Relays!$K24=\"\",\"\",INDEX(Lists!$BA:$BA, MATCH(Relays!$K24, Lists!$BC:$BC, 0)))","v":""},{"$f":"IF(Relays!$K24=\"\",\"\",INDEX(Lists!$BB:$BB, MATCH(Relays!$K24, Lists!$BC:$BC, 0)))","v":""},{"$f":"IF(Relays!$K24=\"\",\"\",INDEX(Lists!$BC:$BC, MATCH(Relays!$K24, Lists!$BC:$BC, 0)))","v":""}]
[null,null,"C",{"$f":"IF(Relays!$E9=\"\",\"\",INDEX(Lists!$O:$O, MATCH(Relays!$E9, Lists!$O:$O, 0)))","v":""},{"$f":"IF(Relays!$G9=\"\",\"\",INDEX(Lists!$O:$O, MATCH(Relays!$G9, Lists!$O:$O, 0)))","v":""},null,null,null,{"$f":"IF(Relays!$I9=\"\",\"\",INDEX(Lists!$O:$O, MATCH(Relays!$I9, Lists!$O:$O, 0)))","v":""},null,null,{"$f":"IF(Relays!$K9=\"\",\"\",INDEX(Lists!$O:$O, MATCH(Relays!$K9, Lists!$O:$O, 0)))","v":""},null,null,43,"Girls Under 10 200m Relay","C1",{"$f":"IF(Relays!$E5=\"\",\"\",INDEX(Lists!$C:$C, MATCH(Relays!$E5, Lists!$E:$E, 0)))","v":""},{"$f":"IF(Relays!$E5=\"\",\"\",INDEX(Lists!$D:$D, MATCH(Relays!$E5, Lists!$E:$E, 0)))","v":""},{"$f":"IF(Relays!$E5=\"\",\"\",INDEX(Lists!$E:$E, MATCH(Relays!$E5, Lists!$E:$E, 0)))","v":""},null,44,"Boys Under 10 200m Relay","C1",{"$f":"IF(Relays!$E25=\"\",\"\",INDEX(Lists!$BA:$BA, MATCH(Relays!$E25, Lists!$BC:$BC, 0)))","v":""},{"$f":"IF(Relays!$E25=\"\",\"\",INDEX(Lists!$BB:$BB, MATCH(Relays!$E25, Lists!$BC:$BC, 0)))","v":""},{"$f":"IF(Relays!$E25=\"\",\"\",INDEX(Lists!$BC:$BC, MATCH(Relays!$E25, Lists!$BC:$BC, 0)))","v":""}]
[null,null,null,null,null,null,null,null,null,null,null,null,null,null,43,"Girls Under 10 200m Relay","C2",{"$f":"IF(Relays!$G5=\"\",\"\",INDEX(Lists!$C:$C, MATCH(Relays!$G5, Lists!$E:$E, 0)))","v":""},{"$f":"IF(Relays!$G5=\"\",\"\",INDEX(Lists!$D:$D, MATCH(Relays!$G5, Lists!$E:$E, 0)))","v":""},{"$f":"IF(Relays!$G5=\"\",\"\",INDEX(Lists!$E:$E, MATCH(Relays!$G5, Lists!$E:$E, 0)))","v":""},null,44,"Boys Under 10 200m Relay","C2",{"$f":"IF(Relays!$G25=\"\",\"\",INDEX(Lists!$BA:$BA, MATCH(Relays!$G25, Lists!$BC:$BC, 0)))","v":""},{"$f":"IF(Relays!$G25=\"\",\"\",INDEX(Lists!$BB:$BB, MATCH(Relays!$G25, Lists!$BC:$BC, 0)))","v":""},{"$f":"IF(Relays!$G25=\"\",\"\",INDEX(Lists!$BC:$BC, MATCH(Relays!$G25, Lists!$BC:$BC, 0)))","v":""}]
[53,"Girls Under 12","A",{"$f":"IF(Relays!$E11=\"\",\"\",INDEX(Lists!$Y:$Y, MATCH(Relays!$E11, Lists!$Y:$Y, 0)))","v":""},{"$f":"IF(Relays!$G11=\"\",\"\",INDEX(Lists!$Y:$Y, MATCH(Relays!$G11, Lists!$Y:$Y, 0)))","v":""},null,null,null,{"$f":"IF(Relays!$I11=\"\",\"\",INDEX(Lists!$Y:$Y, MATCH(Relays!$I11, Lists!$Y:$Y, 0)))","v":""},null,null,{"$f":"IF(Relays!$K11=\"\",\"\",INDEX(Lists!$Y:$Y, MATCH(Relays!$K11, Lists!$Y:$Y, 0)))","v":""},null,null,43,"Girls Under 10 200m Relay","C3",{"$f":"IF(Relays!$I5=\"\",\"\",INDEX(Lists!$C:$C, MATCH(Relays!$I5, Lists!$E:$E, 0)))","v":""},{"$f":"IF(Relays!$I5=\"\",\"\",INDEX(Lists!$D:$D, MATCH(Relays!$I5, Lists!$E:$E, 0)))","v":""},{"$f":"IF(Relays!$I5=\"\",\"\",INDEX(Lists!$E:$E, MATCH(Relays!$I5, Lists!$E:$E, 0)))","v":""},null,44,"Boys Under 10 200m Relay","C3",{"$f":"IF(Relays!$I25=\"\",\"\",INDEX(Lists!$BA:$BA, MATCH(Relays!$I25, Lists!$BC:$BC, 0)))","v":""},{"$f":"IF(Relays!$I25=\"\",\"\",INDEX(Lists!$BB:$BB, MATCH(Relays!$I25, Lists!$BC:$BC, 0)))","v":""},{"$f":"IF(Relays!$I25=\"\",\"\",INDEX(Lists!$BC:$BC, MATCH(Relays!$I25, Lists!$BC:$BC, 0)))","v":""}]
[null,"200m Relay","B",{"$f":"IF(Relays!$E12=\"\",\"\",INDEX(Lists!$Y:$Y, MATCH(Relays!$E12, Lists!$Y:$Y, 0)))","v":""},{"$f":"IF(Relays!$G12=\"\",\"\",INDEX(Lists!$Y:$Y, MATCH(Relays!$G12, Lists!$Y:$Y, 0)))","v":""},null,null,null,{"$f":"IF(Relays!$I12=\"\",\"\",INDEX(Lists!$Y:$Y, MATCH(Relays!$I12, Lists!$Y:$Y, 0)))","v":""},null,null,{"$f":"IF(Relays!$K12=\"\",\"\",INDEX(Lists!$Y:$Y, MATCH(Relays!$K12, Lists!$Y:$Y, 0)))","v":""},null,null,43,"Girls Under 10 200m Relay","C4",{"$f":"IF(Relays!$K5=\"\",\"\",INDEX(Lists!$C:$C, MATCH(Relays!$K5, Lists!$E:$E, 0)))","v":""},{"$f":"IF(Relays!$K5=\"\",\"\",INDEX(Lists!$D:$D, MATCH(Relays!$K5, Lists!$E:$E, 0)))","v":""},{"$f":"IF(Relays!$K5=\"\",\"\",INDEX(Lists!$E:$E, MATCH(Relays!$K5, Lists!$E:$E, 0)))","v":""},null,44,"Boys Under 10 200m Relay","C4",{"$f":"IF(Relays!$K25=\"\",\"\",INDEX(Lists!$BA:$BA, MATCH(Relays!$K25, Lists!$BC:$BC, 0)))","v":""},{"$f":"IF(Relays!$K25=\"\",\"\",INDEX(Lists!$BB:$BB, MATCH(Relays!$K25, Lists!$BC:$BC, 0)))","v":""},{"$f":"IF(Relays!$K25=\"\",\"\",INDEX(Lists!$BC:$BC, MATCH(Relays!$K25, Lists!$BC:$BC, 0)))","v":""}]
[null,null,"C",{"$f":"IF(Relays!$E13=\"\",\"\",INDEX(Lists!$Y:$Y, MATCH(Relays!$E13, Lists!$Y:$Y, 0)))","v":""},{"$f":"IF(Relays!$G13=\"\",\"\",INDEX(Lists!$Y:$Y, MATCH(Relays!$G13, Lists!$Y:$Y, 0)))","v":""},null,null,null,{"$f":"IF(Relays!$I13=\"\",\"\",INDEX(Lists!$Y:$Y, MATCH(Relays!$I13, Lists!$Y:$Y, 0)))","v":""},null,null,{"$f":"IF(Relays!$K13=\"\",\"\",INDEX(Lists!$Y:$Y, MATCH(Relays!$K13, Lists!$Y:$Y, 0)))","v":""}]
[null,null,null,null,null,null,null,null,null,null,null,null,null,null,49,"Girls Under 11 200m Relay","A1",{"$f":"IF(Relays!$E7=\"\",\"\",INDEX(Lists!$M:$M, MATCH(Relays!$E7, Lists!$O:$O, 0)))","v":""},{"$f":"IF(Relays!$E7=\"\",\"\",INDEX(Lists!$N:$N, MATCH(Relays!$E7, Lists!$O:$O, 0)))","v":""},{"$f":"IF(Relays!$E7=\"\",\"\",INDEX(Lists!$O:$O, MATCH(Relays!$E7, Lists!$O:$O, 0)))","v":""},null,50,"Boys Under 11 200m Relay","A1",{"$f":"IF(Relays!$E27=\"\",\"\",INDEX(Lists!$BK:$BK, MATCH(Relays!$E27, Lists!$BM:$BM, 0)))","v":""},{"$f":"IF(Relays!$E27=\"\",\"\",INDEX(Lists!$BL:$BL, MATCH(Relays!$E27, Lists!$BM:$BM, 0)))","v":""},{"$f":"IF(Relays!$E27=\"\",\"\",INDEX(Lists!$BM:$BM, MATCH(Relays!$E27, Lists!$BM:$BM, 0)))","v":""}]
[57,"Girls Under 13","A",{"$f":"IF(Relays!$E15=\"\",\"\",INDEX(Lists!$AI:$AI, MATCH(Relays!$E15, Lists!$AI:$AI, 0)))","v":""},{"$f":"IF(Relays!$G15=\"\",\"\",INDEX(Lists!$AI:$AI, MATCH(Relays!$G15, Lists!$AI:$AI, 0)))","v":""},null,null,null,{"$f":"IF(Relays!$I15=\"\",\"\",INDEX(Lists!$AI:$AI, MATCH(Relays!$I15, Lists!$AI:$AI, 0)))","v":""},null,null,{"$f":"IF(Relays!$K15=\"\",\"\",INDEX(Lists!$AI:$AI, MATCH(Relays!$K15, Lists!$AI:$AI, 0)))","v":""},null,null,49,"Girls Under 11 200m Relay","A2",{"$f":"IF(Relays!$G7=\"\",\"\",INDEX(Lists!$M:$M, MATCH(Relays!$G7, Lists!$O:$O, 0)))","v":""},{"$f":"IF(Relays!$G7=\"\",\"\",INDEX(Lists!$N:$N, MATCH(Relays!$G7, Lists!$O:$O, 0)))","v":""},{"$f":"IF(Relays!$G7=\"\",\"\",INDEX(Lists!$O:$O, MATCH(Relays!$G7, Lists!$O:$O, 0)))","v":""},null,50,"Boys Under 11 200m Relay","A2",{"$f":"IF(Relays!$G27=\"\",\"\",INDEX(Lists!$BK:$BK, MATCH(Relays!$G27, Lists!$BM:$BM, 0)))","v":""},{"$f":"IF(Relays!$G27=\"\",\"\",INDEX(Lists!$BL:$BL, MATCH(Relays!$G27, Lists!$BM:$BM, 0)))","v":""},{"$f":"IF(Relays!$G27=\"\",\"\",INDEX(Lists!$BM:$BM, MATCH(Relays!$G27, Lists!$BM:$BM, 0)))","v":""}]
[null,"200m Relay","B",{"$f":"IF(Relays!$E16=\"\",\"\",INDEX(Lists!$AI:$AI, MATCH(Relays!$E16, Lists!$AI:$AI, 0)))","v":""},{"$f":"IF(Relays!$G16=\"\",\"\",INDEX(Lists!$AI:$AI, MATCH(Relays!$G16, Lists!$AI:$AI, 0)))","v":""},null,null,null,{"$f":"IF(Relays!$I16=\"\",\"\",INDEX(Lists!$AI:$AI, MATCH(Relays!$I16, Lists!$AI:$AI, 0)))","v":""},null,null,{"$f":"IF(Relays!$K16=\"\",\"\",INDEX(Lists!$AI:$AI, MATCH(Relays!$K16, Lists!$AI:$AI, 0)))","v":""},null,null,49,"Girls Under 11 200m Relay","A3",{"$f":"IF(Relays!$I7=\"\",\"\",INDEX(Lists!$M:$M, MATCH(Relays!$I7, Lists!$O:$O, 0)))","v":""},{"$f":"IF(Relays!$I7=\"\",\"\",INDEX(Lists!$N:$N, MATCH(Relays!$I7, Lists!$O:$O, 0)))","v":""},{"$f":"IF(Relays!$I7=\"\",\"\",INDEX(Lists!$O:$O, MATCH(Relays!$I7, Lists!$O:$O, 0)))","v":""},null,50,"Boys Under 11 200m Relay","A3",{"$f":"IF(Relays!$I27=\"\",\"\",INDEX(Lists!$BK:$BK, MATCH(Relays!$I27, Lists!$BM:$BM, 0)))","v":""},{"$f":"IF(Relays!$I27=\"\",\"\",INDEX(Lists!$BL:$BL, MATCH(Relays!$I27, Lists!$BM:$BM, 0)))","v":""},{"$f":"IF(Relays!$I27=\"\",\"\",INDEX(Lists!$BM:$BM, MATCH(Relays!$I27, Lists!$BM:$BM, 0)))","v":""}]
[null,null,"C",{"$f":"IF(Relays!$E17=\"\",\"\",INDEX(Lists!$AI:$AI, MATCH(Relays!$E17, Lists!$AI:$AI, 0)))","v":""},{"$f":"IF(Relays!$G17=\"\",\"\",INDEX(Lists!$AI:$AI, MATCH(Relays!$G17, Lists!$AI:$AI, 0)))","v":""},null,null,null,{"$f":"IF(Relays!$I17=\"\",\"\",INDEX(Lists!$AI:$AI, MATCH(Relays!$I17, Lists!$AI:$AI, 0)))","v":""},null,null,{"$f":"IF(Relays!$K17=\"\",\"\",INDEX(Lists!$AI:$AI, MATCH(Relays!$K17, Lists!$AI:$AI, 0)))","v":""},null,null,49,"Girls Under 11 200m Relay","A4",{"$f":"IF(Relays!$K7=\"\",\"\",INDEX(Lists!$M:$M, MATCH(Relays!$K7, Lists!$O:$O, 0)))","v":""},{"$f":"IF(Relays!$K7=\"\",\"\",INDEX(Lists!$N:$N, MATCH(Relays!$K7, Lists!$O:$O, 0)))","v":""},{"$f":"IF(Relays!$K7=\"\",\"\",INDEX(Lists!$O:$O, MATCH(Relays!$K7, Lists!$O:$O, 0)))","v":""},null,50,"Boys Under 11 200m Relay","A4",{"$f":"IF(Relays!$K27=\"\",\"\",INDEX(Lists!$BK:$BK, MATCH(Relays!$K27, Lists!$BM:$BM, 0)))","v":""},{"$f":"IF(Relays!$K27=\"\",\"\",INDEX(Lists!$BL:$BL, MATCH(Relays!$K27, Lists!$BM:$BM, 0)))","v":""},{"$f":"IF(Relays!$K27=\"\",\"\",INDEX(Lists!$BM:$BM, MATCH(Relays!$K27, Lists!$BM:$BM, 0)))","v":""}]
[null,null,null,null,null,null,null,null,null,null,null,null,null,null,49,"Girls Under 11 200m Relay","B1",{"$f":"IF(Relays!$E8=\"\",\"\",INDEX(Lists!$M:$M, MATCH(Relays!$E8, Lists!$O:$O, 0)))","v":""},{"$f":"IF(Relays!$E8=\"\",\"\",INDEX(Lists!$N:$N, MATCH(Relays!$E8, Lists!$O:$O, 0)))","v":""},{"$f":"IF(Relays!$E8=\"\",\"\",INDEX(Lists!$O:$O, MATCH(Relays!$E8, Lists!$O:$O, 0)))","v":""},null,50,"Boys Under 11 200m Relay","B1",{"$f":"IF(Relays!$E28=\"\",\"\",INDEX(Lists!$BK:$BK, MATCH(Relays!$E28, Lists!$BM:$BM, 0)))","v":""},{"$f":"IF(Relays!$E28=\"\",\"\",INDEX(Lists!$BL:$BL, MATCH(Relays!$E28, Lists!$BM:$BM, 0)))","v":""},{"$f":"IF(Relays!$E28=\"\",\"\",INDEX(Lists!$BM:$BM, MATCH(Relays!$E28, Lists!$BM:$BM, 0)))","v":""}]
[61,"Girls 13 & Over","A",{"$f":"IF(Relays!$E19=\"\",\"\",INDEX(Lists!$AS:$AS, MATCH(Relays!$E19, Lists!$AS:$AS, 0)))","v":""},{"$f":"IF(Relays!$G19=\"\",\"\",INDEX(Lists!$AS:$AS, MATCH(Relays!$G19, Lists!$AS:$AS, 0)))","v":""},null,null,null,{"$f":"IF(Relays!$I19=\"\",\"\",INDEX(Lists!$AS:$AS, MATCH(Relays!$I19, Lists!$AS:$AS, 0)))","v":""},null,null,{"$f":"IF(Relays!$K19=\"\",\"\",INDEX(Lists!$AS:$AS, MATCH(Relays!$K19, Lists!$AS:$AS, 0)))","v":""},null,null,49,"Girls Under 11 200m Relay","B2",{"$f":"IF(Relays!$G8=\"\",\"\",INDEX(Lists!$M:$M, MATCH(Relays!$G8, Lists!$O:$O, 0)))","v":""},{"$f":"IF(Relays!$G8=\"\",\"\",INDEX(Lists!$N:$N, MATCH(Relays!$G8, Lists!$O:$O, 0)))","v":""},{"$f":"IF(Relays!$G8=\"\",\"\",INDEX(Lists!$O:$O, MATCH(Relays!$G8, Lists!$O:$O, 0)))","v":""},null,50,"Boys Under 11 200m Relay","B2",{"$f":"IF(Relays!$G28=\"\",\"\",INDEX(Lists!$BK:$BK, MATCH(Relays!$G28, Lists!$BM:$BM, 0)))","v":""},{"$f":"IF(Relays!$G28=\"\",\"\",INDEX(Lists!$BL:$BL, MATCH(Relays!$G28, Lists!$BM:$BM, 0)))","v":""},{"$f":"IF(Relays!$G28=\"\",\"\",INDEX(Lists!$BM:$BM, MATCH(Relays!$G28, Lists!$BM:$BM, 0)))","v":""}]
[null,"200m Relay","B",{"$f":"IF(Relays!$E20=\"\",\"\",INDEX(Lists!$AS:$AS, MATCH(Relays!$E20, Lists!$AS:$AS, 0)))","v":""},{"$f":"IF(Relays!$G20=\"\",\"\",INDEX(Lists!$AS:$AS, MATCH(Relays!$G20, Lists!$AS:$AS, 0)))","v":""},null,null,null,{"$f":"IF(Relays!$I20=\"\",\"\",INDEX(Lists!$AS:$AS, MATCH(Relays!$I20, Lists!$AS:$AS, 0)))","v":""},null,null,{"$f":"IF(Relays!$K20=\"\",\"\",INDEX(Lists!$AS:$AS, MATCH(Relays!$K20, Lists!$AS:$AS, 0)))","v":""},null,null,49,"Girls Under 11 200m Relay","B3",{"$f":"IF(Relays!$I8=\"\",\"\",INDEX(Lists!$M:$M, MATCH(Relays!$I8, Lists!$O:$O, 0)))","v":""},{"$f":"IF(Relays!$I8=\"\",\"\",INDEX(Lists!$N:$N, MATCH(Relays!$I8, Lists!$O:$O, 0)))","v":""},{"$f":"IF(Relays!$I8=\"\",\"\",INDEX(Lists!$O:$O, MATCH(Relays!$I8, Lists!$O:$O, 0)))","v":""},null,50,"Boys Under 11 200m Relay","B3",{"$f":"IF(Relays!$I28=\"\",\"\",INDEX(Lists!$BK:$BK, MATCH(Relays!$I28, Lists!$BM:$BM, 0)))","v":""},{"$f":"IF(Relays!$I28=\"\",\"\",INDEX(Lists!$BL:$BL, MATCH(Relays!$I28, Lists!$BM:$BM, 0)))","v":""},{"$f":"IF(Relays!$I28=\"\",\"\",INDEX(Lists!$BM:$BM, MATCH(Relays!$I28, Lists!$BM:$BM, 0)))","v":""}]
[null,null,"C",{"$f":"IF(Relays!$E21=\"\",\"\",INDEX(Lists!$AS:$AS, MATCH(Relays!$E21, Lists!$AS:$AS, 0)))","v":""},{"$f":"IF(Relays!$G21=\"\",\"\",INDEX(Lists!$AS:$AS, MATCH(Relays!$G21, Lists!$AS:$AS, 0)))","v":""},null,null,null,{"$f":"IF(Relays!$I21=\"\",\"\",INDEX(Lists!$AS:$AS, MATCH(Relays!$I21, Lists!$AS:$AS, 0)))","v":""},null,null,{"$f":"IF(Relays!$K21=\"\",\"\",INDEX(Lists!$AS:$AS, MATCH(Relays!$K21, Lists!$AS:$AS, 0)))","v":""},null,null,49,"Girls Under 11 200m Relay","B4",{"$f":"IF(Relays!$K8=\"\",\"\",INDEX(Lists!$M:$M, MATCH(Relays!$K8, Lists!$O:$O, 0)))","v":""},{"$f":"IF(Relays!$K8=\"\",\"\",INDEX(Lists!$N:$N, MATCH(Relays!$K8, Lists!$O:$O, 0)))","v":""},{"$f":"IF(Relays!$K8=\"\",\"\",INDEX(Lists!$O:$O, MATCH(Relays!$K8, Lists!$O:$O, 0)))","v":""},null,50,"Boys Under 11 200m Relay","B4",{"$f":"IF(Relays!$K28=\"\",\"\",INDEX(Lists!$BK:$BK, MATCH(Relays!$K28, Lists!$BM:$BM, 0)))","v":""},{"$f":"IF(Relays!$K28=\"\",\"\",INDEX(Lists!$BL:$BL, MATCH(Relays!$K28, Lists!$BM:$BM, 0)))","v":""},{"$f":"IF(Relays!$K28=\"\",\"\",INDEX(Lists!$BM:$BM, MATCH(Relays!$K28, Lists!$BM:$BM, 0)))","v":""}]
[null,null,null,null,null,null,null,null,null,null,null,null,null,null,49,"Girls Under 11 200m Relay","C1",{"$f":"IF(Relays!$E9=\"\",\"\",INDEX(Lists!$M:$M, MATCH(Relays!$E9, Lists!$O:$O, 0)))","v":""},{"$f":"IF(Relays!$E9=\"\",\"\",INDEX(Lists!$N:$N, MATCH(Relays!$E9, Lists!$O:$O, 0)))","v":""},{"$f":"IF(Relays!$E9=\"\",\"\",INDEX(Lists!$O:$O, MATCH(Relays!$E9, Lists!$O:$O, 0)))","v":""},null,50,"Boys Under 11 200m Relay","C1",{"$f":"IF(Relays!$E29=\"\",\"\",INDEX(Lists!$BK:$BK, MATCH(Relays!$E29, Lists!$BM:$BM, 0)))","v":""},{"$f":"IF(Relays!$E29=\"\",\"\",INDEX(Lists!$BL:$BL, MATCH(Relays!$E29, Lists!$BM:$BM, 0)))","v":""},{"$f":"IF(Relays!$E29=\"\",\"\",INDEX(Lists!$BM:$BM, MATCH(Relays!$E29, Lists!$BM:$BM, 0)))","v":""}]
[44,"Boys Under 10","A",{"$f":"IF(Relays!$E23=\"\",\"\",INDEX(Lists!$BC:$BC, MATCH(Relays!$E23, Lists!$BC:$BC, 0)))","v":""},{"$f":"IF(Relays!$G23=\"\",\"\",INDEX(Lists!$BC:$BC, MATCH(Relays!$G23, Lists!$BC:$BC, 0)))","v":""},null,null,null,{"$f":"IF(Relays!$I23=\"\",\"\",INDEX(Lists!$BC:$BC, MATCH(Relays!$I23, Lists!$BC:$BC, 0)))","v":""},null,null,{"$f":"IF(Relays!$K23=\"\",\"\",INDEX(Lists!$BC:$BC, MATCH(Relays!$K23, Lists!$BC:$BC, 0)))","v":""},null,null,49,"Girls Under 11 200m Relay","C2",{"$f":"IF(Relays!$G9=\"\",\"\",INDEX(Lists!$M:$M, MATCH(Relays!$G9, Lists!$O:$O, 0)))","v":""},{"$f":"IF(Relays!$G9=\"\",\"\",INDEX(Lists!$N:$N, MATCH(Relays!$G9, Lists!$O:$O, 0)))","v":""},{"$f":"IF(Relays!$G9=\"\",\"\",INDEX(Lists!$O:$O, MATCH(Relays!$G9, Lists!$O:$O, 0)))","v":""},null,50,"Boys Under 11 200m Relay","C2",{"$f":"IF(Relays!$G29=\"\",\"\",INDEX(Lists!$BK:$BK, MATCH(Relays!$G29, Lists!$BM:$BM, 0)))","v":""},{"$f":"IF(Relays!$G29=\"\",\"\",INDEX(Lists!$BL:$BL, MATCH(Relays!$G29, Lists!$BM:$BM, 0)))","v":""},{"$f":"IF(Relays!$G29=\"\",\"\",INDEX(Lists!$BM:$BM, MATCH(Relays!$G29, Lists!$BM:$BM, 0)))","v":""}]
[null,"200m Relay","B",{"$f":"IF(Relays!$E24=\"\",\"\",INDEX(Lists!$BC:$BC, MATCH(Relays!$E24, Lists!$BC:$BC, 0)))","v":""},{"$f":"IF(Relays!$G24=\"\",\"\",INDEX(Lists!$BC:$BC, MATCH(Relays!$G24, Lists!$BC:$BC, 0)))","v":""},null,null,null,{"$f":"IF(Relays!$I24=\"\",\"\",INDEX(Lists!$BC:$BC, MATCH(Relays!$I24, Lists!$BC:$BC, 0)))","v":""},null,null,{"$f":"IF(Relays!$K24=\"\",\"\",INDEX(Lists!$BC:$BC, MATCH(Relays!$K24, Lists!$BC:$BC, 0)))","v":""},null,null,49,"Girls Under 11 200m Relay","C3",{"$f":"IF(Relays!$I9=\"\",\"\",INDEX(Lists!$M:$M, MATCH(Relays!$I9, Lists!$O:$O, 0)))","v":""},{"$f":"IF(Relays!$I9=\"\",\"\",INDEX(Lists!$N:$N, MATCH(Relays!$I9, Lists!$O:$O, 0)))","v":""},{"$f":"IF(Relays!$I9=\"\",\"\",INDEX(Lists!$O:$O, MATCH(Relays!$I9, Lists!$O:$O, 0)))","v":""},null,50,"Boys Under 11 200m Relay","C3",{"$f":"IF(Relays!$I29=\"\",\"\",INDEX(Lists!$BK:$BK, MATCH(Relays!$I29, Lists!$BM:$BM, 0)))","v":""},{"$f":"IF(Relays!$I29=\"\",\"\",INDEX(Lists!$BL:$BL, MATCH(Relays!$I29, Lists!$BM:$BM, 0)))","v":""},{"$f":"IF(Relays!$I29=\"\",\"\",INDEX(Lists!$BM:$BM, MATCH(Relays!$I29, Lists!$BM:$BM, 0)))","v":""}]
[null," ","C",{"$f":"IF(Relays!$E25=\"\",\"\",INDEX(Lists!$BC:$BC, MATCH(Relays!$E25, Lists!$BC:$BC, 0)))","v":""},{"$f":"IF(Relays!$G25=\"\",\"\",INDEX(Lists!$BC:$BC, MATCH(Relays!$G25, Lists!$BC:$BC, 0)))","v":""},null,null,null,{"$f":"IF(Relays!$I25=\"\",\"\",INDEX(Lists!$BC:$BC, MATCH(Relays!$I25, Lists!$BC:$BC, 0)))","v":""},null,null,{"$f":"IF(Relays!$K25=\"\",\"\",INDEX(Lists!$BC:$BC, MATCH(Relays!$K25, Lists!$BC:$BC, 0)))","v":""},null,null,49,"Girls Under 11 200m Relay","C4",{"$f":"IF(Relays!$K9=\"\",\"\",INDEX(Lists!$M:$M, MATCH(Relays!$K9, Lists!$O:$O, 0)))","v":""},{"$f":"IF(Relays!$K9=\"\",\"\",INDEX(Lists!$N:$N, MATCH(Relays!$K9, Lists!$O:$O, 0)))","v":""},{"$f":"IF(Relays!$K9=\"\",\"\",INDEX(Lists!$O:$O, MATCH(Relays!$K9, Lists!$O:$O, 0)))","v":""},null,50,"Boys Under 11 200m Relay","C4",{"$f":"IF(Relays!$K29=\"\",\"\",INDEX(Lists!$BK:$BK, MATCH(Relays!$K29, Lists!$BM:$BM, 0)))","v":""},{"$f":"IF(Relays!$K29=\"\",\"\",INDEX(Lists!$BL:$BL, MATCH(Relays!$K29, Lists!$BM:$BM, 0)))","v":""},{"$f":"IF(Relays!$K29=\"\",\"\",INDEX(Lists!$BM:$BM, MATCH(Relays!$K29, Lists!$BM:$BM, 0)))","v":""}]
[]
[50,"Boys Under 11","A",{"$f":"IF(Relays!$E27=\"\",\"\",INDEX(Lists!$BM:$BM, MATCH(Relays!$E27, Lists!$BM:$BM, 0)))","v":""},{"$f":"IF(Relays!$G27=\"\",\"\",INDEX(Lists!$BM:$BM, MATCH(Relays!$G27, Lists!$BM:$BM, 0)))","v":""},null,null,null,{"$f":"IF(Relays!$I27=\"\",\"\",INDEX(Lists!$BM:$BM, MATCH(Relays!$I27, Lists!$BM:$BM, 0)))","v":""},null,null,{"$f":"IF(Relays!$K27=\"\",\"\",INDEX(Lists!$BM:$BM, MATCH(Relays!$K27, Lists!$BM:$BM, 0)))","v":""},null,null,53,"Girls Under 12 200m Relay","A1",{"$f":"IF(Relays!$E11=\"\",\"\",INDEX(Lists!$W:$W, MATCH(Relays!$E11, Lists!$Y:$Y, 0)))","v":""},{"$f":"IF(Relays!$E11=\"\",\"\",INDEX(Lists!$X:$X, MATCH(Relays!$E11, Lists!$Y:$Y, 0)))","v":""},{"$f":"IF(Relays!$E11=\"\",\"\",INDEX(Lists!$Y:$Y, MATCH(Relays!$E11, Lists!$Y:$Y, 0)))","v":""},null,54,"Boys Under 12 200m Relay","A1",{"$f":"IF(Relays!$E31=\"\",\"\",INDEX(Lists!$BU:$BU, MATCH(Relays!$E31, Lists!$BW:$BW, 0)))","v":""},{"$f":"IF(Relays!$E31=\"\",\"\",INDEX(Lists!$BV:$BV, MATCH(Relays!$E31, Lists!$BW:$BW, 0)))","v":""},{"$f":"IF(Relays!$E31=\"\",\"\",INDEX(Lists!$BW:$BW, MATCH(Relays!$E31, Lists!$BW:$BW, 0)))","v":""}]
[null,"200m Relay","B",{"$f":"IF(Relays!$E28=\"\",\"\",INDEX(Lists!$BM:$BM, MATCH(Relays!$E28, Lists!$BM:$BM, 0)))","v":""},{"$f":"IF(Relays!$G28=\"\",\"\",INDEX(Lists!$BM:$BM, MATCH(Relays!$G28, Lists!$BM:$BM, 0)))","v":""},null,null,null,{"$f":"IF(Relays!$I28=\"\",\"\",INDEX(Lists!$BM:$BM, MATCH(Relays!$I28, Lists!$BM:$BM, 0)))","v":""},null,null,{"$f":"IF(Relays!$K28=\"\",\"\",INDEX(Lists!$BM:$BM, MATCH(Relays!$K28, Lists!$BM:$BM, 0)))","v":""},null,null,53,"Girls Under 12 200m Relay","A2",{"$f":"IF(Relays!$G11=\"\",\"\",INDEX(Lists!$W:$W, MATCH(Relays!$G11, Lists!$Y:$Y, 0)))","v":""},{"$f":"IF(Relays!$G11=\"\",\"\",INDEX(Lists!$X:$X, MATCH(Relays!$G11, Lists!$Y:$Y, 0)))","v":""},{"$f":"IF(Relays!$G11=\"\",\"\",INDEX(Lists!$Y:$Y, MATCH(Relays!$G11, Lists!$Y:$Y, 0)))","v":""},null,54,"Boys Under 12 200m Relay","A2",{"$f":"IF(Relays!$G31=\"\",\"\",INDEX(Lists!$BU:$BU, MATCH(Relays!$G31, Lists!$BW:$BW, 0)))","v":""},{"$f":"IF(Relays!$G31=\"\",\"\",INDEX(Lists!$BV:$BV, MATCH(Relays!$G31, Lists!$BW:$BW, 0)))","v":""},{"$f":"IF(Relays!$G31=\"\",\"\",INDEX(Lists!$BW:$BW, MATCH(Relays!$G31, Lists!$BW:$BW, 0)))","v":""}]
[null,null,"C",{"$f":"IF(Relays!$E29=\"\",\"\",INDEX(Lists!$BM:$BM, MATCH(Relays!$E29, Lists!$BM:$BM, 0)))","v":""},{"$f":"IF(Relays!$G29=\"\",\"\",INDEX(Lists!$BM:$BM, MATCH(Relays!$G29, Lists!$BM:$BM, 0)))","v":""},null,null,null,{"$f":"IF(Relays!$I29=\"\",\"\",INDEX(Lists!$BM:$BM, MATCH(Relays!$I29, Lists!$BM:$BM, 0)))","v":""},null,null,{"$f":"IF(Relays!$K29=\"\",\"\",INDEX(Lists!$BM:$BM, MATCH(Relays!$K29, Lists!$BM:$BM, 0)))","v":""},null,null,53,"Girls Under 12 200m Relay","A3",{"$f":"IF(Relays!$I11=\"\",\"\",INDEX(Lists!$W:$W, MATCH(Relays!$I11, Lists!$Y:$Y, 0)))","v":""},{"$f":"IF(Relays!$I11=\"\",\"\",INDEX(Lists!$X:$X, MATCH(Relays!$I11, Lists!$Y:$Y, 0)))","v":""},{"$f":"IF(Relays!$I11=\"\",\"\",INDEX(Lists!$Y:$Y, MATCH(Relays!$I11, Lists!$Y:$Y, 0)))","v":""},null,54,"Boys Under 12 200m Relay","A3",{"$f":"IF(Relays!$I31=\"\",\"\",INDEX(Lists!$BU:$BU, MATCH(Relays!$I31, Lists!$BW:$BW, 0)))","v":""},{"$f":"IF(Relays!$I31=\"\",\"\",INDEX(Lists!$BV:$BV, MATCH(Relays!$I31, Lists!$BW:$BW, 0)))","v":""},{"$f":"IF(Relays!$I31=\"\",\"\",INDEX(Lists!$BW:$BW, MATCH(Relays!$I31, Lists!$BW:$BW, 0)))","v":""}]
[null,null,null,null,null,null,null,null,null,null,null,null,null,null,53,"Girls Under 12 200m Relay","A4",{"$f":"IF(Relays!$K11=\"\",\"\",INDEX(Lists!$W:$W, MATCH(Relays!$K11, Lists!$Y:$Y, 0)))","v":""},{"$f":"IF(Relays!$K11=\"\",\"\",INDEX(Lists!$X:$X, MATCH(Relays!$K11, Lists!$Y:$Y, 0)))","v":""},{"$f":"IF(Relays!$K11=\"\",\"\",INDEX(Lists!$Y:$Y, MATCH(Relays!$K11, Lists!$Y:$Y, 0)))","v":""},null,54,"Boys Under 12 200m Relay","A4",{"$f":"IF(Relays!$K31=\"\",\"\",INDEX(Lists!$BU:$BU, MATCH(Relays!$K31, Lists!$BW:$BW, 0)))","v":""},{"$f":"IF(Relays!$K31=\"\",\"\",INDEX(Lists!$BV:$BV, MATCH(Relays!$K31, Lists!$BW:$BW, 0)))","v":""},{"$f":"IF(Relays!$K31=\"\",\"\",INDEX(Lists!$BW:$BW, MATCH(Relays!$K31, Lists!$BW:$BW, 0)))","v":""}]
[54,"Boys Under 12","A",{"$f":"IF(Relays!$E31=\"\",\"\",INDEX(Lists!$BW:$BW, MATCH(Relays!$E31, Lists!$BW:$BW, 0)))","v":""},{"$f":"IF(Relays!$G31=\"\",\"\",INDEX(Lists!$BW:$BW, MATCH(Relays!$G31, Lists!$BW:$BW, 0)))","v":""},null,null,null,{"$f":"IF(Relays!$I31=\"\",\"\",INDEX(Lists!$BW:$BW, MATCH(Relays!$I31, Lists!$BW:$BW, 0)))","v":""},null,null,{"$f":"IF(Relays!$K31=\"\",\"\",INDEX(Lists!$BW:$BW, MATCH(Relays!$K31, Lists!$BW:$BW, 0)))","v":""},null,null,53,"Girls Under 12 200m Relay","B1",{"$f":"IF(Relays!$E12=\"\",\"\",INDEX(Lists!$W:$W, MATCH(Relays!$E12, Lists!$Y:$Y, 0)))","v":""},{"$f":"IF(Relays!$E12=\"\",\"\",INDEX(Lists!$X:$X, MATCH(Relays!$E12, Lists!$Y:$Y, 0)))","v":""},{"$f":"IF(Relays!$E12=\"\",\"\",INDEX(Lists!$Y:$Y, MATCH(Relays!$E12, Lists!$Y:$Y, 0)))","v":""},null,54,"Boys Under 12 200m Relay","B1",{"$f":"IF(Relays!$E32=\"\",\"\",INDEX(Lists!$BU:$BU, MATCH(Relays!$E32, Lists!$BW:$BW, 0)))","v":""},{"$f":"IF(Relays!$E32=\"\",\"\",INDEX(Lists!$BV:$BV, MATCH(Relays!$E32, Lists!$BW:$BW, 0)))","v":""},{"$f":"IF(Relays!$E32=\"\",\"\",INDEX(Lists!$BW:$BW, MATCH(Relays!$E32, Lists!$BW:$BW, 0)))","v":""}]
[null,"200m Relay","B",{"$f":"IF(Relays!$E32=\"\",\"\",INDEX(Lists!$BW:$BW, MATCH(Relays!$E32, Lists!$BW:$BW, 0)))","v":""},{"$f":"IF(Relays!$G32=\"\",\"\",INDEX(Lists!$BW:$BW, MATCH(Relays!$G32, Lists!$BW:$BW, 0)))","v":""},null,null,null,{"$f":"IF(Relays!$I32=\"\",\"\",INDEX(Lists!$BW:$BW, MATCH(Relays!$I32, Lists!$BW:$BW, 0)))","v":""},null,null,{"$f":"IF(Relays!$K32=\"\",\"\",INDEX(Lists!$BW:$BW, MATCH(Relays!$K32, Lists!$BW:$BW, 0)))","v":""},null,null,53,"Girls Under 12 200m Relay","B2",{"$f":"IF(Relays!$G12=\"\",\"\",INDEX(Lists!$W:$W, MATCH(Relays!$G12, Lists!$Y:$Y, 0)))","v":""},{"$f":"IF(Relays!$G12=\"\",\"\",INDEX(Lists!$X:$X, MATCH(Relays!$G12, Lists!$Y:$Y, 0)))","v":""},{"$f":"IF(Relays!$G12=\"\",\"\",INDEX(Lists!$Y:$Y, MATCH(Relays!$G12, Lists!$Y:$Y, 0)))","v":""},null,54,"Boys Under 12 200m Relay","B2",{"$f":"IF(Relays!$G32=\"\",\"\",INDEX(Lists!$BU:$BU, MATCH(Relays!$G32, Lists!$BW:$BW, 0)))","v":""},{"$f":"IF(Relays!$G32=\"\",\"\",INDEX(Lists!$BV:$BV, MATCH(Relays!$G32, Lists!$BW:$BW, 0)))","v":""},{"$f":"IF(Relays!$G32=\"\",\"\",INDEX(Lists!$BW:$BW, MATCH(Relays!$G32, Lists!$BW:$BW, 0)))","v":""}]
[null,null,"C",{"$f":"IF(Relays!$E33=\"\",\"\",INDEX(Lists!$BW:$BW, MATCH(Relays!$E33, Lists!$BW:$BW, 0)))","v":""},{"$f":"IF(Relays!$G33=\"\",\"\",INDEX(Lists!$BW:$BW, MATCH(Relays!$G33, Lists!$BW:$BW, 0)))","v":""},null,null,null,{"$f":"IF(Relays!$I33=\"\",\"\",INDEX(Lists!$BW:$BW, MATCH(Relays!$I33, Lists!$BW:$BW, 0)))","v":""},null,null,{"$f":"IF(Relays!$K33=\"\",\"\",INDEX(Lists!$BW:$BW, MATCH(Relays!$K33, Lists!$BW:$BW, 0)))","v":""},null,null,53,"Girls Under 12 200m Relay","B3",{"$f":"IF(Relays!$I12=\"\",\"\",INDEX(Lists!$W:$W, MATCH(Relays!$I12, Lists!$Y:$Y, 0)))","v":""},{"$f":"IF(Relays!$I12=\"\",\"\",INDEX(Lists!$X:$X, MATCH(Relays!$I12, Lists!$Y:$Y, 0)))","v":""},{"$f":"IF(Relays!$I12=\"\",\"\",INDEX(Lists!$Y:$Y, MATCH(Relays!$I12, Lists!$Y:$Y, 0)))","v":""},null,54,"Boys Under 12 200m Relay","B3",{"$f":"IF(Relays!$I32=\"\",\"\",INDEX(Lists!$BU:$BU, MATCH(Relays!$I32, Lists!$BW:$BW, 0)))","v":""},{"$f":"IF(Relays!$I32=\"\",\"\",INDEX(Lists!$BV:$BV, MATCH(Relays!$I32, Lists!$BW:$BW, 0)))","v":""},{"$f":"IF(Relays!$I32=\"\",\"\",INDEX(Lists!$BW:$BW, MATCH(Relays!$I32, Lists!$BW:$BW, 0)))","v":""}]
[null,null,null,null,null,null,null,null,null,null,null,null,null,null,53,"Girls Under 12 200m Relay","B4",{"$f":"IF(Relays!$K12=\"\",\"\",INDEX(Lists!$W:$W, MATCH(Relays!$K12, Lists!$Y:$Y, 0)))","v":""},{"$f":"IF(Relays!$K12=\"\",\"\",INDEX(Lists!$X:$X, MATCH(Relays!$K12, Lists!$Y:$Y, 0)))","v":""},{"$f":"IF(Relays!$K12=\"\",\"\",INDEX(Lists!$Y:$Y, MATCH(Relays!$K12, Lists!$Y:$Y, 0)))","v":""},null,54,"Boys Under 12 200m Relay","B4",{"$f":"IF(Relays!$K32=\"\",\"\",INDEX(Lists!$BU:$BU, MATCH(Relays!$K32, Lists!$BW:$BW, 0)))","v":""},{"$f":"IF(Relays!$K32=\"\",\"\",INDEX(Lists!$BV:$BV, MATCH(Relays!$K32, Lists!$BW:$BW, 0)))","v":""},{"$f":"IF(Relays!$K32=\"\",\"\",INDEX(Lists!$BW:$BW, MATCH(Relays!$K32, Lists!$BW:$BW, 0)))","v":""}]
[58,"Boys Under 13","A",{"$f":"IF(Relays!$E35=\"\",\"\",INDEX(Lists!$CG:$CG, MATCH(Relays!$E35, Lists!$CG:$CG, 0)))","v":""},{"$f":"IF(Relays!$G35=\"\",\"\",INDEX(Lists!$CG:$CG, MATCH(Relays!$G35, Lists!$CG:$CG, 0)))","v":""},null,null,null,{"$f":"IF(Relays!$I35=\"\",\"\",INDEX(Lists!$CG:$CG, MATCH(Relays!$I35, Lists!$CG:$CG, 0)))","v":""},null,null,{"$f":"IF(Relays!$K35=\"\",\"\",INDEX(Lists!$CG:$CG, MATCH(Relays!$K35, Lists!$CG:$CG, 0)))","v":""},null,null,53,"Girls Under 12 200m Relay","C1",{"$f":"IF(Relays!$E13=\"\",\"\",INDEX(Lists!$W:$W, MATCH(Relays!$E13, Lists!$Y:$Y, 0)))","v":""},{"$f":"IF(Relays!$E13=\"\",\"\",INDEX(Lists!$X:$X, MATCH(Relays!$E13, Lists!$Y:$Y, 0)))","v":""},{"$f":"IF(Relays!$E13=\"\",\"\",INDEX(Lists!$Y:$Y, MATCH(Relays!$E13, Lists!$Y:$Y, 0)))","v":""},null,54,"Boys Under 12 200m Relay","C1",{"$f":"IF(Relays!$E33=\"\",\"\",INDEX(Lists!$BU:$BU, MATCH(Relays!$E33, Lists!$BW:$BW, 0)))","v":""},{"$f":"IF(Relays!$E33=\"\",\"\",INDEX(Lists!$BV:$BV, MATCH(Relays!$E33, Lists!$BW:$BW, 0)))","v":""},{"$f":"IF(Relays!$E33=\"\",\"\",INDEX(Lists!$BW:$BW, MATCH(Relays!$E33, Lists!$BW:$BW, 0)))","v":""}]
[null,"200m Relay","B",{"$f":"IF(Relays!$E36=\"\",\"\",INDEX(Lists!$CG:$CG, MATCH(Relays!$E36, Lists!$CG:$CG, 0)))","v":""},{"$f":"IF(Relays!$G36=\"\",\"\",INDEX(Lists!$CG:$CG, MATCH(Relays!$G36, Lists!$CG:$CG, 0)))","v":""},null,null,null,{"$f":"IF(Relays!$I36=\"\",\"\",INDEX(Lists!$CG:$CG, MATCH(Relays!$I36, Lists!$CG:$CG, 0)))","v":""},null,null,{"$f":"IF(Relays!$K36=\"\",\"\",INDEX(Lists!$CG:$CG, MATCH(Relays!$K36, Lists!$CG:$CG, 0)))","v":""},null,null,53,"Girls Under 12 200m Relay","C2",{"$f":"IF(Relays!$G13=\"\",\"\",INDEX(Lists!$W:$W, MATCH(Relays!$G13, Lists!$Y:$Y, 0)))","v":""},{"$f":"IF(Relays!$G13=\"\",\"\",INDEX(Lists!$X:$X, MATCH(Relays!$G13, Lists!$Y:$Y, 0)))","v":""},{"$f":"IF(Relays!$G13=\"\",\"\",INDEX(Lists!$Y:$Y, MATCH(Relays!$G13, Lists!$Y:$Y, 0)))","v":""},null,54,"Boys Under 12 200m Relay","C2",{"$f":"IF(Relays!$G33=\"\",\"\",INDEX(Lists!$BU:$BU, MATCH(Relays!$G33, Lists!$BW:$BW, 0)))","v":""},{"$f":"IF(Relays!$G33=\"\",\"\",INDEX(Lists!$BV:$BV, MATCH(Relays!$G33, Lists!$BW:$BW, 0)))","v":""},{"$f":"IF(Relays!$G33=\"\",\"\",INDEX(Lists!$BW:$BW, MATCH(Relays!$G33, Lists!$BW:$BW, 0)))","v":""}]
[null,null,"C",{"$f":"IF(Relays!$E37=\"\",\"\",INDEX(Lists!$CG:$CG, MATCH(Relays!$E37, Lists!$CG:$CG, 0)))","v":""},{"$f":"IF(Relays!$G37=\"\",\"\",INDEX(Lists!$CG:$CG, MATCH(Relays!$G37, Lists!$CG:$CG, 0)))","v":""},null,null,null,{"$f":"IF(Relays!$I37=\"\",\"\",INDEX(Lists!$CG:$CG, MATCH(Relays!$I37, Lists!$CG:$CG, 0)))","v":""},null,null,{"$f":"IF(Relays!$K37=\"\",\"\",INDEX(Lists!$CG:$CG, MATCH(Relays!$K37, Lists!$CG:$CG, 0)))","v":""},null,null,53,"Girls Under 12 200m Relay","C3",{"$f":"IF(Relays!$I13=\"\",\"\",INDEX(Lists!$W:$W, MATCH(Relays!$I13, Lists!$Y:$Y, 0)))","v":""},{"$f":"IF(Relays!$I13=\"\",\"\",INDEX(Lists!$X:$X, MATCH(Relays!$I13, Lists!$Y:$Y, 0)))","v":""},{"$f":"IF(Relays!$I13=\"\",\"\",INDEX(Lists!$Y:$Y, MATCH(Relays!$I13, Lists!$Y:$Y, 0)))","v":""},null,54,"Boys Under 12 200m Relay","C3",{"$f":"IF(Relays!$I33=\"\",\"\",INDEX(Lists!$BU:$BU, MATCH(Relays!$I33, Lists!$BW:$BW, 0)))","v":""},{"$f":"IF(Relays!$I33=\"\",\"\",INDEX(Lists!$BV:$BV, MATCH(Relays!$I33, Lists!$BW:$BW, 0)))","v":""},{"$f":"IF(Relays!$I33=\"\",\"\",INDEX(Lists!$BW:$BW, MATCH(Relays!$I33, Lists!$BW:$BW, 0)))","v":""}]
[null,null,null,null,null,null,null,null,null,null,null,null,null,null,53,"Girls Under 12 200m Relay","C4",{"$f":"IF(Relays!$K13=\"\",\"\",INDEX(Lists!$W:$W, MATCH(Relays!$K13, Lists!$Y:$Y, 0)))","v":""},{"$f":"IF(Relays!$K13=\"\",\"\",INDEX(Lists!$X:$X, MATCH(Relays!$K13, Lists!$Y:$Y, 0)))","v":""},{"$f":"IF(Relays!$K13=\"\",\"\",INDEX(Lists!$Y:$Y, MATCH(Relays!$K13, Lists!$Y:$Y, 0)))","v":""},null,54,"Boys Under 12 200m Relay","C4",{"$f":"IF(Relays!$K33=\"\",\"\",INDEX(Lists!$BU:$BU, MATCH(Relays!$K33, Lists!$BW:$BW, 0)))","v":""},{"$f":"IF(Relays!$K33=\"\",\"\",INDEX(Lists!$BV:$BV, MATCH(Relays!$K33, Lists!$BW:$BW, 0)))","v":""},{"$f":"IF(Relays!$K33=\"\",\"\",INDEX(Lists!$BW:$BW, MATCH(Relays!$K33, Lists!$BW:$BW, 0)))","v":""}]
[62,"Boys 13 & Over","A",{"$f":"IF(Relays!$E39=\"\",\"\",INDEX(Lists!$CQ:$CQ, MATCH(Relays!$E39, Lists!$CQ:$CQ, 0)))","v":""},{"$f":"IF(Relays!$G39=\"\",\"\",INDEX(Lists!$CQ:$CQ, MATCH(Relays!$G39, Lists!$CQ:$CQ, 0)))","v":""},null,null,null,{"$f":"IF(Relays!$I39=\"\",\"\",INDEX(Lists!$CQ:$CQ, MATCH(Relays!$I39, Lists!$CQ:$CQ, 0)))","v":""},null,null,{"$f":"IF(Relays!$K39=\"\",\"\",INDEX(Lists!$CQ:$CQ, MATCH(Relays!$K39, Lists!$CQ:$CQ, 0)))","v":""}]
[null,"200m Relay","B",{"$f":"IF(Relays!$E40=\"\",\"\",INDEX(Lists!$CQ:$CQ, MATCH(Relays!$E40, Lists!$CQ:$CQ, 0)))","v":""},{"$f":"IF(Relays!$G40=\"\",\"\",INDEX(Lists!$CQ:$CQ, MATCH(Relays!$G40, Lists!$CQ:$CQ, 0)))","v":""},null,null,null,{"$f":"IF(Relays!$I40=\"\",\"\",INDEX(Lists!$CQ:$CQ, MATCH(Relays!$I40, Lists!$CQ:$CQ, 0)))","v":""},null,null,{"$f":"IF(Relays!$K40=\"\",\"\",INDEX(Lists!$CQ:$CQ, MATCH(Relays!$K40, Lists!$CQ:$CQ, 0)))","v":""},null,null,57,"Girls Under 13 200m Relay","A1",{"$f":"IF(Relays!$E15=\"\",\"\",INDEX(Lists!$AG:$AG, MATCH(Relays!$E15, Lists!$AI:$AI, 0)))","v":""},{"$f":"IF(Relays!$E15=\"\",\"\",INDEX(Lists!$AH:$AH, MATCH(Relays!$E15, Lists!$AI:$AI, 0)))","v":""},{"$f":"IF(Relays!$E15=\"\",\"\",INDEX(Lists!$AI:$AI, MATCH(Relays!$E15, Lists!$AI:$AI, 0)))","v":""},null,58,"Boys Under 13 200m Relay","A1",{"$f":"IF(Relays!$E35=\"\",\"\",INDEX(Lists!$CE:$CE, MATCH(Relays!$E35, Lists!$CG:$CG, 0)))","v":""},{"$f":"IF(Relays!$E35=\"\",\"\",INDEX(Lists!$CF:$CF, MATCH(Relays!$E35, Lists!$CG:$CG, 0)))","v":""},{"$f":"IF(Relays!$E35=\"\",\"\",INDEX(Lists!$CG:$CG, MATCH(Relays!$E35, Lists!$CG:$CG, 0)))","v":""}]
[null,null,"C",{"$f":"IF(Relays!$E41=\"\",\"\",INDEX(Lists!$CQ:$CQ, MATCH(Relays!$E41, Lists!$CQ:$CQ, 0)))","v":""},{"$f":"IF(Relays!$G41=\"\",\"\",INDEX(Lists!$CQ:$CQ, MATCH(Relays!$G41, Lists!$CQ:$CQ, 0)))","v":""},null,null,null,{"$f":"IF(Relays!$I41=\"\",\"\",INDEX(Lists!$CQ:$CQ, MATCH(Relays!$I41, Lists!$CQ:$CQ, 0)))","v":""},null,null,{"$f":"IF(Relays!$K41=\"\",\"\",INDEX(Lists!$CQ:$CQ, MATCH(Relays!$K41, Lists!$CQ:$CQ, 0)))","v":""},null,null,57,"Girls Under 13 200m Relay","A2",{"$f":"IF(Relays!$G15=\"\",\"\",INDEX(Lists!$AG:$AG, MATCH(Relays!$G15, Lists!$AI:$AI, 0)))","v":""},{"$f":"IF(Relays!$G15=\"\",\"\",INDEX(Lists!$AH:$AH, MATCH(Relays!$G15, Lists!$AI:$AI, 0)))","v":""},{"$f":"IF(Relays!$G15=\"\",\"\",INDEX(Lists!$AI:$AI, MATCH(Relays!$G15, Lists!$AI:$AI, 0)))","v":""},null,58,"Boys Under 13 200m Relay","A2",{"$f":"IF(Relays!$G35=\"\",\"\",INDEX(Lists!$CE:$CE, MATCH(Relays!$G35, Lists!$CG:$CG, 0)))","v":""},{"$f":"IF(Relays!$G35=\"\",\"\",INDEX(Lists!$CF:$CF, MATCH(Relays!$G35, Lists!$CG:$CG, 0)))","v":""},{"$f":"IF(Relays!$G35=\"\",\"\",INDEX(Lists!$CG:$CG, MATCH(Relays!$G35, Lists!$CG:$CG, 0)))","v":""}]
[null,null,null,null,null,null,null,null,null,null,null,null,null,null,57,"Girls Under 13 200m Relay","A3",{"$f":"IF(Relays!$I15=\"\",\"\",INDEX(Lists!$AG:$AG, MATCH(Relays!$I15, Lists!$AI:$AI, 0)))","v":""},{"$f":"IF(Relays!$I15=\"\",\"\",INDEX(Lists!$AH:$AH, MATCH(Relays!$I15, Lists!$AI:$AI, 0)))","v":""},{"$f":"IF(Relays!$I15=\"\",\"\",INDEX(Lists!$AI:$AI, MATCH(Relays!$I15, Lists!$AI:$AI, 0)))","v":""},null,58,"Boys Under 13 200m Relay","A3",{"$f":"IF(Relays!$I35=\"\",\"\",INDEX(Lists!$CE:$CE, MATCH(Relays!$I35, Lists!$CG:$CG, 0)))","v":""},{"$f":"IF(Relays!$I35=\"\",\"\",INDEX(Lists!$CF:$CF, MATCH(Relays!$I35, Lists!$CG:$CG, 0)))","v":""},{"$f":"IF(Relays!$I35=\"\",\"\",INDEX(Lists!$CG:$CG, MATCH(Relays!$I35, Lists!$CG:$CG, 0)))","v":""}]
[null,null,null,null,null,null,null,null,null,null,null,null,null,null,57,"Girls Under 13 200m Relay","A4",{"$f":"IF(Relays!$K15=\"\",\"\",INDEX(Lists!$AG:$AG, MATCH(Relays!$K15, Lists!$AI:$AI, 0)))","v":""},{"$f":"IF(Relays!$K15=\"\",\"\",INDEX(Lists!$AH:$AH, MATCH(Relays!$K15, Lists!$AI:$AI, 0)))","v":""},{"$f":"IF(Relays!$K15=\"\",\"\",INDEX(Lists!$AI:$AI, MATCH(Relays!$K15, Lists!$AI:$AI, 0)))","v":""},null,58,"Boys Under 13 200m Relay","A4",{"$f":"IF(Relays!$K35=\"\",\"\",INDEX(Lists!$CE:$CE, MATCH(Relays!$K35, Lists!$CG:$CG, 0)))","v":""},{"$f":"IF(Relays!$K35=\"\",\"\",INDEX(Lists!$CF:$CF, MATCH(Relays!$K35, Lists!$CG:$CG, 0)))","v":""},{"$f":"IF(Relays!$K35=\"\",\"\",INDEX(Lists!$CG:$CG, MATCH(Relays!$K35, Lists!$CG:$CG, 0)))","v":""}]
[null,null,null,null,null,null,null,null,null,null,null,null,null,null,57,"Girls Under 13 200m Relay","B1",{"$f":"IF(Relays!$E16=\"\",\"\",INDEX(Lists!$AG:$AG, MATCH(Relays!$E16, Lists!$AI:$AI, 0)))","v":""},{"$f":"IF(Relays!$E16=\"\",\"\",INDEX(Lists!$AH:$AH, MATCH(Relays!$E16, Lists!$AI:$AI, 0)))","v":""},{"$f":"IF(Relays!$E16=\"\",\"\",INDEX(Lists!$AI:$AI, MATCH(Relays!$E16, Lists!$AI:$AI, 0)))","v":""},null,58,"Boys Under 13 200m Relay","B1",{"$f":"IF(Relays!$E36=\"\",\"\",INDEX(Lists!$CE:$CE, MATCH(Relays!$E36, Lists!$CG:$CG, 0)))","v":""},{"$f":"IF(Relays!$E36=\"\",\"\",INDEX(Lists!$CF:$CF, MATCH(Relays!$E36, Lists!$CG:$CG, 0)))","v":""},{"$f":"IF(Relays!$E36=\"\",\"\",INDEX(Lists!$CG:$CG, MATCH(Relays!$E36, Lists!$CG:$CG, 0)))","v":""}]
[null,null,null,null,null,null,null,null,null,null,null,null,null,null,57,"Girls Under 13 200m Relay","B2",{"$f":"IF(Relays!$G16=\"\",\"\",INDEX(Lists!$AG:$AG, MATCH(Relays!$G16, Lists!$AI:$AI, 0)))","v":""},{"$f":"IF(Relays!$G16=\"\",\"\",INDEX(Lists!$AH:$AH, MATCH(Relays!$G16, Lists!$AI:$AI, 0)))","v":""},{"$f":"IF(Relays!$G16=\"\",\"\",INDEX(Lists!$AI:$AI, MATCH(Relays!$G16, Lists!$AI:$AI, 0)))","v":""},null,58,"Boys Under 13 200m Relay","B2",{"$f":"IF(Relays!$G36=\"\",\"\",INDEX(Lists!$CE:$CE, MATCH(Relays!$G36, Lists!$CG:$CG, 0)))","v":""},{"$f":"IF(Relays!$G36=\"\",\"\",INDEX(Lists!$CF:$CF, MATCH(Relays!$G36, Lists!$CG:$CG, 0)))","v":""},{"$f":"IF(Relays!$G36=\"\",\"\",INDEX(Lists!$CG:$CG, MATCH(Relays!$G36, Lists!$CG:$CG, 0)))","v":""}]
[null,null,null,null,null,null,null,null,null,null,null,null,null,null,57,"Girls Under 13 200m Relay","B3",{"$f":"IF(Relays!$I16=\"\",\"\",INDEX(Lists!$AG:$AG, MATCH(Relays!$I16, Lists!$AI:$AI, 0)))","v":""},{"$f":"IF(Relays!$I16=\"\",\"\",INDEX(Lists!$AH:$AH, MATCH(Relays!$I16, Lists!$AI:$AI, 0)))","v":""},{"$f":"IF(Relays!$I16=\"\",\"\",INDEX(Lists!$AI:$AI, MATCH(Relays!$I16, Lists!$AI:$AI, 0)))","v":""},null,58,"Boys Under 13 200m Relay","B3",{"$f":"IF(Relays!$I36=\"\",\"\",INDEX(Lists!$CE:$CE, MATCH(Relays!$I36, Lists!$CG:$CG, 0)))","v":""},{"$f":"IF(Relays!$I36=\"\",\"\",INDEX(Lists!$CF:$CF, MATCH(Relays!$I36, Lists!$CG:$CG, 0)))","v":""},{"$f":"IF(Relays!$I36=\"\",\"\",INDEX(Lists!$CG:$CG, MATCH(Relays!$I36, Lists!$CG:$CG, 0)))","v":""}]
[null,null,null,null,null,null,null,null,null,null,null,null,null,null,57,"Girls Under 13 200m Relay","B4",{"$f":"IF(Relays!$K16=\"\",\"\",INDEX(Lists!$AG:$AG, MATCH(Relays!$K16, Lists!$AI:$AI, 0)))","v":""},{"$f":"IF(Relays!$K16=\"\",\"\",INDEX(Lists!$AH:$AH, MATCH(Relays!$K16, Lists!$AI:$AI, 0)))","v":""},{"$f":"IF(Relays!$K16=\"\",\"\",INDEX(Lists!$AI:$AI, MATCH(Relays!$K16, Lists!$AI:$AI, 0)))","v":""},null,58,"Boys Under 13 200m Relay","B4",{"$f":"IF(Relays!$K36=\"\",\"\",INDEX(Lists!$CE:$CE, MATCH(Relays!$K36, Lists!$CG:$CG, 0)))","v":""},{"$f":"IF(Relays!$K36=\"\",\"\",INDEX(Lists!$CF:$CF, MATCH(Relays!$K36, Lists!$CG:$CG, 0)))","v":""},{"$f":"IF(Relays!$K36=\"\",\"\",INDEX(Lists!$CG:$CG, MATCH(Relays!$K36, Lists!$CG:$CG, 0)))","v":""}]
[null,null,null,null,null,null,null,null,null,null,null,null,null,null,57,"Girls Under 13 200m Relay","C1",{"$f":"IF(Relays!$E17=\"\",\"\",INDEX(Lists!$AG:$AG, MATCH(Relays!$E17, Lists!$AI:$AI, 0)))","v":""},{"$f":"IF(Relays!$E17=\"\",\"\",INDEX(Lists!$AH:$AH, MATCH(Relays!$E17, Lists!$AI:$AI, 0)))","v":""},{"$f":"IF(Relays!$E17=\"\",\"\",INDEX(Lists!$AI:$AI, MATCH(Relays!$E17, Lists!$AI:$AI, 0)))","v":""},null,58,"Boys Under 13 200m Relay","C1",{"$f":"IF(Relays!$E37=\"\",\"\",INDEX(Lists!$CE:$CE, MATCH(Relays!$E37, Lists!$CG:$CG, 0)))","v":""},{"$f":"IF(Relays!$E37=\"\",\"\",INDEX(Lists!$CF:$CF, MATCH(Relays!$E37, Lists!$CG:$CG, 0)))","v":""},{"$f":"IF(Relays!$E37=\"\",\"\",INDEX(Lists!$CG:$CG, MATCH(Relays!$E37, Lists!$CG:$CG, 0)))","v":""}]
[null,null,null,null,null,null,null,null,null,null,null,null,null,null,57,"Girls Under 13 200m Relay","C2",{"$f":"IF(Relays!$G17=\"\",\"\",INDEX(Lists!$AG:$AG, MATCH(Relays!$G17, Lists!$AI:$AI, 0)))","v":""},{"$f":"IF(Relays!$G17=\"\",\"\",INDEX(Lists!$AH:$AH, MATCH(Relays!$G17, Lists!$AI:$AI, 0)))","v":""},{"$f":"IF(Relays!$G17=\"\",\"\",INDEX(Lists!$AI:$AI, MATCH(Relays!$G17, Lists!$AI:$AI, 0)))","v":""},null,58,"Boys Under 13 200m Relay","C2",{"$f":"IF(Relays!$G37=\"\",\"\",INDEX(Lists!$CE:$CE, MATCH(Relays!$G37, Lists!$CG:$CG, 0)))","v":""},{"$f":"IF(Relays!$G37=\"\",\"\",INDEX(Lists!$CF:$CF, MATCH(Relays!$G37, Lists!$CG:$CG, 0)))","v":""},{"$f":"IF(Relays!$G37=\"\",\"\",INDEX(Lists!$CG:$CG, MATCH(Relays!$G37, Lists!$CG:$CG, 0)))","v":""}]
[null,null,null,null,null,null,null,null,null,null,null,null,null,null,57,"Girls Under 13 200m Relay","C3",{"$f":"IF(Relays!$I17=\"\",\"\",INDEX(Lists!$AG:$AG, MATCH(Relays!$I17, Lists!$AI:$AI, 0)))","v":""},{"$f":"IF(Relays!$I17=\"\",\"\",INDEX(Lists!$AH:$AH, MATCH(Relays!$I17, Lists!$AI:$AI, 0)))","v":""},{"$f":"IF(Relays!$I17=\"\",\"\",INDEX(Lists!$AI:$AI, MATCH(Relays!$I17, Lists!$AI:$AI, 0)))","v":""},null,58,"Boys Under 13 200m Relay","C3",{"$f":"IF(Relays!$I37=\"\",\"\",INDEX(Lists!$CE:$CE, MATCH(Relays!$I37, Lists!$CG:$CG, 0)))","v":""},{"$f":"IF(Relays!$I37=\"\",\"\",INDEX(Lists!$CF:$CF, MATCH(Relays!$I37, Lists!$CG:$CG, 0)))","v":""},{"$f":"IF(Relays!$I37=\"\",\"\",INDEX(Lists!$CG:$CG, MATCH(Relays!$I37, Lists!$CG:$CG, 0)))","v":""}]
[null,null,null,null,null,null,null,null,null,null,null,null,null,null,57,"Girls Under 13 200m Relay","C4",{"$f":"IF(Relays!$K17=\"\",\"\",INDEX(Lists!$AG:$AG, MATCH(Relays!$K17, Lists!$AI:$AI, 0)))","v":""},{"$f":"IF(Relays!$K17=\"\",\"\",INDEX(Lists!$AH:$AH, MATCH(Relays!$K17, Lists!$AI:$AI, 0)))","v":""},{"$f":"IF(Relays!$K17=\"\",\"\",INDEX(Lists!$AI:$AI, MATCH(Relays!$K17, Lists!$AI:$AI, 0)))","v":""},null,58,"Boys Under 13 200m Relay","C4",{"$f":"IF(Relays!$K37=\"\",\"\",INDEX(Lists!$CE:$CE, MATCH(Relays!$K37, Lists!$CG:$CG, 0)))","v":""},{"$f":"IF(Relays!$K37=\"\",\"\",INDEX(Lists!$CF:$CF, MATCH(Relays!$K37, Lists!$CG:$CG, 0)))","v":""},{"$f":"IF(Relays!$K37=\"\",\"\",INDEX(Lists!$CG:$CG, MATCH(Relays!$K37, Lists!$CG:$CG, 0)))","v":""}]
[]
[null,null,null,null,null,null,null,null,null,null,null,null,null,null,61,"Girls 13 & Over 200m Relay","A1",{"$f":"IF(Relays!$E19=\"\",\"\",INDEX(Lists!$AQ:$AQ, MATCH(Relays!$E19, Lists!$AS:$AS, 0)))","v":""},{"$f":"IF(Relays!$E19=\"\",\"\",INDEX(Lists!$AR:$AR, MATCH(Relays!$E19, Lists!$AS:$AS, 0)))","v":""},{"$f":"IF(Relays!$E19=\"\",\"\",INDEX(Lists!$AS:$AS, MATCH(Relays!$E19, Lists!$AS:$AS, 0)))","v":""},null,62,"Boys 13 & Over 200m Relay","A1",{"$f":"IF(Relays!$E39=\"\",\"\",INDEX(Lists!$CO:$CO, MATCH(Relays!$E39, Lists!$CQ:$CQ, 0)))","v":""},{"$f":"IF(Relays!$E39=\"\",\"\",INDEX(Lists!$CP:$CP, MATCH(Relays!$E39, Lists!$CQ:$CQ, 0)))","v":""},{"$f":"IF(Relays!$E39=\"\",\"\",INDEX(Lists!$CQ:$CQ, MATCH(Relays!$E39, Lists!$CQ:$CQ, 0)))","v":""}]
[null,null,null,null,null,null,null,null,null,null,null,null,null,null,61,"Girls 13 & Over 200m Relay","A2",{"$f":"IF(Relays!$G19=\"\",\"\",INDEX(Lists!$AQ:$AQ, MATCH(Relays!$G19, Lists!$AS:$AS, 0)))","v":""},{"$f":"IF(Relays!$G19=\"\",\"\",INDEX(Lists!$AR:$AR, MATCH(Relays!$G19, Lists!$AS:$AS, 0)))","v":""},{"$f":"IF(Relays!$G19=\"\",\"\",INDEX(Lists!$AS:$AS, MATCH(Relays!$G19, Lists!$AS:$AS, 0)))","v":""},null,62,"Boys 13 & Over 200m Relay","A2",{"$f":"IF(Relays!$G39=\"\",\"\",INDEX(Lists!$CO:$CO, MATCH(Relays!$G39, Lists!$CQ:$CQ, 0)))","v":""},{"$f":"IF(Relays!$G39=\"\",\"\",INDEX(Lists!$CP:$CP, MATCH(Relays!$G39, Lists!$CQ:$CQ, 0)))","v":""},{"$f":"IF(Relays!$G39=\"\",\"\",INDEX(Lists!$CQ:$CQ, MATCH(Relays!$G39, Lists!$CQ:$CQ, 0)))","v":""}]
[null,null,null,null,null,null,null,null,null,null,null,null,null,null,61,"Girls 13 & Over 200m Relay","A3",{"$f":"IF(Relays!$I19=\"\",\"\",INDEX(Lists!$AQ:$AQ, MATCH(Relays!$I19, Lists!$AS:$AS, 0)))","v":""},{"$f":"IF(Relays!$I19=\"\",\"\",INDEX(Lists!$AR:$AR, MATCH(Relays!$I19, Lists!$AS:$AS, 0)))","v":""},{"$f":"IF(Relays!$I19=\"\",\"\",INDEX(Lists!$AS:$AS, MATCH(Relays!$I19, Lists!$AS:$AS, 0)))","v":""},null,62,"Boys 13 & Over 200m Relay","A3",{"$f":"IF(Relays!$I39=\"\",\"\",INDEX(Lists!$CO:$CO, MATCH(Relays!$I39, Lists!$CQ:$CQ, 0)))","v":""},{"$f":"IF(Relays!$I39=\"\",\"\",INDEX(Lists!$CP:$CP, MATCH(Relays!$I39, Lists!$CQ:$CQ, 0)))","v":""},{"$f":"IF(Relays!$I39=\"\",\"\",INDEX(Lists!$CQ:$CQ, MATCH(Relays!$I39, Lists!$CQ:$CQ, 0)))","v":""}]
[null,null,null,null,null,null,null,null,null,null,null,null,null,null,61,"Girls 13 & Over 200m Relay","A4",{"$f":"IF(Relays!$K19=\"\",\"\",INDEX(Lists!$AQ:$AQ, MATCH(Relays!$K19, Lists!$AS:$AS, 0)))","v":""},{"$f":"IF(Relays!$K19=\"\",\"\",INDEX(Lists!$AR:$AR, MATCH(Relays!$K19, Lists!$AS:$AS, 0)))","v":""},{"$f":"IF(Relays!$K19=\"\",\"\",INDEX(Lists!$AS:$AS, MATCH(Relays!$K19, Lists!$AS:$AS, 0)))","v":""},null,62,"Boys 13 & Over 200m Relay","A4",{"$f":"IF(Relays!$K39=\"\",\"\",INDEX(Lists!$CO:$CO, MATCH(Relays!$K39, Lists!$CQ:$CQ, 0)))","v":""},{"$f":"IF(Relays!$K39=\"\",\"\",INDEX(Lists!$CP:$CP, MATCH(Relays!$K39, Lists!$CQ:$CQ, 0)))","v":""},{"$f":"IF(Relays!$K39=\"\",\"\",INDEX(Lists!$CQ:$CQ, MATCH(Relays!$K39, Lists!$CQ:$CQ, 0)))","v":""}]
[null,null,null,null,null,null,null,null,null,null,null,null,null,null,61,"Girls 13 & Over 200m Relay","B1",{"$f":"IF(Relays!$E20=\"\",\"\",INDEX(Lists!$AQ:$AQ, MATCH(Relays!$E20, Lists!$AS:$AS, 0)))","v":""},{"$f":"IF(Relays!$E20=\"\",\"\",INDEX(Lists!$AR:$AR, MATCH(Relays!$E20, Lists!$AS:$AS, 0)))","v":""},{"$f":"IF(Relays!$E20=\"\",\"\",INDEX(Lists!$AS:$AS, MATCH(Relays!$E20, Lists!$AS:$AS, 0)))","v":""},null,62,"Boys 13 & Over 200m Relay","B1",{"$f":"IF(Relays!$E40=\"\",\"\",INDEX(Lists!$CO:$CO, MATCH(Relays!$E40, Lists!$CQ:$CQ, 0)))","v":""},{"$f":"IF(Relays!$E40=\"\",\"\",INDEX(Lists!$CP:$CP, MATCH(Relays!$E40, Lists!$CQ:$CQ, 0)))","v":""},{"$f":"IF(Relays!$E40=\"\",\"\",INDEX(Lists!$CQ:$CQ, MATCH(Relays!$E40, Lists!$CQ:$CQ, 0)))","v":""}]
[null,null,null,null,null,null,null,null,null,null,null,null,null,null,61,"Girls 13 & Over 200m Relay","B2",{"$f":"IF(Relays!$G20=\"\",\"\",INDEX(Lists!$AQ:$AQ, MATCH(Relays!$G20, Lists!$AS:$AS, 0)))","v":""},{"$f":"IF(Relays!$G20=\"\",\"\",INDEX(Lists!$AR:$AR, MATCH(Relays!$G20, Lists!$AS:$AS, 0)))","v":""},{"$f":"IF(Relays!$G20=\"\",\"\",INDEX(Lists!$AS:$AS, MATCH(Relays!$G20, Lists!$AS:$AS, 0)))","v":""},null,62,"Boys 13 & Over 200m Relay","B2",{"$f":"IF(Relays!$G40=\"\",\"\",INDEX(Lists!$CO:$CO, MATCH(Relays!$G40, Lists!$CQ:$CQ, 0)))","v":""},{"$f":"IF(Relays!$G40=\"\",\"\",INDEX(Lists!$CP:$CP, MATCH(Relays!$G40, Lists!$CQ:$CQ, 0)))","v":""},{"$f":"IF(Relays!$G40=\"\",\"\",INDEX(Lists!$CQ:$CQ, MATCH(Relays!$G40, Lists!$CQ:$CQ, 0)))","v":""}]
[null,null,null,null,null,null,null,null,null,null,null,null,null,null,61,"Girls 13 & Over 200m Relay","B3",{"$f":"IF(Relays!$I20=\"\",\"\",INDEX(Lists!$AQ:$AQ, MATCH(Relays!$I20, Lists!$AS:$AS, 0)))","v":""},{"$f":"IF(Relays!$I20=\"\",\"\",INDEX(Lists!$AR:$AR, MATCH(Relays!$I20, Lists!$AS:$AS, 0)))","v":""},{"$f":"IF(Relays!$I20=\"\",\"\",INDEX(Lists!$AS:$AS, MATCH(Relays!$I20, Lists!$AS:$AS, 0)))","v":""},null,62,"Boys 13 & Over 200m Relay","B3",{"$f":"IF(Relays!$I40=\"\",\"\",INDEX(Lists!$CO:$CO, MATCH(Relays!$I40, Lists!$CQ:$CQ, 0)))","v":""},{"$f":"IF(Relays!$I40=\"\",\"\",INDEX(Lists!$CP:$CP, MATCH(Relays!$I40, Lists!$CQ:$CQ, 0)))","v":""},{"$f":"IF(Relays!$I40=\"\",\"\",INDEX(Lists!$CQ:$CQ, MATCH(Relays!$I40, Lists!$CQ:$CQ, 0)))","v":""}]
[null,null,null,null,null,null,null,null,null,null,null,null,null,null,61,"Girls 13 & Over 200m Relay","B4",{"$f":"IF(Relays!$K20=\"\",\"\",INDEX(Lists!$AQ:$AQ, MATCH(Relays!$K20, Lists!$AS:$AS, 0)))","v":""},{"$f":"IF(Relays!$K20=\"\",\"\",INDEX(Lists!$AR:$AR, MATCH(Relays!$K20, Lists!$AS:$AS, 0)))","v":""},{"$f":"IF(Relays!$K20=\"\",\"\",INDEX(Lists!$AS:$AS, MATCH(Relays!$K20, Lists!$AS:$AS, 0)))","v":""},null,62,"Boys 13 & Over 200m Relay","B4",{"$f":"IF(Relays!$K40=\"\",\"\",INDEX(Lists!$CO:$CO, MATCH(Relays!$K40, Lists!$CQ:$CQ, 0)))","v":""},{"$f":"IF(Relays!$K40=\"\",\"\",INDEX(Lists!$CP:$CP, MATCH(Relays!$K40, Lists!$CQ:$CQ, 0)))","v":""},{"$f":"IF(Relays!$K40=\"\",\"\",INDEX(Lists!$CQ:$CQ, MATCH(Relays!$K40, Lists!$CQ:$CQ, 0)))","v":""}]
[null,null,null,null,null,null,null,null,null,null,null,null,null,null,61,"Girls 13 & Over 200m Relay","C1",{"$f":"IF(Relays!$E21=\"\",\"\",INDEX(Lists!$AQ:$AQ, MATCH(Relays!$E21, Lists!$AS:$AS, 0)))","v":""},{"$f":"IF(Relays!$E21=\"\",\"\",INDEX(Lists!$AR:$AR, MATCH(Relays!$E21, Lists!$AS:$AS, 0)))","v":""},{"$f":"IF(Relays!$E21=\"\",\"\",INDEX(Lists!$AS:$AS, MATCH(Relays!$E21, Lists!$AS:$AS, 0)))","v":""},null,62,"Boys 13 & Over 200m Relay","C1",{"$f":"IF(Relays!$E41=\"\",\"\",INDEX(Lists!$CO:$CO, MATCH(Relays!$E41, Lists!$CQ:$CQ, 0)))","v":""},{"$f":"IF(Relays!$E41=\"\",\"\",INDEX(Lists!$CP:$CP, MATCH(Relays!$E41, Lists!$CQ:$CQ, 0)))","v":""},{"$f":"IF(Relays!$E41=\"\",\"\",INDEX(Lists!$CQ:$CQ, MATCH(Relays!$E41, Lists!$CQ:$CQ, 0)))","v":""}]
[null,null,null,null,null,null,null,null,null,null,null,null,null,null,61,"Girls 13 & Over 200m Relay","C2",{"$f":"IF(Relays!$G21=\"\",\"\",INDEX(Lists!$AQ:$AQ, MATCH(Relays!$G21, Lists!$AS:$AS, 0)))","v":""},{"$f":"IF(Relays!$G21=\"\",\"\",INDEX(Lists!$AR:$AR, MATCH(Relays!$G21, Lists!$AS:$AS, 0)))","v":""},{"$f":"IF(Relays!$G21=\"\",\"\",INDEX(Lists!$AS:$AS, MATCH(Relays!$G21, Lists!$AS:$AS, 0)))","v":""},null,62,"Boys 13 & Over 200m Relay","C2",{"$f":"IF(Relays!$G41=\"\",\"\",INDEX(Lists!$CO:$CO, MATCH(Relays!$G41, Lists!$CQ:$CQ, 0)))","v":""},{"$f":"IF(Relays!$G41=\"\",\"\",INDEX(Lists!$CP:$CP, MATCH(Relays!$G41, Lists!$CQ:$CQ, 0)))","v":""},{"$f":"IF(Relays!$G41=\"\",\"\",INDEX(Lists!$CQ:$CQ, MATCH(Relays!$G41, Lists!$CQ:$CQ, 0)))","v":""}]
[null,null,null,null,null,null,null,null,null,null,null,null,null,null,61,"Girls 13 & Over 200m Relay","C3",{"$f":"IF(Relays!$I21=\"\",\"\",INDEX(Lists!$AQ:$AQ, MATCH(Relays!$I21, Lists!$AS:$AS, 0)))","v":""},{"$f":"IF(Relays!$I21=\"\",\"\",INDEX(Lists!$AR:$AR, MATCH(Relays!$I21, Lists!$AS:$AS, 0)))","v":""},{"$f":"IF(Relays!$I21=\"\",\"\",INDEX(Lists!$AS:$AS, MATCH(Relays!$I21, Lists!$AS:$AS, 0)))","v":""},null,62,"Boys 13 & Over 200m Relay","C3",{"$f":"IF(Relays!$I41=\"\",\"\",INDEX(Lists!$CO:$CO, MATCH(Relays!$I41, Lists!$CQ:$CQ, 0)))","v":""},{"$f":"IF(Relays!$I41=\"\",\"\",INDEX(Lists!$CP:$CP, MATCH(Relays!$I41, Lists!$CQ:$CQ, 0)))","v":""},{"$f":"IF(Relays!$I41=\"\",\"\",INDEX(Lists!$CQ:$CQ, MATCH(Relays!$I41, Lists!$CQ:$CQ, 0)))","v":""}]
[null,null,null,null,null,null,null,null,null,null,null,null,null,null,61,"Girls 13 & Over 200m Relay","C4",{"$f":"IF(Relays!$K21=\"\",\"\",INDEX(Lists!$AQ:$AQ, MATCH(Relays!$K21, Lists!$AS:$AS, 0)))","v":""},{"$f":"IF(Relays!$K21=\"\",\"\",INDEX(Lists!$AR:$AR, MATCH(Relays!$K21, Lists!$AS:$AS, 0)))","v":""},{"$f":"IF(Relays!$K21=\"\",\"\",INDEX(Lists!$AS:$AS, MATCH(Relays!$K21, Lists!$AS:$AS, 0)))","v":""},null,62,"Boys 13 & Over 200m Relay","C4",{"$f":"IF(Relays!$K41=\"\",\"\",INDEX(Lists!$CO:$CO, MATCH(Relays!$K41, Lists!$CQ:$CQ, 0)))","v":""},{"$f":"IF(Relays!$K41=\"\",\"\",INDEX(Lists!$CP:$CP, MATCH(Relays!$K41, Lists!$CQ:$CQ, 0)))","v":""},{"$f":"IF(Relays!$K41=\"\",\"\",INDEX(Lists!$CQ:$CQ, MATCH(Relays!$K41, Lists!$CQ:$CQ, 0)))","v":""}]

{"sheet":"Export","index":8,"n_rows":0,"n_cols":0,"rows_kept":0,"cut":false,"hidden":false,"merged":[]}